{"text_format":"3","workbook":"xlsx","n_sheets":4,"sheets":["Handleiding","Vrijwilligersregister","Nominatieve lijst","Vrijwilligerstotalen"],"not_rendered":{"images":9,"macros":1,"defined_names":13},"read":"whole","date_system":"1900"}

{"sheet":"Handleiding","index":0,"n_rows":122,"n_cols":23,"rows_kept":122,"merged":[[29,5,29,12],[31,5,31,12],[33,5,33,12],[34,5,34,12],[38,5,38,12],[41,5,41,12],[44,5,44,12],[47,5,47,12],[51,5,51,12]]}
[]
[{"$nulls":5},"Handleiding bij het vrijwilligersregister en de nominatieve lijst"]
[]
[{"$nulls":22},"- - - "]
[{"$nulls":22},"Feitelijke vereniging"]
[null,"Schakel altijd macro's in wanneer je dit bestand opent!",{"$nulls":20},"Vereniging zonder winstoogmerk"]
[null,"Voor Excel 2010, 2013 en 2016: Klik bovenaan op de melding \"Inhoud inschakelen\"."]
[]
[null,"Voor Excel 2007: Klik bij de melding \"Beveiligingswaarschuwing. Maco's zijn uitgeschakeld.\" op \"Opties...\" en vervolgens op \"deze inhoud inschakelen\"."]
{"$rows_empty":16}
[null,"Voor Excel 2003: Klik op \"Extra\", \"Macro\", \"Beveiliging\" en vervolgens kies vervolgens het niveau \"Laag\". "]
[]
[null,"Vul de gegevens van je club hier in:"]
[]
[null,null,"Naam van de sportclub:"]
[]
[null,null,"Rechtsvorm:"]
[]
[null,null,"Adres:"]
[]
[]
[null,"Vul volgende gegevens in (let op, deze gegevens veranderen jaarlijks):"]
[]
[null,null,"Periode vrijwilligersregister:",null,null,2020]
[null,null,"bv. 2013"]
[]
[null,null,"Dagmax forfaitair:",null,null,{"v":34.71,"d":"€ 34.71"}]
[null,null,"jaarlijkse indexering op 1 januari, je vindt het exacte bedrag op www.dynamoproject.be"]
[]
[null,null,"Jaarmax forfaitair:",null,null,{"v":1388.4,"d":"€ 1,388.40"}]
[null,null,"jaarlijkse indexering op 1 januari, je vindt het exacte bedrag op www.dynamoproject.be"]
[]
[null,null,"Verhoogd jaarmax forfaitair:",null,null,{"v":2549.9,"d":"€ 2,549.90"}]
[null,null,"in bepaalde gevallen wordt het jaarlijks plafond verhoogd, je vindt de voorwaarden hiervoor op www.dynamoproject.be"]
[null,null,"jaarlijkse indexering op 1 januari, je vindt het exacte bedrag op www.dynamoproject.be"]
[]
[null,null,"Max bedrag/km:",null,null,{"v":0.3653,"d":"€ 0.3653"}]
[null,null,"jaarlijkse indexering op 1 juli, je vindt het exacte bedrag op www.dynamoproject.be"]
[]
[null,"Tabblad \"Vrijwilligersregister\""]
[null,"Alle sportclubs die met vrijwilligers werken, moeten een vrijwilligersregister bijhouden met daar een aantal identificatiegegevens van de vrijwilligers."]
[null,"Alle vrijwilligers moeten daarin opgenomen worden, ongeacht de soort vergoeding die de vrijwilliger al dan niet ontvangt."]
[]
[null,"Wat doe je met  dit tabblad?"]
[null,"Vul de gegevens van elke vrijwilliger in, ongeacht het soort vergoeding dat de vrijwilliger krijgt (reële onkostenvergoeding, forfaitaire onkostenvergoeding of geen onkostenvergoeding)."]
[]
[null,"Tabblad \"Nominatieve lijst\""]
[null,"Enkel sportclubs die hun vrijwilligers een forfaitaire onkostenvergoeding geven, moeten op aanvraag van de Administratie een nominatieve lijst per vrijwilliger kunnen voorleggen."]
[null,"De nominatieve lijst bewijst dat de sportclub de opgelegde maxima voor de forfaitaire onkostenvergoeding per vrijwilliger respecteert. De maxima voor de forfaitaire onkostenvergoeding worden jaarlijks aangepast"]
[null,"en zijn geldig voor een periode van 1 januari tot en met 31 december. Raadpleeg www.dynamoproject.be voor de laatste updates."]
[null,"Van vrijwilligers die niet vergoed worden of die enkel een reële onkostenvergoeding ontvangen, moet geen nominatieve lijst opgemaakt worden."]
[null,"Vrijwilligers die een reële onkostenvergoeding krijgen,  kunnen die reële onkostenvergoeding pas ontvangen wanneer zij de gemaakte onkosten kunnen aantonen (kilometerstaat, kasticket, …)."]
[null,"Van elke reële onkostenvergoeding hou je een bewijsstuk bij. De kilometervergoeding wordt jaarlijks aangepast en is geldig voor een periode van 1 juli tot en met 30 juni. Raadpleeg www.dynamoproject.be"]
[null,"voor de laatste updates."]
[]
[null,"Wat doe je met  dit tabblad?"]
[null,"Vul per dag dat een vrijwilliger een forfaitaire onkostenvergoeding ontvangt, een rij in het tabblad in."]
[null,"Bij een eventuele controle kan je met de filter \"naam en voornaam\" in dit tabblad de nominatieve lijst per vrijwilliger opvragen"]
[null,"Dit doe je door op het drop down menu in de cel 'Naam en voornaam' te klikken en enkel de persoon aan te vinken van wie je het totaal wil bekijken. Het totaal van deze persoon verschijnt dan samen met de details."]
{"$rows_empty":12}
[null,"Tabblad \"Vrijwilligerstotalen\""]
[null,"In dit extra tabblad wordt een overzicht gegeven van de ontvangen forfaitaire onkostenvergoedingen per vrijwilliger. Eventueel gecombineerd met een reële onkostenvergoeding in de vorm van een kilometervergoeding."]
[null,"Op deze manier kan je als sportclub eenvoudig opvolgen of een vrijwilliger de jaarmaxima overschrijdt."]
[null,"Wanneer de vrijwilliger voldoet aan de voorwaarden voor het verhoogd maximum kan je dit aangeven in de bijhorende kolom."]
[]
[]
[null,"Wat doe je met  dit tabblad?"]
[null,"In dit tabblad kan je geen wijzigingen aanbrengen. Je kan het overzicht enkel bekijken en/of afdrukken. Daarvoor gebruik je de filter knoppen bovenaan in de kolomtitels."]
[null,"Als je het volledige overzicht wil afdrukken, vink je best de lege cellen uit:"]
{"$rows_empty":24}
[null,"Bedragen die de maxima overschrijden, worden in het rood getoond."]
[]
[null,"Meer informatie over de vrijwilligerswetgeving vind je in de Dynamo Project brochure \"De sportclub en de vrijwilligerswet\" of op www.dynamoproject.be."]

{"sheet":"Vrijwilligersregister","index":1,"n_rows":1008,"n_cols":12,"rows_kept":1008,"merged":[[1,1,1,11],[3,3,3,7],[4,3,4,7],[5,3,5,7]]}
[]
[null,{"$f":"\"VRIJWILLIGERSREGISTER\"&\" \"&Handleiding!F39","v":"VRIJWILLIGERSREGISTER 2020"}]
[]
[null,{"$f":"IF(ISBLANK(Handleiding!F30)=TRUE,\"Naam sportclub\",Handleiding!F30)","v":"Naam sportclub"}]
[null,{"$f":"IF(ISBLANK(Handleiding!F32)=TRUE,\"Rechtsvorm\",Handleiding!F32)","v":"Rechtsvorm"}]
[null,{"$f":"IF(ISBLANK(Handleiding!F34)=TRUE,\"Straat & nr\",Handleiding!F34)&\", \"&IF(ISBLANK(Handleiding!F35)=TRUE,\"Postcode & gemeente\",Handleiding!F35)","v":"Straat & nr, Postcode & gemeente"}]
[]
[null,"Nr","Naam en Voornaam","Adres","Postcode","Gemeente","Geboorteplaats","Geboortedatum","Geslacht","Start\nvrijwilligerswerk","Einde\nvrijwilligerswerk","Voldoet deze vrijwilliger aan de voorwaarden voor het verhoogd jaarmaximum?"]
[null,1]
[null,3]
[null,4]
[null,2]
[null,5]
[null,6]
[null,7]
[null,8]
[null,9]
[null,10]
[null,11]
[null,12]
[null,13]
[null,14]
[null,15]
[null,16]
[null,17]
[null,18]
[null,19]
[null,20]
[null,21]
[null,22]
[null,23]
[null,24]
[null,25]
[null,26]
[null,27]
[null,28]
[null,29]
[null,30]
[null,31]
[null,32]
[null,33]
[null,34]
[null,35]
[null,36]
[null,37]
[null,38]
[null,39]
[null,40]
[null,41]
[null,42]
[null,43]
[null,44]
[null,45]
[null,46]
[null,47]
[null,48]
[null,49]
[null,50]
[null,51]
[null,52]
[null,53]
[null,54]
[null,55]
[null,56]
[null,57]
[null,58]
[null,59]
[null,60]
[null,61]
[null,62]
[null,63]
[null,64]
[null,65]
[null,66]
[null,67]
[null,68]
[null,69]
[null,70]
[null,71]
[null,72]
[null,73]
[null,74]
[null,75]
[null,76]
[null,77]
[null,78]
[null,79]
[null,80]
[null,81]
[null,82]
[null,83]
[null,84]
[null,85]
[null,86]
[null,87]
[null,88]
[null,89]
[null,90]
[null,91]
[null,92]
[null,93]
[null,94]
[null,95]
[null,96]
[null,97]
[null,98]
[null,99]
[null,100]
[null,101]
[null,102]
[null,103]
[null,104]
[null,105]
[null,106]
[null,107]
[null,108]
[null,109]
[null,110]
[null,111]
[null,112]
[null,113]
[null,114]
[null,115]
[null,116]
[null,117]
[null,118]
[null,119]
[null,120]
[null,121]
[null,122]
[null,123]
[null,124]
[null,125]
[null,126]
[null,127]
[null,128]
[null,129]
[null,130]
[null,131]
[null,132]
[null,133]
[null,134]
[null,135]
[null,136]
[null,137]
[null,138]
[null,139]
[null,140]
[null,141]
[null,142]
[null,143]
[null,144]
[null,145]
[null,146]
[null,147]
[null,148]
[null,149]
[null,150]
[null,151]
[null,152]
[null,153]
[null,154]
[null,155]
[null,156]
[null,157]
[null,158]
[null,159]
[null,160]
[null,161]
[null,162]
[null,163]
[null,164]
[null,165]
[null,166]
[null,167]
[null,168]
[null,169]
[null,170]
[null,171]
[null,172]
[null,173]
[null,174]
[null,175]
[null,176]
[null,177]
[null,178]
[null,179]
[null,180]
[null,181]
[null,182]
[null,183]
[null,184]
[null,185]
[null,186]
[null,187]
[null,188]
[null,189]
[null,190]
[null,191]
[null,192]
[null,193]
[null,194]
[null,195]
[null,196]
[null,197]
[null,198]
[null,199]
[null,200]
[null,201]
[null,202]
[null,203]
[null,204]
[null,205]
[null,206]
[null,207]
[null,208]
[null,209]
[null,210]
[null,211]
[null,212]
[null,213]
[null,214]
[null,215]
[null,216]
[null,217]
[null,218]
[null,219]
[null,220]
[null,221]
[null,222]
[null,223]
[null,224]
[null,225]
[null,226]
[null,227]
[null,228]
[null,229]
[null,230]
[null,231]
[null,232]
[null,233]
[null,234]
[null,235]
[null,236]
[null,237]
[null,238]
[null,239]
[null,240]
[null,241]
[null,242]
[null,243]
[null,244]
[null,245]
[null,246]
[null,247]
[null,248]
[null,249]
[null,250]
[null,251]
[null,252]
[null,253]
[null,254]
[null,255]
[null,256]
[null,257]
[null,258]
[null,259]
[null,260]
[null,261]
[null,262]
[null,263]
[null,264]
[null,265]
[null,266]
[null,267]
[null,268]
[null,269]
[null,270]
[null,271]
[null,272]
[null,273]
[null,274]
[null,275]
[null,276]
[null,277]
[null,278]
[null,279]
[null,280]
[null,281]
[null,282]
[null,283]
[null,284]
[null,285]
[null,286]
[null,287]
[null,288]
[null,289]
[null,290]
[null,291]
[null,292]
[null,293]
[null,294]
[null,295]
[null,296]
[null,297]
[null,298]
[null,299]
[null,300]
[null,301]
[null,302]
[null,303]
[null,304]
[null,305]
[null,306]
[null,307]
[null,308]
[null,309]
[null,310]
[null,311]
[null,312]
[null,313]
[null,314]
[null,315]
[null,316]
[null,317]
[null,318]
[null,319]
[null,320]
[null,321]
[null,322]
[null,323]
[null,324]
[null,325]
[null,326]
[null,327]
[null,328]
[null,329]
[null,330]
[null,331]
[null,332]
[null,333]
[null,334]
[null,335]
[null,336]
[null,337]
[null,338]
[null,339]
[null,340]
[null,341]
[null,342]
[null,343]
[null,344]
[null,345]
[null,346]
[null,347]
[null,348]
[null,349]
[null,350]
[null,351]
[null,352]
[null,353]
[null,354]
[null,355]
[null,356]
[null,357]
[null,358]
[null,359]
[null,360]
[null,361]
[null,362]
[null,363]
[null,364]
[null,365]
[null,366]
[null,367]
[null,368]
[null,369]
[null,370]
[null,371]
[null,372]
[null,373]
[null,374]
[null,375]
[null,376]
[null,377]
[null,378]
[null,379]
[null,380]
[null,381]
[null,382]
[null,383]
[null,384]
[null,385]
[null,386]
[null,387]
[null,388]
[null,389]
[null,390]
[null,391]
[null,392]
[null,393]
[null,394]
[null,395]
[null,396]
[null,397]
[null,398]
[null,399]
[null,400]
[null,401]
[null,402]
[null,403]
[null,404]
[null,405]
[null,406]
[null,407]
[null,408]
[null,409]
[null,410]
[null,411]
[null,412]
[null,413]
[null,414]
[null,415]
[null,416]
[null,417]
[null,418]
[null,419]
[null,420]
[null,421]
[null,422]
[null,423]
[null,424]
[null,425]
[null,426]
[null,427]
[null,428]
[null,429]
[null,430]
[null,431]
[null,432]
[null,433]
[null,434]
[null,435]
[null,436]
[null,437]
[null,438]
[null,439]
[null,440]
[null,441]
[null,442]
[null,443]
[null,444]
[null,445]
[null,446]
[null,447]
[null,448]
[null,449]
[null,450]
[null,451]
[null,452]
[null,453]
[null,454]
[null,455]
[null,456]
[null,457]
[null,458]
[null,459]
[null,460]
[null,461]
[null,462]
[null,463]
[null,464]
[null,465]
[null,466]
[null,467]
[null,468]
[null,469]
[null,470]
[null,471]
[null,472]
[null,473]
[null,474]
[null,475]
[null,476]
[null,477]
[null,478]
[null,479]
[null,480]
[null,481]
[null,482]
[null,483]
[null,484]
[null,485]
[null,486]
[null,487]
[null,488]
[null,489]
[null,490]
[null,491]
[null,492]
[null,493]
[null,494]
[null,495]
[null,496]
[null,497]
[null,498]
[null,499]
[null,500]
[null,501]
[null,502]
[null,503]
[null,504]
[null,505]
[null,506]
[null,507]
[null,508]
[null,509]
[null,510]
[null,511]
[null,512]
[null,513]
[null,514]
[null,515]
[null,516]
[null,517]
[null,518]
[null,519]
[null,520]
[null,521]
[null,522]
[null,523]
[null,524]
[null,525]
[null,526]
[null,527]
[null,528]
[null,529]
[null,530]
[null,531]
[null,532]
[null,533]
[null,534]
[null,535]
[null,536]
[null,537]
[null,538]
[null,539]
[null,540]
[null,541]
[null,542]
[null,543]
[null,544]
[null,545]
[null,546]
[null,547]
[null,548]
[null,549]
[null,550]
[null,551]
[null,552]
[null,553]
[null,554]
[null,555]
[null,556]
[null,557]
[null,558]
[null,559]
[null,560]
[null,561]
[null,562]
[null,563]
[null,564]
[null,565]
[null,566]
[null,567]
[null,568]
[null,569]
[null,570]
[null,571]
[null,572]
[null,573]
[null,574]
[null,575]
[null,576]
[null,577]
[null,578]
[null,579]
[null,580]
[null,581]
[null,582]
[null,583]
[null,584]
[null,585]
[null,586]
[null,587]
[null,588]
[null,589]
[null,590]
[null,591]
[null,592]
[null,593]
[null,594]
[null,595]
[null,596]
[null,597]
[null,598]
[null,599]
[null,600]
[null,601]
[null,602]
[null,603]
[null,604]
[null,605]
[null,606]
[null,607]
[null,608]
[null,609]
[null,610]
[null,611]
[null,612]
[null,613]
[null,614]
[null,615]
[null,616]
[null,617]
[null,618]
[null,619]
[null,620]
[null,621]
[null,622]
[null,623]
[null,624]
[null,625]
[null,626]
[null,627]
[null,628]
[null,629]
[null,630]
[null,631]
[null,632]
[null,633]
[null,634]
[null,635]
[null,636]
[null,637]
[null,638]
[null,639]
[null,640]
[null,641]
[null,642]
[null,643]
[null,644]
[null,645]
[null,646]
[null,647]
[null,648]
[null,649]
[null,650]
[null,651]
[null,652]
[null,653]
[null,654]
[null,655]
[null,656]
[null,657]
[null,658]
[null,659]
[null,660]
[null,661]
[null,662]
[null,663]
[null,664]
[null,665]
[null,666]
[null,667]
[null,668]
[null,669]
[null,670]
[null,671]
[null,672]
[null,673]
[null,674]
[null,675]
[null,676]
[null,677]
[null,678]
[null,679]
[null,680]
[null,681]
[null,682]
[null,683]
[null,684]
[null,685]
[null,686]
[null,687]
[null,688]
[null,689]
[null,690]
[null,691]
[null,692]
[null,693]
[null,694]
[null,695]
[null,696]
[null,697]
[null,698]
[null,699]
[null,700]
[null,701]
[null,702]
[null,703]
[null,704]
[null,705]
[null,706]
[null,707]
[null,708]
[null,709]
[null,710]
[null,711]
[null,712]
[null,713]
[null,714]
[null,715]
[null,716]
[null,717]
[null,718]
[null,719]
[null,720]
[null,721]
[null,722]
[null,723]
[null,724]
[null,725]
[null,726]
[null,727]
[null,728]
[null,729]
[null,730]
[null,731]
[null,732]
[null,733]
[null,734]
[null,735]
[null,736]
[null,737]
[null,738]
[null,739]
[null,740]
[null,741]
[null,742]
[null,743]
[null,744]
[null,745]
[null,746]
[null,747]
[null,748]
[null,749]
[null,750]
[null,751]
[null,752]
[null,753]
[null,754]
[null,755]
[null,756]
[null,757]
[null,758]
[null,759]
[null,760]
[null,761]
[null,762]
[null,763]
[null,764]
[null,765]
[null,766]
[null,767]
[null,768]
[null,769]
[null,770]
[null,771]
[null,772]
[null,773]
[null,774]
[null,775]
[null,776]
[null,777]
[null,778]
[null,779]
[null,780]
[null,781]
[null,782]
[null,783]
[null,784]
[null,785]
[null,786]
[null,787]
[null,788]
[null,789]
[null,790]
[null,791]
[null,792]
[null,793]
[null,794]
[null,795]
[null,796]
[null,797]
[null,798]
[null,799]
[null,800]
[null,801]
[null,802]
[null,803]
[null,804]
[null,805]
[null,806]
[null,807]
[null,808]
[null,809]
[null,810]
[null,811]
[null,812]
[null,813]
[null,814]
[null,815]
[null,816]
[null,817]
[null,818]
[null,819]
[null,820]
[null,821]
[null,822]
[null,823]
[null,824]
[null,825]
[null,826]
[null,827]
[null,828]
[null,829]
[null,830]
[null,831]
[null,832]
[null,833]
[null,834]
[null,835]
[null,836]
[null,837]
[null,838]
[null,839]
[null,840]
[null,841]
[null,842]
[null,843]
[null,844]
[null,845]
[null,846]
[null,847]
[null,848]
[null,849]
[null,850]
[null,851]
[null,852]
[null,853]
[null,854]
[null,855]
[null,856]
[null,857]
[null,858]
[null,859]
[null,860]
[null,861]
[null,862]
[null,863]
[null,864]
[null,865]
[null,866]
[null,867]
[null,868]
[null,869]
[null,870]
[null,871]
[null,872]
[null,873]
[null,874]
[null,875]
[null,876]
[null,877]
[null,878]
[null,879]
[null,880]
[null,881]
[null,882]
[null,883]
[null,884]
[null,885]
[null,886]
[null,887]
[null,888]
[null,889]
[null,890]
[null,891]
[null,892]
[null,893]
[null,894]
[null,895]
[null,896]
[null,897]
[null,898]
[null,899]
[null,900]
[null,901]
[null,902]
[null,903]
[null,904]
[null,905]
[null,906]
[null,907]
[null,908]
[null,909]
[null,910]
[null,911]
[null,912]
[null,913]
[null,914]
[null,915]
[null,916]
[null,917]
[null,918]
[null,919]
[null,920]
[null,921]
[null,922]
[null,923]
[null,924]
[null,925]
[null,926]
[null,927]
[null,928]
[null,929]
[null,930]
[null,931]
[null,932]
[null,933]
[null,934]
[null,935]
[null,936]
[null,937]
[null,938]
[null,939]
[null,940]
[null,941]
[null,942]
[null,943]
[null,944]
[null,945]
[null,946]
[null,947]
[null,948]
[null,949]
[null,950]
[null,951]
[null,952]
[null,953]
[null,954]
[null,955]
[null,956]
[null,957]
[null,958]
[null,959]
[null,960]
[null,961]
[null,962]
[null,963]
[null,964]
[null,965]
[null,966]
[null,967]
[null,968]
[null,969]
[null,970]
[null,971]
[null,972]
[null,973]
[null,974]
[null,975]
[null,976]
[null,977]
[null,978]
[null,979]
[null,980]
[null,981]
[null,982]
[null,983]
[null,984]
[null,985]
[null,986]
[null,987]
[null,988]
[null,989]
[null,990]
[null,991]
[null,992]
[null,993]
[null,994]
[null,995]
[null,996]
[null,997]
[null,998]
[null,999]
[null,1000]

{"sheet":"Nominatieve lijst","index":2,"n_rows":3009,"n_cols":11,"rows_kept":3009,"merged":[[1,1,1,10],[3,4,3,8],[4,4,4,8],[5,4,5,8],[6,1,6,10],[7,1,7,5],[7,6,7,9]]}
[]
[null,{"$f":"\"NOMINATIEVE LIJST\"&\" \"&Handleiding!F39","v":"NOMINATIEVE LIJST 2020"}]
[]
[null,{"$f":"IF(ISBLANK(Handleiding!F30)=TRUE,\"Naam sportclub\",Handleiding!F30)","v":"Naam sportclub"},null,null," "]
[null,{"$f":"IF(ISBLANK(Handleiding!F32)=TRUE,\"Rechtsvorm\",Handleiding!F32)","v":"Rechtsvorm"}]
[null,{"$f":"IF(ISBLANK(Handleiding!F34)=TRUE,\"Straat & nr\",Handleiding!F34)&\", \"&IF(ISBLANK(Handleiding!F35)=TRUE,\"Postcode & gemeente\",Handleiding!F35)","v":"Straat & nr, Postcode & gemeente"},null,null," "]
[null,"* zie handleiding"]
[{"$nulls":6},"FORFAITAIR MET EVENTUELE COMBINATIE REËLE ONKOSTENVERGOEDING"]
[null,"Nr","Datum\nactiviteit","Naam en voornaam","Omschrijving","Datum\nbetaling",{"$f":"\"Forfaitair gedeelte*\n(Dagmax = \"&TEXT(Handleiding!F42,\"€ #.##0,00\")\n&\", Jaarmax = \"&TEXT(Handleiding!F45,\"€ #.##0,00\")&\")\"&CHAR(10)&CHAR(10)&\"Totaal: \"&TEXT(SUBTOTAL(9,$G$10:$G$3009),\"€ #.##0,00\")","v":"Forfaitair gedeelte*\n(Dagmax = € .34,71, Jaarmax = € 1.388,40)\n\nTotaal: € .0,00"},{"$f":"\"Aantal km\"&CHAR(10)&\"(max 2.000km /jaar)\"&CHAR(10)&CHAR(10)&\"Totaal: \"&TEXT(SUBTOTAL(9,$H$10:$H$3009),\"#.##0,00\")&\" km\"","v":"Aantal km\n(max 2.000km /jaar)\n\nTotaal: .0,00 km"},{"$f":"\"Bedrag/km*\n(max \"&Handleiding!F52&\" euro/km)\"&CHAR(10)&CHAR(10)","v":"Bedrag/km*\n(max 0,3653 euro/km)\n\n"},{"$f":"\"Reële \nonkostenvergoeding\"&CHAR(10)&CHAR(10)&\"Totaal: \"&TEXT(SUBTOTAL(9,$J$10:$J$3009),\"€ #.##0,00\")","v":"Reële \nonkostenvergoeding\n\nTotaal: € .0,00"},{"$f":"\"Totale vergoeding\"&CHAR(10)&CHAR(10)&CHAR(10)&\"Totaal: \"&TEXT(SUBTOTAL(9,$K$10:$K$3009),\"€ #.##0,00\")","v":"Totale vergoeding\n\n\nTotaal: € .0,00"}]
[null,1,{"$nulls":7},{"$f":"IF(OR(ISBLANK(H10)=TRUE,ISBLANK(I10)=TRUE),\"\",H10*I10)","v":""},{"$f":"IF(AND(ISBLANK(G10)=TRUE,ISTEXT(J10)=TRUE),\"\",IF(ISBLANK(H10)=FALSE,G10+(H10*I10),IF(AND(ISBLANK(G10)=TRUE,OR(ISBLANK(H10)=TRUE,ISTEXT(I10)=TRUE)),\"\",G10+(H10*I10))))","v":""}]
[null,2,{"$nulls":7},"",""]
[null,3,{"$nulls":7},"",""]
[null,4,{"$nulls":7},"",""]
[null,5,{"$nulls":7},"",""]
[null,6,{"$nulls":7},"",""]
[null,7,{"$nulls":7},"",""]
[null,8,{"$nulls":7},"",""]
[null,9,{"$nulls":7},"",""]
[null,10,{"$nulls":7},"",""]
[null,11,{"$nulls":7},"",""]
[null,12,{"$nulls":7},"",""]
[null,13,{"$nulls":7},"",""]
[null,14,{"$nulls":7},"",""]
[null,15,{"$nulls":7},"",""]
[null,16,{"$nulls":7},"",""]
[null,17,{"$nulls":7},"",""]
[null,18,{"$nulls":7},"",""]
[null,19,{"$nulls":7},"",""]
[null,20,{"$nulls":7},"",""]
[null,21,{"$nulls":7},"",""]
[null,22,{"$nulls":7},"",""]
[null,23,{"$nulls":7},"",""]
[null,24,{"$nulls":7},"",""]
[null,25,{"$nulls":7},"",""]
[null,26,{"$nulls":7},"",""]
[null,27,{"$nulls":7},"",""]
[null,28,{"$nulls":7},"",""]
[null,29,{"$nulls":7},"",""]
[null,30,{"$nulls":7},"",""]
[null,31,{"$nulls":7},"",""]
[null,32,{"$nulls":7},"",""]
[null,33,{"$nulls":7},"",""]
[null,34,{"$nulls":7},"",""]
[null,35,{"$nulls":7},"",""]
[null,36,{"$nulls":7},"",""]
[null,37,{"$nulls":7},"",""]
[null,38,{"$nulls":7},"",""]
[null,39,{"$nulls":7},"",""]
[null,40,{"$nulls":7},"",""]
[null,41,{"$nulls":7},"",""]
[null,42,{"$nulls":7},"",""]
[null,43,{"$nulls":7},"",""]
[null,44,{"$nulls":7},"",""]
[null,45,{"$nulls":7},"",""]
[null,46,{"$nulls":7},"",""]
[null,47,{"$nulls":7},"",""]
[null,48,{"$nulls":7},"",""]
[null,49,{"$nulls":7},"",""]
[null,50,{"$nulls":7},"",""]
[null,51,{"$nulls":7},"",""]
[null,52,{"$nulls":7},"",""]
[null,53,{"$nulls":7},"",""]
[null,54,{"$nulls":7},"",""]
[null,55,{"$nulls":7},"",""]
[null,56,{"$nulls":7},"",""]
[null,57,{"$nulls":7},"",""]
[null,58,{"$nulls":7},"",""]
[null,59,{"$nulls":7},"",""]
[null,60,{"$nulls":7},"",""]
[null,61,{"$nulls":7},"",""]
[null,62,{"$nulls":7},"",""]
[null,63,{"$nulls":7},"",""]
[null,64,{"$nulls":7},"",""]
[null,65,{"$nulls":7},{"$f":"IF(OR(ISBLANK(H74)=TRUE,ISBLANK(I74)=TRUE),\"\",H74*I74)","v":""},{"$f":"IF(AND(ISBLANK(G74)=TRUE,ISTEXT(J74)=TRUE),\"\",IF(ISBLANK(H74)=FALSE,G74+(H74*I74),IF(AND(ISBLANK(G74)=TRUE,OR(ISBLANK(H74)=TRUE,ISTEXT(I74)=TRUE)),\"\",G74+(H74*I74))))","v":""}]
[null,66,{"$nulls":7},"",""]
[null,67,{"$nulls":7},"",""]
[null,68,{"$nulls":7},"",""]
[null,69,{"$nulls":7},"",""]
[null,70,{"$nulls":7},"",""]
[null,71,{"$nulls":7},"",""]
[null,72,{"$nulls":7},"",""]
[null,73,{"$nulls":7},"",""]
[null,74,{"$nulls":7},"",""]
[null,75,{"$nulls":7},"",""]
[null,76,{"$nulls":7},"",""]
[null,77,{"$nulls":7},"",""]
[null,78,{"$nulls":7},"",""]
[null,79,{"$nulls":7},"",""]
[null,80,{"$nulls":7},"",""]
[null,81,{"$nulls":7},"",""]
[null,82,{"$nulls":7},"",""]
[null,83,{"$nulls":7},"",""]
[null,84,{"$nulls":7},"",""]
[null,85,{"$nulls":7},"",""]
[null,86,{"$nulls":7},"",""]
[null,87,{"$nulls":7},"",""]
[null,88,{"$nulls":7},"",""]
[null,89,{"$nulls":7},"",""]
[null,90,{"$nulls":7},"",""]
[null,91,{"$nulls":7},"",""]
[null,92,{"$nulls":7},"",""]
[null,93,{"$nulls":7},"",""]
[null,94,{"$nulls":7},"",""]
[null,95,{"$nulls":7},"",""]
[null,96,{"$nulls":7},"",""]
[null,97,{"$nulls":7},"",""]
[null,98,{"$nulls":7},"",""]
[null,99,{"$nulls":7},"",""]
[null,100,{"$nulls":7},"",""]
[null,101,{"$nulls":7},"",""]
[null,102,{"$nulls":7},"",""]
[null,103,{"$nulls":7},"",""]
[null,104,{"$nulls":7},"",""]
[null,105,{"$nulls":7},"",""]
[null,106,{"$nulls":7},"",""]
[null,107,{"$nulls":7},"",""]
[null,108,{"$nulls":7},"",""]
[null,109,{"$nulls":7},"",""]
[null,110,{"$nulls":7},"",""]
[null,111,{"$nulls":7},"",""]
[null,112,{"$nulls":7},"",""]
[null,113,{"$nulls":7},"",""]
[null,114,{"$nulls":7},"",""]
[null,115,{"$nulls":7},"",""]
[null,116,{"$nulls":7},"",""]
[null,117,{"$nulls":7},"",""]
[null,118,{"$nulls":7},"",""]
[null,119,{"$nulls":7},"",""]
[null,120,{"$nulls":7},"",""]
[null,121,{"$nulls":7},"",""]
[null,122,{"$nulls":7},"",""]
[null,123,{"$nulls":7},"",""]
[null,124,{"$nulls":7},"",""]
[null,125,{"$nulls":7},"",""]
[null,126,{"$nulls":7},"",""]
[null,127,{"$nulls":7},"",""]
[null,128,{"$nulls":7},"",""]
[null,129,{"$nulls":7},{"$f":"IF(OR(ISBLANK(H138)=TRUE,ISBLANK(I138)=TRUE),\"\",H138*I138)","v":""},{"$f":"IF(AND(ISBLANK(G138)=TRUE,ISTEXT(J138)=TRUE),\"\",IF(ISBLANK(H138)=FALSE,G138+(H138*I138),IF(AND(ISBLANK(G138)=TRUE,OR(ISBLANK(H138)=TRUE,ISTEXT(I138)=TRUE)),\"\",G138+(H138*I138))))","v":""}]
[null,130,{"$nulls":7},"",""]
[null,131,{"$nulls":7},"",""]
[null,132,{"$nulls":7},"",""]
[null,133,{"$nulls":7},"",""]
[null,134,{"$nulls":7},"",""]
[null,135,{"$nulls":7},"",""]
[null,136,{"$nulls":7},"",""]
[null,137,{"$nulls":7},"",""]
[null,138,{"$nulls":7},"",""]
[null,139,{"$nulls":7},"",""]
[null,140,{"$nulls":7},"",""]
[null,141,{"$nulls":7},"",""]
[null,142,{"$nulls":7},"",""]
[null,143,{"$nulls":7},"",""]
[null,144,{"$nulls":7},"",""]
[null,145,{"$nulls":7},"",""]
[null,146,{"$nulls":7},"",""]
[null,147,{"$nulls":7},"",""]
[null,148,{"$nulls":7},"",""]
[null,149,{"$nulls":7},"",""]
[null,150,{"$nulls":7},"",""]
[null,151,{"$nulls":7},"",""]
[null,152,{"$nulls":7},"",""]
[null,153,{"$nulls":7},"",""]
[null,154,{"$nulls":7},"",""]
[null,155,{"$nulls":7},"",""]
[null,156,{"$nulls":7},"",""]
[null,157,{"$nulls":7},"",""]
[null,158,{"$nulls":7},"",""]
[null,159,{"$nulls":7},"",""]
[null,160,{"$nulls":7},"",""]
[null,161,{"$nulls":7},"",""]
[null,162,{"$nulls":7},"",""]
[null,163,{"$nulls":7},"",""]
[null,164,{"$nulls":7},"",""]
[null,165,{"$nulls":7},"",""]
[null,166,{"$nulls":7},"",""]
[null,167,{"$nulls":7},"",""]
[null,168,{"$nulls":7},"",""]
[null,169,{"$nulls":7},"",""]
[null,170,{"$nulls":7},"",""]
[null,171,{"$nulls":7},"",""]
[null,172,{"$nulls":7},"",""]
[null,173,{"$nulls":7},"",""]
[null,174,{"$nulls":7},"",""]
[null,175,{"$nulls":7},"",""]
[null,176,{"$nulls":7},"",""]
[null,177,{"$nulls":7},"",""]
[null,178,{"$nulls":7},"",""]
[null,179,{"$nulls":7},"",""]
[null,180,{"$nulls":7},"",""]
[null,181,{"$nulls":7},"",""]
[null,182,{"$nulls":7},"",""]
[null,183,{"$nulls":7},"",""]
[null,184,{"$nulls":7},"",""]
[null,185,{"$nulls":7},"",""]
[null,186,{"$nulls":7},"",""]
[null,187,{"$nulls":7},"",""]
[null,188,{"$nulls":7},"",""]
[null,189,{"$nulls":7},"",""]
[null,190,{"$nulls":7},"",""]
[null,191,{"$nulls":7},"",""]
[null,192,{"$nulls":7},"",""]
[null,193,{"$nulls":7},{"$f":"IF(OR(ISBLANK(H202)=TRUE,ISBLANK(I202)=TRUE),\"\",H202*I202)","v":""},{"$f":"IF(AND(ISBLANK(G202)=TRUE,ISTEXT(J202)=TRUE),\"\",IF(ISBLANK(H202)=FALSE,G202+(H202*I202),IF(AND(ISBLANK(G202)=TRUE,OR(ISBLANK(H202)=TRUE,ISTEXT(I202)=TRUE)),\"\",G202+(H202*I202))))","v":""}]
[null,194,{"$nulls":7},"",""]
[null,195,{"$nulls":7},"",""]
[null,196,{"$nulls":7},"",""]
[null,197,{"$nulls":7},"",""]
[null,198,{"$nulls":7},"",""]
[null,199,{"$nulls":7},"",""]
[null,200,{"$nulls":7},"",""]
[null,201,{"$nulls":7},"",""]
[null,202,{"$nulls":7},"",""]
[null,203,{"$nulls":7},"",""]
[null,204,{"$nulls":7},"",""]
[null,205,{"$nulls":7},"",""]
[null,206,{"$nulls":7},"",""]
[null,207,{"$nulls":7},"",""]
[null,208,{"$nulls":7},"",""]
[null,209,{"$nulls":7},"",""]
[null,210,{"$nulls":7},"",""]
[null,211,{"$nulls":7},"",""]
[null,212,{"$nulls":7},"",""]
[null,213,{"$nulls":7},"",""]
[null,214,{"$nulls":7},"",""]
[null,215,{"$nulls":7},"",""]
[null,216,{"$nulls":7},"",""]
[null,217,{"$nulls":7},"",""]
[null,218,{"$nulls":7},"",""]
[null,219,{"$nulls":7},"",""]
[null,220,{"$nulls":7},"",""]
[null,221,{"$nulls":7},"",""]
[null,222,{"$nulls":7},"",""]
[null,223,{"$nulls":7},"",""]
[null,224,{"$nulls":7},"",""]
[null,225,{"$nulls":7},"",""]
[null,226,{"$nulls":7},"",""]
[null,227,{"$nulls":7},"",""]
[null,228,{"$nulls":7},"",""]
[null,229,{"$nulls":7},"",""]
[null,230,{"$nulls":7},"",""]
[null,231,{"$nulls":7},"",""]
[null,232,{"$nulls":7},"",""]
[null,233,{"$nulls":7},"",""]
[null,234,{"$nulls":7},"",""]
[null,235,{"$nulls":7},"",""]
[null,236,{"$nulls":7},"",""]
[null,237,{"$nulls":7},"",""]
[null,238,{"$nulls":7},"",""]
[null,239,{"$nulls":7},"",""]
[null,240,{"$nulls":7},"",""]
[null,241,{"$nulls":7},"",""]
[null,242,{"$nulls":7},"",""]
[null,243,{"$nulls":7},"",""]
[null,244,{"$nulls":7},"",""]
[null,245,{"$nulls":7},"",""]
[null,246,{"$nulls":7},"",""]
[null,247,{"$nulls":7},"",""]
[null,248,{"$nulls":7},"",""]
[null,249,{"$nulls":7},"",""]
[null,250,{"$nulls":7},"",""]
[null,251,{"$nulls":7},"",""]
[null,252,{"$nulls":7},"",""]
[null,253,{"$nulls":7},"",""]
[null,254,{"$nulls":7},"",""]
[null,255,{"$nulls":7},"",""]
[null,256,{"$nulls":7},"",""]
[null,257,{"$nulls":7},{"$f":"IF(OR(ISBLANK(H266)=TRUE,ISBLANK(I266)=TRUE),\"\",H266*I266)","v":""},{"$f":"IF(AND(ISBLANK(G266)=TRUE,ISTEXT(J266)=TRUE),\"\",IF(ISBLANK(H266)=FALSE,G266+(H266*I266),IF(AND(ISBLANK(G266)=TRUE,OR(ISBLANK(H266)=TRUE,ISTEXT(I266)=TRUE)),\"\",G266+(H266*I266))))","v":""}]
[null,258,{"$nulls":7},"",""]
[null,259,{"$nulls":7},"",""]
[null,260,{"$nulls":7},"",""]
[null,261,{"$nulls":7},"",""]
[null,262,{"$nulls":7},"",""]
[null,263,{"$nulls":7},"",""]
[null,264,{"$nulls":7},"",""]
[null,265,{"$nulls":7},"",""]
[null,266,{"$nulls":7},"",""]
[null,267,{"$nulls":7},"",""]
[null,268,{"$nulls":7},"",""]
[null,269,{"$nulls":7},"",""]
[null,270,{"$nulls":7},"",""]
[null,271,{"$nulls":7},"",""]
[null,272,{"$nulls":7},"",""]
[null,273,{"$nulls":7},"",""]
[null,274,{"$nulls":7},"",""]
[null,275,{"$nulls":7},"",""]
[null,276,{"$nulls":7},"",""]
[null,277,{"$nulls":7},"",""]
[null,278,{"$nulls":7},"",""]
[null,279,{"$nulls":7},"",""]
[null,280,{"$nulls":7},"",""]
[null,281,{"$nulls":7},"",""]
[null,282,{"$nulls":7},"",""]
[null,283,{"$nulls":7},"",""]
[null,284,{"$nulls":7},"",""]
[null,285,{"$nulls":7},"",""]
[null,286,{"$nulls":7},"",""]
[null,287,{"$nulls":7},"",""]
[null,288,{"$nulls":7},"",""]
[null,289,{"$nulls":7},"",""]
[null,290,{"$nulls":7},"",""]
[null,291,{"$nulls":7},"",""]
[null,292,{"$nulls":7},"",""]
[null,293,{"$nulls":7},"",""]
[null,294,{"$nulls":7},"",""]
[null,295,{"$nulls":7},"",""]
[null,296,{"$nulls":7},"",""]
[null,297,{"$nulls":7},"",""]
[null,298,{"$nulls":7},"",""]
[null,299,{"$nulls":7},"",""]
[null,300,{"$nulls":7},"",""]
[null,301,{"$nulls":7},"",""]
[null,302,{"$nulls":7},"",""]
[null,303,{"$nulls":7},"",""]
[null,304,{"$nulls":7},"",""]
[null,305,{"$nulls":7},"",""]
[null,306,{"$nulls":7},"",""]
[null,307,{"$nulls":7},"",""]
[null,308,{"$nulls":7},"",""]
[null,309,{"$nulls":7},"",""]
[null,310,{"$nulls":7},"",""]
[null,311,{"$nulls":7},"",""]
[null,312,{"$nulls":7},"",""]
[null,313,{"$nulls":7},"",""]
[null,314,{"$nulls":7},"",""]
[null,315,{"$nulls":7},"",""]
[null,316,{"$nulls":7},"",""]
[null,317,{"$nulls":7},"",""]
[null,318,{"$nulls":7},"",""]
[null,319,{"$nulls":7},"",""]
[null,320,{"$nulls":7},"",""]
[null,321,{"$nulls":7},{"$f":"IF(OR(ISBLANK(H330)=TRUE,ISBLANK(I330)=TRUE),\"\",H330*I330)","v":""},{"$f":"IF(AND(ISBLANK(G330)=TRUE,ISTEXT(J330)=TRUE),\"\",IF(ISBLANK(H330)=FALSE,G330+(H330*I330),IF(AND(ISBLANK(G330)=TRUE,OR(ISBLANK(H330)=TRUE,ISTEXT(I330)=TRUE)),\"\",G330+(H330*I330))))","v":""}]
[null,322,{"$nulls":7},"",""]
[null,323,{"$nulls":7},"",""]
[null,324,{"$nulls":7},"",""]
[null,325,{"$nulls":7},"",""]
[null,326,{"$nulls":7},"",""]
[null,327,{"$nulls":7},"",""]
[null,328,{"$nulls":7},"",""]
[null,329,{"$nulls":7},"",""]
[null,330,{"$nulls":7},"",""]
[null,331,{"$nulls":7},"",""]
[null,332,{"$nulls":7},"",""]
[null,333,{"$nulls":7},"",""]
[null,334,{"$nulls":7},"",""]
[null,335,{"$nulls":7},"",""]
[null,336,{"$nulls":7},"",""]
[null,337,{"$nulls":7},"",""]
[null,338,{"$nulls":7},"",""]
[null,339,{"$nulls":7},"",""]
[null,340,{"$nulls":7},"",""]
[null,341,{"$nulls":7},"",""]
[null,342,{"$nulls":7},"",""]
[null,343,{"$nulls":7},"",""]
[null,344,{"$nulls":7},"",""]
[null,345,{"$nulls":7},"",""]
[null,346,{"$nulls":7},"",""]
[null,347,{"$nulls":7},"",""]
[null,348,{"$nulls":7},"",""]
[null,349,{"$nulls":7},"",""]
[null,350,{"$nulls":7},"",""]
[null,351,{"$nulls":7},"",""]
[null,352,{"$nulls":7},"",""]
[null,353,{"$nulls":7},"",""]
[null,354,{"$nulls":7},"",""]
[null,355,{"$nulls":7},"",""]
[null,356,{"$nulls":7},"",""]
[null,357,{"$nulls":7},"",""]
[null,358,{"$nulls":7},"",""]
[null,359,{"$nulls":7},"",""]
[null,360,{"$nulls":7},"",""]
[null,361,{"$nulls":7},"",""]
[null,362,{"$nulls":7},"",""]
[null,363,{"$nulls":7},"",""]
[null,364,{"$nulls":7},"",""]
[null,365,{"$nulls":7},"",""]
[null,366,{"$nulls":7},"",""]
[null,367,{"$nulls":7},"",""]
[null,368,{"$nulls":7},"",""]
[null,369,{"$nulls":7},"",""]
[null,370,{"$nulls":7},"",""]
[null,371,{"$nulls":7},"",""]
[null,372,{"$nulls":7},"",""]
[null,373,{"$nulls":7},"",""]
[null,374,{"$nulls":7},"",""]
[null,375,{"$nulls":7},"",""]
[null,376,{"$nulls":7},"",""]
[null,377,{"$nulls":7},"",""]
[null,378,{"$nulls":7},"",""]
[null,379,{"$nulls":7},"",""]
[null,380,{"$nulls":7},"",""]
[null,381,{"$nulls":7},"",""]
[null,382,{"$nulls":7},"",""]
[null,383,{"$nulls":7},"",""]
[null,384,{"$nulls":7},"",""]
[null,385,{"$nulls":7},{"$f":"IF(OR(ISBLANK(H394)=TRUE,ISBLANK(I394)=TRUE),\"\",H394*I394)","v":""},{"$f":"IF(AND(ISBLANK(G394)=TRUE,ISTEXT(J394)=TRUE),\"\",IF(ISBLANK(H394)=FALSE,G394+(H394*I394),IF(AND(ISBLANK(G394)=TRUE,OR(ISBLANK(H394)=TRUE,ISTEXT(I394)=TRUE)),\"\",G394+(H394*I394))))","v":""}]
[null,386,{"$nulls":7},"",""]
[null,387,{"$nulls":7},"",""]
[null,388,{"$nulls":7},"",""]
[null,389,{"$nulls":7},"",""]
[null,390,{"$nulls":7},"",""]
[null,391,{"$nulls":7},"",""]
[null,392,{"$nulls":7},"",""]
[null,393,{"$nulls":7},"",""]
[null,394,{"$nulls":7},"",""]
[null,395,{"$nulls":7},"",""]
[null,396,{"$nulls":7},"",""]
[null,397,{"$nulls":7},"",""]
[null,398,{"$nulls":7},"",""]
[null,399,{"$nulls":7},"",""]
[null,400,{"$nulls":7},"",""]
[null,401,{"$nulls":7},"",""]
[null,402,{"$nulls":7},"",""]
[null,403,{"$nulls":7},"",""]
[null,404,{"$nulls":7},"",""]
[null,405,{"$nulls":7},"",""]
[null,406,{"$nulls":7},"",""]
[null,407,{"$nulls":7},"",""]
[null,408,{"$nulls":7},"",""]
[null,409,{"$nulls":7},"",""]
[null,410,{"$nulls":7},"",""]
[null,411,{"$nulls":7},"",""]
[null,412,{"$nulls":7},"",""]
[null,413,{"$nulls":7},"",""]
[null,414,{"$nulls":7},"",""]
[null,415,{"$nulls":7},"",""]
[null,416,{"$nulls":7},"",""]
[null,417,{"$nulls":7},"",""]
[null,418,{"$nulls":7},"",""]
[null,419,{"$nulls":7},"",""]
[null,420,{"$nulls":7},"",""]
[null,421,{"$nulls":7},"",""]
[null,422,{"$nulls":7},"",""]
[null,423,{"$nulls":7},"",""]
[null,424,{"$nulls":7},"",""]
[null,425,{"$nulls":7},"",""]
[null,426,{"$nulls":7},"",""]
[null,427,{"$nulls":7},"",""]
[null,428,{"$nulls":7},"",""]
[null,429,{"$nulls":7},"",""]
[null,430,{"$nulls":7},"",""]
[null,431,{"$nulls":7},"",""]
[null,432,{"$nulls":7},"",""]
[null,433,{"$nulls":7},"",""]
[null,434,{"$nulls":7},"",""]
[null,435,{"$nulls":7},"",""]
[null,436,{"$nulls":7},"",""]
[null,437,{"$nulls":7},"",""]
[null,438,{"$nulls":7},"",""]
[null,439,{"$nulls":7},"",""]
[null,440,{"$nulls":7},"",""]
[null,441,{"$nulls":7},"",""]
[null,442,{"$nulls":7},"",""]
[null,443,{"$nulls":7},"",""]
[null,444,{"$nulls":7},"",""]
[null,445,{"$nulls":7},"",""]
[null,446,{"$nulls":7},"",""]
[null,447,{"$nulls":7},"",""]
[null,448,{"$nulls":7},"",""]
[null,449,{"$nulls":7},{"$f":"IF(OR(ISBLANK(H458)=TRUE,ISBLANK(I458)=TRUE),\"\",H458*I458)","v":""},{"$f":"IF(AND(ISBLANK(G458)=TRUE,ISTEXT(J458)=TRUE),\"\",IF(ISBLANK(H458)=FALSE,G458+(H458*I458),IF(AND(ISBLANK(G458)=TRUE,OR(ISBLANK(H458)=TRUE,ISTEXT(I458)=TRUE)),\"\",G458+(H458*I458))))","v":""}]
[null,450,{"$nulls":7},"",""]
[null,451,{"$nulls":7},"",""]
[null,452,{"$nulls":7},"",""]
[null,453,{"$nulls":7},"",""]
[null,454,{"$nulls":7},"",""]
[null,455,{"$nulls":7},"",""]
[null,456,{"$nulls":7},"",""]
[null,457,{"$nulls":7},"",""]
[null,458,{"$nulls":7},"",""]
[null,459,{"$nulls":7},"",""]
[null,460,{"$nulls":7},"",""]
[null,461,{"$nulls":7},"",""]
[null,462,{"$nulls":7},"",""]
[null,463,{"$nulls":7},"",""]
[null,464,{"$nulls":7},"",""]
[null,465,{"$nulls":7},"",""]
[null,466,{"$nulls":7},"",""]
[null,467,{"$nulls":7},"",""]
[null,468,{"$nulls":7},"",""]
[null,469,{"$nulls":7},"",""]
[null,470,{"$nulls":7},"",""]
[null,471,{"$nulls":7},"",""]
[null,472,{"$nulls":7},"",""]
[null,473,{"$nulls":7},"",""]
[null,474,{"$nulls":7},"",""]
[null,475,{"$nulls":7},"",""]
[null,476,{"$nulls":7},"",""]
[null,477,{"$nulls":7},"",""]
[null,478,{"$nulls":7},"",""]
[null,479,{"$nulls":7},"",""]
[null,480,{"$nulls":7},"",""]
[null,481,{"$nulls":7},"",""]
[null,482,{"$nulls":7},"",""]
[null,483,{"$nulls":7},"",""]
[null,484,{"$nulls":7},"",""]
[null,485,{"$nulls":7},"",""]
[null,486,{"$nulls":7},"",""]
[null,487,{"$nulls":7},"",""]
[null,488,{"$nulls":7},"",""]
[null,489,{"$nulls":7},"",""]
[null,490,{"$nulls":7},"",""]
[null,491,{"$nulls":7},"",""]
[null,492,{"$nulls":7},"",""]
[null,493,{"$nulls":7},"",""]
[null,494,{"$nulls":7},"",""]
[null,495,{"$nulls":7},"",""]
[null,496,{"$nulls":7},"",""]
[null,497,{"$nulls":7},"",""]
[null,498,{"$nulls":7},"",""]
[null,499,{"$nulls":7},"",""]
[null,500,{"$nulls":7},"",""]
[null,501,{"$nulls":7},"",""]
[null,502,{"$nulls":7},"",""]
[null,503,{"$nulls":7},"",""]
[null,504,{"$nulls":7},"",""]
[null,505,{"$nulls":7},"",""]
[null,506,{"$nulls":7},"",""]
[null,507,{"$nulls":7},"",""]
[null,508,{"$nulls":7},"",""]
[null,509,{"$nulls":7},"",""]
[null,510,{"$nulls":7},"",""]
[null,511,{"$nulls":7},"",""]
[null,512,{"$nulls":7},"",""]
[null,513,{"$nulls":7},{"$f":"IF(OR(ISBLANK(H522)=TRUE,ISBLANK(I522)=TRUE),\"\",H522*I522)","v":""},{"$f":"IF(AND(ISBLANK(G522)=TRUE,ISTEXT(J522)=TRUE),\"\",IF(ISBLANK(H522)=FALSE,G522+(H522*I522),IF(AND(ISBLANK(G522)=TRUE,OR(ISBLANK(H522)=TRUE,ISTEXT(I522)=TRUE)),\"\",G522+(H522*I522))))","v":""}]
[null,514,{"$nulls":7},"",""]
[null,515,{"$nulls":7},"",""]
[null,516,{"$nulls":7},"",""]
[null,517,{"$nulls":7},"",""]
[null,518,{"$nulls":7},"",""]
[null,519,{"$nulls":7},"",""]
[null,520,{"$nulls":7},"",""]
[null,521,{"$nulls":7},"",""]
[null,522,{"$nulls":7},"",""]
[null,523,{"$nulls":7},"",""]
[null,524,{"$nulls":7},"",""]
[null,525,{"$nulls":7},"",""]
[null,526,{"$nulls":7},"",""]
[null,527,{"$nulls":7},"",""]
[null,528,{"$nulls":7},"",""]
[null,529,{"$nulls":7},"",""]
[null,530,{"$nulls":7},"",""]
[null,531,{"$nulls":7},"",""]
[null,532,{"$nulls":7},"",""]
[null,533,{"$nulls":7},"",""]
[null,534,{"$nulls":7},"",""]
[null,535,{"$nulls":7},"",""]
[null,536,{"$nulls":7},"",""]
[null,537,{"$nulls":7},"",""]
[null,538,{"$nulls":7},"",""]
[null,539,{"$nulls":7},"",""]
[null,540,{"$nulls":7},"",""]
[null,541,{"$nulls":7},"",""]
[null,542,{"$nulls":7},"",""]
[null,543,{"$nulls":7},"",""]
[null,544,{"$nulls":7},"",""]
[null,545,{"$nulls":7},"",""]
[null,546,{"$nulls":7},"",""]
[null,547,{"$nulls":7},"",""]
[null,548,{"$nulls":7},"",""]
[null,549,{"$nulls":7},"",""]
[null,550,{"$nulls":7},"",""]
[null,551,{"$nulls":7},"",""]
[null,552,{"$nulls":7},"",""]
[null,553,{"$nulls":7},"",""]
[null,554,{"$nulls":7},"",""]
[null,555,{"$nulls":7},"",""]
[null,556,{"$nulls":7},"",""]
[null,557,{"$nulls":7},"",""]
[null,558,{"$nulls":7},"",""]
[null,559,{"$nulls":7},"",""]
[null,560,{"$nulls":7},"",""]
[null,561,{"$nulls":7},"",""]
[null,562,{"$nulls":7},"",""]
[null,563,{"$nulls":7},"",""]
[null,564,{"$nulls":7},"",""]
[null,565,{"$nulls":7},"",""]
[null,566,{"$nulls":7},"",""]
[null,567,{"$nulls":7},"",""]
[null,568,{"$nulls":7},"",""]
[null,569,{"$nulls":7},"",""]
[null,570,{"$nulls":7},"",""]
[null,571,{"$nulls":7},"",""]
[null,572,{"$nulls":7},"",""]
[null,573,{"$nulls":7},"",""]
[null,574,{"$nulls":7},"",""]
[null,575,{"$nulls":7},"",""]
[null,576,{"$nulls":7},"",""]
[null,577,{"$nulls":7},{"$f":"IF(OR(ISBLANK(H586)=TRUE,ISBLANK(I586)=TRUE),\"\",H586*I586)","v":""},{"$f":"IF(AND(ISBLANK(G586)=TRUE,ISTEXT(J586)=TRUE),\"\",IF(ISBLANK(H586)=FALSE,G586+(H586*I586),IF(AND(ISBLANK(G586)=TRUE,OR(ISBLANK(H586)=TRUE,ISTEXT(I586)=TRUE)),\"\",G586+(H586*I586))))","v":""}]
[null,578,{"$nulls":7},"",""]
[null,579,{"$nulls":7},"",""]
[null,580,{"$nulls":7},"",""]
[null,581,{"$nulls":7},"",""]
[null,582,{"$nulls":7},"",""]
[null,583,{"$nulls":7},"",""]
[null,584,{"$nulls":7},"",""]
[null,585,{"$nulls":7},"",""]
[null,586,{"$nulls":7},"",""]
[null,587,{"$nulls":7},"",""]
[null,588,{"$nulls":7},"",""]
[null,589,{"$nulls":7},"",""]
[null,590,{"$nulls":7},"",""]
[null,591,{"$nulls":7},"",""]
[null,592,{"$nulls":7},"",""]
[null,593,{"$nulls":7},"",""]
[null,594,{"$nulls":7},"",""]
[null,595,{"$nulls":7},"",""]
[null,596,{"$nulls":7},"",""]
[null,597,{"$nulls":7},"",""]
[null,598,{"$nulls":7},"",""]
[null,599,{"$nulls":7},"",""]
[null,600,{"$nulls":7},"",""]
[null,601,{"$nulls":7},"",""]
[null,602,{"$nulls":7},"",""]
[null,603,{"$nulls":7},"",""]
[null,604,{"$nulls":7},"",""]
[null,605,{"$nulls":7},"",""]
[null,606,{"$nulls":7},"",""]
[null,607,{"$nulls":7},"",""]
[null,608,{"$nulls":7},"",""]
[null,609,{"$nulls":7},"",""]
[null,610,{"$nulls":7},"",""]
[null,611,{"$nulls":7},"",""]
[null,612,{"$nulls":7},"",""]
[null,613,{"$nulls":7},"",""]
[null,614,{"$nulls":7},"",""]
[null,615,{"$nulls":7},"",""]
[null,616,{"$nulls":7},"",""]
[null,617,{"$nulls":7},"",""]
[null,618,{"$nulls":7},"",""]
[null,619,{"$nulls":7},"",""]
[null,620,{"$nulls":7},"",""]
[null,621,{"$nulls":7},"",""]
[null,622,{"$nulls":7},"",""]
[null,623,{"$nulls":7},"",""]
[null,624,{"$nulls":7},"",""]
[null,625,{"$nulls":7},"",""]
[null,626,{"$nulls":7},"",""]
[null,627,{"$nulls":7},"",""]
[null,628,{"$nulls":7},"",""]
[null,629,{"$nulls":7},"",""]
[null,630,{"$nulls":7},"",""]
[null,631,{"$nulls":7},"",""]
[null,632,{"$nulls":7},"",""]
[null,633,{"$nulls":7},"",""]
[null,634,{"$nulls":7},"",""]
[null,635,{"$nulls":7},"",""]
[null,636,{"$nulls":7},"",""]
[null,637,{"$nulls":7},"",""]
[null,638,{"$nulls":7},"",""]
[null,639,{"$nulls":7},"",""]
[null,640,{"$nulls":7},"",""]
[null,641,{"$nulls":7},{"$f":"IF(OR(ISBLANK(H650)=TRUE,ISBLANK(I650)=TRUE),\"\",H650*I650)","v":""},{"$f":"IF(AND(ISBLANK(G650)=TRUE,ISTEXT(J650)=TRUE),\"\",IF(ISBLANK(H650)=FALSE,G650+(H650*I650),IF(AND(ISBLANK(G650)=TRUE,OR(ISBLANK(H650)=TRUE,ISTEXT(I650)=TRUE)),\"\",G650+(H650*I650))))","v":""}]
[null,642,{"$nulls":7},"",""]
[null,643,{"$nulls":7},"",""]
[null,644,{"$nulls":7},"",""]
[null,645,{"$nulls":7},"",""]
[null,646,{"$nulls":7},"",""]
[null,647,{"$nulls":7},"",""]
[null,648,{"$nulls":7},"",""]
[null,649,{"$nulls":7},"",""]
[null,650,{"$nulls":7},"",""]
[null,651,{"$nulls":7},"",""]
[null,652,{"$nulls":7},"",""]
[null,653,{"$nulls":7},"",""]
[null,654,{"$nulls":7},"",""]
[null,655,{"$nulls":7},"",""]
[null,656,{"$nulls":7},"",""]
[null,657,{"$nulls":7},"",""]
[null,658,{"$nulls":7},"",""]
[null,659,{"$nulls":7},"",""]
[null,660,{"$nulls":7},"",""]
[null,661,{"$nulls":7},"",""]
[null,662,{"$nulls":7},"",""]
[null,663,{"$nulls":7},"",""]
[null,664,{"$nulls":7},"",""]
[null,665,{"$nulls":7},"",""]
[null,666,{"$nulls":7},"",""]
[null,667,{"$nulls":7},"",""]
[null,668,{"$nulls":7},"",""]
[null,669,{"$nulls":7},"",""]
[null,670,{"$nulls":7},"",""]
[null,671,{"$nulls":7},"",""]
[null,672,{"$nulls":7},"",""]
[null,673,{"$nulls":7},"",""]
[null,674,{"$nulls":7},"",""]
[null,675,{"$nulls":7},"",""]
[null,676,{"$nulls":7},"",""]
[null,677,{"$nulls":7},"",""]
[null,678,{"$nulls":7},"",""]
[null,679,{"$nulls":7},"",""]
[null,680,{"$nulls":7},"",""]
[null,681,{"$nulls":7},"",""]
[null,682,{"$nulls":7},"",""]
[null,683,{"$nulls":7},"",""]
[null,684,{"$nulls":7},"",""]
[null,685,{"$nulls":7},"",""]
[null,686,{"$nulls":7},"",""]
[null,687,{"$nulls":7},"",""]
[null,688,{"$nulls":7},"",""]
[null,689,{"$nulls":7},"",""]
[null,690,{"$nulls":7},"",""]
[null,691,{"$nulls":7},"",""]
[null,692,{"$nulls":7},"",""]
[null,693,{"$nulls":7},"",""]
[null,694,{"$nulls":7},"",""]
[null,695,{"$nulls":7},"",""]
[null,696,{"$nulls":7},"",""]
[null,697,{"$nulls":7},"",""]
[null,698,{"$nulls":7},"",""]
[null,699,{"$nulls":7},"",""]
[null,700,{"$nulls":7},"",""]
[null,701,{"$nulls":7},"",""]
[null,702,{"$nulls":7},"",""]
[null,703,{"$nulls":7},"",""]
[null,704,{"$nulls":7},"",""]
[null,705,{"$nulls":7},{"$f":"IF(OR(ISBLANK(H714)=TRUE,ISBLANK(I714)=TRUE),\"\",H714*I714)","v":""},{"$f":"IF(AND(ISBLANK(G714)=TRUE,ISTEXT(J714)=TRUE),\"\",IF(ISBLANK(H714)=FALSE,G714+(H714*I714),IF(AND(ISBLANK(G714)=TRUE,OR(ISBLANK(H714)=TRUE,ISTEXT(I714)=TRUE)),\"\",G714+(H714*I714))))","v":""}]
[null,706,{"$nulls":7},"",""]
[null,707,{"$nulls":7},"",""]
[null,708,{"$nulls":7},"",""]
[null,709,{"$nulls":7},"",""]
[null,710,{"$nulls":7},"",""]
[null,711,{"$nulls":7},"",""]
[null,712,{"$nulls":7},"",""]
[null,713,{"$nulls":7},"",""]
[null,714,{"$nulls":7},"",""]
[null,715,{"$nulls":7},"",""]
[null,716,{"$nulls":7},"",""]
[null,717,{"$nulls":7},"",""]
[null,718,{"$nulls":7},"",""]
[null,719,{"$nulls":7},"",""]
[null,720,{"$nulls":7},"",""]
[null,721,{"$nulls":7},"",""]
[null,722,{"$nulls":7},"",""]
[null,723,{"$nulls":7},"",""]
[null,724,{"$nulls":7},"",""]
[null,725,{"$nulls":7},"",""]
[null,726,{"$nulls":7},"",""]
[null,727,{"$nulls":7},"",""]
[null,728,{"$nulls":7},"",""]
[null,729,{"$nulls":7},"",""]
[null,730,{"$nulls":7},"",""]
[null,731,{"$nulls":7},"",""]
[null,732,{"$nulls":7},"",""]
[null,733,{"$nulls":7},"",""]
[null,734,{"$nulls":7},"",""]
[null,735,{"$nulls":7},"",""]
[null,736,{"$nulls":7},"",""]
[null,737,{"$nulls":7},"",""]
[null,738,{"$nulls":7},"",""]
[null,739,{"$nulls":7},"",""]
[null,740,{"$nulls":7},"",""]
[null,741,{"$nulls":7},"",""]
[null,742,{"$nulls":7},"",""]
[null,743,{"$nulls":7},"",""]
[null,744,{"$nulls":7},"",""]
[null,745,{"$nulls":7},"",""]
[null,746,{"$nulls":7},"",""]
[null,747,{"$nulls":7},"",""]
[null,748,{"$nulls":7},"",""]
[null,749,{"$nulls":7},"",""]
[null,750,{"$nulls":7},"",""]
[null,751,{"$nulls":7},"",""]
[null,752,{"$nulls":7},"",""]
[null,753,{"$nulls":7},"",""]
[null,754,{"$nulls":7},"",""]
[null,755,{"$nulls":7},"",""]
[null,756,{"$nulls":7},"",""]
[null,757,{"$nulls":7},"",""]
[null,758,{"$nulls":7},"",""]
[null,759,{"$nulls":7},"",""]
[null,760,{"$nulls":7},"",""]
[null,761,{"$nulls":7},"",""]
[null,762,{"$nulls":7},"",""]
[null,763,{"$nulls":7},"",""]
[null,764,{"$nulls":7},"",""]
[null,765,{"$nulls":7},"",""]
[null,766,{"$nulls":7},"",""]
[null,767,{"$nulls":7},"",""]
[null,768,{"$nulls":7},"",""]
[null,769,{"$nulls":7},{"$f":"IF(OR(ISBLANK(H778)=TRUE,ISBLANK(I778)=TRUE),\"\",H778*I778)","v":""},{"$f":"IF(AND(ISBLANK(G778)=TRUE,ISTEXT(J778)=TRUE),\"\",IF(ISBLANK(H778)=FALSE,G778+(H778*I778),IF(AND(ISBLANK(G778)=TRUE,OR(ISBLANK(H778)=TRUE,ISTEXT(I778)=TRUE)),\"\",G778+(H778*I778))))","v":""}]
[null,770,{"$nulls":7},"",""]
[null,771,{"$nulls":7},"",""]
[null,772,{"$nulls":7},"",""]
[null,773,{"$nulls":7},"",""]
[null,774,{"$nulls":7},"",""]
[null,775,{"$nulls":7},"",""]
[null,776,{"$nulls":7},"",""]
[null,777,{"$nulls":7},"",""]
[null,778,{"$nulls":7},"",""]
[null,779,{"$nulls":7},"",""]
[null,780,{"$nulls":7},"",""]
[null,781,{"$nulls":7},"",""]
[null,782,{"$nulls":7},"",""]
[null,783,{"$nulls":7},"",""]
[null,784,{"$nulls":7},"",""]
[null,785,{"$nulls":7},"",""]
[null,786,{"$nulls":7},"",""]
[null,787,{"$nulls":7},"",""]
[null,788,{"$nulls":7},"",""]
[null,789,{"$nulls":7},"",""]
[null,790,{"$nulls":7},"",""]
[null,791,{"$nulls":7},"",""]
[null,792,{"$nulls":7},"",""]
[null,793,{"$nulls":7},"",""]
[null,794,{"$nulls":7},"",""]
[null,795,{"$nulls":7},"",""]
[null,796,{"$nulls":7},"",""]
[null,797,{"$nulls":7},"",""]
[null,798,{"$nulls":7},"",""]
[null,799,{"$nulls":7},"",""]
[null,800,{"$nulls":7},"",""]
[null,801,{"$nulls":7},"",""]
[null,802,{"$nulls":7},"",""]
[null,803,{"$nulls":7},"",""]
[null,804,{"$nulls":7},"",""]
[null,805,{"$nulls":7},"",""]
[null,806,{"$nulls":7},"",""]
[null,807,{"$nulls":7},"",""]
[null,808,{"$nulls":7},"",""]
[null,809,{"$nulls":7},"",""]
[null,810,{"$nulls":7},"",""]
[null,811,{"$nulls":7},"",""]
[null,812,{"$nulls":7},"",""]
[null,813,{"$nulls":7},"",""]
[null,814,{"$nulls":7},"",""]
[null,815,{"$nulls":7},"",""]
[null,816,{"$nulls":7},"",""]
[null,817,{"$nulls":7},"",""]
[null,818,{"$nulls":7},"",""]
[null,819,{"$nulls":7},"",""]
[null,820,{"$nulls":7},"",""]
[null,821,{"$nulls":7},"",""]
[null,822,{"$nulls":7},"",""]
[null,823,{"$nulls":7},"",""]
[null,824,{"$nulls":7},"",""]
[null,825,{"$nulls":7},"",""]
[null,826,{"$nulls":7},"",""]
[null,827,{"$nulls":7},"",""]
[null,828,{"$nulls":7},"",""]
[null,829,{"$nulls":7},"",""]
[null,830,{"$nulls":7},"",""]
[null,831,{"$nulls":7},"",""]
[null,832,{"$nulls":7},"",""]
[null,833,{"$nulls":7},{"$f":"IF(OR(ISBLANK(H842)=TRUE,ISBLANK(I842)=TRUE),\"\",H842*I842)","v":""},{"$f":"IF(AND(ISBLANK(G842)=TRUE,ISTEXT(J842)=TRUE),\"\",IF(ISBLANK(H842)=FALSE,G842+(H842*I842),IF(AND(ISBLANK(G842)=TRUE,OR(ISBLANK(H842)=TRUE,ISTEXT(I842)=TRUE)),\"\",G842+(H842*I842))))","v":""}]
[null,834,{"$nulls":7},"",""]
[null,835,{"$nulls":7},"",""]
[null,836,{"$nulls":7},"",""]
[null,837,{"$nulls":7},"",""]
[null,838,{"$nulls":7},"",""]
[null,839,{"$nulls":7},"",""]
[null,840,{"$nulls":7},"",""]
[null,841,{"$nulls":7},"",""]
[null,842,{"$nulls":7},"",""]
[null,843,{"$nulls":7},"",""]
[null,844,{"$nulls":7},"",""]
[null,845,{"$nulls":7},"",""]
[null,846,{"$nulls":7},"",""]
[null,847,{"$nulls":7},"",""]
[null,848,{"$nulls":7},"",""]
[null,849,{"$nulls":7},"",""]
[null,850,{"$nulls":7},"",""]
[null,851,{"$nulls":7},"",""]
[null,852,{"$nulls":7},"",""]
[null,853,{"$nulls":7},"",""]
[null,854,{"$nulls":7},"",""]
[null,855,{"$nulls":7},"",""]
[null,856,{"$nulls":7},"",""]
[null,857,{"$nulls":7},"",""]
[null,858,{"$nulls":7},"",""]
[null,859,{"$nulls":7},"",""]
[null,860,{"$nulls":7},"",""]
[null,861,{"$nulls":7},"",""]
[null,862,{"$nulls":7},"",""]
[null,863,{"$nulls":7},"",""]
[null,864,{"$nulls":7},"",""]
[null,865,{"$nulls":7},"",""]
[null,866,{"$nulls":7},"",""]
[null,867,{"$nulls":7},"",""]
[null,868,{"$nulls":7},"",""]
[null,869,{"$nulls":7},"",""]
[null,870,{"$nulls":7},"",""]
[null,871,{"$nulls":7},"",""]
[null,872,{"$nulls":7},"",""]
[null,873,{"$nulls":7},"",""]
[null,874,{"$nulls":7},"",""]
[null,875,{"$nulls":7},"",""]
[null,876,{"$nulls":7},"",""]
[null,877,{"$nulls":7},"",""]
[null,878,{"$nulls":7},"",""]
[null,879,{"$nulls":7},"",""]
[null,880,{"$nulls":7},"",""]
[null,881,{"$nulls":7},"",""]
[null,882,{"$nulls":7},"",""]
[null,883,{"$nulls":7},"",""]
[null,884,{"$nulls":7},"",""]
[null,885,{"$nulls":7},"",""]
[null,886,{"$nulls":7},"",""]
[null,887,{"$nulls":7},"",""]
[null,888,{"$nulls":7},"",""]
[null,889,{"$nulls":7},"",""]
[null,890,{"$nulls":7},"",""]
[null,891,{"$nulls":7},"",""]
[null,892,{"$nulls":7},"",""]
[null,893,{"$nulls":7},"",""]
[null,894,{"$nulls":7},"",""]
[null,895,{"$nulls":7},"",""]
[null,896,{"$nulls":7},"",""]
[null,897,{"$nulls":7},{"$f":"IF(OR(ISBLANK(H906)=TRUE,ISBLANK(I906)=TRUE),\"\",H906*I906)","v":""},{"$f":"IF(AND(ISBLANK(G906)=TRUE,ISTEXT(J906)=TRUE),\"\",IF(ISBLANK(H906)=FALSE,G906+(H906*I906),IF(AND(ISBLANK(G906)=TRUE,OR(ISBLANK(H906)=TRUE,ISTEXT(I906)=TRUE)),\"\",G906+(H906*I906))))","v":""}]
[null,898,{"$nulls":7},"",""]
[null,899,{"$nulls":7},"",""]
[null,900,{"$nulls":7},"",""]
[null,901,{"$nulls":7},"",""]
[null,902,{"$nulls":7},"",""]
[null,903,{"$nulls":7},"",""]
[null,904,{"$nulls":7},"",""]
[null,905,{"$nulls":7},"",""]
[null,906,{"$nulls":7},"",""]
[null,907,{"$nulls":7},"",""]
[null,908,{"$nulls":7},"",""]
[null,909,{"$nulls":7},"",""]
[null,910,{"$nulls":7},"",""]
[null,911,{"$nulls":7},"",""]
[null,912,{"$nulls":7},"",""]
[null,913,{"$nulls":7},"",""]
[null,914,{"$nulls":7},"",""]
[null,915,{"$nulls":7},"",""]
[null,916,{"$nulls":7},"",""]
[null,917,{"$nulls":7},"",""]
[null,918,{"$nulls":7},"",""]
[null,919,{"$nulls":7},"",""]
[null,920,{"$nulls":7},"",""]
[null,921,{"$nulls":7},"",""]
[null,922,{"$nulls":7},"",""]
[null,923,{"$nulls":7},"",""]
[null,924,{"$nulls":7},"",""]
[null,925,{"$nulls":7},"",""]
[null,926,{"$nulls":7},"",""]
[null,927,{"$nulls":7},"",""]
[null,928,{"$nulls":7},"",""]
[null,929,{"$nulls":7},"",""]
[null,930,{"$nulls":7},"",""]
[null,931,{"$nulls":7},"",""]
[null,932,{"$nulls":7},"",""]
[null,933,{"$nulls":7},"",""]
[null,934,{"$nulls":7},"",""]
[null,935,{"$nulls":7},"",""]
[null,936,{"$nulls":7},"",""]
[null,937,{"$nulls":7},"",""]
[null,938,{"$nulls":7},"",""]
[null,939,{"$nulls":7},"",""]
[null,940,{"$nulls":7},"",""]
[null,941,{"$nulls":7},"",""]
[null,942,{"$nulls":7},"",""]
[null,943,{"$nulls":7},"",""]
[null,944,{"$nulls":7},"",""]
[null,945,{"$nulls":7},"",""]
[null,946,{"$nulls":7},"",""]
[null,947,{"$nulls":7},"",""]
[null,948,{"$nulls":7},"",""]
[null,949,{"$nulls":7},"",""]
[null,950,{"$nulls":7},"",""]
[null,951,{"$nulls":7},"",""]
[null,952,{"$nulls":7},"",""]
[null,953,{"$nulls":7},"",""]
[null,954,{"$nulls":7},"",""]
[null,955,{"$nulls":7},"",""]
[null,956,{"$nulls":7},"",""]
[null,957,{"$nulls":7},"",""]
[null,958,{"$nulls":7},"",""]
[null,959,{"$nulls":7},"",""]
[null,960,{"$nulls":7},"",""]
[null,961,{"$nulls":7},{"$f":"IF(OR(ISBLANK(H970)=TRUE,ISBLANK(I970)=TRUE),\"\",H970*I970)","v":""},{"$f":"IF(AND(ISBLANK(G970)=TRUE,ISTEXT(J970)=TRUE),\"\",IF(ISBLANK(H970)=FALSE,G970+(H970*I970),IF(AND(ISBLANK(G970)=TRUE,OR(ISBLANK(H970)=TRUE,ISTEXT(I970)=TRUE)),\"\",G970+(H970*I970))))","v":""}]
[null,962,{"$nulls":7},"",""]
[null,963,{"$nulls":7},"",""]
[null,964,{"$nulls":7},"",""]
[null,965,{"$nulls":7},"",""]
[null,966,{"$nulls":7},"",""]
[null,967,{"$nulls":7},"",""]
[null,968,{"$nulls":7},"",""]
[null,969,{"$nulls":7},"",""]
[null,970,{"$nulls":7},"",""]
[null,971,{"$nulls":7},"",""]
[null,972,{"$nulls":7},"",""]
[null,973,{"$nulls":7},"",""]
[null,974,{"$nulls":7},"",""]
[null,975,{"$nulls":7},"",""]
[null,976,{"$nulls":7},"",""]
[null,977,{"$nulls":7},"",""]
[null,978,{"$nulls":7},"",""]
[null,979,{"$nulls":7},"",""]
[null,980,{"$nulls":7},"",""]
[null,981,{"$nulls":7},"",""]
[null,982,{"$nulls":7},"",""]
[null,983,{"$nulls":7},"",""]
[null,984,{"$nulls":7},"",""]
[null,985,{"$nulls":7},"",""]
[null,986,{"$nulls":7},"",""]
[null,987,{"$nulls":7},"",""]
[null,988,{"$nulls":7},"",""]
[null,989,{"$nulls":7},"",""]
[null,990,{"$nulls":7},"",""]
[null,991,{"$nulls":7},"",""]
[null,992,{"$nulls":7},"",""]
[null,993,{"$nulls":7},"",""]
[null,994,{"$nulls":7},"",""]
[null,995,{"$nulls":7},"",""]
[null,996,{"$nulls":7},"",""]
[null,997,{"$nulls":7},"",""]
[null,998,{"$nulls":7},"",""]
[null,999,{"$nulls":7},"",""]
[null,1000,{"$nulls":7},"",""]
[null,1001,{"$nulls":7},"",""]
[null,1002,{"$nulls":7},"",""]
[null,1003,{"$nulls":7},"",""]
[null,1004,{"$nulls":7},"",""]
[null,1005,{"$nulls":7},"",""]
[null,1006,{"$nulls":7},"",""]
[null,1007,{"$nulls":7},"",""]
[null,1008,{"$nulls":7},"",""]
[null,1009,{"$nulls":7},"",""]
[null,1010,{"$nulls":7},"",""]
[null,1011,{"$nulls":7},"",""]
[null,1012,{"$nulls":7},"",""]
[null,1013,{"$nulls":7},"",""]
[null,1014,{"$nulls":7},"",""]
[null,1015,{"$nulls":7},"",""]
[null,1016,{"$nulls":7},"",""]
[null,1017,{"$nulls":7},"",""]
[null,1018,{"$nulls":7},"",""]
[null,1019,{"$nulls":7},"",""]
[null,1020,{"$nulls":7},"",""]
[null,1021,{"$nulls":7},"",""]
[null,1022,{"$nulls":7},"",""]
[null,1023,{"$nulls":7},"",""]
[null,1024,{"$nulls":7},"",""]
[null,1025,{"$nulls":7},{"$f":"IF(OR(ISBLANK(H1034)=TRUE,ISBLANK(I1034)=TRUE),\"\",H1034*I1034)","v":""},{"$f":"IF(AND(ISBLANK(G1034)=TRUE,ISTEXT(J1034)=TRUE),\"\",IF(ISBLANK(H1034)=FALSE,G1034+(H1034*I1034),IF(AND(ISBLANK(G1034)=TRUE,OR(ISBLANK(H1034)=TRUE,ISTEXT(I1034)=TRUE)),\"\",G1034+(H1034*I1034))))","v":""}]
[null,1026,{"$nulls":7},"",""]
[null,1027,{"$nulls":7},"",""]
[null,1028,{"$nulls":7},"",""]
[null,1029,{"$nulls":7},"",""]
[null,1030,{"$nulls":7},"",""]
[null,1031,{"$nulls":7},"",""]
[null,1032,{"$nulls":7},"",""]
[null,1033,{"$nulls":7},"",""]
[null,1034,{"$nulls":7},"",""]
[null,1035,{"$nulls":7},"",""]
[null,1036,{"$nulls":7},"",""]
[null,1037,{"$nulls":7},"",""]
[null,1038,{"$nulls":7},"",""]
[null,1039,{"$nulls":7},"",""]
[null,1040,{"$nulls":7},"",""]
[null,1041,{"$nulls":7},"",""]
[null,1042,{"$nulls":7},"",""]
[null,1043,{"$nulls":7},"",""]
[null,1044,{"$nulls":7},"",""]
[null,1045,{"$nulls":7},"",""]
[null,1046,{"$nulls":7},"",""]
[null,1047,{"$nulls":7},"",""]
[null,1048,{"$nulls":7},"",""]
[null,1049,{"$nulls":7},"",""]
[null,1050,{"$nulls":7},"",""]
[null,1051,{"$nulls":7},"",""]
[null,1052,{"$nulls":7},"",""]
[null,1053,{"$nulls":7},"",""]
[null,1054,{"$nulls":7},"",""]
[null,1055,{"$nulls":7},"",""]
[null,1056,{"$nulls":7},"",""]
[null,1057,{"$nulls":7},"",""]
[null,1058,{"$nulls":7},"",""]
[null,1059,{"$nulls":7},"",""]
[null,1060,{"$nulls":7},"",""]
[null,1061,{"$nulls":7},"",""]
[null,1062,{"$nulls":7},"",""]
[null,1063,{"$nulls":7},"",""]
[null,1064,{"$nulls":7},"",""]
[null,1065,{"$nulls":7},"",""]
[null,1066,{"$nulls":7},"",""]
[null,1067,{"$nulls":7},"",""]
[null,1068,{"$nulls":7},"",""]
[null,1069,{"$nulls":7},"",""]
[null,1070,{"$nulls":7},"",""]
[null,1071,{"$nulls":7},"",""]
[null,1072,{"$nulls":7},"",""]
[null,1073,{"$nulls":7},"",""]
[null,1074,{"$nulls":7},"",""]
[null,1075,{"$nulls":7},"",""]
[null,1076,{"$nulls":7},"",""]
[null,1077,{"$nulls":7},"",""]
[null,1078,{"$nulls":7},"",""]
[null,1079,{"$nulls":7},"",""]
[null,1080,{"$nulls":7},"",""]
[null,1081,{"$nulls":7},"",""]
[null,1082,{"$nulls":7},"",""]
[null,1083,{"$nulls":7},"",""]
[null,1084,{"$nulls":7},"",""]
[null,1085,{"$nulls":7},"",""]
[null,1086,{"$nulls":7},"",""]
[null,1087,{"$nulls":7},"",""]
[null,1088,{"$nulls":7},"",""]
[null,1089,{"$nulls":7},{"$f":"IF(OR(ISBLANK(H1098)=TRUE,ISBLANK(I1098)=TRUE),\"\",H1098*I1098)","v":""},{"$f":"IF(AND(ISBLANK(G1098)=TRUE,ISTEXT(J1098)=TRUE),\"\",IF(ISBLANK(H1098)=FALSE,G1098+(H1098*I1098),IF(AND(ISBLANK(G1098)=TRUE,OR(ISBLANK(H1098)=TRUE,ISTEXT(I1098)=TRUE)),\"\",G1098+(H1098*I1098))))","v":""}]
[null,1090,{"$nulls":7},"",""]
[null,1091,{"$nulls":7},"",""]
[null,1092,{"$nulls":7},"",""]
[null,1093,{"$nulls":7},"",""]
[null,1094,{"$nulls":7},"",""]
[null,1095,{"$nulls":7},"",""]
[null,1096,{"$nulls":7},"",""]
[null,1097,{"$nulls":7},"",""]
[null,1098,{"$nulls":7},"",""]
[null,1099,{"$nulls":7},"",""]
[null,1100,{"$nulls":7},"",""]
[null,1101,{"$nulls":7},"",""]
[null,1102,{"$nulls":7},"",""]
[null,1103,{"$nulls":7},"",""]
[null,1104,{"$nulls":7},"",""]
[null,1105,{"$nulls":7},"",""]
[null,1106,{"$nulls":7},"",""]
[null,1107,{"$nulls":7},"",""]
[null,1108,{"$nulls":7},"",""]
[null,1109,{"$nulls":7},"",""]
[null,1110,{"$nulls":7},"",""]
[null,1111,{"$nulls":7},"",""]
[null,1112,{"$nulls":7},"",""]
[null,1113,{"$nulls":7},"",""]
[null,1114,{"$nulls":7},"",""]
[null,1115,{"$nulls":7},"",""]
[null,1116,{"$nulls":7},"",""]
[null,1117,{"$nulls":7},"",""]
[null,1118,{"$nulls":7},"",""]
[null,1119,{"$nulls":7},"",""]
[null,1120,{"$nulls":7},"",""]
[null,1121,{"$nulls":7},"",""]
[null,1122,{"$nulls":7},"",""]
[null,1123,{"$nulls":7},"",""]
[null,1124,{"$nulls":7},"",""]
[null,1125,{"$nulls":7},"",""]
[null,1126,{"$nulls":7},"",""]
[null,1127,{"$nulls":7},"",""]
[null,1128,{"$nulls":7},"",""]
[null,1129,{"$nulls":7},"",""]
[null,1130,{"$nulls":7},"",""]
[null,1131,{"$nulls":7},"",""]
[null,1132,{"$nulls":7},"",""]
[null,1133,{"$nulls":7},"",""]
[null,1134,{"$nulls":7},"",""]
[null,1135,{"$nulls":7},"",""]
[null,1136,{"$nulls":7},"",""]
[null,1137,{"$nulls":7},"",""]
[null,1138,{"$nulls":7},"",""]
[null,1139,{"$nulls":7},"",""]
[null,1140,{"$nulls":7},"",""]
[null,1141,{"$nulls":7},"",""]
[null,1142,{"$nulls":7},"",""]
[null,1143,{"$nulls":7},"",""]
[null,1144,{"$nulls":7},"",""]
[null,1145,{"$nulls":7},"",""]
[null,1146,{"$nulls":7},"",""]
[null,1147,{"$nulls":7},"",""]
[null,1148,{"$nulls":7},"",""]
[null,1149,{"$nulls":7},"",""]
[null,1150,{"$nulls":7},"",""]
[null,1151,{"$nulls":7},"",""]
[null,1152,{"$nulls":7},"",""]
[null,1153,{"$nulls":7},{"$f":"IF(OR(ISBLANK(H1162)=TRUE,ISBLANK(I1162)=TRUE),\"\",H1162*I1162)","v":""},{"$f":"IF(AND(ISBLANK(G1162)=TRUE,ISTEXT(J1162)=TRUE),\"\",IF(ISBLANK(H1162)=FALSE,G1162+(H1162*I1162),IF(AND(ISBLANK(G1162)=TRUE,OR(ISBLANK(H1162)=TRUE,ISTEXT(I1162)=TRUE)),\"\",G1162+(H1162*I1162))))","v":""}]
[null,1154,{"$nulls":7},"",""]
[null,1155,{"$nulls":7},"",""]
[null,1156,{"$nulls":7},"",""]
[null,1157,{"$nulls":7},"",""]
[null,1158,{"$nulls":7},"",""]
[null,1159,{"$nulls":7},"",""]
[null,1160,{"$nulls":7},"",""]
[null,1161,{"$nulls":7},"",""]
[null,1162,{"$nulls":7},"",""]
[null,1163,{"$nulls":7},"",""]
[null,1164,{"$nulls":7},"",""]
[null,1165,{"$nulls":7},"",""]
[null,1166,{"$nulls":7},"",""]
[null,1167,{"$nulls":7},"",""]
[null,1168,{"$nulls":7},"",""]
[null,1169,{"$nulls":7},"",""]
[null,1170,{"$nulls":7},"",""]
[null,1171,{"$nulls":7},"",""]
[null,1172,{"$nulls":7},"",""]
[null,1173,{"$nulls":7},"",""]
[null,1174,{"$nulls":7},"",""]
[null,1175,{"$nulls":7},"",""]
[null,1176,{"$nulls":7},"",""]
[null,1177,{"$nulls":7},"",""]
[null,1178,{"$nulls":7},"",""]
[null,1179,{"$nulls":7},"",""]
[null,1180,{"$nulls":7},"",""]
[null,1181,{"$nulls":7},"",""]
[null,1182,{"$nulls":7},"",""]
[null,1183,{"$nulls":7},"",""]
[null,1184,{"$nulls":7},"",""]
[null,1185,{"$nulls":7},"",""]
[null,1186,{"$nulls":7},"",""]
[null,1187,{"$nulls":7},"",""]
[null,1188,{"$nulls":7},"",""]
[null,1189,{"$nulls":7},"",""]
[null,1190,{"$nulls":7},"",""]
[null,1191,{"$nulls":7},"",""]
[null,1192,{"$nulls":7},"",""]
[null,1193,{"$nulls":7},"",""]
[null,1194,{"$nulls":7},"",""]
[null,1195,{"$nulls":7},"",""]
[null,1196,{"$nulls":7},"",""]
[null,1197,{"$nulls":7},"",""]
[null,1198,{"$nulls":7},"",""]
[null,1199,{"$nulls":7},"",""]
[null,1200,{"$nulls":7},"",""]
[null,1201,{"$nulls":7},"",""]
[null,1202,{"$nulls":7},"",""]
[null,1203,{"$nulls":7},"",""]
[null,1204,{"$nulls":7},"",""]
[null,1205,{"$nulls":7},"",""]
[null,1206,{"$nulls":7},"",""]
[null,1207,{"$nulls":7},"",""]
[null,1208,{"$nulls":7},"",""]
[null,1209,{"$nulls":7},"",""]
[null,1210,{"$nulls":7},"",""]
[null,1211,{"$nulls":7},"",""]
[null,1212,{"$nulls":7},"",""]
[null,1213,{"$nulls":7},"",""]
[null,1214,{"$nulls":7},"",""]
[null,1215,{"$nulls":7},"",""]
[null,1216,{"$nulls":7},"",""]
[null,1217,{"$nulls":7},{"$f":"IF(OR(ISBLANK(H1226)=TRUE,ISBLANK(I1226)=TRUE),\"\",H1226*I1226)","v":""},{"$f":"IF(AND(ISBLANK(G1226)=TRUE,ISTEXT(J1226)=TRUE),\"\",IF(ISBLANK(H1226)=FALSE,G1226+(H1226*I1226),IF(AND(ISBLANK(G1226)=TRUE,OR(ISBLANK(H1226)=TRUE,ISTEXT(I1226)=TRUE)),\"\",G1226+(H1226*I1226))))","v":""}]
[null,1218,{"$nulls":7},"",""]
[null,1219,{"$nulls":7},"",""]
[null,1220,{"$nulls":7},"",""]
[null,1221,{"$nulls":7},"",""]
[null,1222,{"$nulls":7},"",""]
[null,1223,{"$nulls":7},"",""]
[null,1224,{"$nulls":7},"",""]
[null,1225,{"$nulls":7},"",""]
[null,1226,{"$nulls":7},"",""]
[null,1227,{"$nulls":7},"",""]
[null,1228,{"$nulls":7},"",""]
[null,1229,{"$nulls":7},"",""]
[null,1230,{"$nulls":7},"",""]
[null,1231,{"$nulls":7},"",""]
[null,1232,{"$nulls":7},"",""]
[null,1233,{"$nulls":7},"",""]
[null,1234,{"$nulls":7},"",""]
[null,1235,{"$nulls":7},"",""]
[null,1236,{"$nulls":7},"",""]
[null,1237,{"$nulls":7},"",""]
[null,1238,{"$nulls":7},"",""]
[null,1239,{"$nulls":7},"",""]
[null,1240,{"$nulls":7},"",""]
[null,1241,{"$nulls":7},"",""]
[null,1242,{"$nulls":7},"",""]
[null,1243,{"$nulls":7},"",""]
[null,1244,{"$nulls":7},"",""]
[null,1245,{"$nulls":7},"",""]
[null,1246,{"$nulls":7},"",""]
[null,1247,{"$nulls":7},"",""]
[null,1248,{"$nulls":7},"",""]
[null,1249,{"$nulls":7},"",""]
[null,1250,{"$nulls":7},"",""]
[null,1251,{"$nulls":7},"",""]
[null,1252,{"$nulls":7},"",""]
[null,1253,{"$nulls":7},"",""]
[null,1254,{"$nulls":7},"",""]
[null,1255,{"$nulls":7},"",""]
[null,1256,{"$nulls":7},"",""]
[null,1257,{"$nulls":7},"",""]
[null,1258,{"$nulls":7},"",""]
[null,1259,{"$nulls":7},"",""]
[null,1260,{"$nulls":7},"",""]
[null,1261,{"$nulls":7},"",""]
[null,1262,{"$nulls":7},"",""]
[null,1263,{"$nulls":7},"",""]
[null,1264,{"$nulls":7},"",""]
[null,1265,{"$nulls":7},"",""]
[null,1266,{"$nulls":7},"",""]
[null,1267,{"$nulls":7},"",""]
[null,1268,{"$nulls":7},"",""]
[null,1269,{"$nulls":7},"",""]
[null,1270,{"$nulls":7},"",""]
[null,1271,{"$nulls":7},"",""]
[null,1272,{"$nulls":7},"",""]
[null,1273,{"$nulls":7},"",""]
[null,1274,{"$nulls":7},"",""]
[null,1275,{"$nulls":7},"",""]
[null,1276,{"$nulls":7},"",""]
[null,1277,{"$nulls":7},"",""]
[null,1278,{"$nulls":7},"",""]
[null,1279,{"$nulls":7},"",""]
[null,1280,{"$nulls":7},"",""]
[null,1281,{"$nulls":7},{"$f":"IF(OR(ISBLANK(H1290)=TRUE,ISBLANK(I1290)=TRUE),\"\",H1290*I1290)","v":""},{"$f":"IF(AND(ISBLANK(G1290)=TRUE,ISTEXT(J1290)=TRUE),\"\",IF(ISBLANK(H1290)=FALSE,G1290+(H1290*I1290),IF(AND(ISBLANK(G1290)=TRUE,OR(ISBLANK(H1290)=TRUE,ISTEXT(I1290)=TRUE)),\"\",G1290+(H1290*I1290))))","v":""}]
[null,1282,{"$nulls":7},"",""]
[null,1283,{"$nulls":7},"",""]
[null,1284,{"$nulls":7},"",""]
[null,1285,{"$nulls":7},"",""]
[null,1286,{"$nulls":7},"",""]
[null,1287,{"$nulls":7},"",""]
[null,1288,{"$nulls":7},"",""]
[null,1289,{"$nulls":7},"",""]
[null,1290,{"$nulls":7},"",""]
[null,1291,{"$nulls":7},"",""]
[null,1292,{"$nulls":7},"",""]
[null,1293,{"$nulls":7},"",""]
[null,1294,{"$nulls":7},"",""]
[null,1295,{"$nulls":7},"",""]
[null,1296,{"$nulls":7},"",""]
[null,1297,{"$nulls":7},"",""]
[null,1298,{"$nulls":7},"",""]
[null,1299,{"$nulls":7},"",""]
[null,1300,{"$nulls":7},"",""]
[null,1301,{"$nulls":7},"",""]
[null,1302,{"$nulls":7},"",""]
[null,1303,{"$nulls":7},"",""]
[null,1304,{"$nulls":7},"",""]
[null,1305,{"$nulls":7},"",""]
[null,1306,{"$nulls":7},"",""]
[null,1307,{"$nulls":7},"",""]
[null,1308,{"$nulls":7},"",""]
[null,1309,{"$nulls":7},"",""]
[null,1310,{"$nulls":7},"",""]
[null,1311,{"$nulls":7},"",""]
[null,1312,{"$nulls":7},"",""]
[null,1313,{"$nulls":7},"",""]
[null,1314,{"$nulls":7},"",""]
[null,1315,{"$nulls":7},"",""]
[null,1316,{"$nulls":7},"",""]
[null,1317,{"$nulls":7},"",""]
[null,1318,{"$nulls":7},"",""]
[null,1319,{"$nulls":7},"",""]
[null,1320,{"$nulls":7},"",""]
[null,1321,{"$nulls":7},"",""]
[null,1322,{"$nulls":7},"",""]
[null,1323,{"$nulls":7},"",""]
[null,1324,{"$nulls":7},"",""]
[null,1325,{"$nulls":7},"",""]
[null,1326,{"$nulls":7},"",""]
[null,1327,{"$nulls":7},"",""]
[null,1328,{"$nulls":7},"",""]
[null,1329,{"$nulls":7},"",""]
[null,1330,{"$nulls":7},"",""]
[null,1331,{"$nulls":7},"",""]
[null,1332,{"$nulls":7},"",""]
[null,1333,{"$nulls":7},"",""]
[null,1334,{"$nulls":7},"",""]
[null,1335,{"$nulls":7},"",""]
[null,1336,{"$nulls":7},"",""]
[null,1337,{"$nulls":7},"",""]
[null,1338,{"$nulls":7},"",""]
[null,1339,{"$nulls":7},"",""]
[null,1340,{"$nulls":7},"",""]
[null,1341,{"$nulls":7},"",""]
[null,1342,{"$nulls":7},"",""]
[null,1343,{"$nulls":7},"",""]
[null,1344,{"$nulls":7},"",""]
[null,1345,{"$nulls":7},{"$f":"IF(OR(ISBLANK(H1354)=TRUE,ISBLANK(I1354)=TRUE),\"\",H1354*I1354)","v":""},{"$f":"IF(AND(ISBLANK(G1354)=TRUE,ISTEXT(J1354)=TRUE),\"\",IF(ISBLANK(H1354)=FALSE,G1354+(H1354*I1354),IF(AND(ISBLANK(G1354)=TRUE,OR(ISBLANK(H1354)=TRUE,ISTEXT(I1354)=TRUE)),\"\",G1354+(H1354*I1354))))","v":""}]
[null,1346,{"$nulls":7},"",""]
[null,1347,{"$nulls":7},"",""]
[null,1348,{"$nulls":7},"",""]
[null,1349,{"$nulls":7},"",""]
[null,1350,{"$nulls":7},"",""]
[null,1351,{"$nulls":7},"",""]
[null,1352,{"$nulls":7},"",""]
[null,1353,{"$nulls":7},"",""]
[null,1354,{"$nulls":7},"",""]
[null,1355,{"$nulls":7},"",""]
[null,1356,{"$nulls":7},"",""]
[null,1357,{"$nulls":7},"",""]
[null,1358,{"$nulls":7},"",""]
[null,1359,{"$nulls":7},"",""]
[null,1360,{"$nulls":7},"",""]
[null,1361,{"$nulls":7},"",""]
[null,1362,{"$nulls":7},"",""]
[null,1363,{"$nulls":7},"",""]
[null,1364,{"$nulls":7},"",""]
[null,1365,{"$nulls":7},"",""]
[null,1366,{"$nulls":7},"",""]
[null,1367,{"$nulls":7},"",""]
[null,1368,{"$nulls":7},"",""]
[null,1369,{"$nulls":7},"",""]
[null,1370,{"$nulls":7},"",""]
[null,1371,{"$nulls":7},"",""]
[null,1372,{"$nulls":7},"",""]
[null,1373,{"$nulls":7},"",""]
[null,1374,{"$nulls":7},"",""]
[null,1375,{"$nulls":7},"",""]
[null,1376,{"$nulls":7},"",""]
[null,1377,{"$nulls":7},"",""]
[null,1378,{"$nulls":7},"",""]
[null,1379,{"$nulls":7},"",""]
[null,1380,{"$nulls":7},"",""]
[null,1381,{"$nulls":7},"",""]
[null,1382,{"$nulls":7},"",""]
[null,1383,{"$nulls":7},"",""]
[null,1384,{"$nulls":7},"",""]
[null,1385,{"$nulls":7},"",""]
[null,1386,{"$nulls":7},"",""]
[null,1387,{"$nulls":7},"",""]
[null,1388,{"$nulls":7},"",""]
[null,1389,{"$nulls":7},"",""]
[null,1390,{"$nulls":7},"",""]
[null,1391,{"$nulls":7},"",""]
[null,1392,{"$nulls":7},"",""]
[null,1393,{"$nulls":7},"",""]
[null,1394,{"$nulls":7},"",""]
[null,1395,{"$nulls":7},"",""]
[null,1396,{"$nulls":7},"",""]
[null,1397,{"$nulls":7},"",""]
[null,1398,{"$nulls":7},"",""]
[null,1399,{"$nulls":7},"",""]
[null,1400,{"$nulls":7},"",""]
[null,1401,{"$nulls":7},"",""]
[null,1402,{"$nulls":7},"",""]
[null,1403,{"$nulls":7},"",""]
[null,1404,{"$nulls":7},"",""]
[null,1405,{"$nulls":7},"",""]
[null,1406,{"$nulls":7},"",""]
[null,1407,{"$nulls":7},"",""]
[null,1408,{"$nulls":7},"",""]
[null,1409,{"$nulls":7},{"$f":"IF(OR(ISBLANK(H1418)=TRUE,ISBLANK(I1418)=TRUE),\"\",H1418*I1418)","v":""},{"$f":"IF(AND(ISBLANK(G1418)=TRUE,ISTEXT(J1418)=TRUE),\"\",IF(ISBLANK(H1418)=FALSE,G1418+(H1418*I1418),IF(AND(ISBLANK(G1418)=TRUE,OR(ISBLANK(H1418)=TRUE,ISTEXT(I1418)=TRUE)),\"\",G1418+(H1418*I1418))))","v":""}]
[null,1410,{"$nulls":7},"",""]
[null,1411,{"$nulls":7},"",""]
[null,1412,{"$nulls":7},"",""]
[null,1413,{"$nulls":7},"",""]
[null,1414,{"$nulls":7},"",""]
[null,1415,{"$nulls":7},"",""]
[null,1416,{"$nulls":7},"",""]
[null,1417,{"$nulls":7},"",""]
[null,1418,{"$nulls":7},"",""]
[null,1419,{"$nulls":7},"",""]
[null,1420,{"$nulls":7},"",""]
[null,1421,{"$nulls":7},"",""]
[null,1422,{"$nulls":7},"",""]
[null,1423,{"$nulls":7},"",""]
[null,1424,{"$nulls":7},"",""]
[null,1425,{"$nulls":7},"",""]
[null,1426,{"$nulls":7},"",""]
[null,1427,{"$nulls":7},"",""]
[null,1428,{"$nulls":7},"",""]
[null,1429,{"$nulls":7},"",""]
[null,1430,{"$nulls":7},"",""]
[null,1431,{"$nulls":7},"",""]
[null,1432,{"$nulls":7},"",""]
[null,1433,{"$nulls":7},"",""]
[null,1434,{"$nulls":7},"",""]
[null,1435,{"$nulls":7},"",""]
[null,1436,{"$nulls":7},"",""]
[null,1437,{"$nulls":7},"",""]
[null,1438,{"$nulls":7},"",""]
[null,1439,{"$nulls":7},"",""]
[null,1440,{"$nulls":7},"",""]
[null,1441,{"$nulls":7},"",""]
[null,1442,{"$nulls":7},"",""]
[null,1443,{"$nulls":7},"",""]
[null,1444,{"$nulls":7},"",""]
[null,1445,{"$nulls":7},"",""]
[null,1446,{"$nulls":7},"",""]
[null,1447,{"$nulls":7},"",""]
[null,1448,{"$nulls":7},"",""]
[null,1449,{"$nulls":7},"",""]
[null,1450,{"$nulls":7},"",""]
[null,1451,{"$nulls":7},"",""]
[null,1452,{"$nulls":7},"",""]
[null,1453,{"$nulls":7},"",""]
[null,1454,{"$nulls":7},"",""]
[null,1455,{"$nulls":7},"",""]
[null,1456,{"$nulls":7},"",""]
[null,1457,{"$nulls":7},"",""]
[null,1458,{"$nulls":7},"",""]
[null,1459,{"$nulls":7},"",""]
[null,1460,{"$nulls":7},"",""]
[null,1461,{"$nulls":7},"",""]
[null,1462,{"$nulls":7},"",""]
[null,1463,{"$nulls":7},"",""]
[null,1464,{"$nulls":7},"",""]
[null,1465,{"$nulls":7},"",""]
[null,1466,{"$nulls":7},"",""]
[null,1467,{"$nulls":7},"",""]
[null,1468,{"$nulls":7},"",""]
[null,1469,{"$nulls":7},"",""]
[null,1470,{"$nulls":7},"",""]
[null,1471,{"$nulls":7},"",""]
[null,1472,{"$nulls":7},"",""]
[null,1473,{"$nulls":7},{"$f":"IF(OR(ISBLANK(H1482)=TRUE,ISBLANK(I1482)=TRUE),\"\",H1482*I1482)","v":""},{"$f":"IF(AND(ISBLANK(G1482)=TRUE,ISTEXT(J1482)=TRUE),\"\",IF(ISBLANK(H1482)=FALSE,G1482+(H1482*I1482),IF(AND(ISBLANK(G1482)=TRUE,OR(ISBLANK(H1482)=TRUE,ISTEXT(I1482)=TRUE)),\"\",G1482+(H1482*I1482))))","v":""}]
[null,1474,{"$nulls":7},"",""]
[null,1475,{"$nulls":7},"",""]
[null,1476,{"$nulls":7},"",""]
[null,1477,{"$nulls":7},"",""]
[null,1478,{"$nulls":7},"",""]
[null,1479,{"$nulls":7},"",""]
[null,1480,{"$nulls":7},"",""]
[null,1481,{"$nulls":7},"",""]
[null,1482,{"$nulls":7},"",""]
[null,1483,{"$nulls":7},"",""]
[null,1484,{"$nulls":7},"",""]
[null,1485,{"$nulls":7},"",""]
[null,1486,{"$nulls":7},"",""]
[null,1487,{"$nulls":7},"",""]
[null,1488,{"$nulls":7},"",""]
[null,1489,{"$nulls":7},"",""]
[null,1490,{"$nulls":7},"",""]
[null,1491,{"$nulls":7},"",""]
[null,1492,{"$nulls":7},"",""]
[null,1493,{"$nulls":7},"",""]
[null,1494,{"$nulls":7},"",""]
[null,1495,{"$nulls":7},"",""]
[null,1496,{"$nulls":7},"",""]
[null,1497,{"$nulls":7},"",""]
[null,1498,{"$nulls":7},"",""]
[null,1499,{"$nulls":7},"",""]
[null,1500,{"$nulls":7},"",""]
[null,1501,{"$nulls":7},"",""]
[null,1502,{"$nulls":7},"",""]
[null,1503,{"$nulls":7},"",""]
[null,1504,{"$nulls":7},"",""]
[null,1505,{"$nulls":7},"",""]
[null,1506,{"$nulls":7},"",""]
[null,1507,{"$nulls":7},"",""]
[null,1508,{"$nulls":7},"",""]
[null,1509,{"$nulls":7},"",""]
[null,1510,{"$nulls":7},"",""]
[null,1511,{"$nulls":7},"",""]
[null,1512,{"$nulls":7},"",""]
[null,1513,{"$nulls":7},"",""]
[null,1514,{"$nulls":7},"",""]
[null,1515,{"$nulls":7},"",""]
[null,1516,{"$nulls":7},"",""]
[null,1517,{"$nulls":7},"",""]
[null,1518,{"$nulls":7},"",""]
[null,1519,{"$nulls":7},"",""]
[null,1520,{"$nulls":7},"",""]
[null,1521,{"$nulls":7},"",""]
[null,1522,{"$nulls":7},"",""]
[null,1523,{"$nulls":7},"",""]
[null,1524,{"$nulls":7},"",""]
[null,1525,{"$nulls":7},"",""]
[null,1526,{"$nulls":7},"",""]
[null,1527,{"$nulls":7},"",""]
[null,1528,{"$nulls":7},"",""]
[null,1529,{"$nulls":7},"",""]
[null,1530,{"$nulls":7},"",""]
[null,1531,{"$nulls":7},"",""]
[null,1532,{"$nulls":7},"",""]
[null,1533,{"$nulls":7},"",""]
[null,1534,{"$nulls":7},"",""]
[null,1535,{"$nulls":7},"",""]
[null,1536,{"$nulls":7},"",""]
[null,1537,{"$nulls":7},{"$f":"IF(OR(ISBLANK(H1546)=TRUE,ISBLANK(I1546)=TRUE),\"\",H1546*I1546)","v":""},{"$f":"IF(AND(ISBLANK(G1546)=TRUE,ISTEXT(J1546)=TRUE),\"\",IF(ISBLANK(H1546)=FALSE,G1546+(H1546*I1546),IF(AND(ISBLANK(G1546)=TRUE,OR(ISBLANK(H1546)=TRUE,ISTEXT(I1546)=TRUE)),\"\",G1546+(H1546*I1546))))","v":""}]
[null,1538,{"$nulls":7},"",""]
[null,1539,{"$nulls":7},"",""]
[null,1540,{"$nulls":7},"",""]
[null,1541,{"$nulls":7},"",""]
[null,1542,{"$nulls":7},"",""]
[null,1543,{"$nulls":7},"",""]
[null,1544,{"$nulls":7},"",""]
[null,1545,{"$nulls":7},"",""]
[null,1546,{"$nulls":7},"",""]
[null,1547,{"$nulls":7},"",""]
[null,1548,{"$nulls":7},"",""]
[null,1549,{"$nulls":7},"",""]
[null,1550,{"$nulls":7},"",""]
[null,1551,{"$nulls":7},"",""]
[null,1552,{"$nulls":7},"",""]
[null,1553,{"$nulls":7},"",""]
[null,1554,{"$nulls":7},"",""]
[null,1555,{"$nulls":7},"",""]
[null,1556,{"$nulls":7},"",""]
[null,1557,{"$nulls":7},"",""]
[null,1558,{"$nulls":7},"",""]
[null,1559,{"$nulls":7},"",""]
[null,1560,{"$nulls":7},"",""]
[null,1561,{"$nulls":7},"",""]
[null,1562,{"$nulls":7},"",""]
[null,1563,{"$nulls":7},"",""]
[null,1564,{"$nulls":7},"",""]
[null,1565,{"$nulls":7},"",""]
[null,1566,{"$nulls":7},"",""]
[null,1567,{"$nulls":7},"",""]
[null,1568,{"$nulls":7},"",""]
[null,1569,{"$nulls":7},"",""]
[null,1570,{"$nulls":7},"",""]
[null,1571,{"$nulls":7},"",""]
[null,1572,{"$nulls":7},"",""]
[null,1573,{"$nulls":7},"",""]
[null,1574,{"$nulls":7},"",""]
[null,1575,{"$nulls":7},"",""]
[null,1576,{"$nulls":7},"",""]
[null,1577,{"$nulls":7},"",""]
[null,1578,{"$nulls":7},"",""]
[null,1579,{"$nulls":7},"",""]
[null,1580,{"$nulls":7},"",""]
[null,1581,{"$nulls":7},"",""]
[null,1582,{"$nulls":7},"",""]
[null,1583,{"$nulls":7},"",""]
[null,1584,{"$nulls":7},"",""]
[null,1585,{"$nulls":7},"",""]
[null,1586,{"$nulls":7},"",""]
[null,1587,{"$nulls":7},"",""]
[null,1588,{"$nulls":7},"",""]
[null,1589,{"$nulls":7},"",""]
[null,1590,{"$nulls":7},"",""]
[null,1591,{"$nulls":7},"",""]
[null,1592,{"$nulls":7},"",""]
[null,1593,{"$nulls":7},"",""]
[null,1594,{"$nulls":7},"",""]
[null,1595,{"$nulls":7},"",""]
[null,1596,{"$nulls":7},"",""]
[null,1597,{"$nulls":7},"",""]
[null,1598,{"$nulls":7},"",""]
[null,1599,{"$nulls":7},"",""]
[null,1600,{"$nulls":7},"",""]
[null,1601,{"$nulls":7},{"$f":"IF(OR(ISBLANK(H1610)=TRUE,ISBLANK(I1610)=TRUE),\"\",H1610*I1610)","v":""},{"$f":"IF(AND(ISBLANK(G1610)=TRUE,ISTEXT(J1610)=TRUE),\"\",IF(ISBLANK(H1610)=FALSE,G1610+(H1610*I1610),IF(AND(ISBLANK(G1610)=TRUE,OR(ISBLANK(H1610)=TRUE,ISTEXT(I1610)=TRUE)),\"\",G1610+(H1610*I1610))))","v":""}]
[null,1602,{"$nulls":7},"",""]
[null,1603,{"$nulls":7},"",""]
[null,1604,{"$nulls":7},"",""]
[null,1605,{"$nulls":7},"",""]
[null,1606,{"$nulls":7},"",""]
[null,1607,{"$nulls":7},"",""]
[null,1608,{"$nulls":7},"",""]
[null,1609,{"$nulls":7},"",""]
[null,1610,{"$nulls":7},"",""]
[null,1611,{"$nulls":7},"",""]
[null,1612,{"$nulls":7},"",""]
[null,1613,{"$nulls":7},"",""]
[null,1614,{"$nulls":7},"",""]
[null,1615,{"$nulls":7},"",""]
[null,1616,{"$nulls":7},"",""]
[null,1617,{"$nulls":7},"",""]
[null,1618,{"$nulls":7},"",""]
[null,1619,{"$nulls":7},"",""]
[null,1620,{"$nulls":7},"",""]
[null,1621,{"$nulls":7},"",""]
[null,1622,{"$nulls":7},"",""]
[null,1623,{"$nulls":7},"",""]
[null,1624,{"$nulls":7},"",""]
[null,1625,{"$nulls":7},"",""]
[null,1626,{"$nulls":7},"",""]
[null,1627,{"$nulls":7},"",""]
[null,1628,{"$nulls":7},"",""]
[null,1629,{"$nulls":7},"",""]
[null,1630,{"$nulls":7},"",""]
[null,1631,{"$nulls":7},"",""]
[null,1632,{"$nulls":7},"",""]
[null,1633,{"$nulls":7},"",""]
[null,1634,{"$nulls":7},"",""]
[null,1635,{"$nulls":7},"",""]
[null,1636,{"$nulls":7},"",""]
[null,1637,{"$nulls":7},"",""]
[null,1638,{"$nulls":7},"",""]
[null,1639,{"$nulls":7},"",""]
[null,1640,{"$nulls":7},"",""]
[null,1641,{"$nulls":7},"",""]
[null,1642,{"$nulls":7},"",""]
[null,1643,{"$nulls":7},"",""]
[null,1644,{"$nulls":7},"",""]
[null,1645,{"$nulls":7},"",""]
[null,1646,{"$nulls":7},"",""]
[null,1647,{"$nulls":7},"",""]
[null,1648,{"$nulls":7},"",""]
[null,1649,{"$nulls":7},"",""]
[null,1650,{"$nulls":7},"",""]
[null,1651,{"$nulls":7},"",""]
[null,1652,{"$nulls":7},"",""]
[null,1653,{"$nulls":7},"",""]
[null,1654,{"$nulls":7},"",""]
[null,1655,{"$nulls":7},"",""]
[null,1656,{"$nulls":7},"",""]
[null,1657,{"$nulls":7},"",""]
[null,1658,{"$nulls":7},"",""]
[null,1659,{"$nulls":7},"",""]
[null,1660,{"$nulls":7},"",""]
[null,1661,{"$nulls":7},"",""]
[null,1662,{"$nulls":7},"",""]
[null,1663,{"$nulls":7},"",""]
[null,1664,{"$nulls":7},"",""]
[null,1665,{"$nulls":7},{"$f":"IF(OR(ISBLANK(H1674)=TRUE,ISBLANK(I1674)=TRUE),\"\",H1674*I1674)","v":""},{"$f":"IF(AND(ISBLANK(G1674)=TRUE,ISTEXT(J1674)=TRUE),\"\",IF(ISBLANK(H1674)=FALSE,G1674+(H1674*I1674),IF(AND(ISBLANK(G1674)=TRUE,OR(ISBLANK(H1674)=TRUE,ISTEXT(I1674)=TRUE)),\"\",G1674+(H1674*I1674))))","v":""}]
[null,1666,{"$nulls":7},"",""]
[null,1667,{"$nulls":7},"",""]
[null,1668,{"$nulls":7},"",""]
[null,1669,{"$nulls":7},"",""]
[null,1670,{"$nulls":7},"",""]
[null,1671,{"$nulls":7},"",""]
[null,1672,{"$nulls":7},"",""]
[null,1673,{"$nulls":7},"",""]
[null,1674,{"$nulls":7},"",""]
[null,1675,{"$nulls":7},"",""]
[null,1676,{"$nulls":7},"",""]
[null,1677,{"$nulls":7},"",""]
[null,1678,{"$nulls":7},"",""]
[null,1679,{"$nulls":7},"",""]
[null,1680,{"$nulls":7},"",""]
[null,1681,{"$nulls":7},"",""]
[null,1682,{"$nulls":7},"",""]
[null,1683,{"$nulls":7},"",""]
[null,1684,{"$nulls":7},"",""]
[null,1685,{"$nulls":7},"",""]
[null,1686,{"$nulls":7},"",""]
[null,1687,{"$nulls":7},"",""]
[null,1688,{"$nulls":7},"",""]
[null,1689,{"$nulls":7},"",""]
[null,1690,{"$nulls":7},"",""]
[null,1691,{"$nulls":7},"",""]
[null,1692,{"$nulls":7},"",""]
[null,1693,{"$nulls":7},"",""]
[null,1694,{"$nulls":7},"",""]
[null,1695,{"$nulls":7},"",""]
[null,1696,{"$nulls":7},"",""]
[null,1697,{"$nulls":7},"",""]
[null,1698,{"$nulls":7},"",""]
[null,1699,{"$nulls":7},"",""]
[null,1700,{"$nulls":7},"",""]
[null,1701,{"$nulls":7},"",""]
[null,1702,{"$nulls":7},"",""]
[null,1703,{"$nulls":7},"",""]
[null,1704,{"$nulls":7},"",""]
[null,1705,{"$nulls":7},"",""]
[null,1706,{"$nulls":7},"",""]
[null,1707,{"$nulls":7},"",""]
[null,1708,{"$nulls":7},"",""]
[null,1709,{"$nulls":7},"",""]
[null,1710,{"$nulls":7},"",""]
[null,1711,{"$nulls":7},"",""]
[null,1712,{"$nulls":7},"",""]
[null,1713,{"$nulls":7},"",""]
[null,1714,{"$nulls":7},"",""]
[null,1715,{"$nulls":7},"",""]
[null,1716,{"$nulls":7},"",""]
[null,1717,{"$nulls":7},"",""]
[null,1718,{"$nulls":7},"",""]
[null,1719,{"$nulls":7},"",""]
[null,1720,{"$nulls":7},"",""]
[null,1721,{"$nulls":7},"",""]
[null,1722,{"$nulls":7},"",""]
[null,1723,{"$nulls":7},"",""]
[null,1724,{"$nulls":7},"",""]
[null,1725,{"$nulls":7},"",""]
[null,1726,{"$nulls":7},"",""]
[null,1727,{"$nulls":7},"",""]
[null,1728,{"$nulls":7},"",""]
[null,1729,{"$nulls":7},{"$f":"IF(OR(ISBLANK(H1738)=TRUE,ISBLANK(I1738)=TRUE),\"\",H1738*I1738)","v":""},{"$f":"IF(AND(ISBLANK(G1738)=TRUE,ISTEXT(J1738)=TRUE),\"\",IF(ISBLANK(H1738)=FALSE,G1738+(H1738*I1738),IF(AND(ISBLANK(G1738)=TRUE,OR(ISBLANK(H1738)=TRUE,ISTEXT(I1738)=TRUE)),\"\",G1738+(H1738*I1738))))","v":""}]
[null,1730,{"$nulls":7},"",""]
[null,1731,{"$nulls":7},"",""]
[null,1732,{"$nulls":7},"",""]
[null,1733,{"$nulls":7},"",""]
[null,1734,{"$nulls":7},"",""]
[null,1735,{"$nulls":7},"",""]
[null,1736,{"$nulls":7},"",""]
[null,1737,{"$nulls":7},"",""]
[null,1738,{"$nulls":7},"",""]
[null,1739,{"$nulls":7},"",""]
[null,1740,{"$nulls":7},"",""]
[null,1741,{"$nulls":7},"",""]
[null,1742,{"$nulls":7},"",""]
[null,1743,{"$nulls":7},"",""]
[null,1744,{"$nulls":7},"",""]
[null,1745,{"$nulls":7},"",""]
[null,1746,{"$nulls":7},"",""]
[null,1747,{"$nulls":7},"",""]
[null,1748,{"$nulls":7},"",""]
[null,1749,{"$nulls":7},"",""]
[null,1750,{"$nulls":7},"",""]
[null,1751,{"$nulls":7},"",""]
[null,1752,{"$nulls":7},"",""]
[null,1753,{"$nulls":7},"",""]
[null,1754,{"$nulls":7},"",""]
[null,1755,{"$nulls":7},"",""]
[null,1756,{"$nulls":7},"",""]
[null,1757,{"$nulls":7},"",""]
[null,1758,{"$nulls":7},"",""]
[null,1759,{"$nulls":7},"",""]
[null,1760,{"$nulls":7},"",""]
[null,1761,{"$nulls":7},"",""]
[null,1762,{"$nulls":7},"",""]
[null,1763,{"$nulls":7},"",""]
[null,1764,{"$nulls":7},"",""]
[null,1765,{"$nulls":7},"",""]
[null,1766,{"$nulls":7},"",""]
[null,1767,{"$nulls":7},"",""]
[null,1768,{"$nulls":7},"",""]
[null,1769,{"$nulls":7},"",""]
[null,1770,{"$nulls":7},"",""]
[null,1771,{"$nulls":7},"",""]
[null,1772,{"$nulls":7},"",""]
[null,1773,{"$nulls":7},"",""]
[null,1774,{"$nulls":7},"",""]
[null,1775,{"$nulls":7},"",""]
[null,1776,{"$nulls":7},"",""]
[null,1777,{"$nulls":7},"",""]
[null,1778,{"$nulls":7},"",""]
[null,1779,{"$nulls":7},"",""]
[null,1780,{"$nulls":7},"",""]
[null,1781,{"$nulls":7},"",""]
[null,1782,{"$nulls":7},"",""]
[null,1783,{"$nulls":7},"",""]
[null,1784,{"$nulls":7},"",""]
[null,1785,{"$nulls":7},"",""]
[null,1786,{"$nulls":7},"",""]
[null,1787,{"$nulls":7},"",""]
[null,1788,{"$nulls":7},"",""]
[null,1789,{"$nulls":7},"",""]
[null,1790,{"$nulls":7},"",""]
[null,1791,{"$nulls":7},"",""]
[null,1792,{"$nulls":7},"",""]
[null,1793,{"$nulls":7},{"$f":"IF(OR(ISBLANK(H1802)=TRUE,ISBLANK(I1802)=TRUE),\"\",H1802*I1802)","v":""},{"$f":"IF(AND(ISBLANK(G1802)=TRUE,ISTEXT(J1802)=TRUE),\"\",IF(ISBLANK(H1802)=FALSE,G1802+(H1802*I1802),IF(AND(ISBLANK(G1802)=TRUE,OR(ISBLANK(H1802)=TRUE,ISTEXT(I1802)=TRUE)),\"\",G1802+(H1802*I1802))))","v":""}]
[null,1794,{"$nulls":7},"",""]
[null,1795,{"$nulls":7},"",""]
[null,1796,{"$nulls":7},"",""]
[null,1797,{"$nulls":7},"",""]
[null,1798,{"$nulls":7},"",""]
[null,1799,{"$nulls":7},"",""]
[null,1800,{"$nulls":7},"",""]
[null,1801,{"$nulls":7},"",""]
[null,1802,{"$nulls":7},"",""]
[null,1803,{"$nulls":7},"",""]
[null,1804,{"$nulls":7},"",""]
[null,1805,{"$nulls":7},"",""]
[null,1806,{"$nulls":7},"",""]
[null,1807,{"$nulls":7},"",""]
[null,1808,{"$nulls":7},"",""]
[null,1809,{"$nulls":7},"",""]
[null,1810,{"$nulls":7},"",""]
[null,1811,{"$nulls":7},"",""]
[null,1812,{"$nulls":7},"",""]
[null,1813,{"$nulls":7},"",""]
[null,1814,{"$nulls":7},"",""]
[null,1815,{"$nulls":7},"",""]
[null,1816,{"$nulls":7},"",""]
[null,1817,{"$nulls":7},"",""]
[null,1818,{"$nulls":7},"",""]
[null,1819,{"$nulls":7},"",""]
[null,1820,{"$nulls":7},"",""]
[null,1821,{"$nulls":7},"",""]
[null,1822,{"$nulls":7},"",""]
[null,1823,{"$nulls":7},"",""]
[null,1824,{"$nulls":7},"",""]
[null,1825,{"$nulls":7},"",""]
[null,1826,{"$nulls":7},"",""]
[null,1827,{"$nulls":7},"",""]
[null,1828,{"$nulls":7},"",""]
[null,1829,{"$nulls":7},"",""]
[null,1830,{"$nulls":7},"",""]
[null,1831,{"$nulls":7},"",""]
[null,1832,{"$nulls":7},"",""]
[null,1833,{"$nulls":7},"",""]
[null,1834,{"$nulls":7},"",""]
[null,1835,{"$nulls":7},"",""]
[null,1836,{"$nulls":7},"",""]
[null,1837,{"$nulls":7},"",""]
[null,1838,{"$nulls":7},"",""]
[null,1839,{"$nulls":7},"",""]
[null,1840,{"$nulls":7},"",""]
[null,1841,{"$nulls":7},"",""]
[null,1842,{"$nulls":7},"",""]
[null,1843,{"$nulls":7},"",""]
[null,1844,{"$nulls":7},"",""]
[null,1845,{"$nulls":7},"",""]
[null,1846,{"$nulls":7},"",""]
[null,1847,{"$nulls":7},"",""]
[null,1848,{"$nulls":7},"",""]
[null,1849,{"$nulls":7},"",""]
[null,1850,{"$nulls":7},"",""]
[null,1851,{"$nulls":7},"",""]
[null,1852,{"$nulls":7},"",""]
[null,1853,{"$nulls":7},"",""]
[null,1854,{"$nulls":7},"",""]
[null,1855,{"$nulls":7},"",""]
[null,1856,{"$nulls":7},"",""]
[null,1857,{"$nulls":7},{"$f":"IF(OR(ISBLANK(H1866)=TRUE,ISBLANK(I1866)=TRUE),\"\",H1866*I1866)","v":""},{"$f":"IF(AND(ISBLANK(G1866)=TRUE,ISTEXT(J1866)=TRUE),\"\",IF(ISBLANK(H1866)=FALSE,G1866+(H1866*I1866),IF(AND(ISBLANK(G1866)=TRUE,OR(ISBLANK(H1866)=TRUE,ISTEXT(I1866)=TRUE)),\"\",G1866+(H1866*I1866))))","v":""}]
[null,1858,{"$nulls":7},"",""]
[null,1859,{"$nulls":7},"",""]
[null,1860,{"$nulls":7},"",""]
[null,1861,{"$nulls":7},"",""]
[null,1862,{"$nulls":7},"",""]
[null,1863,{"$nulls":7},"",""]
[null,1864,{"$nulls":7},"",""]
[null,1865,{"$nulls":7},"",""]
[null,1866,{"$nulls":7},"",""]
[null,1867,{"$nulls":7},"",""]
[null,1868,{"$nulls":7},"",""]
[null,1869,{"$nulls":7},"",""]
[null,1870,{"$nulls":7},"",""]
[null,1871,{"$nulls":7},"",""]
[null,1872,{"$nulls":7},"",""]
[null,1873,{"$nulls":7},"",""]
[null,1874,{"$nulls":7},"",""]
[null,1875,{"$nulls":7},"",""]
[null,1876,{"$nulls":7},"",""]
[null,1877,{"$nulls":7},"",""]
[null,1878,{"$nulls":7},"",""]
[null,1879,{"$nulls":7},"",""]
[null,1880,{"$nulls":7},"",""]
[null,1881,{"$nulls":7},"",""]
[null,1882,{"$nulls":7},"",""]
[null,1883,{"$nulls":7},"",""]
[null,1884,{"$nulls":7},"",""]
[null,1885,{"$nulls":7},"",""]
[null,1886,{"$nulls":7},"",""]
[null,1887,{"$nulls":7},"",""]
[null,1888,{"$nulls":7},"",""]
[null,1889,{"$nulls":7},"",""]
[null,1890,{"$nulls":7},"",""]
[null,1891,{"$nulls":7},"",""]
[null,1892,{"$nulls":7},"",""]
[null,1893,{"$nulls":7},"",""]
[null,1894,{"$nulls":7},"",""]
[null,1895,{"$nulls":7},"",""]
[null,1896,{"$nulls":7},"",""]
[null,1897,{"$nulls":7},"",""]
[null,1898,{"$nulls":7},"",""]
[null,1899,{"$nulls":7},"",""]
[null,1900,{"$nulls":7},"",""]
[null,1901,{"$nulls":7},"",""]
[null,1902,{"$nulls":7},"",""]
[null,1903,{"$nulls":7},"",""]
[null,1904,{"$nulls":7},"",""]
[null,1905,{"$nulls":7},"",""]
[null,1906,{"$nulls":7},"",""]
[null,1907,{"$nulls":7},"",""]
[null,1908,{"$nulls":7},"",""]
[null,1909,{"$nulls":7},"",""]
[null,1910,{"$nulls":7},"",""]
[null,1911,{"$nulls":7},"",""]
[null,1912,{"$nulls":7},"",""]
[null,1913,{"$nulls":7},"",""]
[null,1914,{"$nulls":7},"",""]
[null,1915,{"$nulls":7},"",""]
[null,1916,{"$nulls":7},"",""]
[null,1917,{"$nulls":7},"",""]
[null,1918,{"$nulls":7},"",""]
[null,1919,{"$nulls":7},"",""]
[null,1920,{"$nulls":7},"",""]
[null,1921,{"$nulls":7},{"$f":"IF(OR(ISBLANK(H1930)=TRUE,ISBLANK(I1930)=TRUE),\"\",H1930*I1930)","v":""},{"$f":"IF(AND(ISBLANK(G1930)=TRUE,ISTEXT(J1930)=TRUE),\"\",IF(ISBLANK(H1930)=FALSE,G1930+(H1930*I1930),IF(AND(ISBLANK(G1930)=TRUE,OR(ISBLANK(H1930)=TRUE,ISTEXT(I1930)=TRUE)),\"\",G1930+(H1930*I1930))))","v":""}]
[null,1922,{"$nulls":7},"",""]
[null,1923,{"$nulls":7},"",""]
[null,1924,{"$nulls":7},"",""]
[null,1925,{"$nulls":7},"",""]
[null,1926,{"$nulls":7},"",""]
[null,1927,{"$nulls":7},"",""]
[null,1928,{"$nulls":7},"",""]
[null,1929,{"$nulls":7},"",""]
[null,1930,{"$nulls":7},"",""]
[null,1931,{"$nulls":7},"",""]
[null,1932,{"$nulls":7},"",""]
[null,1933,{"$nulls":7},"",""]
[null,1934,{"$nulls":7},"",""]
[null,1935,{"$nulls":7},"",""]
[null,1936,{"$nulls":7},"",""]
[null,1937,{"$nulls":7},"",""]
[null,1938,{"$nulls":7},"",""]
[null,1939,{"$nulls":7},"",""]
[null,1940,{"$nulls":7},"",""]
[null,1941,{"$nulls":7},"",""]
[null,1942,{"$nulls":7},"",""]
[null,1943,{"$nulls":7},"",""]
[null,1944,{"$nulls":7},"",""]
[null,1945,{"$nulls":7},"",""]
[null,1946,{"$nulls":7},"",""]
[null,1947,{"$nulls":7},"",""]
[null,1948,{"$nulls":7},"",""]
[null,1949,{"$nulls":7},"",""]
[null,1950,{"$nulls":7},"",""]
[null,1951,{"$nulls":7},"",""]
[null,1952,{"$nulls":7},"",""]
[null,1953,{"$nulls":7},"",""]
[null,1954,{"$nulls":7},"",""]
[null,1955,{"$nulls":7},"",""]
[null,1956,{"$nulls":7},"",""]
[null,1957,{"$nulls":7},"",""]
[null,1958,{"$nulls":7},"",""]
[null,1959,{"$nulls":7},"",""]
[null,1960,{"$nulls":7},"",""]
[null,1961,{"$nulls":7},"",""]
[null,1962,{"$nulls":7},"",""]
[null,1963,{"$nulls":7},"",""]
[null,1964,{"$nulls":7},"",""]
[null,1965,{"$nulls":7},"",""]
[null,1966,{"$nulls":7},"",""]
[null,1967,{"$nulls":7},"",""]
[null,1968,{"$nulls":7},"",""]
[null,1969,{"$nulls":7},"",""]
[null,1970,{"$nulls":7},"",""]
[null,1971,{"$nulls":7},"",""]
[null,1972,{"$nulls":7},"",""]
[null,1973,{"$nulls":7},"",""]
[null,1974,{"$nulls":7},"",""]
[null,1975,{"$nulls":7},"",""]
[null,1976,{"$nulls":7},"",""]
[null,1977,{"$nulls":7},"",""]
[null,1978,{"$nulls":7},"",""]
[null,1979,{"$nulls":7},"",""]
[null,1980,{"$nulls":7},"",""]
[null,1981,{"$nulls":7},"",""]
[null,1982,{"$nulls":7},"",""]
[null,1983,{"$nulls":7},"",""]
[null,1984,{"$nulls":7},"",""]
[null,1985,{"$nulls":7},{"$f":"IF(OR(ISBLANK(H1994)=TRUE,ISBLANK(I1994)=TRUE),\"\",H1994*I1994)","v":""},{"$f":"IF(AND(ISBLANK(G1994)=TRUE,ISTEXT(J1994)=TRUE),\"\",IF(ISBLANK(H1994)=FALSE,G1994+(H1994*I1994),IF(AND(ISBLANK(G1994)=TRUE,OR(ISBLANK(H1994)=TRUE,ISTEXT(I1994)=TRUE)),\"\",G1994+(H1994*I1994))))","v":""}]
[null,1986,{"$nulls":7},"",""]
[null,1987,{"$nulls":7},"",""]
[null,1988,{"$nulls":7},"",""]
[null,1989,{"$nulls":7},"",""]
[null,1990,{"$nulls":7},"",""]
[null,1991,{"$nulls":7},"",""]
[null,1992,{"$nulls":7},"",""]
[null,1993,{"$nulls":7},"",""]
[null,1994,{"$nulls":7},"",""]
[null,1995,{"$nulls":7},"",""]
[null,1996,{"$nulls":7},"",""]
[null,1997,{"$nulls":7},"",""]
[null,1998,{"$nulls":7},"",""]
[null,1999,{"$nulls":7},"",""]
[null,2000,{"$nulls":7},"",""]
[null,2001,{"$nulls":7},"",""]
[null,2002,{"$nulls":7},"",""]
[null,2003,{"$nulls":7},"",""]
[null,2004,{"$nulls":7},"",""]
[null,2005,{"$nulls":7},"",""]
[null,2006,{"$nulls":7},"",""]
[null,2007,{"$nulls":7},"",""]
[null,2008,{"$nulls":7},"",""]
[null,2009,{"$nulls":7},"",""]
[null,2010,{"$nulls":7},"",""]
[null,2011,{"$nulls":7},"",""]
[null,2012,{"$nulls":7},"",""]
[null,2013,{"$nulls":7},"",""]
[null,2014,{"$nulls":7},"",""]
[null,2015,{"$nulls":7},"",""]
[null,2016,{"$nulls":7},"",""]
[null,2017,{"$nulls":7},"",""]
[null,2018,{"$nulls":7},"",""]
[null,2019,{"$nulls":7},"",""]
[null,2020,{"$nulls":7},"",""]
[null,2021,{"$nulls":7},"",""]
[null,2022,{"$nulls":7},"",""]
[null,2023,{"$nulls":7},"",""]
[null,2024,{"$nulls":7},"",""]
[null,2025,{"$nulls":7},"",""]
[null,2026,{"$nulls":7},"",""]
[null,2027,{"$nulls":7},"",""]
[null,2028,{"$nulls":7},"",""]
[null,2029,{"$nulls":7},"",""]
[null,2030,{"$nulls":7},"",""]
[null,2031,{"$nulls":7},"",""]
[null,2032,{"$nulls":7},"",""]
[null,2033,{"$nulls":7},"",""]
[null,2034,{"$nulls":7},"",""]
[null,2035,{"$nulls":7},"",""]
[null,2036,{"$nulls":7},"",""]
[null,2037,{"$nulls":7},"",""]
[null,2038,{"$nulls":7},"",""]
[null,2039,{"$nulls":7},"",""]
[null,2040,{"$nulls":7},"",""]
[null,2041,{"$nulls":7},"",""]
[null,2042,{"$nulls":7},"",""]
[null,2043,{"$nulls":7},"",""]
[null,2044,{"$nulls":7},"",""]
[null,2045,{"$nulls":7},"",""]
[null,2046,{"$nulls":7},"",""]
[null,2047,{"$nulls":7},"",""]
[null,2048,{"$nulls":7},"",""]
[null,2049,{"$nulls":7},{"$f":"IF(OR(ISBLANK(H2058)=TRUE,ISBLANK(I2058)=TRUE),\"\",H2058*I2058)","v":""},{"$f":"IF(AND(ISBLANK(G2058)=TRUE,ISTEXT(J2058)=TRUE),\"\",IF(ISBLANK(H2058)=FALSE,G2058+(H2058*I2058),IF(AND(ISBLANK(G2058)=TRUE,OR(ISBLANK(H2058)=TRUE,ISTEXT(I2058)=TRUE)),\"\",G2058+(H2058*I2058))))","v":""}]
[null,2050,{"$nulls":7},"",""]
[null,2051,{"$nulls":7},"",""]
[null,2052,{"$nulls":7},"",""]
[null,2053,{"$nulls":7},"",""]
[null,2054,{"$nulls":7},"",""]
[null,2055,{"$nulls":7},"",""]
[null,2056,{"$nulls":7},"",""]
[null,2057,{"$nulls":7},"",""]
[null,2058,{"$nulls":7},"",""]
[null,2059,{"$nulls":7},"",""]
[null,2060,{"$nulls":7},"",""]
[null,2061,{"$nulls":7},"",""]
[null,2062,{"$nulls":7},"",""]
[null,2063,{"$nulls":7},"",""]
[null,2064,{"$nulls":7},"",""]
[null,2065,{"$nulls":7},"",""]
[null,2066,{"$nulls":7},"",""]
[null,2067,{"$nulls":7},"",""]
[null,2068,{"$nulls":7},"",""]
[null,2069,{"$nulls":7},"",""]
[null,2070,{"$nulls":7},"",""]
[null,2071,{"$nulls":7},"",""]
[null,2072,{"$nulls":7},"",""]
[null,2073,{"$nulls":7},"",""]
[null,2074,{"$nulls":7},"",""]
[null,2075,{"$nulls":7},"",""]
[null,2076,{"$nulls":7},"",""]
[null,2077,{"$nulls":7},"",""]
[null,2078,{"$nulls":7},"",""]
[null,2079,{"$nulls":7},"",""]
[null,2080,{"$nulls":7},"",""]
[null,2081,{"$nulls":7},"",""]
[null,2082,{"$nulls":7},"",""]
[null,2083,{"$nulls":7},"",""]
[null,2084,{"$nulls":7},"",""]
[null,2085,{"$nulls":7},"",""]
[null,2086,{"$nulls":7},"",""]
[null,2087,{"$nulls":7},"",""]
[null,2088,{"$nulls":7},"",""]
[null,2089,{"$nulls":7},"",""]
[null,2090,{"$nulls":7},"",""]
[null,2091,{"$nulls":7},"",""]
[null,2092,{"$nulls":7},"",""]
[null,2093,{"$nulls":7},"",""]
[null,2094,{"$nulls":7},"",""]
[null,2095,{"$nulls":7},"",""]
[null,2096,{"$nulls":7},"",""]
[null,2097,{"$nulls":7},"",""]
[null,2098,{"$nulls":7},"",""]
[null,2099,{"$nulls":7},"",""]
[null,2100,{"$nulls":7},"",""]
[null,2101,{"$nulls":7},"",""]
[null,2102,{"$nulls":7},"",""]
[null,2103,{"$nulls":7},"",""]
[null,2104,{"$nulls":7},"",""]
[null,2105,{"$nulls":7},"",""]
[null,2106,{"$nulls":7},"",""]
[null,2107,{"$nulls":7},"",""]
[null,2108,{"$nulls":7},"",""]
[null,2109,{"$nulls":7},"",""]
[null,2110,{"$nulls":7},"",""]
[null,2111,{"$nulls":7},"",""]
[null,2112,{"$nulls":7},"",""]
[null,2113,{"$nulls":7},{"$f":"IF(OR(ISBLANK(H2122)=TRUE,ISBLANK(I2122)=TRUE),\"\",H2122*I2122)","v":""},{"$f":"IF(AND(ISBLANK(G2122)=TRUE,ISTEXT(J2122)=TRUE),\"\",IF(ISBLANK(H2122)=FALSE,G2122+(H2122*I2122),IF(AND(ISBLANK(G2122)=TRUE,OR(ISBLANK(H2122)=TRUE,ISTEXT(I2122)=TRUE)),\"\",G2122+(H2122*I2122))))","v":""}]
[null,2114,{"$nulls":7},"",""]
[null,2115,{"$nulls":7},"",""]
[null,2116,{"$nulls":7},"",""]
[null,2117,{"$nulls":7},"",""]
[null,2118,{"$nulls":7},"",""]
[null,2119,{"$nulls":7},"",""]
[null,2120,{"$nulls":7},"",""]
[null,2121,{"$nulls":7},"",""]
[null,2122,{"$nulls":7},"",""]
[null,2123,{"$nulls":7},"",""]
[null,2124,{"$nulls":7},"",""]
[null,2125,{"$nulls":7},"",""]
[null,2126,{"$nulls":7},"",""]
[null,2127,{"$nulls":7},"",""]
[null,2128,{"$nulls":7},"",""]
[null,2129,{"$nulls":7},"",""]
[null,2130,{"$nulls":7},"",""]
[null,2131,{"$nulls":7},"",""]
[null,2132,{"$nulls":7},"",""]
[null,2133,{"$nulls":7},"",""]
[null,2134,{"$nulls":7},"",""]
[null,2135,{"$nulls":7},"",""]
[null,2136,{"$nulls":7},"",""]
[null,2137,{"$nulls":7},"",""]
[null,2138,{"$nulls":7},"",""]
[null,2139,{"$nulls":7},"",""]
[null,2140,{"$nulls":7},"",""]
[null,2141,{"$nulls":7},"",""]
[null,2142,{"$nulls":7},"",""]
[null,2143,{"$nulls":7},"",""]
[null,2144,{"$nulls":7},"",""]
[null,2145,{"$nulls":7},"",""]
[null,2146,{"$nulls":7},"",""]
[null,2147,{"$nulls":7},"",""]
[null,2148,{"$nulls":7},"",""]
[null,2149,{"$nulls":7},"",""]
[null,2150,{"$nulls":7},"",""]
[null,2151,{"$nulls":7},"",""]
[null,2152,{"$nulls":7},"",""]
[null,2153,{"$nulls":7},"",""]
[null,2154,{"$nulls":7},"",""]
[null,2155,{"$nulls":7},"",""]
[null,2156,{"$nulls":7},"",""]
[null,2157,{"$nulls":7},"",""]
[null,2158,{"$nulls":7},"",""]
[null,2159,{"$nulls":7},"",""]
[null,2160,{"$nulls":7},"",""]
[null,2161,{"$nulls":7},"",""]
[null,2162,{"$nulls":7},"",""]
[null,2163,{"$nulls":7},"",""]
[null,2164,{"$nulls":7},"",""]
[null,2165,{"$nulls":7},"",""]
[null,2166,{"$nulls":7},"",""]
[null,2167,{"$nulls":7},"",""]
[null,2168,{"$nulls":7},"",""]
[null,2169,{"$nulls":7},"",""]
[null,2170,{"$nulls":7},"",""]
[null,2171,{"$nulls":7},"",""]
[null,2172,{"$nulls":7},"",""]
[null,2173,{"$nulls":7},"",""]
[null,2174,{"$nulls":7},"",""]
[null,2175,{"$nulls":7},"",""]
[null,2176,{"$nulls":7},"",""]
[null,2177,{"$nulls":7},{"$f":"IF(OR(ISBLANK(H2186)=TRUE,ISBLANK(I2186)=TRUE),\"\",H2186*I2186)","v":""},{"$f":"IF(AND(ISBLANK(G2186)=TRUE,ISTEXT(J2186)=TRUE),\"\",IF(ISBLANK(H2186)=FALSE,G2186+(H2186*I2186),IF(AND(ISBLANK(G2186)=TRUE,OR(ISBLANK(H2186)=TRUE,ISTEXT(I2186)=TRUE)),\"\",G2186+(H2186*I2186))))","v":""}]
[null,2178,{"$nulls":7},"",""]
[null,2179,{"$nulls":7},"",""]
[null,2180,{"$nulls":7},"",""]
[null,2181,{"$nulls":7},"",""]
[null,2182,{"$nulls":7},"",""]
[null,2183,{"$nulls":7},"",""]
[null,2184,{"$nulls":7},"",""]
[null,2185,{"$nulls":7},"",""]
[null,2186,{"$nulls":7},"",""]
[null,2187,{"$nulls":7},"",""]
[null,2188,{"$nulls":7},"",""]
[null,2189,{"$nulls":7},"",""]
[null,2190,{"$nulls":7},"",""]
[null,2191,{"$nulls":7},"",""]
[null,2192,{"$nulls":7},"",""]
[null,2193,{"$nulls":7},"",""]
[null,2194,{"$nulls":7},"",""]
[null,2195,{"$nulls":7},"",""]
[null,2196,{"$nulls":7},"",""]
[null,2197,{"$nulls":7},"",""]
[null,2198,{"$nulls":7},"",""]
[null,2199,{"$nulls":7},"",""]
[null,2200,{"$nulls":7},"",""]
[null,2201,{"$nulls":7},"",""]
[null,2202,{"$nulls":7},"",""]
[null,2203,{"$nulls":7},"",""]
[null,2204,{"$nulls":7},"",""]
[null,2205,{"$nulls":7},"",""]
[null,2206,{"$nulls":7},"",""]
[null,2207,{"$nulls":7},"",""]
[null,2208,{"$nulls":7},"",""]
[null,2209,{"$nulls":7},"",""]
[null,2210,{"$nulls":7},"",""]
[null,2211,{"$nulls":7},"",""]
[null,2212,{"$nulls":7},"",""]
[null,2213,{"$nulls":7},"",""]
[null,2214,{"$nulls":7},"",""]
[null,2215,{"$nulls":7},"",""]
[null,2216,{"$nulls":7},"",""]
[null,2217,{"$nulls":7},"",""]
[null,2218,{"$nulls":7},"",""]
[null,2219,{"$nulls":7},"",""]
[null,2220,{"$nulls":7},"",""]
[null,2221,{"$nulls":7},"",""]
[null,2222,{"$nulls":7},"",""]
[null,2223,{"$nulls":7},"",""]
[null,2224,{"$nulls":7},"",""]
[null,2225,{"$nulls":7},"",""]
[null,2226,{"$nulls":7},"",""]
[null,2227,{"$nulls":7},"",""]
[null,2228,{"$nulls":7},"",""]
[null,2229,{"$nulls":7},"",""]
[null,2230,{"$nulls":7},"",""]
[null,2231,{"$nulls":7},"",""]
[null,2232,{"$nulls":7},"",""]
[null,2233,{"$nulls":7},"",""]
[null,2234,{"$nulls":7},"",""]
[null,2235,{"$nulls":7},"",""]
[null,2236,{"$nulls":7},"",""]
[null,2237,{"$nulls":7},"",""]
[null,2238,{"$nulls":7},"",""]
[null,2239,{"$nulls":7},"",""]
[null,2240,{"$nulls":7},"",""]
[null,2241,{"$nulls":7},{"$f":"IF(OR(ISBLANK(H2250)=TRUE,ISBLANK(I2250)=TRUE),\"\",H2250*I2250)","v":""},{"$f":"IF(AND(ISBLANK(G2250)=TRUE,ISTEXT(J2250)=TRUE),\"\",IF(ISBLANK(H2250)=FALSE,G2250+(H2250*I2250),IF(AND(ISBLANK(G2250)=TRUE,OR(ISBLANK(H2250)=TRUE,ISTEXT(I2250)=TRUE)),\"\",G2250+(H2250*I2250))))","v":""}]
[null,2242,{"$nulls":7},"",""]
[null,2243,{"$nulls":7},"",""]
[null,2244,{"$nulls":7},"",""]
[null,2245,{"$nulls":7},"",""]
[null,2246,{"$nulls":7},"",""]
[null,2247,{"$nulls":7},"",""]
[null,2248,{"$nulls":7},"",""]
[null,2249,{"$nulls":7},"",""]
[null,2250,{"$nulls":7},"",""]
[null,2251,{"$nulls":7},"",""]
[null,2252,{"$nulls":7},"",""]
[null,2253,{"$nulls":7},"",""]
[null,2254,{"$nulls":7},"",""]
[null,2255,{"$nulls":7},"",""]
[null,2256,{"$nulls":7},"",""]
[null,2257,{"$nulls":7},"",""]
[null,2258,{"$nulls":7},"",""]
[null,2259,{"$nulls":7},"",""]
[null,2260,{"$nulls":7},"",""]
[null,2261,{"$nulls":7},"",""]
[null,2262,{"$nulls":7},"",""]
[null,2263,{"$nulls":7},"",""]
[null,2264,{"$nulls":7},"",""]
[null,2265,{"$nulls":7},"",""]
[null,2266,{"$nulls":7},"",""]
[null,2267,{"$nulls":7},"",""]
[null,2268,{"$nulls":7},"",""]
[null,2269,{"$nulls":7},"",""]
[null,2270,{"$nulls":7},"",""]
[null,2271,{"$nulls":7},"",""]
[null,2272,{"$nulls":7},"",""]
[null,2273,{"$nulls":7},"",""]
[null,2274,{"$nulls":7},"",""]
[null,2275,{"$nulls":7},"",""]
[null,2276,{"$nulls":7},"",""]
[null,2277,{"$nulls":7},"",""]
[null,2278,{"$nulls":7},"",""]
[null,2279,{"$nulls":7},"",""]
[null,2280,{"$nulls":7},"",""]
[null,2281,{"$nulls":7},"",""]
[null,2282,{"$nulls":7},"",""]
[null,2283,{"$nulls":7},"",""]
[null,2284,{"$nulls":7},"",""]
[null,2285,{"$nulls":7},"",""]
[null,2286,{"$nulls":7},"",""]
[null,2287,{"$nulls":7},"",""]
[null,2288,{"$nulls":7},"",""]
[null,2289,{"$nulls":7},"",""]
[null,2290,{"$nulls":7},"",""]
[null,2291,{"$nulls":7},"",""]
[null,2292,{"$nulls":7},"",""]
[null,2293,{"$nulls":7},"",""]
[null,2294,{"$nulls":7},"",""]
[null,2295,{"$nulls":7},"",""]
[null,2296,{"$nulls":7},"",""]
[null,2297,{"$nulls":7},"",""]
[null,2298,{"$nulls":7},"",""]
[null,2299,{"$nulls":7},"",""]
[null,2300,{"$nulls":7},"",""]
[null,2301,{"$nulls":7},"",""]
[null,2302,{"$nulls":7},"",""]
[null,2303,{"$nulls":7},"",""]
[null,2304,{"$nulls":7},"",""]
[null,2305,{"$nulls":7},{"$f":"IF(OR(ISBLANK(H2314)=TRUE,ISBLANK(I2314)=TRUE),\"\",H2314*I2314)","v":""},{"$f":"IF(AND(ISBLANK(G2314)=TRUE,ISTEXT(J2314)=TRUE),\"\",IF(ISBLANK(H2314)=FALSE,G2314+(H2314*I2314),IF(AND(ISBLANK(G2314)=TRUE,OR(ISBLANK(H2314)=TRUE,ISTEXT(I2314)=TRUE)),\"\",G2314+(H2314*I2314))))","v":""}]
[null,2306,{"$nulls":7},"",""]
[null,2307,{"$nulls":7},"",""]
[null,2308,{"$nulls":7},"",""]
[null,2309,{"$nulls":7},"",""]
[null,2310,{"$nulls":7},"",""]
[null,2311,{"$nulls":7},"",""]
[null,2312,{"$nulls":7},"",""]
[null,2313,{"$nulls":7},"",""]
[null,2314,{"$nulls":7},"",""]
[null,2315,{"$nulls":7},"",""]
[null,2316,{"$nulls":7},"",""]
[null,2317,{"$nulls":7},"",""]
[null,2318,{"$nulls":7},"",""]
[null,2319,{"$nulls":7},"",""]
[null,2320,{"$nulls":7},"",""]
[null,2321,{"$nulls":7},"",""]
[null,2322,{"$nulls":7},"",""]
[null,2323,{"$nulls":7},"",""]
[null,2324,{"$nulls":7},"",""]
[null,2325,{"$nulls":7},"",""]
[null,2326,{"$nulls":7},"",""]
[null,2327,{"$nulls":7},"",""]
[null,2328,{"$nulls":7},"",""]
[null,2329,{"$nulls":7},"",""]
[null,2330,{"$nulls":7},"",""]
[null,2331,{"$nulls":7},"",""]
[null,2332,{"$nulls":7},"",""]
[null,2333,{"$nulls":7},"",""]
[null,2334,{"$nulls":7},"",""]
[null,2335,{"$nulls":7},"",""]
[null,2336,{"$nulls":7},"",""]
[null,2337,{"$nulls":7},"",""]
[null,2338,{"$nulls":7},"",""]
[null,2339,{"$nulls":7},"",""]
[null,2340,{"$nulls":7},"",""]
[null,2341,{"$nulls":7},"",""]
[null,2342,{"$nulls":7},"",""]
[null,2343,{"$nulls":7},"",""]
[null,2344,{"$nulls":7},"",""]
[null,2345,{"$nulls":7},"",""]
[null,2346,{"$nulls":7},"",""]
[null,2347,{"$nulls":7},"",""]
[null,2348,{"$nulls":7},"",""]
[null,2349,{"$nulls":7},"",""]
[null,2350,{"$nulls":7},"",""]
[null,2351,{"$nulls":7},"",""]
[null,2352,{"$nulls":7},"",""]
[null,2353,{"$nulls":7},"",""]
[null,2354,{"$nulls":7},"",""]
[null,2355,{"$nulls":7},"",""]
[null,2356,{"$nulls":7},"",""]
[null,2357,{"$nulls":7},"",""]
[null,2358,{"$nulls":7},"",""]
[null,2359,{"$nulls":7},"",""]
[null,2360,{"$nulls":7},"",""]
[null,2361,{"$nulls":7},"",""]
[null,2362,{"$nulls":7},"",""]
[null,2363,{"$nulls":7},"",""]
[null,2364,{"$nulls":7},"",""]
[null,2365,{"$nulls":7},"",""]
[null,2366,{"$nulls":7},"",""]
[null,2367,{"$nulls":7},"",""]
[null,2368,{"$nulls":7},"",""]
[null,2369,{"$nulls":7},{"$f":"IF(OR(ISBLANK(H2378)=TRUE,ISBLANK(I2378)=TRUE),\"\",H2378*I2378)","v":""},{"$f":"IF(AND(ISBLANK(G2378)=TRUE,ISTEXT(J2378)=TRUE),\"\",IF(ISBLANK(H2378)=FALSE,G2378+(H2378*I2378),IF(AND(ISBLANK(G2378)=TRUE,OR(ISBLANK(H2378)=TRUE,ISTEXT(I2378)=TRUE)),\"\",G2378+(H2378*I2378))))","v":""}]
[null,2370,{"$nulls":7},"",""]
[null,2371,{"$nulls":7},"",""]
[null,2372,{"$nulls":7},"",""]
[null,2373,{"$nulls":7},"",""]
[null,2374,{"$nulls":7},"",""]
[null,2375,{"$nulls":7},"",""]
[null,2376,{"$nulls":7},"",""]
[null,2377,{"$nulls":7},"",""]
[null,2378,{"$nulls":7},"",""]
[null,2379,{"$nulls":7},"",""]
[null,2380,{"$nulls":7},"",""]
[null,2381,{"$nulls":7},"",""]
[null,2382,{"$nulls":7},"",""]
[null,2383,{"$nulls":7},"",""]
[null,2384,{"$nulls":7},"",""]
[null,2385,{"$nulls":7},"",""]
[null,2386,{"$nulls":7},"",""]
[null,2387,{"$nulls":7},"",""]
[null,2388,{"$nulls":7},"",""]
[null,2389,{"$nulls":7},"",""]
[null,2390,{"$nulls":7},"",""]
[null,2391,{"$nulls":7},"",""]
[null,2392,{"$nulls":7},"",""]
[null,2393,{"$nulls":7},"",""]
[null,2394,{"$nulls":7},"",""]
[null,2395,{"$nulls":7},"",""]
[null,2396,{"$nulls":7},"",""]
[null,2397,{"$nulls":7},"",""]
[null,2398,{"$nulls":7},"",""]
[null,2399,{"$nulls":7},"",""]
[null,2400,{"$nulls":7},"",""]
[null,2401,{"$nulls":7},"",""]
[null,2402,{"$nulls":7},"",""]
[null,2403,{"$nulls":7},"",""]
[null,2404,{"$nulls":7},"",""]
[null,2405,{"$nulls":7},"",""]
[null,2406,{"$nulls":7},"",""]
[null,2407,{"$nulls":7},"",""]
[null,2408,{"$nulls":7},"",""]
[null,2409,{"$nulls":7},"",""]
[null,2410,{"$nulls":7},"",""]
[null,2411,{"$nulls":7},"",""]
[null,2412,{"$nulls":7},"",""]
[null,2413,{"$nulls":7},"",""]
[null,2414,{"$nulls":7},"",""]
[null,2415,{"$nulls":7},"",""]
[null,2416,{"$nulls":7},"",""]
[null,2417,{"$nulls":7},"",""]
[null,2418,{"$nulls":7},"",""]
[null,2419,{"$nulls":7},"",""]
[null,2420,{"$nulls":7},"",""]
[null,2421,{"$nulls":7},"",""]
[null,2422,{"$nulls":7},"",""]
[null,2423,{"$nulls":7},"",""]
[null,2424,{"$nulls":7},"",""]
[null,2425,{"$nulls":7},"",""]
[null,2426,{"$nulls":7},"",""]
[null,2427,{"$nulls":7},"",""]
[null,2428,{"$nulls":7},"",""]
[null,2429,{"$nulls":7},"",""]
[null,2430,{"$nulls":7},"",""]
[null,2431,{"$nulls":7},"",""]
[null,2432,{"$nulls":7},"",""]
[null,2433,{"$nulls":7},{"$f":"IF(OR(ISBLANK(H2442)=TRUE,ISBLANK(I2442)=TRUE),\"\",H2442*I2442)","v":""},{"$f":"IF(AND(ISBLANK(G2442)=TRUE,ISTEXT(J2442)=TRUE),\"\",IF(ISBLANK(H2442)=FALSE,G2442+(H2442*I2442),IF(AND(ISBLANK(G2442)=TRUE,OR(ISBLANK(H2442)=TRUE,ISTEXT(I2442)=TRUE)),\"\",G2442+(H2442*I2442))))","v":""}]
[null,2434,{"$nulls":7},"",""]
[null,2435,{"$nulls":7},"",""]
[null,2436,{"$nulls":7},"",""]
[null,2437,{"$nulls":7},"",""]
[null,2438,{"$nulls":7},"",""]
[null,2439,{"$nulls":7},"",""]
[null,2440,{"$nulls":7},"",""]
[null,2441,{"$nulls":7},"",""]
[null,2442,{"$nulls":7},"",""]
[null,2443,{"$nulls":7},"",""]
[null,2444,{"$nulls":7},"",""]
[null,2445,{"$nulls":7},"",""]
[null,2446,{"$nulls":7},"",""]
[null,2447,{"$nulls":7},"",""]
[null,2448,{"$nulls":7},"",""]
[null,2449,{"$nulls":7},"",""]
[null,2450,{"$nulls":7},"",""]
[null,2451,{"$nulls":7},"",""]
[null,2452,{"$nulls":7},"",""]
[null,2453,{"$nulls":7},"",""]
[null,2454,{"$nulls":7},"",""]
[null,2455,{"$nulls":7},"",""]
[null,2456,{"$nulls":7},"",""]
[null,2457,{"$nulls":7},"",""]
[null,2458,{"$nulls":7},"",""]
[null,2459,{"$nulls":7},"",""]
[null,2460,{"$nulls":7},"",""]
[null,2461,{"$nulls":7},"",""]
[null,2462,{"$nulls":7},"",""]
[null,2463,{"$nulls":7},"",""]
[null,2464,{"$nulls":7},"",""]
[null,2465,{"$nulls":7},"",""]
[null,2466,{"$nulls":7},"",""]
[null,2467,{"$nulls":7},"",""]
[null,2468,{"$nulls":7},"",""]
[null,2469,{"$nulls":7},"",""]
[null,2470,{"$nulls":7},"",""]
[null,2471,{"$nulls":7},"",""]
[null,2472,{"$nulls":7},"",""]
[null,2473,{"$nulls":7},"",""]
[null,2474,{"$nulls":7},"",""]
[null,2475,{"$nulls":7},"",""]
[null,2476,{"$nulls":7},"",""]
[null,2477,{"$nulls":7},"",""]
[null,2478,{"$nulls":7},"",""]
[null,2479,{"$nulls":7},"",""]
[null,2480,{"$nulls":7},"",""]
[null,2481,{"$nulls":7},"",""]
[null,2482,{"$nulls":7},"",""]
[null,2483,{"$nulls":7},"",""]
[null,2484,{"$nulls":7},"",""]
[null,2485,{"$nulls":7},"",""]
[null,2486,{"$nulls":7},"",""]
[null,2487,{"$nulls":7},"",""]
[null,2488,{"$nulls":7},"",""]
[null,2489,{"$nulls":7},"",""]
[null,2490,{"$nulls":7},"",""]
[null,2491,{"$nulls":7},"",""]
[null,2492,{"$nulls":7},"",""]
[null,2493,{"$nulls":7},"",""]
[null,2494,{"$nulls":7},"",""]
[null,2495,{"$nulls":7},"",""]
[null,2496,{"$nulls":7},"",""]
[null,2497,{"$nulls":7},{"$f":"IF(OR(ISBLANK(H2506)=TRUE,ISBLANK(I2506)=TRUE),\"\",H2506*I2506)","v":""},{"$f":"IF(AND(ISBLANK(G2506)=TRUE,ISTEXT(J2506)=TRUE),\"\",IF(ISBLANK(H2506)=FALSE,G2506+(H2506*I2506),IF(AND(ISBLANK(G2506)=TRUE,OR(ISBLANK(H2506)=TRUE,ISTEXT(I2506)=TRUE)),\"\",G2506+(H2506*I2506))))","v":""}]
[null,2498,{"$nulls":7},"",""]
[null,2499,{"$nulls":7},"",""]
[null,2500,{"$nulls":7},"",""]
[null,2501,{"$nulls":7},"",""]
[null,2502,{"$nulls":7},"",""]
[null,2503,{"$nulls":7},"",""]
[null,2504,{"$nulls":7},"",""]
[null,2505,{"$nulls":7},"",""]
[null,2506,{"$nulls":7},"",""]
[null,2507,{"$nulls":7},"",""]
[null,2508,{"$nulls":7},"",""]
[null,2509,{"$nulls":7},"",""]
[null,2510,{"$nulls":7},"",""]
[null,2511,{"$nulls":7},"",""]
[null,2512,{"$nulls":7},"",""]
[null,2513,{"$nulls":7},"",""]
[null,2514,{"$nulls":7},"",""]
[null,2515,{"$nulls":7},"",""]
[null,2516,{"$nulls":7},"",""]
[null,2517,{"$nulls":7},"",""]
[null,2518,{"$nulls":7},"",""]
[null,2519,{"$nulls":7},"",""]
[null,2520,{"$nulls":7},"",""]
[null,2521,{"$nulls":7},"",""]
[null,2522,{"$nulls":7},"",""]
[null,2523,{"$nulls":7},"",""]
[null,2524,{"$nulls":7},"",""]
[null,2525,{"$nulls":7},"",""]
[null,2526,{"$nulls":7},"",""]
[null,2527,{"$nulls":7},"",""]
[null,2528,{"$nulls":7},"",""]
[null,2529,{"$nulls":7},"",""]
[null,2530,{"$nulls":7},"",""]
[null,2531,{"$nulls":7},"",""]
[null,2532,{"$nulls":7},"",""]
[null,2533,{"$nulls":7},"",""]
[null,2534,{"$nulls":7},"",""]
[null,2535,{"$nulls":7},"",""]
[null,2536,{"$nulls":7},"",""]
[null,2537,{"$nulls":7},"",""]
[null,2538,{"$nulls":7},"",""]
[null,2539,{"$nulls":7},"",""]
[null,2540,{"$nulls":7},"",""]
[null,2541,{"$nulls":7},"",""]
[null,2542,{"$nulls":7},"",""]
[null,2543,{"$nulls":7},"",""]
[null,2544,{"$nulls":7},"",""]
[null,2545,{"$nulls":7},"",""]
[null,2546,{"$nulls":7},"",""]
[null,2547,{"$nulls":7},"",""]
[null,2548,{"$nulls":7},"",""]
[null,2549,{"$nulls":7},"",""]
[null,2550,{"$nulls":7},"",""]
[null,2551,{"$nulls":7},"",""]
[null,2552,{"$nulls":7},"",""]
[null,2553,{"$nulls":7},"",""]
[null,2554,{"$nulls":7},"",""]
[null,2555,{"$nulls":7},"",""]
[null,2556,{"$nulls":7},"",""]
[null,2557,{"$nulls":7},"",""]
[null,2558,{"$nulls":7},"",""]
[null,2559,{"$nulls":7},"",""]
[null,2560,{"$nulls":7},"",""]
[null,2561,{"$nulls":7},{"$f":"IF(OR(ISBLANK(H2570)=TRUE,ISBLANK(I2570)=TRUE),\"\",H2570*I2570)","v":""},{"$f":"IF(AND(ISBLANK(G2570)=TRUE,ISTEXT(J2570)=TRUE),\"\",IF(ISBLANK(H2570)=FALSE,G2570+(H2570*I2570),IF(AND(ISBLANK(G2570)=TRUE,OR(ISBLANK(H2570)=TRUE,ISTEXT(I2570)=TRUE)),\"\",G2570+(H2570*I2570))))","v":""}]
[null,2562,{"$nulls":7},"",""]
[null,2563,{"$nulls":7},"",""]
[null,2564,{"$nulls":7},"",""]
[null,2565,{"$nulls":7},"",""]
[null,2566,{"$nulls":7},"",""]
[null,2567,{"$nulls":7},"",""]
[null,2568,{"$nulls":7},"",""]
[null,2569,{"$nulls":7},"",""]
[null,2570,{"$nulls":7},"",""]
[null,2571,{"$nulls":7},"",""]
[null,2572,{"$nulls":7},"",""]
[null,2573,{"$nulls":7},"",""]
[null,2574,{"$nulls":7},"",""]
[null,2575,{"$nulls":7},"",""]
[null,2576,{"$nulls":7},"",""]
[null,2577,{"$nulls":7},"",""]
[null,2578,{"$nulls":7},"",""]
[null,2579,{"$nulls":7},"",""]
[null,2580,{"$nulls":7},"",""]
[null,2581,{"$nulls":7},"",""]
[null,2582,{"$nulls":7},"",""]
[null,2583,{"$nulls":7},"",""]
[null,2584,{"$nulls":7},"",""]
[null,2585,{"$nulls":7},"",""]
[null,2586,{"$nulls":7},"",""]
[null,2587,{"$nulls":7},"",""]
[null,2588,{"$nulls":7},"",""]
[null,2589,{"$nulls":7},"",""]
[null,2590,{"$nulls":7},"",""]
[null,2591,{"$nulls":7},"",""]
[null,2592,{"$nulls":7},"",""]
[null,2593,{"$nulls":7},"",""]
[null,2594,{"$nulls":7},"",""]
[null,2595,{"$nulls":7},"",""]
[null,2596,{"$nulls":7},"",""]
[null,2597,{"$nulls":7},"",""]
[null,2598,{"$nulls":7},"",""]
[null,2599,{"$nulls":7},"",""]
[null,2600,{"$nulls":7},"",""]
[null,2601,{"$nulls":7},"",""]
[null,2602,{"$nulls":7},"",""]
[null,2603,{"$nulls":7},"",""]
[null,2604,{"$nulls":7},"",""]
[null,2605,{"$nulls":7},"",""]
[null,2606,{"$nulls":7},"",""]
[null,2607,{"$nulls":7},"",""]
[null,2608,{"$nulls":7},"",""]
[null,2609,{"$nulls":7},"",""]
[null,2610,{"$nulls":7},"",""]
[null,2611,{"$nulls":7},"",""]
[null,2612,{"$nulls":7},"",""]
[null,2613,{"$nulls":7},"",""]
[null,2614,{"$nulls":7},"",""]
[null,2615,{"$nulls":7},"",""]
[null,2616,{"$nulls":7},"",""]
[null,2617,{"$nulls":7},"",""]
[null,2618,{"$nulls":7},"",""]
[null,2619,{"$nulls":7},"",""]
[null,2620,{"$nulls":7},"",""]
[null,2621,{"$nulls":7},"",""]
[null,2622,{"$nulls":7},"",""]
[null,2623,{"$nulls":7},"",""]
[null,2624,{"$nulls":7},"",""]
[null,2625,{"$nulls":7},{"$f":"IF(OR(ISBLANK(H2634)=TRUE,ISBLANK(I2634)=TRUE),\"\",H2634*I2634)","v":""},{"$f":"IF(AND(ISBLANK(G2634)=TRUE,ISTEXT(J2634)=TRUE),\"\",IF(ISBLANK(H2634)=FALSE,G2634+(H2634*I2634),IF(AND(ISBLANK(G2634)=TRUE,OR(ISBLANK(H2634)=TRUE,ISTEXT(I2634)=TRUE)),\"\",G2634+(H2634*I2634))))","v":""}]
[null,2626,{"$nulls":7},"",""]
[null,2627,{"$nulls":7},"",""]
[null,2628,{"$nulls":7},"",""]
[null,2629,{"$nulls":7},"",""]
[null,2630,{"$nulls":7},"",""]
[null,2631,{"$nulls":7},"",""]
[null,2632,{"$nulls":7},"",""]
[null,2633,{"$nulls":7},"",""]
[null,2634,{"$nulls":7},"",""]
[null,2635,{"$nulls":7},"",""]
[null,2636,{"$nulls":7},"",""]
[null,2637,{"$nulls":7},"",""]
[null,2638,{"$nulls":7},"",""]
[null,2639,{"$nulls":7},"",""]
[null,2640,{"$nulls":7},"",""]
[null,2641,{"$nulls":7},"",""]
[null,2642,{"$nulls":7},"",""]
[null,2643,{"$nulls":7},"",""]
[null,2644,{"$nulls":7},"",""]
[null,2645,{"$nulls":7},"",""]
[null,2646,{"$nulls":7},"",""]
[null,2647,{"$nulls":7},"",""]
[null,2648,{"$nulls":7},"",""]
[null,2649,{"$nulls":7},"",""]
[null,2650,{"$nulls":7},"",""]
[null,2651,{"$nulls":7},"",""]
[null,2652,{"$nulls":7},"",""]
[null,2653,{"$nulls":7},"",""]
[null,2654,{"$nulls":7},"",""]
[null,2655,{"$nulls":7},"",""]
[null,2656,{"$nulls":7},"",""]
[null,2657,{"$nulls":7},"",""]
[null,2658,{"$nulls":7},"",""]
[null,2659,{"$nulls":7},"",""]
[null,2660,{"$nulls":7},"",""]
[null,2661,{"$nulls":7},"",""]
[null,2662,{"$nulls":7},"",""]
[null,2663,{"$nulls":7},"",""]
[null,2664,{"$nulls":7},"",""]
[null,2665,{"$nulls":7},"",""]
[null,2666,{"$nulls":7},"",""]
[null,2667,{"$nulls":7},"",""]
[null,2668,{"$nulls":7},"",""]
[null,2669,{"$nulls":7},"",""]
[null,2670,{"$nulls":7},"",""]
[null,2671,{"$nulls":7},"",""]
[null,2672,{"$nulls":7},"",""]
[null,2673,{"$nulls":7},"",""]
[null,2674,{"$nulls":7},"",""]
[null,2675,{"$nulls":7},"",""]
[null,2676,{"$nulls":7},"",""]
[null,2677,{"$nulls":7},"",""]
[null,2678,{"$nulls":7},"",""]
[null,2679,{"$nulls":7},"",""]
[null,2680,{"$nulls":7},"",""]
[null,2681,{"$nulls":7},"",""]
[null,2682,{"$nulls":7},"",""]
[null,2683,{"$nulls":7},"",""]
[null,2684,{"$nulls":7},"",""]
[null,2685,{"$nulls":7},"",""]
[null,2686,{"$nulls":7},"",""]
[null,2687,{"$nulls":7},"",""]
[null,2688,{"$nulls":7},"",""]
[null,2689,{"$nulls":7},{"$f":"IF(OR(ISBLANK(H2698)=TRUE,ISBLANK(I2698)=TRUE),\"\",H2698*I2698)","v":""},{"$f":"IF(AND(ISBLANK(G2698)=TRUE,ISTEXT(J2698)=TRUE),\"\",IF(ISBLANK(H2698)=FALSE,G2698+(H2698*I2698),IF(AND(ISBLANK(G2698)=TRUE,OR(ISBLANK(H2698)=TRUE,ISTEXT(I2698)=TRUE)),\"\",G2698+(H2698*I2698))))","v":""}]
[null,2690,{"$nulls":7},"",""]
[null,2691,{"$nulls":7},"",""]
[null,2692,{"$nulls":7},"",""]
[null,2693,{"$nulls":7},"",""]
[null,2694,{"$nulls":7},"",""]
[null,2695,{"$nulls":7},"",""]
[null,2696,{"$nulls":7},"",""]
[null,2697,{"$nulls":7},"",""]
[null,2698,{"$nulls":7},"",""]
[null,2699,{"$nulls":7},"",""]
[null,2700,{"$nulls":7},"",""]
[null,2701,{"$nulls":7},"",""]
[null,2702,{"$nulls":7},"",""]
[null,2703,{"$nulls":7},"",""]
[null,2704,{"$nulls":7},"",""]
[null,2705,{"$nulls":7},"",""]
[null,2706,{"$nulls":7},"",""]
[null,2707,{"$nulls":7},"",""]
[null,2708,{"$nulls":7},"",""]
[null,2709,{"$nulls":7},"",""]
[null,2710,{"$nulls":7},"",""]
[null,2711,{"$nulls":7},"",""]
[null,2712,{"$nulls":7},"",""]
[null,2713,{"$nulls":7},"",""]
[null,2714,{"$nulls":7},"",""]
[null,2715,{"$nulls":7},"",""]
[null,2716,{"$nulls":7},"",""]
[null,2717,{"$nulls":7},"",""]
[null,2718,{"$nulls":7},"",""]
[null,2719,{"$nulls":7},"",""]
[null,2720,{"$nulls":7},"",""]
[null,2721,{"$nulls":7},"",""]
[null,2722,{"$nulls":7},"",""]
[null,2723,{"$nulls":7},"",""]
[null,2724,{"$nulls":7},"",""]
[null,2725,{"$nulls":7},"",""]
[null,2726,{"$nulls":7},"",""]
[null,2727,{"$nulls":7},"",""]
[null,2728,{"$nulls":7},"",""]
[null,2729,{"$nulls":7},"",""]
[null,2730,{"$nulls":7},"",""]
[null,2731,{"$nulls":7},"",""]
[null,2732,{"$nulls":7},"",""]
[null,2733,{"$nulls":7},"",""]
[null,2734,{"$nulls":7},"",""]
[null,2735,{"$nulls":7},"",""]
[null,2736,{"$nulls":7},"",""]
[null,2737,{"$nulls":7},"",""]
[null,2738,{"$nulls":7},"",""]
[null,2739,{"$nulls":7},"",""]
[null,2740,{"$nulls":7},"",""]
[null,2741,{"$nulls":7},"",""]
[null,2742,{"$nulls":7},"",""]
[null,2743,{"$nulls":7},"",""]
[null,2744,{"$nulls":7},"",""]
[null,2745,{"$nulls":7},"",""]
[null,2746,{"$nulls":7},"",""]
[null,2747,{"$nulls":7},"",""]
[null,2748,{"$nulls":7},"",""]
[null,2749,{"$nulls":7},"",""]
[null,2750,{"$nulls":7},"",""]
[null,2751,{"$nulls":7},"",""]
[null,2752,{"$nulls":7},"",""]
[null,2753,{"$nulls":7},{"$f":"IF(OR(ISBLANK(H2762)=TRUE,ISBLANK(I2762)=TRUE),\"\",H2762*I2762)","v":""},{"$f":"IF(AND(ISBLANK(G2762)=TRUE,ISTEXT(J2762)=TRUE),\"\",IF(ISBLANK(H2762)=FALSE,G2762+(H2762*I2762),IF(AND(ISBLANK(G2762)=TRUE,OR(ISBLANK(H2762)=TRUE,ISTEXT(I2762)=TRUE)),\"\",G2762+(H2762*I2762))))","v":""}]
[null,2754,{"$nulls":7},"",""]
[null,2755,{"$nulls":7},"",""]
[null,2756,{"$nulls":7},"",""]
[null,2757,{"$nulls":7},"",""]
[null,2758,{"$nulls":7},"",""]
[null,2759,{"$nulls":7},"",""]
[null,2760,{"$nulls":7},"",""]
[null,2761,{"$nulls":7},"",""]
[null,2762,{"$nulls":7},"",""]
[null,2763,{"$nulls":7},"",""]
[null,2764,{"$nulls":7},"",""]
[null,2765,{"$nulls":7},"",""]
[null,2766,{"$nulls":7},"",""]
[null,2767,{"$nulls":7},"",""]
[null,2768,{"$nulls":7},"",""]
[null,2769,{"$nulls":7},"",""]
[null,2770,{"$nulls":7},"",""]
[null,2771,{"$nulls":7},"",""]
[null,2772,{"$nulls":7},"",""]
[null,2773,{"$nulls":7},"",""]
[null,2774,{"$nulls":7},"",""]
[null,2775,{"$nulls":7},"",""]
[null,2776,{"$nulls":7},"",""]
[null,2777,{"$nulls":7},"",""]
[null,2778,{"$nulls":7},"",""]
[null,2779,{"$nulls":7},"",""]
[null,2780,{"$nulls":7},"",""]
[null,2781,{"$nulls":7},"",""]
[null,2782,{"$nulls":7},"",""]
[null,2783,{"$nulls":7},"",""]
[null,2784,{"$nulls":7},"",""]
[null,2785,{"$nulls":7},"",""]
[null,2786,{"$nulls":7},"",""]
[null,2787,{"$nulls":7},"",""]
[null,2788,{"$nulls":7},"",""]
[null,2789,{"$nulls":7},"",""]
[null,2790,{"$nulls":7},"",""]
[null,2791,{"$nulls":7},"",""]
[null,2792,{"$nulls":7},"",""]
[null,2793,{"$nulls":7},"",""]
[null,2794,{"$nulls":7},"",""]
[null,2795,{"$nulls":7},"",""]
[null,2796,{"$nulls":7},"",""]
[null,2797,{"$nulls":7},"",""]
[null,2798,{"$nulls":7},"",""]
[null,2799,{"$nulls":7},"",""]
[null,2800,{"$nulls":7},"",""]
[null,2801,{"$nulls":7},"",""]
[null,2802,{"$nulls":7},"",""]
[null,2803,{"$nulls":7},"",""]
[null,2804,{"$nulls":7},"",""]
[null,2805,{"$nulls":7},"",""]
[null,2806,{"$nulls":7},"",""]
[null,2807,{"$nulls":7},"",""]
[null,2808,{"$nulls":7},"",""]
[null,2809,{"$nulls":7},"",""]
[null,2810,{"$nulls":7},"",""]
[null,2811,{"$nulls":7},"",""]
[null,2812,{"$nulls":7},"",""]
[null,2813,{"$nulls":7},"",""]
[null,2814,{"$nulls":7},"",""]
[null,2815,{"$nulls":7},"",""]
[null,2816,{"$nulls":7},"",""]
[null,2817,{"$nulls":7},{"$f":"IF(OR(ISBLANK(H2826)=TRUE,ISBLANK(I2826)=TRUE),\"\",H2826*I2826)","v":""},{"$f":"IF(AND(ISBLANK(G2826)=TRUE,ISTEXT(J2826)=TRUE),\"\",IF(ISBLANK(H2826)=FALSE,G2826+(H2826*I2826),IF(AND(ISBLANK(G2826)=TRUE,OR(ISBLANK(H2826)=TRUE,ISTEXT(I2826)=TRUE)),\"\",G2826+(H2826*I2826))))","v":""}]
[null,2818,{"$nulls":7},"",""]
[null,2819,{"$nulls":7},"",""]
[null,2820,{"$nulls":7},"",""]
[null,2821,{"$nulls":7},"",""]
[null,2822,{"$nulls":7},"",""]
[null,2823,{"$nulls":7},"",""]
[null,2824,{"$nulls":7},"",""]
[null,2825,{"$nulls":7},"",""]
[null,2826,{"$nulls":7},"",""]
[null,2827,{"$nulls":7},"",""]
[null,2828,{"$nulls":7},"",""]
[null,2829,{"$nulls":7},"",""]
[null,2830,{"$nulls":7},"",""]
[null,2831,{"$nulls":7},"",""]
[null,2832,{"$nulls":7},"",""]
[null,2833,{"$nulls":7},"",""]
[null,2834,{"$nulls":7},"",""]
[null,2835,{"$nulls":7},"",""]
[null,2836,{"$nulls":7},"",""]
[null,2837,{"$nulls":7},"",""]
[null,2838,{"$nulls":7},"",""]
[null,2839,{"$nulls":7},"",""]
[null,2840,{"$nulls":7},"",""]
[null,2841,{"$nulls":7},"",""]
[null,2842,{"$nulls":7},"",""]
[null,2843,{"$nulls":7},"",""]
[null,2844,{"$nulls":7},"",""]
[null,2845,{"$nulls":7},"",""]
[null,2846,{"$nulls":7},"",""]
[null,2847,{"$nulls":7},"",""]
[null,2848,{"$nulls":7},"",""]
[null,2849,{"$nulls":7},"",""]
[null,2850,{"$nulls":7},"",""]
[null,2851,{"$nulls":7},"",""]
[null,2852,{"$nulls":7},"",""]
[null,2853,{"$nulls":7},"",""]
[null,2854,{"$nulls":7},"",""]
[null,2855,{"$nulls":7},"",""]
[null,2856,{"$nulls":7},"",""]
[null,2857,{"$nulls":7},"",""]
[null,2858,{"$nulls":7},"",""]
[null,2859,{"$nulls":7},"",""]
[null,2860,{"$nulls":7},"",""]
[null,2861,{"$nulls":7},"",""]
[null,2862,{"$nulls":7},"",""]
[null,2863,{"$nulls":7},"",""]
[null,2864,{"$nulls":7},"",""]
[null,2865,{"$nulls":7},"",""]
[null,2866,{"$nulls":7},"",""]
[null,2867,{"$nulls":7},"",""]
[null,2868,{"$nulls":7},"",""]
[null,2869,{"$nulls":7},"",""]
[null,2870,{"$nulls":7},"",""]
[null,2871,{"$nulls":7},"",""]
[null,2872,{"$nulls":7},"",""]
[null,2873,{"$nulls":7},"",""]
[null,2874,{"$nulls":7},"",""]
[null,2875,{"$nulls":7},"",""]
[null,2876,{"$nulls":7},"",""]
[null,2877,{"$nulls":7},"",""]
[null,2878,{"$nulls":7},"",""]
[null,2879,{"$nulls":7},"",""]
[null,2880,{"$nulls":7},"",""]
[null,2881,{"$nulls":7},{"$f":"IF(OR(ISBLANK(H2890)=TRUE,ISBLANK(I2890)=TRUE),\"\",H2890*I2890)","v":""},{"$f":"IF(AND(ISBLANK(G2890)=TRUE,ISTEXT(J2890)=TRUE),\"\",IF(ISBLANK(H2890)=FALSE,G2890+(H2890*I2890),IF(AND(ISBLANK(G2890)=TRUE,OR(ISBLANK(H2890)=TRUE,ISTEXT(I2890)=TRUE)),\"\",G2890+(H2890*I2890))))","v":""}]
[null,2882,{"$nulls":7},"",""]
[null,2883,{"$nulls":7},"",""]
[null,2884,{"$nulls":7},"",""]
[null,2885,{"$nulls":7},"",""]
[null,2886,{"$nulls":7},"",""]
[null,2887,{"$nulls":7},"",""]
[null,2888,{"$nulls":7},"",""]
[null,2889,{"$nulls":7},"",""]
[null,2890,{"$nulls":7},"",""]
[null,2891,{"$nulls":7},"",""]
[null,2892,{"$nulls":7},"",""]
[null,2893,{"$nulls":7},"",""]
[null,2894,{"$nulls":7},"",""]
[null,2895,{"$nulls":7},"",""]
[null,2896,{"$nulls":7},"",""]
[null,2897,{"$nulls":7},"",""]
[null,2898,{"$nulls":7},"",""]
[null,2899,{"$nulls":7},"",""]
[null,2900,{"$nulls":7},"",""]
[null,2901,{"$nulls":7},"",""]
[null,2902,{"$nulls":7},"",""]
[null,2903,{"$nulls":7},"",""]
[null,2904,{"$nulls":7},"",""]
[null,2905,{"$nulls":7},"",""]
[null,2906,{"$nulls":7},"",""]
[null,2907,{"$nulls":7},"",""]
[null,2908,{"$nulls":7},"",""]
[null,2909,{"$nulls":7},"",""]
[null,2910,{"$nulls":7},"",""]
[null,2911,{"$nulls":7},"",""]
[null,2912,{"$nulls":7},"",""]
[null,2913,{"$nulls":7},"",""]
[null,2914,{"$nulls":7},"",""]
[null,2915,{"$nulls":7},"",""]
[null,2916,{"$nulls":7},"",""]
[null,2917,{"$nulls":7},"",""]
[null,2918,{"$nulls":7},"",""]
[null,2919,{"$nulls":7},"",""]
[null,2920,{"$nulls":7},"",""]
[null,2921,{"$nulls":7},"",""]
[null,2922,{"$nulls":7},"",""]
[null,2923,{"$nulls":7},"",""]
[null,2924,{"$nulls":7},"",""]
[null,2925,{"$nulls":7},"",""]
[null,2926,{"$nulls":7},"",""]
[null,2927,{"$nulls":7},"",""]
[null,2928,{"$nulls":7},"",""]
[null,2929,{"$nulls":7},"",""]
[null,2930,{"$nulls":7},"",""]
[null,2931,{"$nulls":7},"",""]
[null,2932,{"$nulls":7},"",""]
[null,2933,{"$nulls":7},"",""]
[null,2934,{"$nulls":7},"",""]
[null,2935,{"$nulls":7},"",""]
[null,2936,{"$nulls":7},"",""]
[null,2937,{"$nulls":7},"",""]
[null,2938,{"$nulls":7},"",""]
[null,2939,{"$nulls":7},"",""]
[null,2940,{"$nulls":7},"",""]
[null,2941,{"$nulls":7},"",""]
[null,2942,{"$nulls":7},"",""]
[null,2943,{"$nulls":7},"",""]
[null,2944,{"$nulls":7},"",""]
[null,2945,{"$nulls":7},{"$f":"IF(OR(ISBLANK(H2954)=TRUE,ISBLANK(I2954)=TRUE),\"\",H2954*I2954)","v":""},{"$f":"IF(AND(ISBLANK(G2954)=TRUE,ISTEXT(J2954)=TRUE),\"\",IF(ISBLANK(H2954)=FALSE,G2954+(H2954*I2954),IF(AND(ISBLANK(G2954)=TRUE,OR(ISBLANK(H2954)=TRUE,ISTEXT(I2954)=TRUE)),\"\",G2954+(H2954*I2954))))","v":""}]
[null,2946,{"$nulls":7},"",""]
[null,2947,{"$nulls":7},"",""]
[null,2948,{"$nulls":7},"",""]
[null,2949,{"$nulls":7},"",""]
[null,2950,{"$nulls":7},"",""]
[null,2951,{"$nulls":7},"",""]
[null,2952,{"$nulls":7},"",""]
[null,2953,{"$nulls":7},"",""]
[null,2954,{"$nulls":7},"",""]
[null,2955,{"$nulls":7},"",""]
[null,2956,{"$nulls":7},"",""]
[null,2957,{"$nulls":7},"",""]
[null,2958,{"$nulls":7},"",""]
[null,2959,{"$nulls":7},"",""]
[null,2960,{"$nulls":7},"",""]
[null,2961,{"$nulls":7},"",""]
[null,2962,{"$nulls":7},"",""]
[null,2963,{"$nulls":7},"",""]
[null,2964,{"$nulls":7},"",""]
[null,2965,{"$nulls":7},"",""]
[null,2966,{"$nulls":7},"",""]
[null,2967,{"$nulls":7},"",""]
[null,2968,{"$nulls":7},"",""]
[null,2969,{"$nulls":7},"",""]
[null,2970,{"$nulls":7},"",""]
[null,2971,{"$nulls":7},"",""]
[null,2972,{"$nulls":7},"",""]
[null,2973,{"$nulls":7},"",""]
[null,2974,{"$nulls":7},"",""]
[null,2975,{"$nulls":7},"",""]
[null,2976,{"$nulls":7},"",""]
[null,2977,{"$nulls":7},"",""]
[null,2978,{"$nulls":7},"",""]
[null,2979,{"$nulls":7},"",""]
[null,2980,{"$nulls":7},"",""]
[null,2981,{"$nulls":7},"",""]
[null,2982,{"$nulls":7},"",""]
[null,2983,{"$nulls":7},"",""]
[null,2984,{"$nulls":7},"",""]
[null,2985,{"$nulls":7},"",""]
[null,2986,{"$nulls":7},"",""]
[null,2987,{"$nulls":7},"",""]
[null,2988,{"$nulls":7},"",""]
[null,2989,{"$nulls":7},"",""]
[null,2990,{"$nulls":7},"",""]
[null,2991,{"$nulls":7},"",""]
[null,2992,{"$nulls":7},"",""]
[null,2993,{"$nulls":7},"",""]
[null,2994,{"$nulls":7},"",""]
[null,2995,{"$nulls":7},"",""]
[null,2996,{"$nulls":7},"",""]
[null,2997,{"$nulls":7},"",""]
[null,2998,{"$nulls":7},"",""]
[null,2999,{"$nulls":7},"",""]
[null,3000,{"$nulls":7},"",""]

{"sheet":"Vrijwilligerstotalen","index":3,"n_rows":1008,"n_cols":11,"rows_kept":1008,"merged":[[1,1,1,7],[3,3,3,6],[4,3,4,6],[5,3,5,6]]}
[]
[null,"VRIJWILLIGERSTOTALEN"]
[]
[null,{"$f":"IF(ISBLANK(Handleiding!F30)=TRUE,\"Naam sportclub\",Handleiding!F30)","v":"Naam sportclub"},{"$nulls":7},"Dagmaximum:",{"$f":"Handleiding!F42","v":{"v":34.71,"d":"€ 34.71"}}]
[null,{"$f":"IF(ISBLANK(Handleiding!F32)=TRUE,\"Rechtsvorm\",Handleiding!F32)","v":"Rechtsvorm"},{"$nulls":7},"Jaarmaximum:",{"$f":"Handleiding!F45","v":{"v":1388.4,"d":"€ 1,388.40"}}]
[null,{"$f":"IF(ISBLANK(Handleiding!F34)=TRUE,\"Straat & nr\",Handleiding!F34)&\", \"&IF(ISBLANK(Handleiding!F35)=TRUE,\"Postcode & gemeente\",Handleiding!F35)","v":"Straat & nr, Postcode & gemeente"},{"$nulls":7},"Kilometervergoeding:",{"$f":"Handleiding!F52","v":{"v":0.3653,"d":"€ 0.3653"}}]
[{"$nulls":9},"Uitzonderlijk aarmaximum:",{"$f":"Handleiding!F48","v":{"v":2549.9,"d":"€ 2,549.90"}}]
[null,"Nr","Naam en Voornaam",{"$f":"\"Forfaitaire onkostenvergoeding\"&CHAR(10)&\"(Jaarmax = \"&TEXT(Handleiding!F45,\"€ #.##0,00\")&\" of \"&TEXT(Handleiding!F48,\"€ #.##0,00\")&\")\"&CHAR(10)&CHAR(10)&\"Totaal: \"&TEXT(SUBTOTAL(9,$D$9:$D$1008),\"€ #.##0,00\")","v":"Forfaitaire onkostenvergoeding\n(Jaarmax = € 1.388,40 of € 2.549,90)\n\nTotaal: € .0,00"},{"$f":"\"Aantal km\"&CHAR(10)&\"(max 2.000km /jaar)\"&CHAR(10)&CHAR(10)&\"Totaal: \"&TEXT(SUBTOTAL(9,$E$9:$E$1008),\"#.##0,00\")&\" km\"","v":"Aantal km\n(max 2.000km /jaar)\n\nTotaal: .0,00 km"},{"$f":"\"Kilometervergoeding\"&CHAR(10)&CHAR(10)&CHAR(10)&\"Totaal: \"&TEXT(SUBTOTAL(9,$F$9:$F$1008),\"€ #.##0,00\")","v":"Kilometervergoeding\n\n\nTotaal: € .0,00"},{"$f":"\"Totaal: \"&CHAR(10)&\nTEXT(SUBTOTAL(9,$G$9:$G$1008),\"€ #.##0,00\")","v":"Totaal: \n€ .0,00"},"Voldoet deze vrijwilliger aan de voorwaarden voor het verhoogd jaarmaximum?"]
[null,1,{"$f":"IF(ISBLANK(Vrijwilligersregister!C9)=TRUE,\"\",Vrijwilligersregister!C9)","v":""},{"$f":"IF(ISBLANK(Vrijwilligersregister!C9)=TRUE,\"\",SUMIF('Nominatieve lijst'!$D$10:$D$3009,C9,'Nominatieve lijst'!$G$10:$G$3009))","v":""},{"$f":"IF(ISBLANK(Vrijwilligersregister!C9)=TRUE,\"\",SUMIF('Nominatieve lijst'!$D$10:$D$3009,C9,'Nominatieve lijst'!$H$10:$H$3009))","v":""},{"$f":"IF(ISBLANK(Vrijwilligersregister!C9)=TRUE,\"\",SUMIF('Nominatieve lijst'!$D$10:$D$3009,C9,'Nominatieve lijst'!$J$10:$J$3009))","v":""},{"$f":"IF(ISBLANK(Vrijwilligersregister!C9)=TRUE,\"\",D9+F9)","v":""},{"$f":"Vrijwilligersregister!L9","v":0},null,"Ja"]
[null,2,{"$f":"IF(ISBLANK(Vrijwilligersregister!C10)=TRUE,\"\",Vrijwilligersregister!C10)","v":""},{"$f":"IF(ISBLANK(Vrijwilligersregister!C10)=TRUE,\"\",SUMIF('Nominatieve lijst'!$D$10:$D$3009,C10,'Nominatieve lijst'!$G$10:$G$3009))","v":""},{"$f":"IF(ISBLANK(Vrijwilligersregister!C10)=TRUE,\"\",SUMIF('Nominatieve lijst'!$D$10:$D$3009,C10,'Nominatieve lijst'!$H$10:$H$3009))","v":""},{"$f":"IF(ISBLANK(Vrijwilligersregister!C10)=TRUE,\"\",SUMIF('Nominatieve lijst'!$D$10:$D$3009,C10,'Nominatieve lijst'!$J$10:$J$3009))","v":""},{"$f":"IF(ISBLANK(Vrijwilligersregister!C10)=TRUE,\"\",D10+F10)","v":""},{"$f":"Vrijwilligersregister!L10","v":0},null,"Nee"]
[null,3,{"$f":"IF(ISBLANK(Vrijwilligersregister!C11)=TRUE,\"\",Vrijwilligersregister!C11)","v":""},{"$f":"IF(ISBLANK(Vrijwilligersregister!C11)=TRUE,\"\",SUMIF('Nominatieve lijst'!$D$10:$D$3009,C11,'Nominatieve lijst'!$G$10:$G$3009))","v":""},{"$f":"IF(ISBLANK(Vrijwilligersregister!C11)=TRUE,\"\",SUMIF('Nominatieve lijst'!$D$10:$D$3009,C11,'Nominatieve lijst'!$H$10:$H$3009))","v":""},{"$f":"IF(ISBLANK(Vrijwilligersregister!C11)=TRUE,\"\",SUMIF('Nominatieve lijst'!$D$10:$D$3009,C11,'Nominatieve lijst'!$J$10:$J$3009))","v":""},{"$f":"IF(ISBLANK(Vrijwilligersregister!C11)=TRUE,\"\",D11+F11)","v":""},{"$f":"Vrijwilligersregister!L11","v":0}]
[null,4,{"$f":"IF(ISBLANK(Vrijwilligersregister!C12)=TRUE,\"\",Vrijwilligersregister!C12)","v":""},{"$f":"IF(ISBLANK(Vrijwilligersregister!C12)=TRUE,\"\",SUMIF('Nominatieve lijst'!$D$10:$D$3009,C12,'Nominatieve lijst'!$G$10:$G$3009))","v":""},{"$f":"IF(ISBLANK(Vrijwilligersregister!C12)=TRUE,\"\",SUMIF('Nominatieve lijst'!$D$10:$D$3009,C12,'Nominatieve lijst'!$H$10:$H$3009))","v":""},{"$f":"IF(ISBLANK(Vrijwilligersregister!C12)=TRUE,\"\",SUMIF('Nominatieve lijst'!$D$10:$D$3009,C12,'Nominatieve lijst'!$J$10:$J$3009))","v":""},{"$f":"IF(ISBLANK(Vrijwilligersregister!C12)=TRUE,\"\",D12+F12)","v":""},{"$f":"Vrijwilligersregister!L12","v":0}]
[null,5,{"$f":"IF(ISBLANK(Vrijwilligersregister!C13)=TRUE,\"\",Vrijwilligersregister!C13)","v":""},{"$f":"IF(ISBLANK(Vrijwilligersregister!C13)=TRUE,\"\",SUMIF('Nominatieve lijst'!$D$10:$D$3009,C13,'Nominatieve lijst'!$G$10:$G$3009))","v":""},{"$f":"IF(ISBLANK(Vrijwilligersregister!C13)=TRUE,\"\",SUMIF('Nominatieve lijst'!$D$10:$D$3009,C13,'Nominatieve lijst'!$H$10:$H$3009))","v":""},{"$f":"IF(ISBLANK(Vrijwilligersregister!C13)=TRUE,\"\",SUMIF('Nominatieve lijst'!$D$10:$D$3009,C13,'Nominatieve lijst'!$J$10:$J$3009))","v":""},{"$f":"IF(ISBLANK(Vrijwilligersregister!C13)=TRUE,\"\",D13+F13)","v":""},{"$f":"Vrijwilligersregister!L13","v":0}]
[null,6,{"$f":"IF(ISBLANK(Vrijwilligersregister!C14)=TRUE,\"\",Vrijwilligersregister!C14)","v":""},{"$f":"IF(ISBLANK(Vrijwilligersregister!C14)=TRUE,\"\",SUMIF('Nominatieve lijst'!$D$10:$D$3009,C14,'Nominatieve lijst'!$G$10:$G$3009))","v":""},{"$f":"IF(ISBLANK(Vrijwilligersregister!C14)=TRUE,\"\",SUMIF('Nominatieve lijst'!$D$10:$D$3009,C14,'Nominatieve lijst'!$H$10:$H$3009))","v":""},{"$f":"IF(ISBLANK(Vrijwilligersregister!C14)=TRUE,\"\",SUMIF('Nominatieve lijst'!$D$10:$D$3009,C14,'Nominatieve lijst'!$J$10:$J$3009))","v":""},{"$f":"IF(ISBLANK(Vrijwilligersregister!C14)=TRUE,\"\",D14+F14)","v":""},{"$f":"Vrijwilligersregister!L14","v":0}]
[null,7,{"$f":"IF(ISBLANK(Vrijwilligersregister!C15)=TRUE,\"\",Vrijwilligersregister!C15)","v":""},{"$f":"IF(ISBLANK(Vrijwilligersregister!C15)=TRUE,\"\",SUMIF('Nominatieve lijst'!$D$10:$D$3009,C15,'Nominatieve lijst'!$G$10:$G$3009))","v":""},{"$f":"IF(ISBLANK(Vrijwilligersregister!C15)=TRUE,\"\",SUMIF('Nominatieve lijst'!$D$10:$D$3009,C15,'Nominatieve lijst'!$H$10:$H$3009))","v":""},{"$f":"IF(ISBLANK(Vrijwilligersregister!C15)=TRUE,\"\",SUMIF('Nominatieve lijst'!$D$10:$D$3009,C15,'Nominatieve lijst'!$J$10:$J$3009))","v":""},{"$f":"IF(ISBLANK(Vrijwilligersregister!C15)=TRUE,\"\",D15+F15)","v":""},{"$f":"Vrijwilligersregister!L15","v":0}]
[null,8,{"$f":"IF(ISBLANK(Vrijwilligersregister!C16)=TRUE,\"\",Vrijwilligersregister!C16)","v":""},{"$f":"IF(ISBLANK(Vrijwilligersregister!C16)=TRUE,\"\",SUMIF('Nominatieve lijst'!$D$10:$D$3009,C16,'Nominatieve lijst'!$G$10:$G$3009))","v":""},{"$f":"IF(ISBLANK(Vrijwilligersregister!C16)=TRUE,\"\",SUMIF('Nominatieve lijst'!$D$10:$D$3009,C16,'Nominatieve lijst'!$H$10:$H$3009))","v":""},{"$f":"IF(ISBLANK(Vrijwilligersregister!C16)=TRUE,\"\",SUMIF('Nominatieve lijst'!$D$10:$D$3009,C16,'Nominatieve lijst'!$J$10:$J$3009))","v":""},{"$f":"IF(ISBLANK(Vrijwilligersregister!C16)=TRUE,\"\",D16+F16)","v":""},{"$f":"Vrijwilligersregister!L16","v":0}]
[null,9,{"$f":"IF(ISBLANK(Vrijwilligersregister!C17)=TRUE,\"\",Vrijwilligersregister!C17)","v":""},{"$f":"IF(ISBLANK(Vrijwilligersregister!C17)=TRUE,\"\",SUMIF('Nominatieve lijst'!$D$10:$D$3009,C17,'Nominatieve lijst'!$G$10:$G$3009))","v":""},{"$f":"IF(ISBLANK(Vrijwilligersregister!C17)=TRUE,\"\",SUMIF('Nominatieve lijst'!$D$10:$D$3009,C17,'Nominatieve lijst'!$H$10:$H$3009))","v":""},{"$f":"IF(ISBLANK(Vrijwilligersregister!C17)=TRUE,\"\",SUMIF('Nominatieve lijst'!$D$10:$D$3009,C17,'Nominatieve lijst'!$J$10:$J$3009))","v":""},{"$f":"IF(ISBLANK(Vrijwilligersregister!C17)=TRUE,\"\",D17+F17)","v":""},{"$f":"Vrijwilligersregister!L17","v":0}]
[null,10,{"$f":"IF(ISBLANK(Vrijwilligersregister!C18)=TRUE,\"\",Vrijwilligersregister!C18)","v":""},{"$f":"IF(ISBLANK(Vrijwilligersregister!C18)=TRUE,\"\",SUMIF('Nominatieve lijst'!$D$10:$D$3009,C18,'Nominatieve lijst'!$G$10:$G$3009))","v":""},{"$f":"IF(ISBLANK(Vrijwilligersregister!C18)=TRUE,\"\",SUMIF('Nominatieve lijst'!$D$10:$D$3009,C18,'Nominatieve lijst'!$H$10:$H$3009))","v":""},{"$f":"IF(ISBLANK(Vrijwilligersregister!C18)=TRUE,\"\",SUMIF('Nominatieve lijst'!$D$10:$D$3009,C18,'Nominatieve lijst'!$J$10:$J$3009))","v":""},{"$f":"IF(ISBLANK(Vrijwilligersregister!C18)=TRUE,\"\",D18+F18)","v":""},{"$f":"Vrijwilligersregister!L18","v":0}]
[null,11,{"$f":"IF(ISBLANK(Vrijwilligersregister!C19)=TRUE,\"\",Vrijwilligersregister!C19)","v":""},{"$f":"IF(ISBLANK(Vrijwilligersregister!C19)=TRUE,\"\",SUMIF('Nominatieve lijst'!$D$10:$D$3009,C19,'Nominatieve lijst'!$G$10:$G$3009))","v":""},{"$f":"IF(ISBLANK(Vrijwilligersregister!C19)=TRUE,\"\",SUMIF('Nominatieve lijst'!$D$10:$D$3009,C19,'Nominatieve lijst'!$H$10:$H$3009))","v":""},{"$f":"IF(ISBLANK(Vrijwilligersregister!C19)=TRUE,\"\",SUMIF('Nominatieve lijst'!$D$10:$D$3009,C19,'Nominatieve lijst'!$J$10:$J$3009))","v":""},{"$f":"IF(ISBLANK(Vrijwilligersregister!C19)=TRUE,\"\",D19+F19)","v":""},{"$f":"Vrijwilligersregister!L19","v":0}]
[null,12,{"$f":"IF(ISBLANK(Vrijwilligersregister!C20)=TRUE,\"\",Vrijwilligersregister!C20)","v":""},{"$f":"IF(ISBLANK(Vrijwilligersregister!C20)=TRUE,\"\",SUMIF('Nominatieve lijst'!$D$10:$D$3009,C20,'Nominatieve lijst'!$G$10:$G$3009))","v":""},{"$f":"IF(ISBLANK(Vrijwilligersregister!C20)=TRUE,\"\",SUMIF('Nominatieve lijst'!$D$10:$D$3009,C20,'Nominatieve lijst'!$H$10:$H$3009))","v":""},{"$f":"IF(ISBLANK(Vrijwilligersregister!C20)=TRUE,\"\",SUMIF('Nominatieve lijst'!$D$10:$D$3009,C20,'Nominatieve lijst'!$J$10:$J$3009))","v":""},{"$f":"IF(ISBLANK(Vrijwilligersregister!C20)=TRUE,\"\",D20+F20)","v":""},{"$f":"Vrijwilligersregister!L20","v":0}]
[null,13,{"$f":"IF(ISBLANK(Vrijwilligersregister!C21)=TRUE,\"\",Vrijwilligersregister!C21)","v":""},{"$f":"IF(ISBLANK(Vrijwilligersregister!C21)=TRUE,\"\",SUMIF('Nominatieve lijst'!$D$10:$D$3009,C21,'Nominatieve lijst'!$G$10:$G$3009))","v":""},{"$f":"IF(ISBLANK(Vrijwilligersregister!C21)=TRUE,\"\",SUMIF('Nominatieve lijst'!$D$10:$D$3009,C21,'Nominatieve lijst'!$H$10:$H$3009))","v":""},{"$f":"IF(ISBLANK(Vrijwilligersregister!C21)=TRUE,\"\",SUMIF('Nominatieve lijst'!$D$10:$D$3009,C21,'Nominatieve lijst'!$J$10:$J$3009))","v":""},{"$f":"IF(ISBLANK(Vrijwilligersregister!C21)=TRUE,\"\",D21+F21)","v":""},{"$f":"Vrijwilligersregister!L21","v":0}]
[null,14,{"$f":"IF(ISBLANK(Vrijwilligersregister!C22)=TRUE,\"\",Vrijwilligersregister!C22)","v":""},{"$f":"IF(ISBLANK(Vrijwilligersregister!C22)=TRUE,\"\",SUMIF('Nominatieve lijst'!$D$10:$D$3009,C22,'Nominatieve lijst'!$G$10:$G$3009))","v":""},{"$f":"IF(ISBLANK(Vrijwilligersregister!C22)=TRUE,\"\",SUMIF('Nominatieve lijst'!$D$10:$D$3009,C22,'Nominatieve lijst'!$H$10:$H$3009))","v":""},{"$f":"IF(ISBLANK(Vrijwilligersregister!C22)=TRUE,\"\",SUMIF('Nominatieve lijst'!$D$10:$D$3009,C22,'Nominatieve lijst'!$J$10:$J$3009))","v":""},{"$f":"IF(ISBLANK(Vrijwilligersregister!C22)=TRUE,\"\",D22+F22)","v":""},{"$f":"Vrijwilligersregister!L22","v":0}]
[null,15,{"$f":"IF(ISBLANK(Vrijwilligersregister!C23)=TRUE,\"\",Vrijwilligersregister!C23)","v":""},{"$f":"IF(ISBLANK(Vrijwilligersregister!C23)=TRUE,\"\",SUMIF('Nominatieve lijst'!$D$10:$D$3009,C23,'Nominatieve lijst'!$G$10:$G$3009))","v":""},{"$f":"IF(ISBLANK(Vrijwilligersregister!C23)=TRUE,\"\",SUMIF('Nominatieve lijst'!$D$10:$D$3009,C23,'Nominatieve lijst'!$H$10:$H$3009))","v":""},{"$f":"IF(ISBLANK(Vrijwilligersregister!C23)=TRUE,\"\",SUMIF('Nominatieve lijst'!$D$10:$D$3009,C23,'Nominatieve lijst'!$J$10:$J$3009))","v":""},{"$f":"IF(ISBLANK(Vrijwilligersregister!C23)=TRUE,\"\",D23+F23)","v":""},{"$f":"Vrijwilligersregister!L23","v":0}]
[null,16,{"$f":"IF(ISBLANK(Vrijwilligersregister!C24)=TRUE,\"\",Vrijwilligersregister!C24)","v":""},{"$f":"IF(ISBLANK(Vrijwilligersregister!C24)=TRUE,\"\",SUMIF('Nominatieve lijst'!$D$10:$D$3009,C24,'Nominatieve lijst'!$G$10:$G$3009))","v":""},{"$f":"IF(ISBLANK(Vrijwilligersregister!C24)=TRUE,\"\",SUMIF('Nominatieve lijst'!$D$10:$D$3009,C24,'Nominatieve lijst'!$H$10:$H$3009))","v":""},{"$f":"IF(ISBLANK(Vrijwilligersregister!C24)=TRUE,\"\",SUMIF('Nominatieve lijst'!$D$10:$D$3009,C24,'Nominatieve lijst'!$J$10:$J$3009))","v":""},{"$f":"IF(ISBLANK(Vrijwilligersregister!C24)=TRUE,\"\",D24+F24)","v":""},{"$f":"Vrijwilligersregister!L24","v":0}]
[null,17,{"$f":"IF(ISBLANK(Vrijwilligersregister!C25)=TRUE,\"\",Vrijwilligersregister!C25)","v":""},{"$f":"IF(ISBLANK(Vrijwilligersregister!C25)=TRUE,\"\",SUMIF('Nominatieve lijst'!$D$10:$D$3009,C25,'Nominatieve lijst'!$G$10:$G$3009))","v":""},{"$f":"IF(ISBLANK(Vrijwilligersregister!C25)=TRUE,\"\",SUMIF('Nominatieve lijst'!$D$10:$D$3009,C25,'Nominatieve lijst'!$H$10:$H$3009))","v":""},{"$f":"IF(ISBLANK(Vrijwilligersregister!C25)=TRUE,\"\",SUMIF('Nominatieve lijst'!$D$10:$D$3009,C25,'Nominatieve lijst'!$J$10:$J$3009))","v":""},{"$f":"IF(ISBLANK(Vrijwilligersregister!C25)=TRUE,\"\",D25+F25)","v":""},{"$f":"Vrijwilligersregister!L25","v":0}]
[null,18,{"$f":"IF(ISBLANK(Vrijwilligersregister!C26)=TRUE,\"\",Vrijwilligersregister!C26)","v":""},{"$f":"IF(ISBLANK(Vrijwilligersregister!C26)=TRUE,\"\",SUMIF('Nominatieve lijst'!$D$10:$D$3009,C26,'Nominatieve lijst'!$G$10:$G$3009))","v":""},{"$f":"IF(ISBLANK(Vrijwilligersregister!C26)=TRUE,\"\",SUMIF('Nominatieve lijst'!$D$10:$D$3009,C26,'Nominatieve lijst'!$H$10:$H$3009))","v":""},{"$f":"IF(ISBLANK(Vrijwilligersregister!C26)=TRUE,\"\",SUMIF('Nominatieve lijst'!$D$10:$D$3009,C26,'Nominatieve lijst'!$J$10:$J$3009))","v":""},{"$f":"IF(ISBLANK(Vrijwilligersregister!C26)=TRUE,\"\",D26+F26)","v":""},{"$f":"Vrijwilligersregister!L26","v":0}]
[null,19,{"$f":"IF(ISBLANK(Vrijwilligersregister!C27)=TRUE,\"\",Vrijwilligersregister!C27)","v":""},{"$f":"IF(ISBLANK(Vrijwilligersregister!C27)=TRUE,\"\",SUMIF('Nominatieve lijst'!$D$10:$D$3009,C27,'Nominatieve lijst'!$G$10:$G$3009))","v":""},{"$f":"IF(ISBLANK(Vrijwilligersregister!C27)=TRUE,\"\",SUMIF('Nominatieve lijst'!$D$10:$D$3009,C27,'Nominatieve lijst'!$H$10:$H$3009))","v":""},{"$f":"IF(ISBLANK(Vrijwilligersregister!C27)=TRUE,\"\",SUMIF('Nominatieve lijst'!$D$10:$D$3009,C27,'Nominatieve lijst'!$J$10:$J$3009))","v":""},{"$f":"IF(ISBLANK(Vrijwilligersregister!C27)=TRUE,\"\",D27+F27)","v":""},{"$f":"Vrijwilligersregister!L27","v":0}]
[null,20,{"$f":"IF(ISBLANK(Vrijwilligersregister!C28)=TRUE,\"\",Vrijwilligersregister!C28)","v":""},{"$f":"IF(ISBLANK(Vrijwilligersregister!C28)=TRUE,\"\",SUMIF('Nominatieve lijst'!$D$10:$D$3009,C28,'Nominatieve lijst'!$G$10:$G$3009))","v":""},{"$f":"IF(ISBLANK(Vrijwilligersregister!C28)=TRUE,\"\",SUMIF('Nominatieve lijst'!$D$10:$D$3009,C28,'Nominatieve lijst'!$H$10:$H$3009))","v":""},{"$f":"IF(ISBLANK(Vrijwilligersregister!C28)=TRUE,\"\",SUMIF('Nominatieve lijst'!$D$10:$D$3009,C28,'Nominatieve lijst'!$J$10:$J$3009))","v":""},{"$f":"IF(ISBLANK(Vrijwilligersregister!C28)=TRUE,\"\",D28+F28)","v":""},{"$f":"Vrijwilligersregister!L28","v":0}]
[null,21,{"$f":"IF(ISBLANK(Vrijwilligersregister!C29)=TRUE,\"\",Vrijwilligersregister!C29)","v":""},{"$f":"IF(ISBLANK(Vrijwilligersregister!C29)=TRUE,\"\",SUMIF('Nominatieve lijst'!$D$10:$D$3009,C29,'Nominatieve lijst'!$G$10:$G$3009))","v":""},{"$f":"IF(ISBLANK(Vrijwilligersregister!C29)=TRUE,\"\",SUMIF('Nominatieve lijst'!$D$10:$D$3009,C29,'Nominatieve lijst'!$H$10:$H$3009))","v":""},{"$f":"IF(ISBLANK(Vrijwilligersregister!C29)=TRUE,\"\",SUMIF('Nominatieve lijst'!$D$10:$D$3009,C29,'Nominatieve lijst'!$J$10:$J$3009))","v":""},{"$f":"IF(ISBLANK(Vrijwilligersregister!C29)=TRUE,\"\",D29+F29)","v":""},{"$f":"Vrijwilligersregister!L29","v":0}]
[null,22,{"$f":"IF(ISBLANK(Vrijwilligersregister!C30)=TRUE,\"\",Vrijwilligersregister!C30)","v":""},{"$f":"IF(ISBLANK(Vrijwilligersregister!C30)=TRUE,\"\",SUMIF('Nominatieve lijst'!$D$10:$D$3009,C30,'Nominatieve lijst'!$G$10:$G$3009))","v":""},{"$f":"IF(ISBLANK(Vrijwilligersregister!C30)=TRUE,\"\",SUMIF('Nominatieve lijst'!$D$10:$D$3009,C30,'Nominatieve lijst'!$H$10:$H$3009))","v":""},{"$f":"IF(ISBLANK(Vrijwilligersregister!C30)=TRUE,\"\",SUMIF('Nominatieve lijst'!$D$10:$D$3009,C30,'Nominatieve lijst'!$J$10:$J$3009))","v":""},{"$f":"IF(ISBLANK(Vrijwilligersregister!C30)=TRUE,\"\",D30+F30)","v":""},{"$f":"Vrijwilligersregister!L30","v":0}]
[null,23,{"$f":"IF(ISBLANK(Vrijwilligersregister!C31)=TRUE,\"\",Vrijwilligersregister!C31)","v":""},{"$f":"IF(ISBLANK(Vrijwilligersregister!C31)=TRUE,\"\",SUMIF('Nominatieve lijst'!$D$10:$D$3009,C31,'Nominatieve lijst'!$G$10:$G$3009))","v":""},{"$f":"IF(ISBLANK(Vrijwilligersregister!C31)=TRUE,\"\",SUMIF('Nominatieve lijst'!$D$10:$D$3009,C31,'Nominatieve lijst'!$H$10:$H$3009))","v":""},{"$f":"IF(ISBLANK(Vrijwilligersregister!C31)=TRUE,\"\",SUMIF('Nominatieve lijst'!$D$10:$D$3009,C31,'Nominatieve lijst'!$J$10:$J$3009))","v":""},{"$f":"IF(ISBLANK(Vrijwilligersregister!C31)=TRUE,\"\",D31+F31)","v":""},{"$f":"Vrijwilligersregister!L31","v":0}]
[null,24,{"$f":"IF(ISBLANK(Vrijwilligersregister!C32)=TRUE,\"\",Vrijwilligersregister!C32)","v":""},{"$f":"IF(ISBLANK(Vrijwilligersregister!C32)=TRUE,\"\",SUMIF('Nominatieve lijst'!$D$10:$D$3009,C32,'Nominatieve lijst'!$G$10:$G$3009))","v":""},{"$f":"IF(ISBLANK(Vrijwilligersregister!C32)=TRUE,\"\",SUMIF('Nominatieve lijst'!$D$10:$D$3009,C32,'Nominatieve lijst'!$H$10:$H$3009))","v":""},{"$f":"IF(ISBLANK(Vrijwilligersregister!C32)=TRUE,\"\",SUMIF('Nominatieve lijst'!$D$10:$D$3009,C32,'Nominatieve lijst'!$J$10:$J$3009))","v":""},{"$f":"IF(ISBLANK(Vrijwilligersregister!C32)=TRUE,\"\",D32+F32)","v":""},{"$f":"Vrijwilligersregister!L32","v":0}]
[null,25,{"$f":"IF(ISBLANK(Vrijwilligersregister!C33)=TRUE,\"\",Vrijwilligersregister!C33)","v":""},{"$f":"IF(ISBLANK(Vrijwilligersregister!C33)=TRUE,\"\",SUMIF('Nominatieve lijst'!$D$10:$D$3009,C33,'Nominatieve lijst'!$G$10:$G$3009))","v":""},{"$f":"IF(ISBLANK(Vrijwilligersregister!C33)=TRUE,\"\",SUMIF('Nominatieve lijst'!$D$10:$D$3009,C33,'Nominatieve lijst'!$H$10:$H$3009))","v":""},{"$f":"IF(ISBLANK(Vrijwilligersregister!C33)=TRUE,\"\",SUMIF('Nominatieve lijst'!$D$10:$D$3009,C33,'Nominatieve lijst'!$J$10:$J$3009))","v":""},{"$f":"IF(ISBLANK(Vrijwilligersregister!C33)=TRUE,\"\",D33+F33)","v":""},{"$f":"Vrijwilligersregister!L33","v":0}]
[null,26,{"$f":"IF(ISBLANK(Vrijwilligersregister!C34)=TRUE,\"\",Vrijwilligersregister!C34)","v":""},{"$f":"IF(ISBLANK(Vrijwilligersregister!C34)=TRUE,\"\",SUMIF('Nominatieve lijst'!$D$10:$D$3009,C34,'Nominatieve lijst'!$G$10:$G$3009))","v":""},{"$f":"IF(ISBLANK(Vrijwilligersregister!C34)=TRUE,\"\",SUMIF('Nominatieve lijst'!$D$10:$D$3009,C34,'Nominatieve lijst'!$H$10:$H$3009))","v":""},{"$f":"IF(ISBLANK(Vrijwilligersregister!C34)=TRUE,\"\",SUMIF('Nominatieve lijst'!$D$10:$D$3009,C34,'Nominatieve lijst'!$J$10:$J$3009))","v":""},{"$f":"IF(ISBLANK(Vrijwilligersregister!C34)=TRUE,\"\",D34+F34)","v":""},{"$f":"Vrijwilligersregister!L34","v":0}]
[null,27,{"$f":"IF(ISBLANK(Vrijwilligersregister!C35)=TRUE,\"\",Vrijwilligersregister!C35)","v":""},{"$f":"IF(ISBLANK(Vrijwilligersregister!C35)=TRUE,\"\",SUMIF('Nominatieve lijst'!$D$10:$D$3009,C35,'Nominatieve lijst'!$G$10:$G$3009))","v":""},{"$f":"IF(ISBLANK(Vrijwilligersregister!C35)=TRUE,\"\",SUMIF('Nominatieve lijst'!$D$10:$D$3009,C35,'Nominatieve lijst'!$H$10:$H$3009))","v":""},{"$f":"IF(ISBLANK(Vrijwilligersregister!C35)=TRUE,\"\",SUMIF('Nominatieve lijst'!$D$10:$D$3009,C35,'Nominatieve lijst'!$J$10:$J$3009))","v":""},{"$f":"IF(ISBLANK(Vrijwilligersregister!C35)=TRUE,\"\",D35+F35)","v":""},{"$f":"Vrijwilligersregister!L35","v":0}]
[null,28,{"$f":"IF(ISBLANK(Vrijwilligersregister!C36)=TRUE,\"\",Vrijwilligersregister!C36)","v":""},{"$f":"IF(ISBLANK(Vrijwilligersregister!C36)=TRUE,\"\",SUMIF('Nominatieve lijst'!$D$10:$D$3009,C36,'Nominatieve lijst'!$G$10:$G$3009))","v":""},{"$f":"IF(ISBLANK(Vrijwilligersregister!C36)=TRUE,\"\",SUMIF('Nominatieve lijst'!$D$10:$D$3009,C36,'Nominatieve lijst'!$H$10:$H$3009))","v":""},{"$f":"IF(ISBLANK(Vrijwilligersregister!C36)=TRUE,\"\",SUMIF('Nominatieve lijst'!$D$10:$D$3009,C36,'Nominatieve lijst'!$J$10:$J$3009))","v":""},{"$f":"IF(ISBLANK(Vrijwilligersregister!C36)=TRUE,\"\",D36+F36)","v":""},{"$f":"Vrijwilligersregister!L36","v":0}]
[null,29,{"$f":"IF(ISBLANK(Vrijwilligersregister!C37)=TRUE,\"\",Vrijwilligersregister!C37)","v":""},{"$f":"IF(ISBLANK(Vrijwilligersregister!C37)=TRUE,\"\",SUMIF('Nominatieve lijst'!$D$10:$D$3009,C37,'Nominatieve lijst'!$G$10:$G$3009))","v":""},{"$f":"IF(ISBLANK(Vrijwilligersregister!C37)=TRUE,\"\",SUMIF('Nominatieve lijst'!$D$10:$D$3009,C37,'Nominatieve lijst'!$H$10:$H$3009))","v":""},{"$f":"IF(ISBLANK(Vrijwilligersregister!C37)=TRUE,\"\",SUMIF('Nominatieve lijst'!$D$10:$D$3009,C37,'Nominatieve lijst'!$J$10:$J$3009))","v":""},{"$f":"IF(ISBLANK(Vrijwilligersregister!C37)=TRUE,\"\",D37+F37)","v":""},{"$f":"Vrijwilligersregister!L37","v":0}]
[null,30,{"$f":"IF(ISBLANK(Vrijwilligersregister!C38)=TRUE,\"\",Vrijwilligersregister!C38)","v":""},{"$f":"IF(ISBLANK(Vrijwilligersregister!C38)=TRUE,\"\",SUMIF('Nominatieve lijst'!$D$10:$D$3009,C38,'Nominatieve lijst'!$G$10:$G$3009))","v":""},{"$f":"IF(ISBLANK(Vrijwilligersregister!C38)=TRUE,\"\",SUMIF('Nominatieve lijst'!$D$10:$D$3009,C38,'Nominatieve lijst'!$H$10:$H$3009))","v":""},{"$f":"IF(ISBLANK(Vrijwilligersregister!C38)=TRUE,\"\",SUMIF('Nominatieve lijst'!$D$10:$D$3009,C38,'Nominatieve lijst'!$J$10:$J$3009))","v":""},{"$f":"IF(ISBLANK(Vrijwilligersregister!C38)=TRUE,\"\",D38+F38)","v":""},{"$f":"Vrijwilligersregister!L38","v":0}]
[null,31,{"$f":"IF(ISBLANK(Vrijwilligersregister!C39)=TRUE,\"\",Vrijwilligersregister!C39)","v":""},{"$f":"IF(ISBLANK(Vrijwilligersregister!C39)=TRUE,\"\",SUMIF('Nominatieve lijst'!$D$10:$D$3009,C39,'Nominatieve lijst'!$G$10:$G$3009))","v":""},{"$f":"IF(ISBLANK(Vrijwilligersregister!C39)=TRUE,\"\",SUMIF('Nominatieve lijst'!$D$10:$D$3009,C39,'Nominatieve lijst'!$H$10:$H$3009))","v":""},{"$f":"IF(ISBLANK(Vrijwilligersregister!C39)=TRUE,\"\",SUMIF('Nominatieve lijst'!$D$10:$D$3009,C39,'Nominatieve lijst'!$J$10:$J$3009))","v":""},{"$f":"IF(ISBLANK(Vrijwilligersregister!C39)=TRUE,\"\",D39+F39)","v":""},{"$f":"Vrijwilligersregister!L39","v":0}]
[null,32,{"$f":"IF(ISBLANK(Vrijwilligersregister!C40)=TRUE,\"\",Vrijwilligersregister!C40)","v":""},{"$f":"IF(ISBLANK(Vrijwilligersregister!C40)=TRUE,\"\",SUMIF('Nominatieve lijst'!$D$10:$D$3009,C40,'Nominatieve lijst'!$G$10:$G$3009))","v":""},{"$f":"IF(ISBLANK(Vrijwilligersregister!C40)=TRUE,\"\",SUMIF('Nominatieve lijst'!$D$10:$D$3009,C40,'Nominatieve lijst'!$H$10:$H$3009))","v":""},{"$f":"IF(ISBLANK(Vrijwilligersregister!C40)=TRUE,\"\",SUMIF('Nominatieve lijst'!$D$10:$D$3009,C40,'Nominatieve lijst'!$J$10:$J$3009))","v":""},{"$f":"IF(ISBLANK(Vrijwilligersregister!C40)=TRUE,\"\",D40+F40)","v":""},{"$f":"Vrijwilligersregister!L40","v":0}]
[null,33,{"$f":"IF(ISBLANK(Vrijwilligersregister!C41)=TRUE,\"\",Vrijwilligersregister!C41)","v":""},{"$f":"IF(ISBLANK(Vrijwilligersregister!C41)=TRUE,\"\",SUMIF('Nominatieve lijst'!$D$10:$D$3009,C41,'Nominatieve lijst'!$G$10:$G$3009))","v":""},{"$f":"IF(ISBLANK(Vrijwilligersregister!C41)=TRUE,\"\",SUMIF('Nominatieve lijst'!$D$10:$D$3009,C41,'Nominatieve lijst'!$H$10:$H$3009))","v":""},{"$f":"IF(ISBLANK(Vrijwilligersregister!C41)=TRUE,\"\",SUMIF('Nominatieve lijst'!$D$10:$D$3009,C41,'Nominatieve lijst'!$J$10:$J$3009))","v":""},{"$f":"IF(ISBLANK(Vrijwilligersregister!C41)=TRUE,\"\",D41+F41)","v":""},{"$f":"Vrijwilligersregister!L41","v":0}]
[null,34,{"$f":"IF(ISBLANK(Vrijwilligersregister!C42)=TRUE,\"\",Vrijwilligersregister!C42)","v":""},{"$f":"IF(ISBLANK(Vrijwilligersregister!C42)=TRUE,\"\",SUMIF('Nominatieve lijst'!$D$10:$D$3009,C42,'Nominatieve lijst'!$G$10:$G$3009))","v":""},{"$f":"IF(ISBLANK(Vrijwilligersregister!C42)=TRUE,\"\",SUMIF('Nominatieve lijst'!$D$10:$D$3009,C42,'Nominatieve lijst'!$H$10:$H$3009))","v":""},{"$f":"IF(ISBLANK(Vrijwilligersregister!C42)=TRUE,\"\",SUMIF('Nominatieve lijst'!$D$10:$D$3009,C42,'Nominatieve lijst'!$J$10:$J$3009))","v":""},{"$f":"IF(ISBLANK(Vrijwilligersregister!C42)=TRUE,\"\",D42+F42)","v":""},{"$f":"Vrijwilligersregister!L42","v":0}]
[null,35,{"$f":"IF(ISBLANK(Vrijwilligersregister!C43)=TRUE,\"\",Vrijwilligersregister!C43)","v":""},{"$f":"IF(ISBLANK(Vrijwilligersregister!C43)=TRUE,\"\",SUMIF('Nominatieve lijst'!$D$10:$D$3009,C43,'Nominatieve lijst'!$G$10:$G$3009))","v":""},{"$f":"IF(ISBLANK(Vrijwilligersregister!C43)=TRUE,\"\",SUMIF('Nominatieve lijst'!$D$10:$D$3009,C43,'Nominatieve lijst'!$H$10:$H$3009))","v":""},{"$f":"IF(ISBLANK(Vrijwilligersregister!C43)=TRUE,\"\",SUMIF('Nominatieve lijst'!$D$10:$D$3009,C43,'Nominatieve lijst'!$J$10:$J$3009))","v":""},{"$f":"IF(ISBLANK(Vrijwilligersregister!C43)=TRUE,\"\",D43+F43)","v":""},{"$f":"Vrijwilligersregister!L43","v":0}]
[null,36,{"$f":"IF(ISBLANK(Vrijwilligersregister!C44)=TRUE,\"\",Vrijwilligersregister!C44)","v":""},{"$f":"IF(ISBLANK(Vrijwilligersregister!C44)=TRUE,\"\",SUMIF('Nominatieve lijst'!$D$10:$D$3009,C44,'Nominatieve lijst'!$G$10:$G$3009))","v":""},{"$f":"IF(ISBLANK(Vrijwilligersregister!C44)=TRUE,\"\",SUMIF('Nominatieve lijst'!$D$10:$D$3009,C44,'Nominatieve lijst'!$H$10:$H$3009))","v":""},{"$f":"IF(ISBLANK(Vrijwilligersregister!C44)=TRUE,\"\",SUMIF('Nominatieve lijst'!$D$10:$D$3009,C44,'Nominatieve lijst'!$J$10:$J$3009))","v":""},{"$f":"IF(ISBLANK(Vrijwilligersregister!C44)=TRUE,\"\",D44+F44)","v":""},{"$f":"Vrijwilligersregister!L44","v":0}]
[null,37,{"$f":"IF(ISBLANK(Vrijwilligersregister!C45)=TRUE,\"\",Vrijwilligersregister!C45)","v":""},{"$f":"IF(ISBLANK(Vrijwilligersregister!C45)=TRUE,\"\",SUMIF('Nominatieve lijst'!$D$10:$D$3009,C45,'Nominatieve lijst'!$G$10:$G$3009))","v":""},{"$f":"IF(ISBLANK(Vrijwilligersregister!C45)=TRUE,\"\",SUMIF('Nominatieve lijst'!$D$10:$D$3009,C45,'Nominatieve lijst'!$H$10:$H$3009))","v":""},{"$f":"IF(ISBLANK(Vrijwilligersregister!C45)=TRUE,\"\",SUMIF('Nominatieve lijst'!$D$10:$D$3009,C45,'Nominatieve lijst'!$J$10:$J$3009))","v":""},{"$f":"IF(ISBLANK(Vrijwilligersregister!C45)=TRUE,\"\",D45+F45)","v":""},{"$f":"Vrijwilligersregister!L45","v":0}]
[null,38,{"$f":"IF(ISBLANK(Vrijwilligersregister!C46)=TRUE,\"\",Vrijwilligersregister!C46)","v":""},{"$f":"IF(ISBLANK(Vrijwilligersregister!C46)=TRUE,\"\",SUMIF('Nominatieve lijst'!$D$10:$D$3009,C46,'Nominatieve lijst'!$G$10:$G$3009))","v":""},{"$f":"IF(ISBLANK(Vrijwilligersregister!C46)=TRUE,\"\",SUMIF('Nominatieve lijst'!$D$10:$D$3009,C46,'Nominatieve lijst'!$H$10:$H$3009))","v":""},{"$f":"IF(ISBLANK(Vrijwilligersregister!C46)=TRUE,\"\",SUMIF('Nominatieve lijst'!$D$10:$D$3009,C46,'Nominatieve lijst'!$J$10:$J$3009))","v":""},{"$f":"IF(ISBLANK(Vrijwilligersregister!C46)=TRUE,\"\",D46+F46)","v":""},{"$f":"Vrijwilligersregister!L46","v":0}]
[null,39,{"$f":"IF(ISBLANK(Vrijwilligersregister!C47)=TRUE,\"\",Vrijwilligersregister!C47)","v":""},{"$f":"IF(ISBLANK(Vrijwilligersregister!C47)=TRUE,\"\",SUMIF('Nominatieve lijst'!$D$10:$D$3009,C47,'Nominatieve lijst'!$G$10:$G$3009))","v":""},{"$f":"IF(ISBLANK(Vrijwilligersregister!C47)=TRUE,\"\",SUMIF('Nominatieve lijst'!$D$10:$D$3009,C47,'Nominatieve lijst'!$H$10:$H$3009))","v":""},{"$f":"IF(ISBLANK(Vrijwilligersregister!C47)=TRUE,\"\",SUMIF('Nominatieve lijst'!$D$10:$D$3009,C47,'Nominatieve lijst'!$J$10:$J$3009))","v":""},{"$f":"IF(ISBLANK(Vrijwilligersregister!C47)=TRUE,\"\",D47+F47)","v":""},{"$f":"Vrijwilligersregister!L47","v":0}]
[null,40,{"$f":"IF(ISBLANK(Vrijwilligersregister!C48)=TRUE,\"\",Vrijwilligersregister!C48)","v":""},{"$f":"IF(ISBLANK(Vrijwilligersregister!C48)=TRUE,\"\",SUMIF('Nominatieve lijst'!$D$10:$D$3009,C48,'Nominatieve lijst'!$G$10:$G$3009))","v":""},{"$f":"IF(ISBLANK(Vrijwilligersregister!C48)=TRUE,\"\",SUMIF('Nominatieve lijst'!$D$10:$D$3009,C48,'Nominatieve lijst'!$H$10:$H$3009))","v":""},{"$f":"IF(ISBLANK(Vrijwilligersregister!C48)=TRUE,\"\",SUMIF('Nominatieve lijst'!$D$10:$D$3009,C48,'Nominatieve lijst'!$J$10:$J$3009))","v":""},{"$f":"IF(ISBLANK(Vrijwilligersregister!C48)=TRUE,\"\",D48+F48)","v":""},{"$f":"Vrijwilligersregister!L48","v":0}]
[null,41,{"$f":"IF(ISBLANK(Vrijwilligersregister!C49)=TRUE,\"\",Vrijwilligersregister!C49)","v":""},{"$f":"IF(ISBLANK(Vrijwilligersregister!C49)=TRUE,\"\",SUMIF('Nominatieve lijst'!$D$10:$D$3009,C49,'Nominatieve lijst'!$G$10:$G$3009))","v":""},{"$f":"IF(ISBLANK(Vrijwilligersregister!C49)=TRUE,\"\",SUMIF('Nominatieve lijst'!$D$10:$D$3009,C49,'Nominatieve lijst'!$H$10:$H$3009))","v":""},{"$f":"IF(ISBLANK(Vrijwilligersregister!C49)=TRUE,\"\",SUMIF('Nominatieve lijst'!$D$10:$D$3009,C49,'Nominatieve lijst'!$J$10:$J$3009))","v":""},{"$f":"IF(ISBLANK(Vrijwilligersregister!C49)=TRUE,\"\",D49+F49)","v":""},{"$f":"Vrijwilligersregister!L49","v":0}]
[null,42,{"$f":"IF(ISBLANK(Vrijwilligersregister!C50)=TRUE,\"\",Vrijwilligersregister!C50)","v":""},{"$f":"IF(ISBLANK(Vrijwilligersregister!C50)=TRUE,\"\",SUMIF('Nominatieve lijst'!$D$10:$D$3009,C50,'Nominatieve lijst'!$G$10:$G$3009))","v":""},{"$f":"IF(ISBLANK(Vrijwilligersregister!C50)=TRUE,\"\",SUMIF('Nominatieve lijst'!$D$10:$D$3009,C50,'Nominatieve lijst'!$H$10:$H$3009))","v":""},{"$f":"IF(ISBLANK(Vrijwilligersregister!C50)=TRUE,\"\",SUMIF('Nominatieve lijst'!$D$10:$D$3009,C50,'Nominatieve lijst'!$J$10:$J$3009))","v":""},{"$f":"IF(ISBLANK(Vrijwilligersregister!C50)=TRUE,\"\",D50+F50)","v":""},{"$f":"Vrijwilligersregister!L50","v":0}]
[null,43,{"$f":"IF(ISBLANK(Vrijwilligersregister!C51)=TRUE,\"\",Vrijwilligersregister!C51)","v":""},{"$f":"IF(ISBLANK(Vrijwilligersregister!C51)=TRUE,\"\",SUMIF('Nominatieve lijst'!$D$10:$D$3009,C51,'Nominatieve lijst'!$G$10:$G$3009))","v":""},{"$f":"IF(ISBLANK(Vrijwilligersregister!C51)=TRUE,\"\",SUMIF('Nominatieve lijst'!$D$10:$D$3009,C51,'Nominatieve lijst'!$H$10:$H$3009))","v":""},{"$f":"IF(ISBLANK(Vrijwilligersregister!C51)=TRUE,\"\",SUMIF('Nominatieve lijst'!$D$10:$D$3009,C51,'Nominatieve lijst'!$J$10:$J$3009))","v":""},{"$f":"IF(ISBLANK(Vrijwilligersregister!C51)=TRUE,\"\",D51+F51)","v":""},{"$f":"Vrijwilligersregister!L51","v":0}]
[null,44,{"$f":"IF(ISBLANK(Vrijwilligersregister!C52)=TRUE,\"\",Vrijwilligersregister!C52)","v":""},{"$f":"IF(ISBLANK(Vrijwilligersregister!C52)=TRUE,\"\",SUMIF('Nominatieve lijst'!$D$10:$D$3009,C52,'Nominatieve lijst'!$G$10:$G$3009))","v":""},{"$f":"IF(ISBLANK(Vrijwilligersregister!C52)=TRUE,\"\",SUMIF('Nominatieve lijst'!$D$10:$D$3009,C52,'Nominatieve lijst'!$H$10:$H$3009))","v":""},{"$f":"IF(ISBLANK(Vrijwilligersregister!C52)=TRUE,\"\",SUMIF('Nominatieve lijst'!$D$10:$D$3009,C52,'Nominatieve lijst'!$J$10:$J$3009))","v":""},{"$f":"IF(ISBLANK(Vrijwilligersregister!C52)=TRUE,\"\",D52+F52)","v":""},{"$f":"Vrijwilligersregister!L52","v":0}]
[null,45,{"$f":"IF(ISBLANK(Vrijwilligersregister!C53)=TRUE,\"\",Vrijwilligersregister!C53)","v":""},{"$f":"IF(ISBLANK(Vrijwilligersregister!C53)=TRUE,\"\",SUMIF('Nominatieve lijst'!$D$10:$D$3009,C53,'Nominatieve lijst'!$G$10:$G$3009))","v":""},{"$f":"IF(ISBLANK(Vrijwilligersregister!C53)=TRUE,\"\",SUMIF('Nominatieve lijst'!$D$10:$D$3009,C53,'Nominatieve lijst'!$H$10:$H$3009))","v":""},{"$f":"IF(ISBLANK(Vrijwilligersregister!C53)=TRUE,\"\",SUMIF('Nominatieve lijst'!$D$10:$D$3009,C53,'Nominatieve lijst'!$J$10:$J$3009))","v":""},{"$f":"IF(ISBLANK(Vrijwilligersregister!C53)=TRUE,\"\",D53+F53)","v":""},{"$f":"Vrijwilligersregister!L53","v":0}]
[null,46,{"$f":"IF(ISBLANK(Vrijwilligersregister!C54)=TRUE,\"\",Vrijwilligersregister!C54)","v":""},{"$f":"IF(ISBLANK(Vrijwilligersregister!C54)=TRUE,\"\",SUMIF('Nominatieve lijst'!$D$10:$D$3009,C54,'Nominatieve lijst'!$G$10:$G$3009))","v":""},{"$f":"IF(ISBLANK(Vrijwilligersregister!C54)=TRUE,\"\",SUMIF('Nominatieve lijst'!$D$10:$D$3009,C54,'Nominatieve lijst'!$H$10:$H$3009))","v":""},{"$f":"IF(ISBLANK(Vrijwilligersregister!C54)=TRUE,\"\",SUMIF('Nominatieve lijst'!$D$10:$D$3009,C54,'Nominatieve lijst'!$J$10:$J$3009))","v":""},{"$f":"IF(ISBLANK(Vrijwilligersregister!C54)=TRUE,\"\",D54+F54)","v":""},{"$f":"Vrijwilligersregister!L54","v":0}]
[null,47,{"$f":"IF(ISBLANK(Vrijwilligersregister!C55)=TRUE,\"\",Vrijwilligersregister!C55)","v":""},{"$f":"IF(ISBLANK(Vrijwilligersregister!C55)=TRUE,\"\",SUMIF('Nominatieve lijst'!$D$10:$D$3009,C55,'Nominatieve lijst'!$G$10:$G$3009))","v":""},{"$f":"IF(ISBLANK(Vrijwilligersregister!C55)=TRUE,\"\",SUMIF('Nominatieve lijst'!$D$10:$D$3009,C55,'Nominatieve lijst'!$H$10:$H$3009))","v":""},{"$f":"IF(ISBLANK(Vrijwilligersregister!C55)=TRUE,\"\",SUMIF('Nominatieve lijst'!$D$10:$D$3009,C55,'Nominatieve lijst'!$J$10:$J$3009))","v":""},{"$f":"IF(ISBLANK(Vrijwilligersregister!C55)=TRUE,\"\",D55+F55)","v":""},{"$f":"Vrijwilligersregister!L55","v":0}]
[null,48,{"$f":"IF(ISBLANK(Vrijwilligersregister!C56)=TRUE,\"\",Vrijwilligersregister!C56)","v":""},{"$f":"IF(ISBLANK(Vrijwilligersregister!C56)=TRUE,\"\",SUMIF('Nominatieve lijst'!$D$10:$D$3009,C56,'Nominatieve lijst'!$G$10:$G$3009))","v":""},{"$f":"IF(ISBLANK(Vrijwilligersregister!C56)=TRUE,\"\",SUMIF('Nominatieve lijst'!$D$10:$D$3009,C56,'Nominatieve lijst'!$H$10:$H$3009))","v":""},{"$f":"IF(ISBLANK(Vrijwilligersregister!C56)=TRUE,\"\",SUMIF('Nominatieve lijst'!$D$10:$D$3009,C56,'Nominatieve lijst'!$J$10:$J$3009))","v":""},{"$f":"IF(ISBLANK(Vrijwilligersregister!C56)=TRUE,\"\",D56+F56)","v":""},{"$f":"Vrijwilligersregister!L56","v":0}]
[null,49,{"$f":"IF(ISBLANK(Vrijwilligersregister!C57)=TRUE,\"\",Vrijwilligersregister!C57)","v":""},{"$f":"IF(ISBLANK(Vrijwilligersregister!C57)=TRUE,\"\",SUMIF('Nominatieve lijst'!$D$10:$D$3009,C57,'Nominatieve lijst'!$G$10:$G$3009))","v":""},{"$f":"IF(ISBLANK(Vrijwilligersregister!C57)=TRUE,\"\",SUMIF('Nominatieve lijst'!$D$10:$D$3009,C57,'Nominatieve lijst'!$H$10:$H$3009))","v":""},{"$f":"IF(ISBLANK(Vrijwilligersregister!C57)=TRUE,\"\",SUMIF('Nominatieve lijst'!$D$10:$D$3009,C57,'Nominatieve lijst'!$J$10:$J$3009))","v":""},{"$f":"IF(ISBLANK(Vrijwilligersregister!C57)=TRUE,\"\",D57+F57)","v":""},{"$f":"Vrijwilligersregister!L57","v":0}]
[null,50,{"$f":"IF(ISBLANK(Vrijwilligersregister!C58)=TRUE,\"\",Vrijwilligersregister!C58)","v":""},{"$f":"IF(ISBLANK(Vrijwilligersregister!C58)=TRUE,\"\",SUMIF('Nominatieve lijst'!$D$10:$D$3009,C58,'Nominatieve lijst'!$G$10:$G$3009))","v":""},{"$f":"IF(ISBLANK(Vrijwilligersregister!C58)=TRUE,\"\",SUMIF('Nominatieve lijst'!$D$10:$D$3009,C58,'Nominatieve lijst'!$H$10:$H$3009))","v":""},{"$f":"IF(ISBLANK(Vrijwilligersregister!C58)=TRUE,\"\",SUMIF('Nominatieve lijst'!$D$10:$D$3009,C58,'Nominatieve lijst'!$J$10:$J$3009))","v":""},{"$f":"IF(ISBLANK(Vrijwilligersregister!C58)=TRUE,\"\",D58+F58)","v":""},{"$f":"Vrijwilligersregister!L58","v":0}]
[null,51,{"$f":"IF(ISBLANK(Vrijwilligersregister!C59)=TRUE,\"\",Vrijwilligersregister!C59)","v":""},{"$f":"IF(ISBLANK(Vrijwilligersregister!C59)=TRUE,\"\",SUMIF('Nominatieve lijst'!$D$10:$D$3009,C59,'Nominatieve lijst'!$G$10:$G$3009))","v":""},{"$f":"IF(ISBLANK(Vrijwilligersregister!C59)=TRUE,\"\",SUMIF('Nominatieve lijst'!$D$10:$D$3009,C59,'Nominatieve lijst'!$H$10:$H$3009))","v":""},{"$f":"IF(ISBLANK(Vrijwilligersregister!C59)=TRUE,\"\",SUMIF('Nominatieve lijst'!$D$10:$D$3009,C59,'Nominatieve lijst'!$J$10:$J$3009))","v":""},{"$f":"IF(ISBLANK(Vrijwilligersregister!C59)=TRUE,\"\",D59+F59)","v":""},{"$f":"Vrijwilligersregister!L59","v":0}]
[null,52,{"$f":"IF(ISBLANK(Vrijwilligersregister!C60)=TRUE,\"\",Vrijwilligersregister!C60)","v":""},{"$f":"IF(ISBLANK(Vrijwilligersregister!C60)=TRUE,\"\",SUMIF('Nominatieve lijst'!$D$10:$D$3009,C60,'Nominatieve lijst'!$G$10:$G$3009))","v":""},{"$f":"IF(ISBLANK(Vrijwilligersregister!C60)=TRUE,\"\",SUMIF('Nominatieve lijst'!$D$10:$D$3009,C60,'Nominatieve lijst'!$H$10:$H$3009))","v":""},{"$f":"IF(ISBLANK(Vrijwilligersregister!C60)=TRUE,\"\",SUMIF('Nominatieve lijst'!$D$10:$D$3009,C60,'Nominatieve lijst'!$J$10:$J$3009))","v":""},{"$f":"IF(ISBLANK(Vrijwilligersregister!C60)=TRUE,\"\",D60+F60)","v":""},{"$f":"Vrijwilligersregister!L60","v":0}]
[null,53,{"$f":"IF(ISBLANK(Vrijwilligersregister!C61)=TRUE,\"\",Vrijwilligersregister!C61)","v":""},{"$f":"IF(ISBLANK(Vrijwilligersregister!C61)=TRUE,\"\",SUMIF('Nominatieve lijst'!$D$10:$D$3009,C61,'Nominatieve lijst'!$G$10:$G$3009))","v":""},{"$f":"IF(ISBLANK(Vrijwilligersregister!C61)=TRUE,\"\",SUMIF('Nominatieve lijst'!$D$10:$D$3009,C61,'Nominatieve lijst'!$H$10:$H$3009))","v":""},{"$f":"IF(ISBLANK(Vrijwilligersregister!C61)=TRUE,\"\",SUMIF('Nominatieve lijst'!$D$10:$D$3009,C61,'Nominatieve lijst'!$J$10:$J$3009))","v":""},{"$f":"IF(ISBLANK(Vrijwilligersregister!C61)=TRUE,\"\",D61+F61)","v":""},{"$f":"Vrijwilligersregister!L61","v":0}]
[null,54,{"$f":"IF(ISBLANK(Vrijwilligersregister!C62)=TRUE,\"\",Vrijwilligersregister!C62)","v":""},{"$f":"IF(ISBLANK(Vrijwilligersregister!C62)=TRUE,\"\",SUMIF('Nominatieve lijst'!$D$10:$D$3009,C62,'Nominatieve lijst'!$G$10:$G$3009))","v":""},{"$f":"IF(ISBLANK(Vrijwilligersregister!C62)=TRUE,\"\",SUMIF('Nominatieve lijst'!$D$10:$D$3009,C62,'Nominatieve lijst'!$H$10:$H$3009))","v":""},{"$f":"IF(ISBLANK(Vrijwilligersregister!C62)=TRUE,\"\",SUMIF('Nominatieve lijst'!$D$10:$D$3009,C62,'Nominatieve lijst'!$J$10:$J$3009))","v":""},{"$f":"IF(ISBLANK(Vrijwilligersregister!C62)=TRUE,\"\",D62+F62)","v":""},{"$f":"Vrijwilligersregister!L62","v":0}]
[null,55,{"$f":"IF(ISBLANK(Vrijwilligersregister!C63)=TRUE,\"\",Vrijwilligersregister!C63)","v":""},{"$f":"IF(ISBLANK(Vrijwilligersregister!C63)=TRUE,\"\",SUMIF('Nominatieve lijst'!$D$10:$D$3009,C63,'Nominatieve lijst'!$G$10:$G$3009))","v":""},{"$f":"IF(ISBLANK(Vrijwilligersregister!C63)=TRUE,\"\",SUMIF('Nominatieve lijst'!$D$10:$D$3009,C63,'Nominatieve lijst'!$H$10:$H$3009))","v":""},{"$f":"IF(ISBLANK(Vrijwilligersregister!C63)=TRUE,\"\",SUMIF('Nominatieve lijst'!$D$10:$D$3009,C63,'Nominatieve lijst'!$J$10:$J$3009))","v":""},{"$f":"IF(ISBLANK(Vrijwilligersregister!C63)=TRUE,\"\",D63+F63)","v":""},{"$f":"Vrijwilligersregister!L63","v":0}]
[null,56,{"$f":"IF(ISBLANK(Vrijwilligersregister!C64)=TRUE,\"\",Vrijwilligersregister!C64)","v":""},{"$f":"IF(ISBLANK(Vrijwilligersregister!C64)=TRUE,\"\",SUMIF('Nominatieve lijst'!$D$10:$D$3009,C64,'Nominatieve lijst'!$G$10:$G$3009))","v":""},{"$f":"IF(ISBLANK(Vrijwilligersregister!C64)=TRUE,\"\",SUMIF('Nominatieve lijst'!$D$10:$D$3009,C64,'Nominatieve lijst'!$H$10:$H$3009))","v":""},{"$f":"IF(ISBLANK(Vrijwilligersregister!C64)=TRUE,\"\",SUMIF('Nominatieve lijst'!$D$10:$D$3009,C64,'Nominatieve lijst'!$J$10:$J$3009))","v":""},{"$f":"IF(ISBLANK(Vrijwilligersregister!C64)=TRUE,\"\",D64+F64)","v":""},{"$f":"Vrijwilligersregister!L64","v":0}]
[null,57,{"$f":"IF(ISBLANK(Vrijwilligersregister!C65)=TRUE,\"\",Vrijwilligersregister!C65)","v":""},{"$f":"IF(ISBLANK(Vrijwilligersregister!C65)=TRUE,\"\",SUMIF('Nominatieve lijst'!$D$10:$D$3009,C65,'Nominatieve lijst'!$G$10:$G$3009))","v":""},{"$f":"IF(ISBLANK(Vrijwilligersregister!C65)=TRUE,\"\",SUMIF('Nominatieve lijst'!$D$10:$D$3009,C65,'Nominatieve lijst'!$H$10:$H$3009))","v":""},{"$f":"IF(ISBLANK(Vrijwilligersregister!C65)=TRUE,\"\",SUMIF('Nominatieve lijst'!$D$10:$D$3009,C65,'Nominatieve lijst'!$J$10:$J$3009))","v":""},{"$f":"IF(ISBLANK(Vrijwilligersregister!C65)=TRUE,\"\",D65+F65)","v":""},{"$f":"Vrijwilligersregister!L65","v":0}]
[null,58,{"$f":"IF(ISBLANK(Vrijwilligersregister!C66)=TRUE,\"\",Vrijwilligersregister!C66)","v":""},{"$f":"IF(ISBLANK(Vrijwilligersregister!C66)=TRUE,\"\",SUMIF('Nominatieve lijst'!$D$10:$D$3009,C66,'Nominatieve lijst'!$G$10:$G$3009))","v":""},{"$f":"IF(ISBLANK(Vrijwilligersregister!C66)=TRUE,\"\",SUMIF('Nominatieve lijst'!$D$10:$D$3009,C66,'Nominatieve lijst'!$H$10:$H$3009))","v":""},{"$f":"IF(ISBLANK(Vrijwilligersregister!C66)=TRUE,\"\",SUMIF('Nominatieve lijst'!$D$10:$D$3009,C66,'Nominatieve lijst'!$J$10:$J$3009))","v":""},{"$f":"IF(ISBLANK(Vrijwilligersregister!C66)=TRUE,\"\",D66+F66)","v":""},{"$f":"Vrijwilligersregister!L66","v":0}]
[null,59,{"$f":"IF(ISBLANK(Vrijwilligersregister!C67)=TRUE,\"\",Vrijwilligersregister!C67)","v":""},{"$f":"IF(ISBLANK(Vrijwilligersregister!C67)=TRUE,\"\",SUMIF('Nominatieve lijst'!$D$10:$D$3009,C67,'Nominatieve lijst'!$G$10:$G$3009))","v":""},{"$f":"IF(ISBLANK(Vrijwilligersregister!C67)=TRUE,\"\",SUMIF('Nominatieve lijst'!$D$10:$D$3009,C67,'Nominatieve lijst'!$H$10:$H$3009))","v":""},{"$f":"IF(ISBLANK(Vrijwilligersregister!C67)=TRUE,\"\",SUMIF('Nominatieve lijst'!$D$10:$D$3009,C67,'Nominatieve lijst'!$J$10:$J$3009))","v":""},{"$f":"IF(ISBLANK(Vrijwilligersregister!C67)=TRUE,\"\",D67+F67)","v":""},{"$f":"Vrijwilligersregister!L67","v":0}]
[null,60,{"$f":"IF(ISBLANK(Vrijwilligersregister!C68)=TRUE,\"\",Vrijwilligersregister!C68)","v":""},{"$f":"IF(ISBLANK(Vrijwilligersregister!C68)=TRUE,\"\",SUMIF('Nominatieve lijst'!$D$10:$D$3009,C68,'Nominatieve lijst'!$G$10:$G$3009))","v":""},{"$f":"IF(ISBLANK(Vrijwilligersregister!C68)=TRUE,\"\",SUMIF('Nominatieve lijst'!$D$10:$D$3009,C68,'Nominatieve lijst'!$H$10:$H$3009))","v":""},{"$f":"IF(ISBLANK(Vrijwilligersregister!C68)=TRUE,\"\",SUMIF('Nominatieve lijst'!$D$10:$D$3009,C68,'Nominatieve lijst'!$J$10:$J$3009))","v":""},{"$f":"IF(ISBLANK(Vrijwilligersregister!C68)=TRUE,\"\",D68+F68)","v":""},{"$f":"Vrijwilligersregister!L68","v":0}]
[null,61,{"$f":"IF(ISBLANK(Vrijwilligersregister!C69)=TRUE,\"\",Vrijwilligersregister!C69)","v":""},{"$f":"IF(ISBLANK(Vrijwilligersregister!C69)=TRUE,\"\",SUMIF('Nominatieve lijst'!$D$10:$D$3009,C69,'Nominatieve lijst'!$G$10:$G$3009))","v":""},{"$f":"IF(ISBLANK(Vrijwilligersregister!C69)=TRUE,\"\",SUMIF('Nominatieve lijst'!$D$10:$D$3009,C69,'Nominatieve lijst'!$H$10:$H$3009))","v":""},{"$f":"IF(ISBLANK(Vrijwilligersregister!C69)=TRUE,\"\",SUMIF('Nominatieve lijst'!$D$10:$D$3009,C69,'Nominatieve lijst'!$J$10:$J$3009))","v":""},{"$f":"IF(ISBLANK(Vrijwilligersregister!C69)=TRUE,\"\",D69+F69)","v":""},{"$f":"Vrijwilligersregister!L69","v":0}]
[null,62,{"$f":"IF(ISBLANK(Vrijwilligersregister!C70)=TRUE,\"\",Vrijwilligersregister!C70)","v":""},{"$f":"IF(ISBLANK(Vrijwilligersregister!C70)=TRUE,\"\",SUMIF('Nominatieve lijst'!$D$10:$D$3009,C70,'Nominatieve lijst'!$G$10:$G$3009))","v":""},{"$f":"IF(ISBLANK(Vrijwilligersregister!C70)=TRUE,\"\",SUMIF('Nominatieve lijst'!$D$10:$D$3009,C70,'Nominatieve lijst'!$H$10:$H$3009))","v":""},{"$f":"IF(ISBLANK(Vrijwilligersregister!C70)=TRUE,\"\",SUMIF('Nominatieve lijst'!$D$10:$D$3009,C70,'Nominatieve lijst'!$J$10:$J$3009))","v":""},{"$f":"IF(ISBLANK(Vrijwilligersregister!C70)=TRUE,\"\",D70+F70)","v":""},{"$f":"Vrijwilligersregister!L70","v":0}]
[null,63,{"$f":"IF(ISBLANK(Vrijwilligersregister!C71)=TRUE,\"\",Vrijwilligersregister!C71)","v":""},{"$f":"IF(ISBLANK(Vrijwilligersregister!C71)=TRUE,\"\",SUMIF('Nominatieve lijst'!$D$10:$D$3009,C71,'Nominatieve lijst'!$G$10:$G$3009))","v":""},{"$f":"IF(ISBLANK(Vrijwilligersregister!C71)=TRUE,\"\",SUMIF('Nominatieve lijst'!$D$10:$D$3009,C71,'Nominatieve lijst'!$H$10:$H$3009))","v":""},{"$f":"IF(ISBLANK(Vrijwilligersregister!C71)=TRUE,\"\",SUMIF('Nominatieve lijst'!$D$10:$D$3009,C71,'Nominatieve lijst'!$J$10:$J$3009))","v":""},{"$f":"IF(ISBLANK(Vrijwilligersregister!C71)=TRUE,\"\",D71+F71)","v":""},{"$f":"Vrijwilligersregister!L71","v":0}]
[null,64,{"$f":"IF(ISBLANK(Vrijwilligersregister!C72)=TRUE,\"\",Vrijwilligersregister!C72)","v":""},{"$f":"IF(ISBLANK(Vrijwilligersregister!C72)=TRUE,\"\",SUMIF('Nominatieve lijst'!$D$10:$D$3009,C72,'Nominatieve lijst'!$G$10:$G$3009))","v":""},{"$f":"IF(ISBLANK(Vrijwilligersregister!C72)=TRUE,\"\",SUMIF('Nominatieve lijst'!$D$10:$D$3009,C72,'Nominatieve lijst'!$H$10:$H$3009))","v":""},{"$f":"IF(ISBLANK(Vrijwilligersregister!C72)=TRUE,\"\",SUMIF('Nominatieve lijst'!$D$10:$D$3009,C72,'Nominatieve lijst'!$J$10:$J$3009))","v":""},{"$f":"IF(ISBLANK(Vrijwilligersregister!C72)=TRUE,\"\",D72+F72)","v":""},{"$f":"Vrijwilligersregister!L72","v":0}]
[null,65,{"$f":"IF(ISBLANK(Vrijwilligersregister!C73)=TRUE,\"\",Vrijwilligersregister!C73)","v":""},{"$f":"IF(ISBLANK(Vrijwilligersregister!C73)=TRUE,\"\",SUMIF('Nominatieve lijst'!$D$10:$D$3009,C73,'Nominatieve lijst'!$G$10:$G$3009))","v":""},{"$f":"IF(ISBLANK(Vrijwilligersregister!C73)=TRUE,\"\",SUMIF('Nominatieve lijst'!$D$10:$D$3009,C73,'Nominatieve lijst'!$H$10:$H$3009))","v":""},{"$f":"IF(ISBLANK(Vrijwilligersregister!C73)=TRUE,\"\",SUMIF('Nominatieve lijst'!$D$10:$D$3009,C73,'Nominatieve lijst'!$J$10:$J$3009))","v":""},{"$f":"IF(ISBLANK(Vrijwilligersregister!C73)=TRUE,\"\",D73+F73)","v":""},{"$f":"Vrijwilligersregister!L73","v":0}]
[null,66,{"$f":"IF(ISBLANK(Vrijwilligersregister!C74)=TRUE,\"\",Vrijwilligersregister!C74)","v":""},{"$f":"IF(ISBLANK(Vrijwilligersregister!C74)=TRUE,\"\",SUMIF('Nominatieve lijst'!$D$10:$D$3009,C74,'Nominatieve lijst'!$G$10:$G$3009))","v":""},{"$f":"IF(ISBLANK(Vrijwilligersregister!C74)=TRUE,\"\",SUMIF('Nominatieve lijst'!$D$10:$D$3009,C74,'Nominatieve lijst'!$H$10:$H$3009))","v":""},{"$f":"IF(ISBLANK(Vrijwilligersregister!C74)=TRUE,\"\",SUMIF('Nominatieve lijst'!$D$10:$D$3009,C74,'Nominatieve lijst'!$J$10:$J$3009))","v":""},{"$f":"IF(ISBLANK(Vrijwilligersregister!C74)=TRUE,\"\",D74+F74)","v":""},{"$f":"Vrijwilligersregister!L74","v":0}]
[null,67,{"$f":"IF(ISBLANK(Vrijwilligersregister!C75)=TRUE,\"\",Vrijwilligersregister!C75)","v":""},{"$f":"IF(ISBLANK(Vrijwilligersregister!C75)=TRUE,\"\",SUMIF('Nominatieve lijst'!$D$10:$D$3009,C75,'Nominatieve lijst'!$G$10:$G$3009))","v":""},{"$f":"IF(ISBLANK(Vrijwilligersregister!C75)=TRUE,\"\",SUMIF('Nominatieve lijst'!$D$10:$D$3009,C75,'Nominatieve lijst'!$H$10:$H$3009))","v":""},{"$f":"IF(ISBLANK(Vrijwilligersregister!C75)=TRUE,\"\",SUMIF('Nominatieve lijst'!$D$10:$D$3009,C75,'Nominatieve lijst'!$J$10:$J$3009))","v":""},{"$f":"IF(ISBLANK(Vrijwilligersregister!C75)=TRUE,\"\",D75+F75)","v":""},{"$f":"Vrijwilligersregister!L75","v":0}]
[null,68,{"$f":"IF(ISBLANK(Vrijwilligersregister!C76)=TRUE,\"\",Vrijwilligersregister!C76)","v":""},{"$f":"IF(ISBLANK(Vrijwilligersregister!C76)=TRUE,\"\",SUMIF('Nominatieve lijst'!$D$10:$D$3009,C76,'Nominatieve lijst'!$G$10:$G$3009))","v":""},{"$f":"IF(ISBLANK(Vrijwilligersregister!C76)=TRUE,\"\",SUMIF('Nominatieve lijst'!$D$10:$D$3009,C76,'Nominatieve lijst'!$H$10:$H$3009))","v":""},{"$f":"IF(ISBLANK(Vrijwilligersregister!C76)=TRUE,\"\",SUMIF('Nominatieve lijst'!$D$10:$D$3009,C76,'Nominatieve lijst'!$J$10:$J$3009))","v":""},{"$f":"IF(ISBLANK(Vrijwilligersregister!C76)=TRUE,\"\",D76+F76)","v":""},{"$f":"Vrijwilligersregister!L76","v":0}]
[null,69,{"$f":"IF(ISBLANK(Vrijwilligersregister!C77)=TRUE,\"\",Vrijwilligersregister!C77)","v":""},{"$f":"IF(ISBLANK(Vrijwilligersregister!C77)=TRUE,\"\",SUMIF('Nominatieve lijst'!$D$10:$D$3009,C77,'Nominatieve lijst'!$G$10:$G$3009))","v":""},{"$f":"IF(ISBLANK(Vrijwilligersregister!C77)=TRUE,\"\",SUMIF('Nominatieve lijst'!$D$10:$D$3009,C77,'Nominatieve lijst'!$H$10:$H$3009))","v":""},{"$f":"IF(ISBLANK(Vrijwilligersregister!C77)=TRUE,\"\",SUMIF('Nominatieve lijst'!$D$10:$D$3009,C77,'Nominatieve lijst'!$J$10:$J$3009))","v":""},{"$f":"IF(ISBLANK(Vrijwilligersregister!C77)=TRUE,\"\",D77+F77)","v":""},{"$f":"Vrijwilligersregister!L77","v":0}]
[null,70,{"$f":"IF(ISBLANK(Vrijwilligersregister!C78)=TRUE,\"\",Vrijwilligersregister!C78)","v":""},{"$f":"IF(ISBLANK(Vrijwilligersregister!C78)=TRUE,\"\",SUMIF('Nominatieve lijst'!$D$10:$D$3009,C78,'Nominatieve lijst'!$G$10:$G$3009))","v":""},{"$f":"IF(ISBLANK(Vrijwilligersregister!C78)=TRUE,\"\",SUMIF('Nominatieve lijst'!$D$10:$D$3009,C78,'Nominatieve lijst'!$H$10:$H$3009))","v":""},{"$f":"IF(ISBLANK(Vrijwilligersregister!C78)=TRUE,\"\",SUMIF('Nominatieve lijst'!$D$10:$D$3009,C78,'Nominatieve lijst'!$J$10:$J$3009))","v":""},{"$f":"IF(ISBLANK(Vrijwilligersregister!C78)=TRUE,\"\",D78+F78)","v":""},{"$f":"Vrijwilligersregister!L78","v":0}]
[null,71,{"$f":"IF(ISBLANK(Vrijwilligersregister!C79)=TRUE,\"\",Vrijwilligersregister!C79)","v":""},{"$f":"IF(ISBLANK(Vrijwilligersregister!C79)=TRUE,\"\",SUMIF('Nominatieve lijst'!$D$10:$D$3009,C79,'Nominatieve lijst'!$G$10:$G$3009))","v":""},{"$f":"IF(ISBLANK(Vrijwilligersregister!C79)=TRUE,\"\",SUMIF('Nominatieve lijst'!$D$10:$D$3009,C79,'Nominatieve lijst'!$H$10:$H$3009))","v":""},{"$f":"IF(ISBLANK(Vrijwilligersregister!C79)=TRUE,\"\",SUMIF('Nominatieve lijst'!$D$10:$D$3009,C79,'Nominatieve lijst'!$J$10:$J$3009))","v":""},{"$f":"IF(ISBLANK(Vrijwilligersregister!C79)=TRUE,\"\",D79+F79)","v":""},{"$f":"Vrijwilligersregister!L79","v":0}]
[null,72,{"$f":"IF(ISBLANK(Vrijwilligersregister!C80)=TRUE,\"\",Vrijwilligersregister!C80)","v":""},{"$f":"IF(ISBLANK(Vrijwilligersregister!C80)=TRUE,\"\",SUMIF('Nominatieve lijst'!$D$10:$D$3009,C80,'Nominatieve lijst'!$G$10:$G$3009))","v":""},{"$f":"IF(ISBLANK(Vrijwilligersregister!C80)=TRUE,\"\",SUMIF('Nominatieve lijst'!$D$10:$D$3009,C80,'Nominatieve lijst'!$H$10:$H$3009))","v":""},{"$f":"IF(ISBLANK(Vrijwilligersregister!C80)=TRUE,\"\",SUMIF('Nominatieve lijst'!$D$10:$D$3009,C80,'Nominatieve lijst'!$J$10:$J$3009))","v":""},{"$f":"IF(ISBLANK(Vrijwilligersregister!C80)=TRUE,\"\",D80+F80)","v":""},{"$f":"Vrijwilligersregister!L80","v":0}]
[null,73,{"$f":"IF(ISBLANK(Vrijwilligersregister!C81)=TRUE,\"\",Vrijwilligersregister!C81)","v":""},{"$f":"IF(ISBLANK(Vrijwilligersregister!C81)=TRUE,\"\",SUMIF('Nominatieve lijst'!$D$10:$D$3009,C81,'Nominatieve lijst'!$G$10:$G$3009))","v":""},{"$f":"IF(ISBLANK(Vrijwilligersregister!C81)=TRUE,\"\",SUMIF('Nominatieve lijst'!$D$10:$D$3009,C81,'Nominatieve lijst'!$H$10:$H$3009))","v":""},{"$f":"IF(ISBLANK(Vrijwilligersregister!C81)=TRUE,\"\",SUMIF('Nominatieve lijst'!$D$10:$D$3009,C81,'Nominatieve lijst'!$J$10:$J$3009))","v":""},{"$f":"IF(ISBLANK(Vrijwilligersregister!C81)=TRUE,\"\",D81+F81)","v":""},{"$f":"Vrijwilligersregister!L81","v":0}]
[null,74,{"$f":"IF(ISBLANK(Vrijwilligersregister!C82)=TRUE,\"\",Vrijwilligersregister!C82)","v":""},{"$f":"IF(ISBLANK(Vrijwilligersregister!C82)=TRUE,\"\",SUMIF('Nominatieve lijst'!$D$10:$D$3009,C82,'Nominatieve lijst'!$G$10:$G$3009))","v":""},{"$f":"IF(ISBLANK(Vrijwilligersregister!C82)=TRUE,\"\",SUMIF('Nominatieve lijst'!$D$10:$D$3009,C82,'Nominatieve lijst'!$H$10:$H$3009))","v":""},{"$f":"IF(ISBLANK(Vrijwilligersregister!C82)=TRUE,\"\",SUMIF('Nominatieve lijst'!$D$10:$D$3009,C82,'Nominatieve lijst'!$J$10:$J$3009))","v":""},{"$f":"IF(ISBLANK(Vrijwilligersregister!C82)=TRUE,\"\",D82+F82)","v":""},{"$f":"Vrijwilligersregister!L82","v":0}]
[null,75,{"$f":"IF(ISBLANK(Vrijwilligersregister!C83)=TRUE,\"\",Vrijwilligersregister!C83)","v":""},{"$f":"IF(ISBLANK(Vrijwilligersregister!C83)=TRUE,\"\",SUMIF('Nominatieve lijst'!$D$10:$D$3009,C83,'Nominatieve lijst'!$G$10:$G$3009))","v":""},{"$f":"IF(ISBLANK(Vrijwilligersregister!C83)=TRUE,\"\",SUMIF('Nominatieve lijst'!$D$10:$D$3009,C83,'Nominatieve lijst'!$H$10:$H$3009))","v":""},{"$f":"IF(ISBLANK(Vrijwilligersregister!C83)=TRUE,\"\",SUMIF('Nominatieve lijst'!$D$10:$D$3009,C83,'Nominatieve lijst'!$J$10:$J$3009))","v":""},{"$f":"IF(ISBLANK(Vrijwilligersregister!C83)=TRUE,\"\",D83+F83)","v":""},{"$f":"Vrijwilligersregister!L83","v":0}]
[null,76,{"$f":"IF(ISBLANK(Vrijwilligersregister!C84)=TRUE,\"\",Vrijwilligersregister!C84)","v":""},{"$f":"IF(ISBLANK(Vrijwilligersregister!C84)=TRUE,\"\",SUMIF('Nominatieve lijst'!$D$10:$D$3009,C84,'Nominatieve lijst'!$G$10:$G$3009))","v":""},{"$f":"IF(ISBLANK(Vrijwilligersregister!C84)=TRUE,\"\",SUMIF('Nominatieve lijst'!$D$10:$D$3009,C84,'Nominatieve lijst'!$H$10:$H$3009))","v":""},{"$f":"IF(ISBLANK(Vrijwilligersregister!C84)=TRUE,\"\",SUMIF('Nominatieve lijst'!$D$10:$D$3009,C84,'Nominatieve lijst'!$J$10:$J$3009))","v":""},{"$f":"IF(ISBLANK(Vrijwilligersregister!C84)=TRUE,\"\",D84+F84)","v":""},{"$f":"Vrijwilligersregister!L84","v":0}]
[null,77,{"$f":"IF(ISBLANK(Vrijwilligersregister!C85)=TRUE,\"\",Vrijwilligersregister!C85)","v":""},{"$f":"IF(ISBLANK(Vrijwilligersregister!C85)=TRUE,\"\",SUMIF('Nominatieve lijst'!$D$10:$D$3009,C85,'Nominatieve lijst'!$G$10:$G$3009))","v":""},{"$f":"IF(ISBLANK(Vrijwilligersregister!C85)=TRUE,\"\",SUMIF('Nominatieve lijst'!$D$10:$D$3009,C85,'Nominatieve lijst'!$H$10:$H$3009))","v":""},{"$f":"IF(ISBLANK(Vrijwilligersregister!C85)=TRUE,\"\",SUMIF('Nominatieve lijst'!$D$10:$D$3009,C85,'Nominatieve lijst'!$J$10:$J$3009))","v":""},{"$f":"IF(ISBLANK(Vrijwilligersregister!C85)=TRUE,\"\",D85+F85)","v":""},{"$f":"Vrijwilligersregister!L85","v":0}]
[null,78,{"$f":"IF(ISBLANK(Vrijwilligersregister!C86)=TRUE,\"\",Vrijwilligersregister!C86)","v":""},{"$f":"IF(ISBLANK(Vrijwilligersregister!C86)=TRUE,\"\",SUMIF('Nominatieve lijst'!$D$10:$D$3009,C86,'Nominatieve lijst'!$G$10:$G$3009))","v":""},{"$f":"IF(ISBLANK(Vrijwilligersregister!C86)=TRUE,\"\",SUMIF('Nominatieve lijst'!$D$10:$D$3009,C86,'Nominatieve lijst'!$H$10:$H$3009))","v":""},{"$f":"IF(ISBLANK(Vrijwilligersregister!C86)=TRUE,\"\",SUMIF('Nominatieve lijst'!$D$10:$D$3009,C86,'Nominatieve lijst'!$J$10:$J$3009))","v":""},{"$f":"IF(ISBLANK(Vrijwilligersregister!C86)=TRUE,\"\",D86+F86)","v":""},{"$f":"Vrijwilligersregister!L86","v":0}]
[null,79,{"$f":"IF(ISBLANK(Vrijwilligersregister!C87)=TRUE,\"\",Vrijwilligersregister!C87)","v":""},{"$f":"IF(ISBLANK(Vrijwilligersregister!C87)=TRUE,\"\",SUMIF('Nominatieve lijst'!$D$10:$D$3009,C87,'Nominatieve lijst'!$G$10:$G$3009))","v":""},{"$f":"IF(ISBLANK(Vrijwilligersregister!C87)=TRUE,\"\",SUMIF('Nominatieve lijst'!$D$10:$D$3009,C87,'Nominatieve lijst'!$H$10:$H$3009))","v":""},{"$f":"IF(ISBLANK(Vrijwilligersregister!C87)=TRUE,\"\",SUMIF('Nominatieve lijst'!$D$10:$D$3009,C87,'Nominatieve lijst'!$J$10:$J$3009))","v":""},{"$f":"IF(ISBLANK(Vrijwilligersregister!C87)=TRUE,\"\",D87+F87)","v":""},{"$f":"Vrijwilligersregister!L87","v":0}]
[null,80,{"$f":"IF(ISBLANK(Vrijwilligersregister!C88)=TRUE,\"\",Vrijwilligersregister!C88)","v":""},{"$f":"IF(ISBLANK(Vrijwilligersregister!C88)=TRUE,\"\",SUMIF('Nominatieve lijst'!$D$10:$D$3009,C88,'Nominatieve lijst'!$G$10:$G$3009))","v":""},{"$f":"IF(ISBLANK(Vrijwilligersregister!C88)=TRUE,\"\",SUMIF('Nominatieve lijst'!$D$10:$D$3009,C88,'Nominatieve lijst'!$H$10:$H$3009))","v":""},{"$f":"IF(ISBLANK(Vrijwilligersregister!C88)=TRUE,\"\",SUMIF('Nominatieve lijst'!$D$10:$D$3009,C88,'Nominatieve lijst'!$J$10:$J$3009))","v":""},{"$f":"IF(ISBLANK(Vrijwilligersregister!C88)=TRUE,\"\",D88+F88)","v":""},{"$f":"Vrijwilligersregister!L88","v":0}]
[null,81,{"$f":"IF(ISBLANK(Vrijwilligersregister!C89)=TRUE,\"\",Vrijwilligersregister!C89)","v":""},{"$f":"IF(ISBLANK(Vrijwilligersregister!C89)=TRUE,\"\",SUMIF('Nominatieve lijst'!$D$10:$D$3009,C89,'Nominatieve lijst'!$G$10:$G$3009))","v":""},{"$f":"IF(ISBLANK(Vrijwilligersregister!C89)=TRUE,\"\",SUMIF('Nominatieve lijst'!$D$10:$D$3009,C89,'Nominatieve lijst'!$H$10:$H$3009))","v":""},{"$f":"IF(ISBLANK(Vrijwilligersregister!C89)=TRUE,\"\",SUMIF('Nominatieve lijst'!$D$10:$D$3009,C89,'Nominatieve lijst'!$J$10:$J$3009))","v":""},{"$f":"IF(ISBLANK(Vrijwilligersregister!C89)=TRUE,\"\",D89+F89)","v":""},{"$f":"Vrijwilligersregister!L89","v":0}]
[null,82,{"$f":"IF(ISBLANK(Vrijwilligersregister!C90)=TRUE,\"\",Vrijwilligersregister!C90)","v":""},{"$f":"IF(ISBLANK(Vrijwilligersregister!C90)=TRUE,\"\",SUMIF('Nominatieve lijst'!$D$10:$D$3009,C90,'Nominatieve lijst'!$G$10:$G$3009))","v":""},{"$f":"IF(ISBLANK(Vrijwilligersregister!C90)=TRUE,\"\",SUMIF('Nominatieve lijst'!$D$10:$D$3009,C90,'Nominatieve lijst'!$H$10:$H$3009))","v":""},{"$f":"IF(ISBLANK(Vrijwilligersregister!C90)=TRUE,\"\",SUMIF('Nominatieve lijst'!$D$10:$D$3009,C90,'Nominatieve lijst'!$J$10:$J$3009))","v":""},{"$f":"IF(ISBLANK(Vrijwilligersregister!C90)=TRUE,\"\",D90+F90)","v":""},{"$f":"Vrijwilligersregister!L90","v":0}]
[null,83,{"$f":"IF(ISBLANK(Vrijwilligersregister!C91)=TRUE,\"\",Vrijwilligersregister!C91)","v":""},{"$f":"IF(ISBLANK(Vrijwilligersregister!C91)=TRUE,\"\",SUMIF('Nominatieve lijst'!$D$10:$D$3009,C91,'Nominatieve lijst'!$G$10:$G$3009))","v":""},{"$f":"IF(ISBLANK(Vrijwilligersregister!C91)=TRUE,\"\",SUMIF('Nominatieve lijst'!$D$10:$D$3009,C91,'Nominatieve lijst'!$H$10:$H$3009))","v":""},{"$f":"IF(ISBLANK(Vrijwilligersregister!C91)=TRUE,\"\",SUMIF('Nominatieve lijst'!$D$10:$D$3009,C91,'Nominatieve lijst'!$J$10:$J$3009))","v":""},{"$f":"IF(ISBLANK(Vrijwilligersregister!C91)=TRUE,\"\",D91+F91)","v":""},{"$f":"Vrijwilligersregister!L91","v":0}]
[null,84,{"$f":"IF(ISBLANK(Vrijwilligersregister!C92)=TRUE,\"\",Vrijwilligersregister!C92)","v":""},{"$f":"IF(ISBLANK(Vrijwilligersregister!C92)=TRUE,\"\",SUMIF('Nominatieve lijst'!$D$10:$D$3009,C92,'Nominatieve lijst'!$G$10:$G$3009))","v":""},{"$f":"IF(ISBLANK(Vrijwilligersregister!C92)=TRUE,\"\",SUMIF('Nominatieve lijst'!$D$10:$D$3009,C92,'Nominatieve lijst'!$H$10:$H$3009))","v":""},{"$f":"IF(ISBLANK(Vrijwilligersregister!C92)=TRUE,\"\",SUMIF('Nominatieve lijst'!$D$10:$D$3009,C92,'Nominatieve lijst'!$J$10:$J$3009))","v":""},{"$f":"IF(ISBLANK(Vrijwilligersregister!C92)=TRUE,\"\",D92+F92)","v":""},{"$f":"Vrijwilligersregister!L92","v":0}]
[null,85,{"$f":"IF(ISBLANK(Vrijwilligersregister!C93)=TRUE,\"\",Vrijwilligersregister!C93)","v":""},{"$f":"IF(ISBLANK(Vrijwilligersregister!C93)=TRUE,\"\",SUMIF('Nominatieve lijst'!$D$10:$D$3009,C93,'Nominatieve lijst'!$G$10:$G$3009))","v":""},{"$f":"IF(ISBLANK(Vrijwilligersregister!C93)=TRUE,\"\",SUMIF('Nominatieve lijst'!$D$10:$D$3009,C93,'Nominatieve lijst'!$H$10:$H$3009))","v":""},{"$f":"IF(ISBLANK(Vrijwilligersregister!C93)=TRUE,\"\",SUMIF('Nominatieve lijst'!$D$10:$D$3009,C93,'Nominatieve lijst'!$J$10:$J$3009))","v":""},{"$f":"IF(ISBLANK(Vrijwilligersregister!C93)=TRUE,\"\",D93+F93)","v":""},{"$f":"Vrijwilligersregister!L93","v":0}]
[null,86,{"$f":"IF(ISBLANK(Vrijwilligersregister!C94)=TRUE,\"\",Vrijwilligersregister!C94)","v":""},{"$f":"IF(ISBLANK(Vrijwilligersregister!C94)=TRUE,\"\",SUMIF('Nominatieve lijst'!$D$10:$D$3009,C94,'Nominatieve lijst'!$G$10:$G$3009))","v":""},{"$f":"IF(ISBLANK(Vrijwilligersregister!C94)=TRUE,\"\",SUMIF('Nominatieve lijst'!$D$10:$D$3009,C94,'Nominatieve lijst'!$H$10:$H$3009))","v":""},{"$f":"IF(ISBLANK(Vrijwilligersregister!C94)=TRUE,\"\",SUMIF('Nominatieve lijst'!$D$10:$D$3009,C94,'Nominatieve lijst'!$J$10:$J$3009))","v":""},{"$f":"IF(ISBLANK(Vrijwilligersregister!C94)=TRUE,\"\",D94+F94)","v":""},{"$f":"Vrijwilligersregister!L94","v":0}]
[null,87,{"$f":"IF(ISBLANK(Vrijwilligersregister!C95)=TRUE,\"\",Vrijwilligersregister!C95)","v":""},{"$f":"IF(ISBLANK(Vrijwilligersregister!C95)=TRUE,\"\",SUMIF('Nominatieve lijst'!$D$10:$D$3009,C95,'Nominatieve lijst'!$G$10:$G$3009))","v":""},{"$f":"IF(ISBLANK(Vrijwilligersregister!C95)=TRUE,\"\",SUMIF('Nominatieve lijst'!$D$10:$D$3009,C95,'Nominatieve lijst'!$H$10:$H$3009))","v":""},{"$f":"IF(ISBLANK(Vrijwilligersregister!C95)=TRUE,\"\",SUMIF('Nominatieve lijst'!$D$10:$D$3009,C95,'Nominatieve lijst'!$J$10:$J$3009))","v":""},{"$f":"IF(ISBLANK(Vrijwilligersregister!C95)=TRUE,\"\",D95+F95)","v":""},{"$f":"Vrijwilligersregister!L95","v":0}]
[null,88,{"$f":"IF(ISBLANK(Vrijwilligersregister!C96)=TRUE,\"\",Vrijwilligersregister!C96)","v":""},{"$f":"IF(ISBLANK(Vrijwilligersregister!C96)=TRUE,\"\",SUMIF('Nominatieve lijst'!$D$10:$D$3009,C96,'Nominatieve lijst'!$G$10:$G$3009))","v":""},{"$f":"IF(ISBLANK(Vrijwilligersregister!C96)=TRUE,\"\",SUMIF('Nominatieve lijst'!$D$10:$D$3009,C96,'Nominatieve lijst'!$H$10:$H$3009))","v":""},{"$f":"IF(ISBLANK(Vrijwilligersregister!C96)=TRUE,\"\",SUMIF('Nominatieve lijst'!$D$10:$D$3009,C96,'Nominatieve lijst'!$J$10:$J$3009))","v":""},{"$f":"IF(ISBLANK(Vrijwilligersregister!C96)=TRUE,\"\",D96+F96)","v":""},{"$f":"Vrijwilligersregister!L96","v":0}]
[null,89,{"$f":"IF(ISBLANK(Vrijwilligersregister!C97)=TRUE,\"\",Vrijwilligersregister!C97)","v":""},{"$f":"IF(ISBLANK(Vrijwilligersregister!C97)=TRUE,\"\",SUMIF('Nominatieve lijst'!$D$10:$D$3009,C97,'Nominatieve lijst'!$G$10:$G$3009))","v":""},{"$f":"IF(ISBLANK(Vrijwilligersregister!C97)=TRUE,\"\",SUMIF('Nominatieve lijst'!$D$10:$D$3009,C97,'Nominatieve lijst'!$H$10:$H$3009))","v":""},{"$f":"IF(ISBLANK(Vrijwilligersregister!C97)=TRUE,\"\",SUMIF('Nominatieve lijst'!$D$10:$D$3009,C97,'Nominatieve lijst'!$J$10:$J$3009))","v":""},{"$f":"IF(ISBLANK(Vrijwilligersregister!C97)=TRUE,\"\",D97+F97)","v":""},{"$f":"Vrijwilligersregister!L97","v":0}]
[null,90,{"$f":"IF(ISBLANK(Vrijwilligersregister!C98)=TRUE,\"\",Vrijwilligersregister!C98)","v":""},{"$f":"IF(ISBLANK(Vrijwilligersregister!C98)=TRUE,\"\",SUMIF('Nominatieve lijst'!$D$10:$D$3009,C98,'Nominatieve lijst'!$G$10:$G$3009))","v":""},{"$f":"IF(ISBLANK(Vrijwilligersregister!C98)=TRUE,\"\",SUMIF('Nominatieve lijst'!$D$10:$D$3009,C98,'Nominatieve lijst'!$H$10:$H$3009))","v":""},{"$f":"IF(ISBLANK(Vrijwilligersregister!C98)=TRUE,\"\",SUMIF('Nominatieve lijst'!$D$10:$D$3009,C98,'Nominatieve lijst'!$J$10:$J$3009))","v":""},{"$f":"IF(ISBLANK(Vrijwilligersregister!C98)=TRUE,\"\",D98+F98)","v":""},{"$f":"Vrijwilligersregister!L98","v":0}]
[null,91,{"$f":"IF(ISBLANK(Vrijwilligersregister!C99)=TRUE,\"\",Vrijwilligersregister!C99)","v":""},{"$f":"IF(ISBLANK(Vrijwilligersregister!C99)=TRUE,\"\",SUMIF('Nominatieve lijst'!$D$10:$D$3009,C99,'Nominatieve lijst'!$G$10:$G$3009))","v":""},{"$f":"IF(ISBLANK(Vrijwilligersregister!C99)=TRUE,\"\",SUMIF('Nominatieve lijst'!$D$10:$D$3009,C99,'Nominatieve lijst'!$H$10:$H$3009))","v":""},{"$f":"IF(ISBLANK(Vrijwilligersregister!C99)=TRUE,\"\",SUMIF('Nominatieve lijst'!$D$10:$D$3009,C99,'Nominatieve lijst'!$J$10:$J$3009))","v":""},{"$f":"IF(ISBLANK(Vrijwilligersregister!C99)=TRUE,\"\",D99+F99)","v":""},{"$f":"Vrijwilligersregister!L99","v":0}]
[null,92,{"$f":"IF(ISBLANK(Vrijwilligersregister!C100)=TRUE,\"\",Vrijwilligersregister!C100)","v":""},{"$f":"IF(ISBLANK(Vrijwilligersregister!C100)=TRUE,\"\",SUMIF('Nominatieve lijst'!$D$10:$D$3009,C100,'Nominatieve lijst'!$G$10:$G$3009))","v":""},{"$f":"IF(ISBLANK(Vrijwilligersregister!C100)=TRUE,\"\",SUMIF('Nominatieve lijst'!$D$10:$D$3009,C100,'Nominatieve lijst'!$H$10:$H$3009))","v":""},{"$f":"IF(ISBLANK(Vrijwilligersregister!C100)=TRUE,\"\",SUMIF('Nominatieve lijst'!$D$10:$D$3009,C100,'Nominatieve lijst'!$J$10:$J$3009))","v":""},{"$f":"IF(ISBLANK(Vrijwilligersregister!C100)=TRUE,\"\",D100+F100)","v":""},{"$f":"Vrijwilligersregister!L100","v":0}]
[null,93,{"$f":"IF(ISBLANK(Vrijwilligersregister!C101)=TRUE,\"\",Vrijwilligersregister!C101)","v":""},{"$f":"IF(ISBLANK(Vrijwilligersregister!C101)=TRUE,\"\",SUMIF('Nominatieve lijst'!$D$10:$D$3009,C101,'Nominatieve lijst'!$G$10:$G$3009))","v":""},{"$f":"IF(ISBLANK(Vrijwilligersregister!C101)=TRUE,\"\",SUMIF('Nominatieve lijst'!$D$10:$D$3009,C101,'Nominatieve lijst'!$H$10:$H$3009))","v":""},{"$f":"IF(ISBLANK(Vrijwilligersregister!C101)=TRUE,\"\",SUMIF('Nominatieve lijst'!$D$10:$D$3009,C101,'Nominatieve lijst'!$J$10:$J$3009))","v":""},{"$f":"IF(ISBLANK(Vrijwilligersregister!C101)=TRUE,\"\",D101+F101)","v":""},{"$f":"Vrijwilligersregister!L101","v":0}]
[null,94,{"$f":"IF(ISBLANK(Vrijwilligersregister!C102)=TRUE,\"\",Vrijwilligersregister!C102)","v":""},{"$f":"IF(ISBLANK(Vrijwilligersregister!C102)=TRUE,\"\",SUMIF('Nominatieve lijst'!$D$10:$D$3009,C102,'Nominatieve lijst'!$G$10:$G$3009))","v":""},{"$f":"IF(ISBLANK(Vrijwilligersregister!C102)=TRUE,\"\",SUMIF('Nominatieve lijst'!$D$10:$D$3009,C102,'Nominatieve lijst'!$H$10:$H$3009))","v":""},{"$f":"IF(ISBLANK(Vrijwilligersregister!C102)=TRUE,\"\",SUMIF('Nominatieve lijst'!$D$10:$D$3009,C102,'Nominatieve lijst'!$J$10:$J$3009))","v":""},{"$f":"IF(ISBLANK(Vrijwilligersregister!C102)=TRUE,\"\",D102+F102)","v":""},{"$f":"Vrijwilligersregister!L102","v":0}]
[null,95,{"$f":"IF(ISBLANK(Vrijwilligersregister!C103)=TRUE,\"\",Vrijwilligersregister!C103)","v":""},{"$f":"IF(ISBLANK(Vrijwilligersregister!C103)=TRUE,\"\",SUMIF('Nominatieve lijst'!$D$10:$D$3009,C103,'Nominatieve lijst'!$G$10:$G$3009))","v":""},{"$f":"IF(ISBLANK(Vrijwilligersregister!C103)=TRUE,\"\",SUMIF('Nominatieve lijst'!$D$10:$D$3009,C103,'Nominatieve lijst'!$H$10:$H$3009))","v":""},{"$f":"IF(ISBLANK(Vrijwilligersregister!C103)=TRUE,\"\",SUMIF('Nominatieve lijst'!$D$10:$D$3009,C103,'Nominatieve lijst'!$J$10:$J$3009))","v":""},{"$f":"IF(ISBLANK(Vrijwilligersregister!C103)=TRUE,\"\",D103+F103)","v":""},{"$f":"Vrijwilligersregister!L103","v":0}]
[null,96,{"$f":"IF(ISBLANK(Vrijwilligersregister!C104)=TRUE,\"\",Vrijwilligersregister!C104)","v":""},{"$f":"IF(ISBLANK(Vrijwilligersregister!C104)=TRUE,\"\",SUMIF('Nominatieve lijst'!$D$10:$D$3009,C104,'Nominatieve lijst'!$G$10:$G$3009))","v":""},{"$f":"IF(ISBLANK(Vrijwilligersregister!C104)=TRUE,\"\",SUMIF('Nominatieve lijst'!$D$10:$D$3009,C104,'Nominatieve lijst'!$H$10:$H$3009))","v":""},{"$f":"IF(ISBLANK(Vrijwilligersregister!C104)=TRUE,\"\",SUMIF('Nominatieve lijst'!$D$10:$D$3009,C104,'Nominatieve lijst'!$J$10:$J$3009))","v":""},{"$f":"IF(ISBLANK(Vrijwilligersregister!C104)=TRUE,\"\",D104+F104)","v":""},{"$f":"Vrijwilligersregister!L104","v":0}]
[null,97,{"$f":"IF(ISBLANK(Vrijwilligersregister!C105)=TRUE,\"\",Vrijwilligersregister!C105)","v":""},{"$f":"IF(ISBLANK(Vrijwilligersregister!C105)=TRUE,\"\",SUMIF('Nominatieve lijst'!$D$10:$D$3009,C105,'Nominatieve lijst'!$G$10:$G$3009))","v":""},{"$f":"IF(ISBLANK(Vrijwilligersregister!C105)=TRUE,\"\",SUMIF('Nominatieve lijst'!$D$10:$D$3009,C105,'Nominatieve lijst'!$H$10:$H$3009))","v":""},{"$f":"IF(ISBLANK(Vrijwilligersregister!C105)=TRUE,\"\",SUMIF('Nominatieve lijst'!$D$10:$D$3009,C105,'Nominatieve lijst'!$J$10:$J$3009))","v":""},{"$f":"IF(ISBLANK(Vrijwilligersregister!C105)=TRUE,\"\",D105+F105)","v":""},{"$f":"Vrijwilligersregister!L105","v":0}]
[null,98,{"$f":"IF(ISBLANK(Vrijwilligersregister!C106)=TRUE,\"\",Vrijwilligersregister!C106)","v":""},{"$f":"IF(ISBLANK(Vrijwilligersregister!C106)=TRUE,\"\",SUMIF('Nominatieve lijst'!$D$10:$D$3009,C106,'Nominatieve lijst'!$G$10:$G$3009))","v":""},{"$f":"IF(ISBLANK(Vrijwilligersregister!C106)=TRUE,\"\",SUMIF('Nominatieve lijst'!$D$10:$D$3009,C106,'Nominatieve lijst'!$H$10:$H$3009))","v":""},{"$f":"IF(ISBLANK(Vrijwilligersregister!C106)=TRUE,\"\",SUMIF('Nominatieve lijst'!$D$10:$D$3009,C106,'Nominatieve lijst'!$J$10:$J$3009))","v":""},{"$f":"IF(ISBLANK(Vrijwilligersregister!C106)=TRUE,\"\",D106+F106)","v":""},{"$f":"Vrijwilligersregister!L106","v":0}]
[null,99,{"$f":"IF(ISBLANK(Vrijwilligersregister!C107)=TRUE,\"\",Vrijwilligersregister!C107)","v":""},{"$f":"IF(ISBLANK(Vrijwilligersregister!C107)=TRUE,\"\",SUMIF('Nominatieve lijst'!$D$10:$D$3009,C107,'Nominatieve lijst'!$G$10:$G$3009))","v":""},{"$f":"IF(ISBLANK(Vrijwilligersregister!C107)=TRUE,\"\",SUMIF('Nominatieve lijst'!$D$10:$D$3009,C107,'Nominatieve lijst'!$H$10:$H$3009))","v":""},{"$f":"IF(ISBLANK(Vrijwilligersregister!C107)=TRUE,\"\",SUMIF('Nominatieve lijst'!$D$10:$D$3009,C107,'Nominatieve lijst'!$J$10:$J$3009))","v":""},{"$f":"IF(ISBLANK(Vrijwilligersregister!C107)=TRUE,\"\",D107+F107)","v":""},{"$f":"Vrijwilligersregister!L107","v":0}]
[null,100,{"$f":"IF(ISBLANK(Vrijwilligersregister!C108)=TRUE,\"\",Vrijwilligersregister!C108)","v":""},{"$f":"IF(ISBLANK(Vrijwilligersregister!C108)=TRUE,\"\",SUMIF('Nominatieve lijst'!$D$10:$D$3009,C108,'Nominatieve lijst'!$G$10:$G$3009))","v":""},{"$f":"IF(ISBLANK(Vrijwilligersregister!C108)=TRUE,\"\",SUMIF('Nominatieve lijst'!$D$10:$D$3009,C108,'Nominatieve lijst'!$H$10:$H$3009))","v":""},{"$f":"IF(ISBLANK(Vrijwilligersregister!C108)=TRUE,\"\",SUMIF('Nominatieve lijst'!$D$10:$D$3009,C108,'Nominatieve lijst'!$J$10:$J$3009))","v":""},{"$f":"IF(ISBLANK(Vrijwilligersregister!C108)=TRUE,\"\",D108+F108)","v":""},{"$f":"Vrijwilligersregister!L108","v":0}]
[null,101,{"$f":"IF(ISBLANK(Vrijwilligersregister!C109)=TRUE,\"\",Vrijwilligersregister!C109)","v":""},{"$f":"IF(ISBLANK(Vrijwilligersregister!C109)=TRUE,\"\",SUMIF('Nominatieve lijst'!$D$10:$D$3009,C109,'Nominatieve lijst'!$G$10:$G$3009))","v":""},{"$f":"IF(ISBLANK(Vrijwilligersregister!C109)=TRUE,\"\",SUMIF('Nominatieve lijst'!$D$10:$D$3009,C109,'Nominatieve lijst'!$H$10:$H$3009))","v":""},{"$f":"IF(ISBLANK(Vrijwilligersregister!C109)=TRUE,\"\",SUMIF('Nominatieve lijst'!$D$10:$D$3009,C109,'Nominatieve lijst'!$J$10:$J$3009))","v":""},{"$f":"IF(ISBLANK(Vrijwilligersregister!C109)=TRUE,\"\",D109+F109)","v":""},{"$f":"Vrijwilligersregister!L109","v":0}]
[null,102,{"$f":"IF(ISBLANK(Vrijwilligersregister!C110)=TRUE,\"\",Vrijwilligersregister!C110)","v":""},{"$f":"IF(ISBLANK(Vrijwilligersregister!C110)=TRUE,\"\",SUMIF('Nominatieve lijst'!$D$10:$D$3009,C110,'Nominatieve lijst'!$G$10:$G$3009))","v":""},{"$f":"IF(ISBLANK(Vrijwilligersregister!C110)=TRUE,\"\",SUMIF('Nominatieve lijst'!$D$10:$D$3009,C110,'Nominatieve lijst'!$H$10:$H$3009))","v":""},{"$f":"IF(ISBLANK(Vrijwilligersregister!C110)=TRUE,\"\",SUMIF('Nominatieve lijst'!$D$10:$D$3009,C110,'Nominatieve lijst'!$J$10:$J$3009))","v":""},{"$f":"IF(ISBLANK(Vrijwilligersregister!C110)=TRUE,\"\",D110+F110)","v":""},{"$f":"Vrijwilligersregister!L110","v":0}]
[null,103,{"$f":"IF(ISBLANK(Vrijwilligersregister!C111)=TRUE,\"\",Vrijwilligersregister!C111)","v":""},{"$f":"IF(ISBLANK(Vrijwilligersregister!C111)=TRUE,\"\",SUMIF('Nominatieve lijst'!$D$10:$D$3009,C111,'Nominatieve lijst'!$G$10:$G$3009))","v":""},{"$f":"IF(ISBLANK(Vrijwilligersregister!C111)=TRUE,\"\",SUMIF('Nominatieve lijst'!$D$10:$D$3009,C111,'Nominatieve lijst'!$H$10:$H$3009))","v":""},{"$f":"IF(ISBLANK(Vrijwilligersregister!C111)=TRUE,\"\",SUMIF('Nominatieve lijst'!$D$10:$D$3009,C111,'Nominatieve lijst'!$J$10:$J$3009))","v":""},{"$f":"IF(ISBLANK(Vrijwilligersregister!C111)=TRUE,\"\",D111+F111)","v":""},{"$f":"Vrijwilligersregister!L111","v":0}]
[null,104,{"$f":"IF(ISBLANK(Vrijwilligersregister!C112)=TRUE,\"\",Vrijwilligersregister!C112)","v":""},{"$f":"IF(ISBLANK(Vrijwilligersregister!C112)=TRUE,\"\",SUMIF('Nominatieve lijst'!$D$10:$D$3009,C112,'Nominatieve lijst'!$G$10:$G$3009))","v":""},{"$f":"IF(ISBLANK(Vrijwilligersregister!C112)=TRUE,\"\",SUMIF('Nominatieve lijst'!$D$10:$D$3009,C112,'Nominatieve lijst'!$H$10:$H$3009))","v":""},{"$f":"IF(ISBLANK(Vrijwilligersregister!C112)=TRUE,\"\",SUMIF('Nominatieve lijst'!$D$10:$D$3009,C112,'Nominatieve lijst'!$J$10:$J$3009))","v":""},{"$f":"IF(ISBLANK(Vrijwilligersregister!C112)=TRUE,\"\",D112+F112)","v":""},{"$f":"Vrijwilligersregister!L112","v":0}]
[null,105,{"$f":"IF(ISBLANK(Vrijwilligersregister!C113)=TRUE,\"\",Vrijwilligersregister!C113)","v":""},{"$f":"IF(ISBLANK(Vrijwilligersregister!C113)=TRUE,\"\",SUMIF('Nominatieve lijst'!$D$10:$D$3009,C113,'Nominatieve lijst'!$G$10:$G$3009))","v":""},{"$f":"IF(ISBLANK(Vrijwilligersregister!C113)=TRUE,\"\",SUMIF('Nominatieve lijst'!$D$10:$D$3009,C113,'Nominatieve lijst'!$H$10:$H$3009))","v":""},{"$f":"IF(ISBLANK(Vrijwilligersregister!C113)=TRUE,\"\",SUMIF('Nominatieve lijst'!$D$10:$D$3009,C113,'Nominatieve lijst'!$J$10:$J$3009))","v":""},{"$f":"IF(ISBLANK(Vrijwilligersregister!C113)=TRUE,\"\",D113+F113)","v":""},{"$f":"Vrijwilligersregister!L113","v":0}]
[null,106,{"$f":"IF(ISBLANK(Vrijwilligersregister!C114)=TRUE,\"\",Vrijwilligersregister!C114)","v":""},{"$f":"IF(ISBLANK(Vrijwilligersregister!C114)=TRUE,\"\",SUMIF('Nominatieve lijst'!$D$10:$D$3009,C114,'Nominatieve lijst'!$G$10:$G$3009))","v":""},{"$f":"IF(ISBLANK(Vrijwilligersregister!C114)=TRUE,\"\",SUMIF('Nominatieve lijst'!$D$10:$D$3009,C114,'Nominatieve lijst'!$H$10:$H$3009))","v":""},{"$f":"IF(ISBLANK(Vrijwilligersregister!C114)=TRUE,\"\",SUMIF('Nominatieve lijst'!$D$10:$D$3009,C114,'Nominatieve lijst'!$J$10:$J$3009))","v":""},{"$f":"IF(ISBLANK(Vrijwilligersregister!C114)=TRUE,\"\",D114+F114)","v":""},{"$f":"Vrijwilligersregister!L114","v":0}]
[null,107,{"$f":"IF(ISBLANK(Vrijwilligersregister!C115)=TRUE,\"\",Vrijwilligersregister!C115)","v":""},{"$f":"IF(ISBLANK(Vrijwilligersregister!C115)=TRUE,\"\",SUMIF('Nominatieve lijst'!$D$10:$D$3009,C115,'Nominatieve lijst'!$G$10:$G$3009))","v":""},{"$f":"IF(ISBLANK(Vrijwilligersregister!C115)=TRUE,\"\",SUMIF('Nominatieve lijst'!$D$10:$D$3009,C115,'Nominatieve lijst'!$H$10:$H$3009))","v":""},{"$f":"IF(ISBLANK(Vrijwilligersregister!C115)=TRUE,\"\",SUMIF('Nominatieve lijst'!$D$10:$D$3009,C115,'Nominatieve lijst'!$J$10:$J$3009))","v":""},{"$f":"IF(ISBLANK(Vrijwilligersregister!C115)=TRUE,\"\",D115+F115)","v":""},{"$f":"Vrijwilligersregister!L115","v":0}]
[null,108,{"$f":"IF(ISBLANK(Vrijwilligersregister!C116)=TRUE,\"\",Vrijwilligersregister!C116)","v":""},{"$f":"IF(ISBLANK(Vrijwilligersregister!C116)=TRUE,\"\",SUMIF('Nominatieve lijst'!$D$10:$D$3009,C116,'Nominatieve lijst'!$G$10:$G$3009))","v":""},{"$f":"IF(ISBLANK(Vrijwilligersregister!C116)=TRUE,\"\",SUMIF('Nominatieve lijst'!$D$10:$D$3009,C116,'Nominatieve lijst'!$H$10:$H$3009))","v":""},{"$f":"IF(ISBLANK(Vrijwilligersregister!C116)=TRUE,\"\",SUMIF('Nominatieve lijst'!$D$10:$D$3009,C116,'Nominatieve lijst'!$J$10:$J$3009))","v":""},{"$f":"IF(ISBLANK(Vrijwilligersregister!C116)=TRUE,\"\",D116+F116)","v":""},{"$f":"Vrijwilligersregister!L116","v":0}]
[null,109,{"$f":"IF(ISBLANK(Vrijwilligersregister!C117)=TRUE,\"\",Vrijwilligersregister!C117)","v":""},{"$f":"IF(ISBLANK(Vrijwilligersregister!C117)=TRUE,\"\",SUMIF('Nominatieve lijst'!$D$10:$D$3009,C117,'Nominatieve lijst'!$G$10:$G$3009))","v":""},{"$f":"IF(ISBLANK(Vrijwilligersregister!C117)=TRUE,\"\",SUMIF('Nominatieve lijst'!$D$10:$D$3009,C117,'Nominatieve lijst'!$H$10:$H$3009))","v":""},{"$f":"IF(ISBLANK(Vrijwilligersregister!C117)=TRUE,\"\",SUMIF('Nominatieve lijst'!$D$10:$D$3009,C117,'Nominatieve lijst'!$J$10:$J$3009))","v":""},{"$f":"IF(ISBLANK(Vrijwilligersregister!C117)=TRUE,\"\",D117+F117)","v":""},{"$f":"Vrijwilligersregister!L117","v":0}]
[null,110,{"$f":"IF(ISBLANK(Vrijwilligersregister!C118)=TRUE,\"\",Vrijwilligersregister!C118)","v":""},{"$f":"IF(ISBLANK(Vrijwilligersregister!C118)=TRUE,\"\",SUMIF('Nominatieve lijst'!$D$10:$D$3009,C118,'Nominatieve lijst'!$G$10:$G$3009))","v":""},{"$f":"IF(ISBLANK(Vrijwilligersregister!C118)=TRUE,\"\",SUMIF('Nominatieve lijst'!$D$10:$D$3009,C118,'Nominatieve lijst'!$H$10:$H$3009))","v":""},{"$f":"IF(ISBLANK(Vrijwilligersregister!C118)=TRUE,\"\",SUMIF('Nominatieve lijst'!$D$10:$D$3009,C118,'Nominatieve lijst'!$J$10:$J$3009))","v":""},{"$f":"IF(ISBLANK(Vrijwilligersregister!C118)=TRUE,\"\",D118+F118)","v":""},{"$f":"Vrijwilligersregister!L118","v":0}]
[null,111,{"$f":"IF(ISBLANK(Vrijwilligersregister!C119)=TRUE,\"\",Vrijwilligersregister!C119)","v":""},{"$f":"IF(ISBLANK(Vrijwilligersregister!C119)=TRUE,\"\",SUMIF('Nominatieve lijst'!$D$10:$D$3009,C119,'Nominatieve lijst'!$G$10:$G$3009))","v":""},{"$f":"IF(ISBLANK(Vrijwilligersregister!C119)=TRUE,\"\",SUMIF('Nominatieve lijst'!$D$10:$D$3009,C119,'Nominatieve lijst'!$H$10:$H$3009))","v":""},{"$f":"IF(ISBLANK(Vrijwilligersregister!C119)=TRUE,\"\",SUMIF('Nominatieve lijst'!$D$10:$D$3009,C119,'Nominatieve lijst'!$J$10:$J$3009))","v":""},{"$f":"IF(ISBLANK(Vrijwilligersregister!C119)=TRUE,\"\",D119+F119)","v":""},{"$f":"Vrijwilligersregister!L119","v":0}]
[null,112,{"$f":"IF(ISBLANK(Vrijwilligersregister!C120)=TRUE,\"\",Vrijwilligersregister!C120)","v":""},{"$f":"IF(ISBLANK(Vrijwilligersregister!C120)=TRUE,\"\",SUMIF('Nominatieve lijst'!$D$10:$D$3009,C120,'Nominatieve lijst'!$G$10:$G$3009))","v":""},{"$f":"IF(ISBLANK(Vrijwilligersregister!C120)=TRUE,\"\",SUMIF('Nominatieve lijst'!$D$10:$D$3009,C120,'Nominatieve lijst'!$H$10:$H$3009))","v":""},{"$f":"IF(ISBLANK(Vrijwilligersregister!C120)=TRUE,\"\",SUMIF('Nominatieve lijst'!$D$10:$D$3009,C120,'Nominatieve lijst'!$J$10:$J$3009))","v":""},{"$f":"IF(ISBLANK(Vrijwilligersregister!C120)=TRUE,\"\",D120+F120)","v":""},{"$f":"Vrijwilligersregister!L120","v":0}]
[null,113,{"$f":"IF(ISBLANK(Vrijwilligersregister!C121)=TRUE,\"\",Vrijwilligersregister!C121)","v":""},{"$f":"IF(ISBLANK(Vrijwilligersregister!C121)=TRUE,\"\",SUMIF('Nominatieve lijst'!$D$10:$D$3009,C121,'Nominatieve lijst'!$G$10:$G$3009))","v":""},{"$f":"IF(ISBLANK(Vrijwilligersregister!C121)=TRUE,\"\",SUMIF('Nominatieve lijst'!$D$10:$D$3009,C121,'Nominatieve lijst'!$H$10:$H$3009))","v":""},{"$f":"IF(ISBLANK(Vrijwilligersregister!C121)=TRUE,\"\",SUMIF('Nominatieve lijst'!$D$10:$D$3009,C121,'Nominatieve lijst'!$J$10:$J$3009))","v":""},{"$f":"IF(ISBLANK(Vrijwilligersregister!C121)=TRUE,\"\",D121+F121)","v":""},{"$f":"Vrijwilligersregister!L121","v":0}]
[null,114,{"$f":"IF(ISBLANK(Vrijwilligersregister!C122)=TRUE,\"\",Vrijwilligersregister!C122)","v":""},{"$f":"IF(ISBLANK(Vrijwilligersregister!C122)=TRUE,\"\",SUMIF('Nominatieve lijst'!$D$10:$D$3009,C122,'Nominatieve lijst'!$G$10:$G$3009))","v":""},{"$f":"IF(ISBLANK(Vrijwilligersregister!C122)=TRUE,\"\",SUMIF('Nominatieve lijst'!$D$10:$D$3009,C122,'Nominatieve lijst'!$H$10:$H$3009))","v":""},{"$f":"IF(ISBLANK(Vrijwilligersregister!C122)=TRUE,\"\",SUMIF('Nominatieve lijst'!$D$10:$D$3009,C122,'Nominatieve lijst'!$J$10:$J$3009))","v":""},{"$f":"IF(ISBLANK(Vrijwilligersregister!C122)=TRUE,\"\",D122+F122)","v":""},{"$f":"Vrijwilligersregister!L122","v":0}]
[null,115,{"$f":"IF(ISBLANK(Vrijwilligersregister!C123)=TRUE,\"\",Vrijwilligersregister!C123)","v":""},{"$f":"IF(ISBLANK(Vrijwilligersregister!C123)=TRUE,\"\",SUMIF('Nominatieve lijst'!$D$10:$D$3009,C123,'Nominatieve lijst'!$G$10:$G$3009))","v":""},{"$f":"IF(ISBLANK(Vrijwilligersregister!C123)=TRUE,\"\",SUMIF('Nominatieve lijst'!$D$10:$D$3009,C123,'Nominatieve lijst'!$H$10:$H$3009))","v":""},{"$f":"IF(ISBLANK(Vrijwilligersregister!C123)=TRUE,\"\",SUMIF('Nominatieve lijst'!$D$10:$D$3009,C123,'Nominatieve lijst'!$J$10:$J$3009))","v":""},{"$f":"IF(ISBLANK(Vrijwilligersregister!C123)=TRUE,\"\",D123+F123)","v":""},{"$f":"Vrijwilligersregister!L123","v":0}]
[null,116,{"$f":"IF(ISBLANK(Vrijwilligersregister!C124)=TRUE,\"\",Vrijwilligersregister!C124)","v":""},{"$f":"IF(ISBLANK(Vrijwilligersregister!C124)=TRUE,\"\",SUMIF('Nominatieve lijst'!$D$10:$D$3009,C124,'Nominatieve lijst'!$G$10:$G$3009))","v":""},{"$f":"IF(ISBLANK(Vrijwilligersregister!C124)=TRUE,\"\",SUMIF('Nominatieve lijst'!$D$10:$D$3009,C124,'Nominatieve lijst'!$H$10:$H$3009))","v":""},{"$f":"IF(ISBLANK(Vrijwilligersregister!C124)=TRUE,\"\",SUMIF('Nominatieve lijst'!$D$10:$D$3009,C124,'Nominatieve lijst'!$J$10:$J$3009))","v":""},{"$f":"IF(ISBLANK(Vrijwilligersregister!C124)=TRUE,\"\",D124+F124)","v":""},{"$f":"Vrijwilligersregister!L124","v":0}]
[null,117,{"$f":"IF(ISBLANK(Vrijwilligersregister!C125)=TRUE,\"\",Vrijwilligersregister!C125)","v":""},{"$f":"IF(ISBLANK(Vrijwilligersregister!C125)=TRUE,\"\",SUMIF('Nominatieve lijst'!$D$10:$D$3009,C125,'Nominatieve lijst'!$G$10:$G$3009))","v":""},{"$f":"IF(ISBLANK(Vrijwilligersregister!C125)=TRUE,\"\",SUMIF('Nominatieve lijst'!$D$10:$D$3009,C125,'Nominatieve lijst'!$H$10:$H$3009))","v":""},{"$f":"IF(ISBLANK(Vrijwilligersregister!C125)=TRUE,\"\",SUMIF('Nominatieve lijst'!$D$10:$D$3009,C125,'Nominatieve lijst'!$J$10:$J$3009))","v":""},{"$f":"IF(ISBLANK(Vrijwilligersregister!C125)=TRUE,\"\",D125+F125)","v":""},{"$f":"Vrijwilligersregister!L125","v":0}]
[null,118,{"$f":"IF(ISBLANK(Vrijwilligersregister!C126)=TRUE,\"\",Vrijwilligersregister!C126)","v":""},{"$f":"IF(ISBLANK(Vrijwilligersregister!C126)=TRUE,\"\",SUMIF('Nominatieve lijst'!$D$10:$D$3009,C126,'Nominatieve lijst'!$G$10:$G$3009))","v":""},{"$f":"IF(ISBLANK(Vrijwilligersregister!C126)=TRUE,\"\",SUMIF('Nominatieve lijst'!$D$10:$D$3009,C126,'Nominatieve lijst'!$H$10:$H$3009))","v":""},{"$f":"IF(ISBLANK(Vrijwilligersregister!C126)=TRUE,\"\",SUMIF('Nominatieve lijst'!$D$10:$D$3009,C126,'Nominatieve lijst'!$J$10:$J$3009))","v":""},{"$f":"IF(ISBLANK(Vrijwilligersregister!C126)=TRUE,\"\",D126+F126)","v":""},{"$f":"Vrijwilligersregister!L126","v":0}]
[null,119,{"$f":"IF(ISBLANK(Vrijwilligersregister!C127)=TRUE,\"\",Vrijwilligersregister!C127)","v":""},{"$f":"IF(ISBLANK(Vrijwilligersregister!C127)=TRUE,\"\",SUMIF('Nominatieve lijst'!$D$10:$D$3009,C127,'Nominatieve lijst'!$G$10:$G$3009))","v":""},{"$f":"IF(ISBLANK(Vrijwilligersregister!C127)=TRUE,\"\",SUMIF('Nominatieve lijst'!$D$10:$D$3009,C127,'Nominatieve lijst'!$H$10:$H$3009))","v":""},{"$f":"IF(ISBLANK(Vrijwilligersregister!C127)=TRUE,\"\",SUMIF('Nominatieve lijst'!$D$10:$D$3009,C127,'Nominatieve lijst'!$J$10:$J$3009))","v":""},{"$f":"IF(ISBLANK(Vrijwilligersregister!C127)=TRUE,\"\",D127+F127)","v":""},{"$f":"Vrijwilligersregister!L127","v":0}]
[null,120,{"$f":"IF(ISBLANK(Vrijwilligersregister!C128)=TRUE,\"\",Vrijwilligersregister!C128)","v":""},{"$f":"IF(ISBLANK(Vrijwilligersregister!C128)=TRUE,\"\",SUMIF('Nominatieve lijst'!$D$10:$D$3009,C128,'Nominatieve lijst'!$G$10:$G$3009))","v":""},{"$f":"IF(ISBLANK(Vrijwilligersregister!C128)=TRUE,\"\",SUMIF('Nominatieve lijst'!$D$10:$D$3009,C128,'Nominatieve lijst'!$H$10:$H$3009))","v":""},{"$f":"IF(ISBLANK(Vrijwilligersregister!C128)=TRUE,\"\",SUMIF('Nominatieve lijst'!$D$10:$D$3009,C128,'Nominatieve lijst'!$J$10:$J$3009))","v":""},{"$f":"IF(ISBLANK(Vrijwilligersregister!C128)=TRUE,\"\",D128+F128)","v":""},{"$f":"Vrijwilligersregister!L128","v":0}]
[null,121,{"$f":"IF(ISBLANK(Vrijwilligersregister!C129)=TRUE,\"\",Vrijwilligersregister!C129)","v":""},{"$f":"IF(ISBLANK(Vrijwilligersregister!C129)=TRUE,\"\",SUMIF('Nominatieve lijst'!$D$10:$D$3009,C129,'Nominatieve lijst'!$G$10:$G$3009))","v":""},{"$f":"IF(ISBLANK(Vrijwilligersregister!C129)=TRUE,\"\",SUMIF('Nominatieve lijst'!$D$10:$D$3009,C129,'Nominatieve lijst'!$H$10:$H$3009))","v":""},{"$f":"IF(ISBLANK(Vrijwilligersregister!C129)=TRUE,\"\",SUMIF('Nominatieve lijst'!$D$10:$D$3009,C129,'Nominatieve lijst'!$J$10:$J$3009))","v":""},{"$f":"IF(ISBLANK(Vrijwilligersregister!C129)=TRUE,\"\",D129+F129)","v":""},{"$f":"Vrijwilligersregister!L129","v":0}]
[null,122,{"$f":"IF(ISBLANK(Vrijwilligersregister!C130)=TRUE,\"\",Vrijwilligersregister!C130)","v":""},{"$f":"IF(ISBLANK(Vrijwilligersregister!C130)=TRUE,\"\",SUMIF('Nominatieve lijst'!$D$10:$D$3009,C130,'Nominatieve lijst'!$G$10:$G$3009))","v":""},{"$f":"IF(ISBLANK(Vrijwilligersregister!C130)=TRUE,\"\",SUMIF('Nominatieve lijst'!$D$10:$D$3009,C130,'Nominatieve lijst'!$H$10:$H$3009))","v":""},{"$f":"IF(ISBLANK(Vrijwilligersregister!C130)=TRUE,\"\",SUMIF('Nominatieve lijst'!$D$10:$D$3009,C130,'Nominatieve lijst'!$J$10:$J$3009))","v":""},{"$f":"IF(ISBLANK(Vrijwilligersregister!C130)=TRUE,\"\",D130+F130)","v":""},{"$f":"Vrijwilligersregister!L130","v":0}]
[null,123,{"$f":"IF(ISBLANK(Vrijwilligersregister!C131)=TRUE,\"\",Vrijwilligersregister!C131)","v":""},{"$f":"IF(ISBLANK(Vrijwilligersregister!C131)=TRUE,\"\",SUMIF('Nominatieve lijst'!$D$10:$D$3009,C131,'Nominatieve lijst'!$G$10:$G$3009))","v":""},{"$f":"IF(ISBLANK(Vrijwilligersregister!C131)=TRUE,\"\",SUMIF('Nominatieve lijst'!$D$10:$D$3009,C131,'Nominatieve lijst'!$H$10:$H$3009))","v":""},{"$f":"IF(ISBLANK(Vrijwilligersregister!C131)=TRUE,\"\",SUMIF('Nominatieve lijst'!$D$10:$D$3009,C131,'Nominatieve lijst'!$J$10:$J$3009))","v":""},{"$f":"IF(ISBLANK(Vrijwilligersregister!C131)=TRUE,\"\",D131+F131)","v":""},{"$f":"Vrijwilligersregister!L131","v":0}]
[null,124,{"$f":"IF(ISBLANK(Vrijwilligersregister!C132)=TRUE,\"\",Vrijwilligersregister!C132)","v":""},{"$f":"IF(ISBLANK(Vrijwilligersregister!C132)=TRUE,\"\",SUMIF('Nominatieve lijst'!$D$10:$D$3009,C132,'Nominatieve lijst'!$G$10:$G$3009))","v":""},{"$f":"IF(ISBLANK(Vrijwilligersregister!C132)=TRUE,\"\",SUMIF('Nominatieve lijst'!$D$10:$D$3009,C132,'Nominatieve lijst'!$H$10:$H$3009))","v":""},{"$f":"IF(ISBLANK(Vrijwilligersregister!C132)=TRUE,\"\",SUMIF('Nominatieve lijst'!$D$10:$D$3009,C132,'Nominatieve lijst'!$J$10:$J$3009))","v":""},{"$f":"IF(ISBLANK(Vrijwilligersregister!C132)=TRUE,\"\",D132+F132)","v":""},{"$f":"Vrijwilligersregister!L132","v":0}]
[null,125,{"$f":"IF(ISBLANK(Vrijwilligersregister!C133)=TRUE,\"\",Vrijwilligersregister!C133)","v":""},{"$f":"IF(ISBLANK(Vrijwilligersregister!C133)=TRUE,\"\",SUMIF('Nominatieve lijst'!$D$10:$D$3009,C133,'Nominatieve lijst'!$G$10:$G$3009))","v":""},{"$f":"IF(ISBLANK(Vrijwilligersregister!C133)=TRUE,\"\",SUMIF('Nominatieve lijst'!$D$10:$D$3009,C133,'Nominatieve lijst'!$H$10:$H$3009))","v":""},{"$f":"IF(ISBLANK(Vrijwilligersregister!C133)=TRUE,\"\",SUMIF('Nominatieve lijst'!$D$10:$D$3009,C133,'Nominatieve lijst'!$J$10:$J$3009))","v":""},{"$f":"IF(ISBLANK(Vrijwilligersregister!C133)=TRUE,\"\",D133+F133)","v":""},{"$f":"Vrijwilligersregister!L133","v":0}]
[null,126,{"$f":"IF(ISBLANK(Vrijwilligersregister!C134)=TRUE,\"\",Vrijwilligersregister!C134)","v":""},{"$f":"IF(ISBLANK(Vrijwilligersregister!C134)=TRUE,\"\",SUMIF('Nominatieve lijst'!$D$10:$D$3009,C134,'Nominatieve lijst'!$G$10:$G$3009))","v":""},{"$f":"IF(ISBLANK(Vrijwilligersregister!C134)=TRUE,\"\",SUMIF('Nominatieve lijst'!$D$10:$D$3009,C134,'Nominatieve lijst'!$H$10:$H$3009))","v":""},{"$f":"IF(ISBLANK(Vrijwilligersregister!C134)=TRUE,\"\",SUMIF('Nominatieve lijst'!$D$10:$D$3009,C134,'Nominatieve lijst'!$J$10:$J$3009))","v":""},{"$f":"IF(ISBLANK(Vrijwilligersregister!C134)=TRUE,\"\",D134+F134)","v":""},{"$f":"Vrijwilligersregister!L134","v":0}]
[null,127,{"$f":"IF(ISBLANK(Vrijwilligersregister!C135)=TRUE,\"\",Vrijwilligersregister!C135)","v":""},{"$f":"IF(ISBLANK(Vrijwilligersregister!C135)=TRUE,\"\",SUMIF('Nominatieve lijst'!$D$10:$D$3009,C135,'Nominatieve lijst'!$G$10:$G$3009))","v":""},{"$f":"IF(ISBLANK(Vrijwilligersregister!C135)=TRUE,\"\",SUMIF('Nominatieve lijst'!$D$10:$D$3009,C135,'Nominatieve lijst'!$H$10:$H$3009))","v":""},{"$f":"IF(ISBLANK(Vrijwilligersregister!C135)=TRUE,\"\",SUMIF('Nominatieve lijst'!$D$10:$D$3009,C135,'Nominatieve lijst'!$J$10:$J$3009))","v":""},{"$f":"IF(ISBLANK(Vrijwilligersregister!C135)=TRUE,\"\",D135+F135)","v":""},{"$f":"Vrijwilligersregister!L135","v":0}]
[null,128,{"$f":"IF(ISBLANK(Vrijwilligersregister!C136)=TRUE,\"\",Vrijwilligersregister!C136)","v":""},{"$f":"IF(ISBLANK(Vrijwilligersregister!C136)=TRUE,\"\",SUMIF('Nominatieve lijst'!$D$10:$D$3009,C136,'Nominatieve lijst'!$G$10:$G$3009))","v":""},{"$f":"IF(ISBLANK(Vrijwilligersregister!C136)=TRUE,\"\",SUMIF('Nominatieve lijst'!$D$10:$D$3009,C136,'Nominatieve lijst'!$H$10:$H$3009))","v":""},{"$f":"IF(ISBLANK(Vrijwilligersregister!C136)=TRUE,\"\",SUMIF('Nominatieve lijst'!$D$10:$D$3009,C136,'Nominatieve lijst'!$J$10:$J$3009))","v":""},{"$f":"IF(ISBLANK(Vrijwilligersregister!C136)=TRUE,\"\",D136+F136)","v":""},{"$f":"Vrijwilligersregister!L136","v":0}]
[null,129,{"$f":"IF(ISBLANK(Vrijwilligersregister!C137)=TRUE,\"\",Vrijwilligersregister!C137)","v":""},{"$f":"IF(ISBLANK(Vrijwilligersregister!C137)=TRUE,\"\",SUMIF('Nominatieve lijst'!$D$10:$D$3009,C137,'Nominatieve lijst'!$G$10:$G$3009))","v":""},{"$f":"IF(ISBLANK(Vrijwilligersregister!C137)=TRUE,\"\",SUMIF('Nominatieve lijst'!$D$10:$D$3009,C137,'Nominatieve lijst'!$H$10:$H$3009))","v":""},{"$f":"IF(ISBLANK(Vrijwilligersregister!C137)=TRUE,\"\",SUMIF('Nominatieve lijst'!$D$10:$D$3009,C137,'Nominatieve lijst'!$J$10:$J$3009))","v":""},{"$f":"IF(ISBLANK(Vrijwilligersregister!C137)=TRUE,\"\",D137+F137)","v":""},{"$f":"Vrijwilligersregister!L137","v":0}]
[null,130,{"$f":"IF(ISBLANK(Vrijwilligersregister!C138)=TRUE,\"\",Vrijwilligersregister!C138)","v":""},{"$f":"IF(ISBLANK(Vrijwilligersregister!C138)=TRUE,\"\",SUMIF('Nominatieve lijst'!$D$10:$D$3009,C138,'Nominatieve lijst'!$G$10:$G$3009))","v":""},{"$f":"IF(ISBLANK(Vrijwilligersregister!C138)=TRUE,\"\",SUMIF('Nominatieve lijst'!$D$10:$D$3009,C138,'Nominatieve lijst'!$H$10:$H$3009))","v":""},{"$f":"IF(ISBLANK(Vrijwilligersregister!C138)=TRUE,\"\",SUMIF('Nominatieve lijst'!$D$10:$D$3009,C138,'Nominatieve lijst'!$J$10:$J$3009))","v":""},{"$f":"IF(ISBLANK(Vrijwilligersregister!C138)=TRUE,\"\",D138+F138)","v":""},{"$f":"Vrijwilligersregister!L138","v":0}]
[null,131,{"$f":"IF(ISBLANK(Vrijwilligersregister!C139)=TRUE,\"\",Vrijwilligersregister!C139)","v":""},{"$f":"IF(ISBLANK(Vrijwilligersregister!C139)=TRUE,\"\",SUMIF('Nominatieve lijst'!$D$10:$D$3009,C139,'Nominatieve lijst'!$G$10:$G$3009))","v":""},{"$f":"IF(ISBLANK(Vrijwilligersregister!C139)=TRUE,\"\",SUMIF('Nominatieve lijst'!$D$10:$D$3009,C139,'Nominatieve lijst'!$H$10:$H$3009))","v":""},{"$f":"IF(ISBLANK(Vrijwilligersregister!C139)=TRUE,\"\",SUMIF('Nominatieve lijst'!$D$10:$D$3009,C139,'Nominatieve lijst'!$J$10:$J$3009))","v":""},{"$f":"IF(ISBLANK(Vrijwilligersregister!C139)=TRUE,\"\",D139+F139)","v":""},{"$f":"Vrijwilligersregister!L139","v":0}]
[null,132,{"$f":"IF(ISBLANK(Vrijwilligersregister!C140)=TRUE,\"\",Vrijwilligersregister!C140)","v":""},{"$f":"IF(ISBLANK(Vrijwilligersregister!C140)=TRUE,\"\",SUMIF('Nominatieve lijst'!$D$10:$D$3009,C140,'Nominatieve lijst'!$G$10:$G$3009))","v":""},{"$f":"IF(ISBLANK(Vrijwilligersregister!C140)=TRUE,\"\",SUMIF('Nominatieve lijst'!$D$10:$D$3009,C140,'Nominatieve lijst'!$H$10:$H$3009))","v":""},{"$f":"IF(ISBLANK(Vrijwilligersregister!C140)=TRUE,\"\",SUMIF('Nominatieve lijst'!$D$10:$D$3009,C140,'Nominatieve lijst'!$J$10:$J$3009))","v":""},{"$f":"IF(ISBLANK(Vrijwilligersregister!C140)=TRUE,\"\",D140+F140)","v":""},{"$f":"Vrijwilligersregister!L140","v":0}]
[null,133,{"$f":"IF(ISBLANK(Vrijwilligersregister!C141)=TRUE,\"\",Vrijwilligersregister!C141)","v":""},{"$f":"IF(ISBLANK(Vrijwilligersregister!C141)=TRUE,\"\",SUMIF('Nominatieve lijst'!$D$10:$D$3009,C141,'Nominatieve lijst'!$G$10:$G$3009))","v":""},{"$f":"IF(ISBLANK(Vrijwilligersregister!C141)=TRUE,\"\",SUMIF('Nominatieve lijst'!$D$10:$D$3009,C141,'Nominatieve lijst'!$H$10:$H$3009))","v":""},{"$f":"IF(ISBLANK(Vrijwilligersregister!C141)=TRUE,\"\",SUMIF('Nominatieve lijst'!$D$10:$D$3009,C141,'Nominatieve lijst'!$J$10:$J$3009))","v":""},{"$f":"IF(ISBLANK(Vrijwilligersregister!C141)=TRUE,\"\",D141+F141)","v":""},{"$f":"Vrijwilligersregister!L141","v":0}]
[null,134,{"$f":"IF(ISBLANK(Vrijwilligersregister!C142)=TRUE,\"\",Vrijwilligersregister!C142)","v":""},{"$f":"IF(ISBLANK(Vrijwilligersregister!C142)=TRUE,\"\",SUMIF('Nominatieve lijst'!$D$10:$D$3009,C142,'Nominatieve lijst'!$G$10:$G$3009))","v":""},{"$f":"IF(ISBLANK(Vrijwilligersregister!C142)=TRUE,\"\",SUMIF('Nominatieve lijst'!$D$10:$D$3009,C142,'Nominatieve lijst'!$H$10:$H$3009))","v":""},{"$f":"IF(ISBLANK(Vrijwilligersregister!C142)=TRUE,\"\",SUMIF('Nominatieve lijst'!$D$10:$D$3009,C142,'Nominatieve lijst'!$J$10:$J$3009))","v":""},{"$f":"IF(ISBLANK(Vrijwilligersregister!C142)=TRUE,\"\",D142+F142)","v":""},{"$f":"Vrijwilligersregister!L142","v":0}]
[null,135,{"$f":"IF(ISBLANK(Vrijwilligersregister!C143)=TRUE,\"\",Vrijwilligersregister!C143)","v":""},{"$f":"IF(ISBLANK(Vrijwilligersregister!C143)=TRUE,\"\",SUMIF('Nominatieve lijst'!$D$10:$D$3009,C143,'Nominatieve lijst'!$G$10:$G$3009))","v":""},{"$f":"IF(ISBLANK(Vrijwilligersregister!C143)=TRUE,\"\",SUMIF('Nominatieve lijst'!$D$10:$D$3009,C143,'Nominatieve lijst'!$H$10:$H$3009))","v":""},{"$f":"IF(ISBLANK(Vrijwilligersregister!C143)=TRUE,\"\",SUMIF('Nominatieve lijst'!$D$10:$D$3009,C143,'Nominatieve lijst'!$J$10:$J$3009))","v":""},{"$f":"IF(ISBLANK(Vrijwilligersregister!C143)=TRUE,\"\",D143+F143)","v":""},{"$f":"Vrijwilligersregister!L143","v":0}]
[null,136,{"$f":"IF(ISBLANK(Vrijwilligersregister!C144)=TRUE,\"\",Vrijwilligersregister!C144)","v":""},{"$f":"IF(ISBLANK(Vrijwilligersregister!C144)=TRUE,\"\",SUMIF('Nominatieve lijst'!$D$10:$D$3009,C144,'Nominatieve lijst'!$G$10:$G$3009))","v":""},{"$f":"IF(ISBLANK(Vrijwilligersregister!C144)=TRUE,\"\",SUMIF('Nominatieve lijst'!$D$10:$D$3009,C144,'Nominatieve lijst'!$H$10:$H$3009))","v":""},{"$f":"IF(ISBLANK(Vrijwilligersregister!C144)=TRUE,\"\",SUMIF('Nominatieve lijst'!$D$10:$D$3009,C144,'Nominatieve lijst'!$J$10:$J$3009))","v":""},{"$f":"IF(ISBLANK(Vrijwilligersregister!C144)=TRUE,\"\",D144+F144)","v":""},{"$f":"Vrijwilligersregister!L144","v":0}]
[null,137,{"$f":"IF(ISBLANK(Vrijwilligersregister!C145)=TRUE,\"\",Vrijwilligersregister!C145)","v":""},{"$f":"IF(ISBLANK(Vrijwilligersregister!C145)=TRUE,\"\",SUMIF('Nominatieve lijst'!$D$10:$D$3009,C145,'Nominatieve lijst'!$G$10:$G$3009))","v":""},{"$f":"IF(ISBLANK(Vrijwilligersregister!C145)=TRUE,\"\",SUMIF('Nominatieve lijst'!$D$10:$D$3009,C145,'Nominatieve lijst'!$H$10:$H$3009))","v":""},{"$f":"IF(ISBLANK(Vrijwilligersregister!C145)=TRUE,\"\",SUMIF('Nominatieve lijst'!$D$10:$D$3009,C145,'Nominatieve lijst'!$J$10:$J$3009))","v":""},{"$f":"IF(ISBLANK(Vrijwilligersregister!C145)=TRUE,\"\",D145+F145)","v":""},{"$f":"Vrijwilligersregister!L145","v":0}]
[null,138,{"$f":"IF(ISBLANK(Vrijwilligersregister!C146)=TRUE,\"\",Vrijwilligersregister!C146)","v":""},{"$f":"IF(ISBLANK(Vrijwilligersregister!C146)=TRUE,\"\",SUMIF('Nominatieve lijst'!$D$10:$D$3009,C146,'Nominatieve lijst'!$G$10:$G$3009))","v":""},{"$f":"IF(ISBLANK(Vrijwilligersregister!C146)=TRUE,\"\",SUMIF('Nominatieve lijst'!$D$10:$D$3009,C146,'Nominatieve lijst'!$H$10:$H$3009))","v":""},{"$f":"IF(ISBLANK(Vrijwilligersregister!C146)=TRUE,\"\",SUMIF('Nominatieve lijst'!$D$10:$D$3009,C146,'Nominatieve lijst'!$J$10:$J$3009))","v":""},{"$f":"IF(ISBLANK(Vrijwilligersregister!C146)=TRUE,\"\",D146+F146)","v":""},{"$f":"Vrijwilligersregister!L146","v":0}]
[null,139,{"$f":"IF(ISBLANK(Vrijwilligersregister!C147)=TRUE,\"\",Vrijwilligersregister!C147)","v":""},{"$f":"IF(ISBLANK(Vrijwilligersregister!C147)=TRUE,\"\",SUMIF('Nominatieve lijst'!$D$10:$D$3009,C147,'Nominatieve lijst'!$G$10:$G$3009))","v":""},{"$f":"IF(ISBLANK(Vrijwilligersregister!C147)=TRUE,\"\",SUMIF('Nominatieve lijst'!$D$10:$D$3009,C147,'Nominatieve lijst'!$H$10:$H$3009))","v":""},{"$f":"IF(ISBLANK(Vrijwilligersregister!C147)=TRUE,\"\",SUMIF('Nominatieve lijst'!$D$10:$D$3009,C147,'Nominatieve lijst'!$J$10:$J$3009))","v":""},{"$f":"IF(ISBLANK(Vrijwilligersregister!C147)=TRUE,\"\",D147+F147)","v":""},{"$f":"Vrijwilligersregister!L147","v":0}]
[null,140,{"$f":"IF(ISBLANK(Vrijwilligersregister!C148)=TRUE,\"\",Vrijwilligersregister!C148)","v":""},{"$f":"IF(ISBLANK(Vrijwilligersregister!C148)=TRUE,\"\",SUMIF('Nominatieve lijst'!$D$10:$D$3009,C148,'Nominatieve lijst'!$G$10:$G$3009))","v":""},{"$f":"IF(ISBLANK(Vrijwilligersregister!C148)=TRUE,\"\",SUMIF('Nominatieve lijst'!$D$10:$D$3009,C148,'Nominatieve lijst'!$H$10:$H$3009))","v":""},{"$f":"IF(ISBLANK(Vrijwilligersregister!C148)=TRUE,\"\",SUMIF('Nominatieve lijst'!$D$10:$D$3009,C148,'Nominatieve lijst'!$J$10:$J$3009))","v":""},{"$f":"IF(ISBLANK(Vrijwilligersregister!C148)=TRUE,\"\",D148+F148)","v":""},{"$f":"Vrijwilligersregister!L148","v":0}]
[null,141,{"$f":"IF(ISBLANK(Vrijwilligersregister!C149)=TRUE,\"\",Vrijwilligersregister!C149)","v":""},{"$f":"IF(ISBLANK(Vrijwilligersregister!C149)=TRUE,\"\",SUMIF('Nominatieve lijst'!$D$10:$D$3009,C149,'Nominatieve lijst'!$G$10:$G$3009))","v":""},{"$f":"IF(ISBLANK(Vrijwilligersregister!C149)=TRUE,\"\",SUMIF('Nominatieve lijst'!$D$10:$D$3009,C149,'Nominatieve lijst'!$H$10:$H$3009))","v":""},{"$f":"IF(ISBLANK(Vrijwilligersregister!C149)=TRUE,\"\",SUMIF('Nominatieve lijst'!$D$10:$D$3009,C149,'Nominatieve lijst'!$J$10:$J$3009))","v":""},{"$f":"IF(ISBLANK(Vrijwilligersregister!C149)=TRUE,\"\",D149+F149)","v":""},{"$f":"Vrijwilligersregister!L149","v":0}]
[null,142,{"$f":"IF(ISBLANK(Vrijwilligersregister!C150)=TRUE,\"\",Vrijwilligersregister!C150)","v":""},{"$f":"IF(ISBLANK(Vrijwilligersregister!C150)=TRUE,\"\",SUMIF('Nominatieve lijst'!$D$10:$D$3009,C150,'Nominatieve lijst'!$G$10:$G$3009))","v":""},{"$f":"IF(ISBLANK(Vrijwilligersregister!C150)=TRUE,\"\",SUMIF('Nominatieve lijst'!$D$10:$D$3009,C150,'Nominatieve lijst'!$H$10:$H$3009))","v":""},{"$f":"IF(ISBLANK(Vrijwilligersregister!C150)=TRUE,\"\",SUMIF('Nominatieve lijst'!$D$10:$D$3009,C150,'Nominatieve lijst'!$J$10:$J$3009))","v":""},{"$f":"IF(ISBLANK(Vrijwilligersregister!C150)=TRUE,\"\",D150+F150)","v":""},{"$f":"Vrijwilligersregister!L150","v":0}]
[null,143,{"$f":"IF(ISBLANK(Vrijwilligersregister!C151)=TRUE,\"\",Vrijwilligersregister!C151)","v":""},{"$f":"IF(ISBLANK(Vrijwilligersregister!C151)=TRUE,\"\",SUMIF('Nominatieve lijst'!$D$10:$D$3009,C151,'Nominatieve lijst'!$G$10:$G$3009))","v":""},{"$f":"IF(ISBLANK(Vrijwilligersregister!C151)=TRUE,\"\",SUMIF('Nominatieve lijst'!$D$10:$D$3009,C151,'Nominatieve lijst'!$H$10:$H$3009))","v":""},{"$f":"IF(ISBLANK(Vrijwilligersregister!C151)=TRUE,\"\",SUMIF('Nominatieve lijst'!$D$10:$D$3009,C151,'Nominatieve lijst'!$J$10:$J$3009))","v":""},{"$f":"IF(ISBLANK(Vrijwilligersregister!C151)=TRUE,\"\",D151+F151)","v":""},{"$f":"Vrijwilligersregister!L151","v":0}]
[null,144,{"$f":"IF(ISBLANK(Vrijwilligersregister!C152)=TRUE,\"\",Vrijwilligersregister!C152)","v":""},{"$f":"IF(ISBLANK(Vrijwilligersregister!C152)=TRUE,\"\",SUMIF('Nominatieve lijst'!$D$10:$D$3009,C152,'Nominatieve lijst'!$G$10:$G$3009))","v":""},{"$f":"IF(ISBLANK(Vrijwilligersregister!C152)=TRUE,\"\",SUMIF('Nominatieve lijst'!$D$10:$D$3009,C152,'Nominatieve lijst'!$H$10:$H$3009))","v":""},{"$f":"IF(ISBLANK(Vrijwilligersregister!C152)=TRUE,\"\",SUMIF('Nominatieve lijst'!$D$10:$D$3009,C152,'Nominatieve lijst'!$J$10:$J$3009))","v":""},{"$f":"IF(ISBLANK(Vrijwilligersregister!C152)=TRUE,\"\",D152+F152)","v":""},{"$f":"Vrijwilligersregister!L152","v":0}]
[null,145,{"$f":"IF(ISBLANK(Vrijwilligersregister!C153)=TRUE,\"\",Vrijwilligersregister!C153)","v":""},{"$f":"IF(ISBLANK(Vrijwilligersregister!C153)=TRUE,\"\",SUMIF('Nominatieve lijst'!$D$10:$D$3009,C153,'Nominatieve lijst'!$G$10:$G$3009))","v":""},{"$f":"IF(ISBLANK(Vrijwilligersregister!C153)=TRUE,\"\",SUMIF('Nominatieve lijst'!$D$10:$D$3009,C153,'Nominatieve lijst'!$H$10:$H$3009))","v":""},{"$f":"IF(ISBLANK(Vrijwilligersregister!C153)=TRUE,\"\",SUMIF('Nominatieve lijst'!$D$10:$D$3009,C153,'Nominatieve lijst'!$J$10:$J$3009))","v":""},{"$f":"IF(ISBLANK(Vrijwilligersregister!C153)=TRUE,\"\",D153+F153)","v":""},{"$f":"Vrijwilligersregister!L153","v":0}]
[null,146,{"$f":"IF(ISBLANK(Vrijwilligersregister!C154)=TRUE,\"\",Vrijwilligersregister!C154)","v":""},{"$f":"IF(ISBLANK(Vrijwilligersregister!C154)=TRUE,\"\",SUMIF('Nominatieve lijst'!$D$10:$D$3009,C154,'Nominatieve lijst'!$G$10:$G$3009))","v":""},{"$f":"IF(ISBLANK(Vrijwilligersregister!C154)=TRUE,\"\",SUMIF('Nominatieve lijst'!$D$10:$D$3009,C154,'Nominatieve lijst'!$H$10:$H$3009))","v":""},{"$f":"IF(ISBLANK(Vrijwilligersregister!C154)=TRUE,\"\",SUMIF('Nominatieve lijst'!$D$10:$D$3009,C154,'Nominatieve lijst'!$J$10:$J$3009))","v":""},{"$f":"IF(ISBLANK(Vrijwilligersregister!C154)=TRUE,\"\",D154+F154)","v":""},{"$f":"Vrijwilligersregister!L154","v":0}]
[null,147,{"$f":"IF(ISBLANK(Vrijwilligersregister!C155)=TRUE,\"\",Vrijwilligersregister!C155)","v":""},{"$f":"IF(ISBLANK(Vrijwilligersregister!C155)=TRUE,\"\",SUMIF('Nominatieve lijst'!$D$10:$D$3009,C155,'Nominatieve lijst'!$G$10:$G$3009))","v":""},{"$f":"IF(ISBLANK(Vrijwilligersregister!C155)=TRUE,\"\",SUMIF('Nominatieve lijst'!$D$10:$D$3009,C155,'Nominatieve lijst'!$H$10:$H$3009))","v":""},{"$f":"IF(ISBLANK(Vrijwilligersregister!C155)=TRUE,\"\",SUMIF('Nominatieve lijst'!$D$10:$D$3009,C155,'Nominatieve lijst'!$J$10:$J$3009))","v":""},{"$f":"IF(ISBLANK(Vrijwilligersregister!C155)=TRUE,\"\",D155+F155)","v":""},{"$f":"Vrijwilligersregister!L155","v":0}]
[null,148,{"$f":"IF(ISBLANK(Vrijwilligersregister!C156)=TRUE,\"\",Vrijwilligersregister!C156)","v":""},{"$f":"IF(ISBLANK(Vrijwilligersregister!C156)=TRUE,\"\",SUMIF('Nominatieve lijst'!$D$10:$D$3009,C156,'Nominatieve lijst'!$G$10:$G$3009))","v":""},{"$f":"IF(ISBLANK(Vrijwilligersregister!C156)=TRUE,\"\",SUMIF('Nominatieve lijst'!$D$10:$D$3009,C156,'Nominatieve lijst'!$H$10:$H$3009))","v":""},{"$f":"IF(ISBLANK(Vrijwilligersregister!C156)=TRUE,\"\",SUMIF('Nominatieve lijst'!$D$10:$D$3009,C156,'Nominatieve lijst'!$J$10:$J$3009))","v":""},{"$f":"IF(ISBLANK(Vrijwilligersregister!C156)=TRUE,\"\",D156+F156)","v":""},{"$f":"Vrijwilligersregister!L156","v":0}]
[null,149,{"$f":"IF(ISBLANK(Vrijwilligersregister!C157)=TRUE,\"\",Vrijwilligersregister!C157)","v":""},{"$f":"IF(ISBLANK(Vrijwilligersregister!C157)=TRUE,\"\",SUMIF('Nominatieve lijst'!$D$10:$D$3009,C157,'Nominatieve lijst'!$G$10:$G$3009))","v":""},{"$f":"IF(ISBLANK(Vrijwilligersregister!C157)=TRUE,\"\",SUMIF('Nominatieve lijst'!$D$10:$D$3009,C157,'Nominatieve lijst'!$H$10:$H$3009))","v":""},{"$f":"IF(ISBLANK(Vrijwilligersregister!C157)=TRUE,\"\",SUMIF('Nominatieve lijst'!$D$10:$D$3009,C157,'Nominatieve lijst'!$J$10:$J$3009))","v":""},{"$f":"IF(ISBLANK(Vrijwilligersregister!C157)=TRUE,\"\",D157+F157)","v":""},{"$f":"Vrijwilligersregister!L157","v":0}]
[null,150,{"$f":"IF(ISBLANK(Vrijwilligersregister!C158)=TRUE,\"\",Vrijwilligersregister!C158)","v":""},{"$f":"IF(ISBLANK(Vrijwilligersregister!C158)=TRUE,\"\",SUMIF('Nominatieve lijst'!$D$10:$D$3009,C158,'Nominatieve lijst'!$G$10:$G$3009))","v":""},{"$f":"IF(ISBLANK(Vrijwilligersregister!C158)=TRUE,\"\",SUMIF('Nominatieve lijst'!$D$10:$D$3009,C158,'Nominatieve lijst'!$H$10:$H$3009))","v":""},{"$f":"IF(ISBLANK(Vrijwilligersregister!C158)=TRUE,\"\",SUMIF('Nominatieve lijst'!$D$10:$D$3009,C158,'Nominatieve lijst'!$J$10:$J$3009))","v":""},{"$f":"IF(ISBLANK(Vrijwilligersregister!C158)=TRUE,\"\",D158+F158)","v":""},{"$f":"Vrijwilligersregister!L158","v":0}]
[null,151,{"$f":"IF(ISBLANK(Vrijwilligersregister!C159)=TRUE,\"\",Vrijwilligersregister!C159)","v":""},{"$f":"IF(ISBLANK(Vrijwilligersregister!C159)=TRUE,\"\",SUMIF('Nominatieve lijst'!$D$10:$D$3009,C159,'Nominatieve lijst'!$G$10:$G$3009))","v":""},{"$f":"IF(ISBLANK(Vrijwilligersregister!C159)=TRUE,\"\",SUMIF('Nominatieve lijst'!$D$10:$D$3009,C159,'Nominatieve lijst'!$H$10:$H$3009))","v":""},{"$f":"IF(ISBLANK(Vrijwilligersregister!C159)=TRUE,\"\",SUMIF('Nominatieve lijst'!$D$10:$D$3009,C159,'Nominatieve lijst'!$J$10:$J$3009))","v":""},{"$f":"IF(ISBLANK(Vrijwilligersregister!C159)=TRUE,\"\",D159+F159)","v":""},{"$f":"Vrijwilligersregister!L159","v":0}]
[null,152,{"$f":"IF(ISBLANK(Vrijwilligersregister!C160)=TRUE,\"\",Vrijwilligersregister!C160)","v":""},{"$f":"IF(ISBLANK(Vrijwilligersregister!C160)=TRUE,\"\",SUMIF('Nominatieve lijst'!$D$10:$D$3009,C160,'Nominatieve lijst'!$G$10:$G$3009))","v":""},{"$f":"IF(ISBLANK(Vrijwilligersregister!C160)=TRUE,\"\",SUMIF('Nominatieve lijst'!$D$10:$D$3009,C160,'Nominatieve lijst'!$H$10:$H$3009))","v":""},{"$f":"IF(ISBLANK(Vrijwilligersregister!C160)=TRUE,\"\",SUMIF('Nominatieve lijst'!$D$10:$D$3009,C160,'Nominatieve lijst'!$J$10:$J$3009))","v":""},{"$f":"IF(ISBLANK(Vrijwilligersregister!C160)=TRUE,\"\",D160+F160)","v":""},{"$f":"Vrijwilligersregister!L160","v":0}]
[null,153,{"$f":"IF(ISBLANK(Vrijwilligersregister!C161)=TRUE,\"\",Vrijwilligersregister!C161)","v":""},{"$f":"IF(ISBLANK(Vrijwilligersregister!C161)=TRUE,\"\",SUMIF('Nominatieve lijst'!$D$10:$D$3009,C161,'Nominatieve lijst'!$G$10:$G$3009))","v":""},{"$f":"IF(ISBLANK(Vrijwilligersregister!C161)=TRUE,\"\",SUMIF('Nominatieve lijst'!$D$10:$D$3009,C161,'Nominatieve lijst'!$H$10:$H$3009))","v":""},{"$f":"IF(ISBLANK(Vrijwilligersregister!C161)=TRUE,\"\",SUMIF('Nominatieve lijst'!$D$10:$D$3009,C161,'Nominatieve lijst'!$J$10:$J$3009))","v":""},{"$f":"IF(ISBLANK(Vrijwilligersregister!C161)=TRUE,\"\",D161+F161)","v":""},{"$f":"Vrijwilligersregister!L161","v":0}]
[null,154,{"$f":"IF(ISBLANK(Vrijwilligersregister!C162)=TRUE,\"\",Vrijwilligersregister!C162)","v":""},{"$f":"IF(ISBLANK(Vrijwilligersregister!C162)=TRUE,\"\",SUMIF('Nominatieve lijst'!$D$10:$D$3009,C162,'Nominatieve lijst'!$G$10:$G$3009))","v":""},{"$f":"IF(ISBLANK(Vrijwilligersregister!C162)=TRUE,\"\",SUMIF('Nominatieve lijst'!$D$10:$D$3009,C162,'Nominatieve lijst'!$H$10:$H$3009))","v":""},{"$f":"IF(ISBLANK(Vrijwilligersregister!C162)=TRUE,\"\",SUMIF('Nominatieve lijst'!$D$10:$D$3009,C162,'Nominatieve lijst'!$J$10:$J$3009))","v":""},{"$f":"IF(ISBLANK(Vrijwilligersregister!C162)=TRUE,\"\",D162+F162)","v":""},{"$f":"Vrijwilligersregister!L162","v":0}]
[null,155,{"$f":"IF(ISBLANK(Vrijwilligersregister!C163)=TRUE,\"\",Vrijwilligersregister!C163)","v":""},{"$f":"IF(ISBLANK(Vrijwilligersregister!C163)=TRUE,\"\",SUMIF('Nominatieve lijst'!$D$10:$D$3009,C163,'Nominatieve lijst'!$G$10:$G$3009))","v":""},{"$f":"IF(ISBLANK(Vrijwilligersregister!C163)=TRUE,\"\",SUMIF('Nominatieve lijst'!$D$10:$D$3009,C163,'Nominatieve lijst'!$H$10:$H$3009))","v":""},{"$f":"IF(ISBLANK(Vrijwilligersregister!C163)=TRUE,\"\",SUMIF('Nominatieve lijst'!$D$10:$D$3009,C163,'Nominatieve lijst'!$J$10:$J$3009))","v":""},{"$f":"IF(ISBLANK(Vrijwilligersregister!C163)=TRUE,\"\",D163+F163)","v":""},{"$f":"Vrijwilligersregister!L163","v":0}]
[null,156,{"$f":"IF(ISBLANK(Vrijwilligersregister!C164)=TRUE,\"\",Vrijwilligersregister!C164)","v":""},{"$f":"IF(ISBLANK(Vrijwilligersregister!C164)=TRUE,\"\",SUMIF('Nominatieve lijst'!$D$10:$D$3009,C164,'Nominatieve lijst'!$G$10:$G$3009))","v":""},{"$f":"IF(ISBLANK(Vrijwilligersregister!C164)=TRUE,\"\",SUMIF('Nominatieve lijst'!$D$10:$D$3009,C164,'Nominatieve lijst'!$H$10:$H$3009))","v":""},{"$f":"IF(ISBLANK(Vrijwilligersregister!C164)=TRUE,\"\",SUMIF('Nominatieve lijst'!$D$10:$D$3009,C164,'Nominatieve lijst'!$J$10:$J$3009))","v":""},{"$f":"IF(ISBLANK(Vrijwilligersregister!C164)=TRUE,\"\",D164+F164)","v":""},{"$f":"Vrijwilligersregister!L164","v":0}]
[null,157,{"$f":"IF(ISBLANK(Vrijwilligersregister!C165)=TRUE,\"\",Vrijwilligersregister!C165)","v":""},{"$f":"IF(ISBLANK(Vrijwilligersregister!C165)=TRUE,\"\",SUMIF('Nominatieve lijst'!$D$10:$D$3009,C165,'Nominatieve lijst'!$G$10:$G$3009))","v":""},{"$f":"IF(ISBLANK(Vrijwilligersregister!C165)=TRUE,\"\",SUMIF('Nominatieve lijst'!$D$10:$D$3009,C165,'Nominatieve lijst'!$H$10:$H$3009))","v":""},{"$f":"IF(ISBLANK(Vrijwilligersregister!C165)=TRUE,\"\",SUMIF('Nominatieve lijst'!$D$10:$D$3009,C165,'Nominatieve lijst'!$J$10:$J$3009))","v":""},{"$f":"IF(ISBLANK(Vrijwilligersregister!C165)=TRUE,\"\",D165+F165)","v":""},{"$f":"Vrijwilligersregister!L165","v":0}]
[null,158,{"$f":"IF(ISBLANK(Vrijwilligersregister!C166)=TRUE,\"\",Vrijwilligersregister!C166)","v":""},{"$f":"IF(ISBLANK(Vrijwilligersregister!C166)=TRUE,\"\",SUMIF('Nominatieve lijst'!$D$10:$D$3009,C166,'Nominatieve lijst'!$G$10:$G$3009))","v":""},{"$f":"IF(ISBLANK(Vrijwilligersregister!C166)=TRUE,\"\",SUMIF('Nominatieve lijst'!$D$10:$D$3009,C166,'Nominatieve lijst'!$H$10:$H$3009))","v":""},{"$f":"IF(ISBLANK(Vrijwilligersregister!C166)=TRUE,\"\",SUMIF('Nominatieve lijst'!$D$10:$D$3009,C166,'Nominatieve lijst'!$J$10:$J$3009))","v":""},{"$f":"IF(ISBLANK(Vrijwilligersregister!C166)=TRUE,\"\",D166+F166)","v":""},{"$f":"Vrijwilligersregister!L166","v":0}]
[null,159,{"$f":"IF(ISBLANK(Vrijwilligersregister!C167)=TRUE,\"\",Vrijwilligersregister!C167)","v":""},{"$f":"IF(ISBLANK(Vrijwilligersregister!C167)=TRUE,\"\",SUMIF('Nominatieve lijst'!$D$10:$D$3009,C167,'Nominatieve lijst'!$G$10:$G$3009))","v":""},{"$f":"IF(ISBLANK(Vrijwilligersregister!C167)=TRUE,\"\",SUMIF('Nominatieve lijst'!$D$10:$D$3009,C167,'Nominatieve lijst'!$H$10:$H$3009))","v":""},{"$f":"IF(ISBLANK(Vrijwilligersregister!C167)=TRUE,\"\",SUMIF('Nominatieve lijst'!$D$10:$D$3009,C167,'Nominatieve lijst'!$J$10:$J$3009))","v":""},{"$f":"IF(ISBLANK(Vrijwilligersregister!C167)=TRUE,\"\",D167+F167)","v":""},{"$f":"Vrijwilligersregister!L167","v":0}]
[null,160,{"$f":"IF(ISBLANK(Vrijwilligersregister!C168)=TRUE,\"\",Vrijwilligersregister!C168)","v":""},{"$f":"IF(ISBLANK(Vrijwilligersregister!C168)=TRUE,\"\",SUMIF('Nominatieve lijst'!$D$10:$D$3009,C168,'Nominatieve lijst'!$G$10:$G$3009))","v":""},{"$f":"IF(ISBLANK(Vrijwilligersregister!C168)=TRUE,\"\",SUMIF('Nominatieve lijst'!$D$10:$D$3009,C168,'Nominatieve lijst'!$H$10:$H$3009))","v":""},{"$f":"IF(ISBLANK(Vrijwilligersregister!C168)=TRUE,\"\",SUMIF('Nominatieve lijst'!$D$10:$D$3009,C168,'Nominatieve lijst'!$J$10:$J$3009))","v":""},{"$f":"IF(ISBLANK(Vrijwilligersregister!C168)=TRUE,\"\",D168+F168)","v":""},{"$f":"Vrijwilligersregister!L168","v":0}]
[null,161,{"$f":"IF(ISBLANK(Vrijwilligersregister!C169)=TRUE,\"\",Vrijwilligersregister!C169)","v":""},{"$f":"IF(ISBLANK(Vrijwilligersregister!C169)=TRUE,\"\",SUMIF('Nominatieve lijst'!$D$10:$D$3009,C169,'Nominatieve lijst'!$G$10:$G$3009))","v":""},{"$f":"IF(ISBLANK(Vrijwilligersregister!C169)=TRUE,\"\",SUMIF('Nominatieve lijst'!$D$10:$D$3009,C169,'Nominatieve lijst'!$H$10:$H$3009))","v":""},{"$f":"IF(ISBLANK(Vrijwilligersregister!C169)=TRUE,\"\",SUMIF('Nominatieve lijst'!$D$10:$D$3009,C169,'Nominatieve lijst'!$J$10:$J$3009))","v":""},{"$f":"IF(ISBLANK(Vrijwilligersregister!C169)=TRUE,\"\",D169+F169)","v":""},{"$f":"Vrijwilligersregister!L169","v":0}]
[null,162,{"$f":"IF(ISBLANK(Vrijwilligersregister!C170)=TRUE,\"\",Vrijwilligersregister!C170)","v":""},{"$f":"IF(ISBLANK(Vrijwilligersregister!C170)=TRUE,\"\",SUMIF('Nominatieve lijst'!$D$10:$D$3009,C170,'Nominatieve lijst'!$G$10:$G$3009))","v":""},{"$f":"IF(ISBLANK(Vrijwilligersregister!C170)=TRUE,\"\",SUMIF('Nominatieve lijst'!$D$10:$D$3009,C170,'Nominatieve lijst'!$H$10:$H$3009))","v":""},{"$f":"IF(ISBLANK(Vrijwilligersregister!C170)=TRUE,\"\",SUMIF('Nominatieve lijst'!$D$10:$D$3009,C170,'Nominatieve lijst'!$J$10:$J$3009))","v":""},{"$f":"IF(ISBLANK(Vrijwilligersregister!C170)=TRUE,\"\",D170+F170)","v":""},{"$f":"Vrijwilligersregister!L170","v":0}]
[null,163,{"$f":"IF(ISBLANK(Vrijwilligersregister!C171)=TRUE,\"\",Vrijwilligersregister!C171)","v":""},{"$f":"IF(ISBLANK(Vrijwilligersregister!C171)=TRUE,\"\",SUMIF('Nominatieve lijst'!$D$10:$D$3009,C171,'Nominatieve lijst'!$G$10:$G$3009))","v":""},{"$f":"IF(ISBLANK(Vrijwilligersregister!C171)=TRUE,\"\",SUMIF('Nominatieve lijst'!$D$10:$D$3009,C171,'Nominatieve lijst'!$H$10:$H$3009))","v":""},{"$f":"IF(ISBLANK(Vrijwilligersregister!C171)=TRUE,\"\",SUMIF('Nominatieve lijst'!$D$10:$D$3009,C171,'Nominatieve lijst'!$J$10:$J$3009))","v":""},{"$f":"IF(ISBLANK(Vrijwilligersregister!C171)=TRUE,\"\",D171+F171)","v":""},{"$f":"Vrijwilligersregister!L171","v":0}]
[null,164,{"$f":"IF(ISBLANK(Vrijwilligersregister!C172)=TRUE,\"\",Vrijwilligersregister!C172)","v":""},{"$f":"IF(ISBLANK(Vrijwilligersregister!C172)=TRUE,\"\",SUMIF('Nominatieve lijst'!$D$10:$D$3009,C172,'Nominatieve lijst'!$G$10:$G$3009))","v":""},{"$f":"IF(ISBLANK(Vrijwilligersregister!C172)=TRUE,\"\",SUMIF('Nominatieve lijst'!$D$10:$D$3009,C172,'Nominatieve lijst'!$H$10:$H$3009))","v":""},{"$f":"IF(ISBLANK(Vrijwilligersregister!C172)=TRUE,\"\",SUMIF('Nominatieve lijst'!$D$10:$D$3009,C172,'Nominatieve lijst'!$J$10:$J$3009))","v":""},{"$f":"IF(ISBLANK(Vrijwilligersregister!C172)=TRUE,\"\",D172+F172)","v":""},{"$f":"Vrijwilligersregister!L172","v":0}]
[null,165,{"$f":"IF(ISBLANK(Vrijwilligersregister!C173)=TRUE,\"\",Vrijwilligersregister!C173)","v":""},{"$f":"IF(ISBLANK(Vrijwilligersregister!C173)=TRUE,\"\",SUMIF('Nominatieve lijst'!$D$10:$D$3009,C173,'Nominatieve lijst'!$G$10:$G$3009))","v":""},{"$f":"IF(ISBLANK(Vrijwilligersregister!C173)=TRUE,\"\",SUMIF('Nominatieve lijst'!$D$10:$D$3009,C173,'Nominatieve lijst'!$H$10:$H$3009))","v":""},{"$f":"IF(ISBLANK(Vrijwilligersregister!C173)=TRUE,\"\",SUMIF('Nominatieve lijst'!$D$10:$D$3009,C173,'Nominatieve lijst'!$J$10:$J$3009))","v":""},{"$f":"IF(ISBLANK(Vrijwilligersregister!C173)=TRUE,\"\",D173+F173)","v":""},{"$f":"Vrijwilligersregister!L173","v":0}]
[null,166,{"$f":"IF(ISBLANK(Vrijwilligersregister!C174)=TRUE,\"\",Vrijwilligersregister!C174)","v":""},{"$f":"IF(ISBLANK(Vrijwilligersregister!C174)=TRUE,\"\",SUMIF('Nominatieve lijst'!$D$10:$D$3009,C174,'Nominatieve lijst'!$G$10:$G$3009))","v":""},{"$f":"IF(ISBLANK(Vrijwilligersregister!C174)=TRUE,\"\",SUMIF('Nominatieve lijst'!$D$10:$D$3009,C174,'Nominatieve lijst'!$H$10:$H$3009))","v":""},{"$f":"IF(ISBLANK(Vrijwilligersregister!C174)=TRUE,\"\",SUMIF('Nominatieve lijst'!$D$10:$D$3009,C174,'Nominatieve lijst'!$J$10:$J$3009))","v":""},{"$f":"IF(ISBLANK(Vrijwilligersregister!C174)=TRUE,\"\",D174+F174)","v":""},{"$f":"Vrijwilligersregister!L174","v":0}]
[null,167,{"$f":"IF(ISBLANK(Vrijwilligersregister!C175)=TRUE,\"\",Vrijwilligersregister!C175)","v":""},{"$f":"IF(ISBLANK(Vrijwilligersregister!C175)=TRUE,\"\",SUMIF('Nominatieve lijst'!$D$10:$D$3009,C175,'Nominatieve lijst'!$G$10:$G$3009))","v":""},{"$f":"IF(ISBLANK(Vrijwilligersregister!C175)=TRUE,\"\",SUMIF('Nominatieve lijst'!$D$10:$D$3009,C175,'Nominatieve lijst'!$H$10:$H$3009))","v":""},{"$f":"IF(ISBLANK(Vrijwilligersregister!C175)=TRUE,\"\",SUMIF('Nominatieve lijst'!$D$10:$D$3009,C175,'Nominatieve lijst'!$J$10:$J$3009))","v":""},{"$f":"IF(ISBLANK(Vrijwilligersregister!C175)=TRUE,\"\",D175+F175)","v":""},{"$f":"Vrijwilligersregister!L175","v":0}]
[null,168,{"$f":"IF(ISBLANK(Vrijwilligersregister!C176)=TRUE,\"\",Vrijwilligersregister!C176)","v":""},{"$f":"IF(ISBLANK(Vrijwilligersregister!C176)=TRUE,\"\",SUMIF('Nominatieve lijst'!$D$10:$D$3009,C176,'Nominatieve lijst'!$G$10:$G$3009))","v":""},{"$f":"IF(ISBLANK(Vrijwilligersregister!C176)=TRUE,\"\",SUMIF('Nominatieve lijst'!$D$10:$D$3009,C176,'Nominatieve lijst'!$H$10:$H$3009))","v":""},{"$f":"IF(ISBLANK(Vrijwilligersregister!C176)=TRUE,\"\",SUMIF('Nominatieve lijst'!$D$10:$D$3009,C176,'Nominatieve lijst'!$J$10:$J$3009))","v":""},{"$f":"IF(ISBLANK(Vrijwilligersregister!C176)=TRUE,\"\",D176+F176)","v":""},{"$f":"Vrijwilligersregister!L176","v":0}]
[null,169,{"$f":"IF(ISBLANK(Vrijwilligersregister!C177)=TRUE,\"\",Vrijwilligersregister!C177)","v":""},{"$f":"IF(ISBLANK(Vrijwilligersregister!C177)=TRUE,\"\",SUMIF('Nominatieve lijst'!$D$10:$D$3009,C177,'Nominatieve lijst'!$G$10:$G$3009))","v":""},{"$f":"IF(ISBLANK(Vrijwilligersregister!C177)=TRUE,\"\",SUMIF('Nominatieve lijst'!$D$10:$D$3009,C177,'Nominatieve lijst'!$H$10:$H$3009))","v":""},{"$f":"IF(ISBLANK(Vrijwilligersregister!C177)=TRUE,\"\",SUMIF('Nominatieve lijst'!$D$10:$D$3009,C177,'Nominatieve lijst'!$J$10:$J$3009))","v":""},{"$f":"IF(ISBLANK(Vrijwilligersregister!C177)=TRUE,\"\",D177+F177)","v":""},{"$f":"Vrijwilligersregister!L177","v":0}]
[null,170,{"$f":"IF(ISBLANK(Vrijwilligersregister!C178)=TRUE,\"\",Vrijwilligersregister!C178)","v":""},{"$f":"IF(ISBLANK(Vrijwilligersregister!C178)=TRUE,\"\",SUMIF('Nominatieve lijst'!$D$10:$D$3009,C178,'Nominatieve lijst'!$G$10:$G$3009))","v":""},{"$f":"IF(ISBLANK(Vrijwilligersregister!C178)=TRUE,\"\",SUMIF('Nominatieve lijst'!$D$10:$D$3009,C178,'Nominatieve lijst'!$H$10:$H$3009))","v":""},{"$f":"IF(ISBLANK(Vrijwilligersregister!C178)=TRUE,\"\",SUMIF('Nominatieve lijst'!$D$10:$D$3009,C178,'Nominatieve lijst'!$J$10:$J$3009))","v":""},{"$f":"IF(ISBLANK(Vrijwilligersregister!C178)=TRUE,\"\",D178+F178)","v":""},{"$f":"Vrijwilligersregister!L178","v":0}]
[null,171,{"$f":"IF(ISBLANK(Vrijwilligersregister!C179)=TRUE,\"\",Vrijwilligersregister!C179)","v":""},{"$f":"IF(ISBLANK(Vrijwilligersregister!C179)=TRUE,\"\",SUMIF('Nominatieve lijst'!$D$10:$D$3009,C179,'Nominatieve lijst'!$G$10:$G$3009))","v":""},{"$f":"IF(ISBLANK(Vrijwilligersregister!C179)=TRUE,\"\",SUMIF('Nominatieve lijst'!$D$10:$D$3009,C179,'Nominatieve lijst'!$H$10:$H$3009))","v":""},{"$f":"IF(ISBLANK(Vrijwilligersregister!C179)=TRUE,\"\",SUMIF('Nominatieve lijst'!$D$10:$D$3009,C179,'Nominatieve lijst'!$J$10:$J$3009))","v":""},{"$f":"IF(ISBLANK(Vrijwilligersregister!C179)=TRUE,\"\",D179+F179)","v":""},{"$f":"Vrijwilligersregister!L179","v":0}]
[null,172,{"$f":"IF(ISBLANK(Vrijwilligersregister!C180)=TRUE,\"\",Vrijwilligersregister!C180)","v":""},{"$f":"IF(ISBLANK(Vrijwilligersregister!C180)=TRUE,\"\",SUMIF('Nominatieve lijst'!$D$10:$D$3009,C180,'Nominatieve lijst'!$G$10:$G$3009))","v":""},{"$f":"IF(ISBLANK(Vrijwilligersregister!C180)=TRUE,\"\",SUMIF('Nominatieve lijst'!$D$10:$D$3009,C180,'Nominatieve lijst'!$H$10:$H$3009))","v":""},{"$f":"IF(ISBLANK(Vrijwilligersregister!C180)=TRUE,\"\",SUMIF('Nominatieve lijst'!$D$10:$D$3009,C180,'Nominatieve lijst'!$J$10:$J$3009))","v":""},{"$f":"IF(ISBLANK(Vrijwilligersregister!C180)=TRUE,\"\",D180+F180)","v":""},{"$f":"Vrijwilligersregister!L180","v":0}]
[null,173,{"$f":"IF(ISBLANK(Vrijwilligersregister!C181)=TRUE,\"\",Vrijwilligersregister!C181)","v":""},{"$f":"IF(ISBLANK(Vrijwilligersregister!C181)=TRUE,\"\",SUMIF('Nominatieve lijst'!$D$10:$D$3009,C181,'Nominatieve lijst'!$G$10:$G$3009))","v":""},{"$f":"IF(ISBLANK(Vrijwilligersregister!C181)=TRUE,\"\",SUMIF('Nominatieve lijst'!$D$10:$D$3009,C181,'Nominatieve lijst'!$H$10:$H$3009))","v":""},{"$f":"IF(ISBLANK(Vrijwilligersregister!C181)=TRUE,\"\",SUMIF('Nominatieve lijst'!$D$10:$D$3009,C181,'Nominatieve lijst'!$J$10:$J$3009))","v":""},{"$f":"IF(ISBLANK(Vrijwilligersregister!C181)=TRUE,\"\",D181+F181)","v":""},{"$f":"Vrijwilligersregister!L181","v":0}]
[null,174,{"$f":"IF(ISBLANK(Vrijwilligersregister!C182)=TRUE,\"\",Vrijwilligersregister!C182)","v":""},{"$f":"IF(ISBLANK(Vrijwilligersregister!C182)=TRUE,\"\",SUMIF('Nominatieve lijst'!$D$10:$D$3009,C182,'Nominatieve lijst'!$G$10:$G$3009))","v":""},{"$f":"IF(ISBLANK(Vrijwilligersregister!C182)=TRUE,\"\",SUMIF('Nominatieve lijst'!$D$10:$D$3009,C182,'Nominatieve lijst'!$H$10:$H$3009))","v":""},{"$f":"IF(ISBLANK(Vrijwilligersregister!C182)=TRUE,\"\",SUMIF('Nominatieve lijst'!$D$10:$D$3009,C182,'Nominatieve lijst'!$J$10:$J$3009))","v":""},{"$f":"IF(ISBLANK(Vrijwilligersregister!C182)=TRUE,\"\",D182+F182)","v":""},{"$f":"Vrijwilligersregister!L182","v":0}]
[null,175,{"$f":"IF(ISBLANK(Vrijwilligersregister!C183)=TRUE,\"\",Vrijwilligersregister!C183)","v":""},{"$f":"IF(ISBLANK(Vrijwilligersregister!C183)=TRUE,\"\",SUMIF('Nominatieve lijst'!$D$10:$D$3009,C183,'Nominatieve lijst'!$G$10:$G$3009))","v":""},{"$f":"IF(ISBLANK(Vrijwilligersregister!C183)=TRUE,\"\",SUMIF('Nominatieve lijst'!$D$10:$D$3009,C183,'Nominatieve lijst'!$H$10:$H$3009))","v":""},{"$f":"IF(ISBLANK(Vrijwilligersregister!C183)=TRUE,\"\",SUMIF('Nominatieve lijst'!$D$10:$D$3009,C183,'Nominatieve lijst'!$J$10:$J$3009))","v":""},{"$f":"IF(ISBLANK(Vrijwilligersregister!C183)=TRUE,\"\",D183+F183)","v":""},{"$f":"Vrijwilligersregister!L183","v":0}]
[null,176,{"$f":"IF(ISBLANK(Vrijwilligersregister!C184)=TRUE,\"\",Vrijwilligersregister!C184)","v":""},{"$f":"IF(ISBLANK(Vrijwilligersregister!C184)=TRUE,\"\",SUMIF('Nominatieve lijst'!$D$10:$D$3009,C184,'Nominatieve lijst'!$G$10:$G$3009))","v":""},{"$f":"IF(ISBLANK(Vrijwilligersregister!C184)=TRUE,\"\",SUMIF('Nominatieve lijst'!$D$10:$D$3009,C184,'Nominatieve lijst'!$H$10:$H$3009))","v":""},{"$f":"IF(ISBLANK(Vrijwilligersregister!C184)=TRUE,\"\",SUMIF('Nominatieve lijst'!$D$10:$D$3009,C184,'Nominatieve lijst'!$J$10:$J$3009))","v":""},{"$f":"IF(ISBLANK(Vrijwilligersregister!C184)=TRUE,\"\",D184+F184)","v":""},{"$f":"Vrijwilligersregister!L184","v":0}]
[null,177,{"$f":"IF(ISBLANK(Vrijwilligersregister!C185)=TRUE,\"\",Vrijwilligersregister!C185)","v":""},{"$f":"IF(ISBLANK(Vrijwilligersregister!C185)=TRUE,\"\",SUMIF('Nominatieve lijst'!$D$10:$D$3009,C185,'Nominatieve lijst'!$G$10:$G$3009))","v":""},{"$f":"IF(ISBLANK(Vrijwilligersregister!C185)=TRUE,\"\",SUMIF('Nominatieve lijst'!$D$10:$D$3009,C185,'Nominatieve lijst'!$H$10:$H$3009))","v":""},{"$f":"IF(ISBLANK(Vrijwilligersregister!C185)=TRUE,\"\",SUMIF('Nominatieve lijst'!$D$10:$D$3009,C185,'Nominatieve lijst'!$J$10:$J$3009))","v":""},{"$f":"IF(ISBLANK(Vrijwilligersregister!C185)=TRUE,\"\",D185+F185)","v":""},{"$f":"Vrijwilligersregister!L185","v":0}]
[null,178,{"$f":"IF(ISBLANK(Vrijwilligersregister!C186)=TRUE,\"\",Vrijwilligersregister!C186)","v":""},{"$f":"IF(ISBLANK(Vrijwilligersregister!C186)=TRUE,\"\",SUMIF('Nominatieve lijst'!$D$10:$D$3009,C186,'Nominatieve lijst'!$G$10:$G$3009))","v":""},{"$f":"IF(ISBLANK(Vrijwilligersregister!C186)=TRUE,\"\",SUMIF('Nominatieve lijst'!$D$10:$D$3009,C186,'Nominatieve lijst'!$H$10:$H$3009))","v":""},{"$f":"IF(ISBLANK(Vrijwilligersregister!C186)=TRUE,\"\",SUMIF('Nominatieve lijst'!$D$10:$D$3009,C186,'Nominatieve lijst'!$J$10:$J$3009))","v":""},{"$f":"IF(ISBLANK(Vrijwilligersregister!C186)=TRUE,\"\",D186+F186)","v":""},{"$f":"Vrijwilligersregister!L186","v":0}]
[null,179,{"$f":"IF(ISBLANK(Vrijwilligersregister!C187)=TRUE,\"\",Vrijwilligersregister!C187)","v":""},{"$f":"IF(ISBLANK(Vrijwilligersregister!C187)=TRUE,\"\",SUMIF('Nominatieve lijst'!$D$10:$D$3009,C187,'Nominatieve lijst'!$G$10:$G$3009))","v":""},{"$f":"IF(ISBLANK(Vrijwilligersregister!C187)=TRUE,\"\",SUMIF('Nominatieve lijst'!$D$10:$D$3009,C187,'Nominatieve lijst'!$H$10:$H$3009))","v":""},{"$f":"IF(ISBLANK(Vrijwilligersregister!C187)=TRUE,\"\",SUMIF('Nominatieve lijst'!$D$10:$D$3009,C187,'Nominatieve lijst'!$J$10:$J$3009))","v":""},{"$f":"IF(ISBLANK(Vrijwilligersregister!C187)=TRUE,\"\",D187+F187)","v":""},{"$f":"Vrijwilligersregister!L187","v":0}]
[null,180,{"$f":"IF(ISBLANK(Vrijwilligersregister!C188)=TRUE,\"\",Vrijwilligersregister!C188)","v":""},{"$f":"IF(ISBLANK(Vrijwilligersregister!C188)=TRUE,\"\",SUMIF('Nominatieve lijst'!$D$10:$D$3009,C188,'Nominatieve lijst'!$G$10:$G$3009))","v":""},{"$f":"IF(ISBLANK(Vrijwilligersregister!C188)=TRUE,\"\",SUMIF('Nominatieve lijst'!$D$10:$D$3009,C188,'Nominatieve lijst'!$H$10:$H$3009))","v":""},{"$f":"IF(ISBLANK(Vrijwilligersregister!C188)=TRUE,\"\",SUMIF('Nominatieve lijst'!$D$10:$D$3009,C188,'Nominatieve lijst'!$J$10:$J$3009))","v":""},{"$f":"IF(ISBLANK(Vrijwilligersregister!C188)=TRUE,\"\",D188+F188)","v":""},{"$f":"Vrijwilligersregister!L188","v":0}]
[null,181,{"$f":"IF(ISBLANK(Vrijwilligersregister!C189)=TRUE,\"\",Vrijwilligersregister!C189)","v":""},{"$f":"IF(ISBLANK(Vrijwilligersregister!C189)=TRUE,\"\",SUMIF('Nominatieve lijst'!$D$10:$D$3009,C189,'Nominatieve lijst'!$G$10:$G$3009))","v":""},{"$f":"IF(ISBLANK(Vrijwilligersregister!C189)=TRUE,\"\",SUMIF('Nominatieve lijst'!$D$10:$D$3009,C189,'Nominatieve lijst'!$H$10:$H$3009))","v":""},{"$f":"IF(ISBLANK(Vrijwilligersregister!C189)=TRUE,\"\",SUMIF('Nominatieve lijst'!$D$10:$D$3009,C189,'Nominatieve lijst'!$J$10:$J$3009))","v":""},{"$f":"IF(ISBLANK(Vrijwilligersregister!C189)=TRUE,\"\",D189+F189)","v":""},{"$f":"Vrijwilligersregister!L189","v":0}]
[null,182,{"$f":"IF(ISBLANK(Vrijwilligersregister!C190)=TRUE,\"\",Vrijwilligersregister!C190)","v":""},{"$f":"IF(ISBLANK(Vrijwilligersregister!C190)=TRUE,\"\",SUMIF('Nominatieve lijst'!$D$10:$D$3009,C190,'Nominatieve lijst'!$G$10:$G$3009))","v":""},{"$f":"IF(ISBLANK(Vrijwilligersregister!C190)=TRUE,\"\",SUMIF('Nominatieve lijst'!$D$10:$D$3009,C190,'Nominatieve lijst'!$H$10:$H$3009))","v":""},{"$f":"IF(ISBLANK(Vrijwilligersregister!C190)=TRUE,\"\",SUMIF('Nominatieve lijst'!$D$10:$D$3009,C190,'Nominatieve lijst'!$J$10:$J$3009))","v":""},{"$f":"IF(ISBLANK(Vrijwilligersregister!C190)=TRUE,\"\",D190+F190)","v":""},{"$f":"Vrijwilligersregister!L190","v":0}]
[null,183,{"$f":"IF(ISBLANK(Vrijwilligersregister!C191)=TRUE,\"\",Vrijwilligersregister!C191)","v":""},{"$f":"IF(ISBLANK(Vrijwilligersregister!C191)=TRUE,\"\",SUMIF('Nominatieve lijst'!$D$10:$D$3009,C191,'Nominatieve lijst'!$G$10:$G$3009))","v":""},{"$f":"IF(ISBLANK(Vrijwilligersregister!C191)=TRUE,\"\",SUMIF('Nominatieve lijst'!$D$10:$D$3009,C191,'Nominatieve lijst'!$H$10:$H$3009))","v":""},{"$f":"IF(ISBLANK(Vrijwilligersregister!C191)=TRUE,\"\",SUMIF('Nominatieve lijst'!$D$10:$D$3009,C191,'Nominatieve lijst'!$J$10:$J$3009))","v":""},{"$f":"IF(ISBLANK(Vrijwilligersregister!C191)=TRUE,\"\",D191+F191)","v":""},{"$f":"Vrijwilligersregister!L191","v":0}]
[null,184,{"$f":"IF(ISBLANK(Vrijwilligersregister!C192)=TRUE,\"\",Vrijwilligersregister!C192)","v":""},{"$f":"IF(ISBLANK(Vrijwilligersregister!C192)=TRUE,\"\",SUMIF('Nominatieve lijst'!$D$10:$D$3009,C192,'Nominatieve lijst'!$G$10:$G$3009))","v":""},{"$f":"IF(ISBLANK(Vrijwilligersregister!C192)=TRUE,\"\",SUMIF('Nominatieve lijst'!$D$10:$D$3009,C192,'Nominatieve lijst'!$H$10:$H$3009))","v":""},{"$f":"IF(ISBLANK(Vrijwilligersregister!C192)=TRUE,\"\",SUMIF('Nominatieve lijst'!$D$10:$D$3009,C192,'Nominatieve lijst'!$J$10:$J$3009))","v":""},{"$f":"IF(ISBLANK(Vrijwilligersregister!C192)=TRUE,\"\",D192+F192)","v":""},{"$f":"Vrijwilligersregister!L192","v":0}]
[null,185,{"$f":"IF(ISBLANK(Vrijwilligersregister!C193)=TRUE,\"\",Vrijwilligersregister!C193)","v":""},{"$f":"IF(ISBLANK(Vrijwilligersregister!C193)=TRUE,\"\",SUMIF('Nominatieve lijst'!$D$10:$D$3009,C193,'Nominatieve lijst'!$G$10:$G$3009))","v":""},{"$f":"IF(ISBLANK(Vrijwilligersregister!C193)=TRUE,\"\",SUMIF('Nominatieve lijst'!$D$10:$D$3009,C193,'Nominatieve lijst'!$H$10:$H$3009))","v":""},{"$f":"IF(ISBLANK(Vrijwilligersregister!C193)=TRUE,\"\",SUMIF('Nominatieve lijst'!$D$10:$D$3009,C193,'Nominatieve lijst'!$J$10:$J$3009))","v":""},{"$f":"IF(ISBLANK(Vrijwilligersregister!C193)=TRUE,\"\",D193+F193)","v":""},{"$f":"Vrijwilligersregister!L193","v":0}]
[null,186,{"$f":"IF(ISBLANK(Vrijwilligersregister!C194)=TRUE,\"\",Vrijwilligersregister!C194)","v":""},{"$f":"IF(ISBLANK(Vrijwilligersregister!C194)=TRUE,\"\",SUMIF('Nominatieve lijst'!$D$10:$D$3009,C194,'Nominatieve lijst'!$G$10:$G$3009))","v":""},{"$f":"IF(ISBLANK(Vrijwilligersregister!C194)=TRUE,\"\",SUMIF('Nominatieve lijst'!$D$10:$D$3009,C194,'Nominatieve lijst'!$H$10:$H$3009))","v":""},{"$f":"IF(ISBLANK(Vrijwilligersregister!C194)=TRUE,\"\",SUMIF('Nominatieve lijst'!$D$10:$D$3009,C194,'Nominatieve lijst'!$J$10:$J$3009))","v":""},{"$f":"IF(ISBLANK(Vrijwilligersregister!C194)=TRUE,\"\",D194+F194)","v":""},{"$f":"Vrijwilligersregister!L194","v":0}]
[null,187,{"$f":"IF(ISBLANK(Vrijwilligersregister!C195)=TRUE,\"\",Vrijwilligersregister!C195)","v":""},{"$f":"IF(ISBLANK(Vrijwilligersregister!C195)=TRUE,\"\",SUMIF('Nominatieve lijst'!$D$10:$D$3009,C195,'Nominatieve lijst'!$G$10:$G$3009))","v":""},{"$f":"IF(ISBLANK(Vrijwilligersregister!C195)=TRUE,\"\",SUMIF('Nominatieve lijst'!$D$10:$D$3009,C195,'Nominatieve lijst'!$H$10:$H$3009))","v":""},{"$f":"IF(ISBLANK(Vrijwilligersregister!C195)=TRUE,\"\",SUMIF('Nominatieve lijst'!$D$10:$D$3009,C195,'Nominatieve lijst'!$J$10:$J$3009))","v":""},{"$f":"IF(ISBLANK(Vrijwilligersregister!C195)=TRUE,\"\",D195+F195)","v":""},{"$f":"Vrijwilligersregister!L195","v":0}]
[null,188,{"$f":"IF(ISBLANK(Vrijwilligersregister!C196)=TRUE,\"\",Vrijwilligersregister!C196)","v":""},{"$f":"IF(ISBLANK(Vrijwilligersregister!C196)=TRUE,\"\",SUMIF('Nominatieve lijst'!$D$10:$D$3009,C196,'Nominatieve lijst'!$G$10:$G$3009))","v":""},{"$f":"IF(ISBLANK(Vrijwilligersregister!C196)=TRUE,\"\",SUMIF('Nominatieve lijst'!$D$10:$D$3009,C196,'Nominatieve lijst'!$H$10:$H$3009))","v":""},{"$f":"IF(ISBLANK(Vrijwilligersregister!C196)=TRUE,\"\",SUMIF('Nominatieve lijst'!$D$10:$D$3009,C196,'Nominatieve lijst'!$J$10:$J$3009))","v":""},{"$f":"IF(ISBLANK(Vrijwilligersregister!C196)=TRUE,\"\",D196+F196)","v":""},{"$f":"Vrijwilligersregister!L196","v":0}]
[null,189,{"$f":"IF(ISBLANK(Vrijwilligersregister!C197)=TRUE,\"\",Vrijwilligersregister!C197)","v":""},{"$f":"IF(ISBLANK(Vrijwilligersregister!C197)=TRUE,\"\",SUMIF('Nominatieve lijst'!$D$10:$D$3009,C197,'Nominatieve lijst'!$G$10:$G$3009))","v":""},{"$f":"IF(ISBLANK(Vrijwilligersregister!C197)=TRUE,\"\",SUMIF('Nominatieve lijst'!$D$10:$D$3009,C197,'Nominatieve lijst'!$H$10:$H$3009))","v":""},{"$f":"IF(ISBLANK(Vrijwilligersregister!C197)=TRUE,\"\",SUMIF('Nominatieve lijst'!$D$10:$D$3009,C197,'Nominatieve lijst'!$J$10:$J$3009))","v":""},{"$f":"IF(ISBLANK(Vrijwilligersregister!C197)=TRUE,\"\",D197+F197)","v":""},{"$f":"Vrijwilligersregister!L197","v":0}]
[null,190,{"$f":"IF(ISBLANK(Vrijwilligersregister!C198)=TRUE,\"\",Vrijwilligersregister!C198)","v":""},{"$f":"IF(ISBLANK(Vrijwilligersregister!C198)=TRUE,\"\",SUMIF('Nominatieve lijst'!$D$10:$D$3009,C198,'Nominatieve lijst'!$G$10:$G$3009))","v":""},{"$f":"IF(ISBLANK(Vrijwilligersregister!C198)=TRUE,\"\",SUMIF('Nominatieve lijst'!$D$10:$D$3009,C198,'Nominatieve lijst'!$H$10:$H$3009))","v":""},{"$f":"IF(ISBLANK(Vrijwilligersregister!C198)=TRUE,\"\",SUMIF('Nominatieve lijst'!$D$10:$D$3009,C198,'Nominatieve lijst'!$J$10:$J$3009))","v":""},{"$f":"IF(ISBLANK(Vrijwilligersregister!C198)=TRUE,\"\",D198+F198)","v":""},{"$f":"Vrijwilligersregister!L198","v":0}]
[null,191,{"$f":"IF(ISBLANK(Vrijwilligersregister!C199)=TRUE,\"\",Vrijwilligersregister!C199)","v":""},{"$f":"IF(ISBLANK(Vrijwilligersregister!C199)=TRUE,\"\",SUMIF('Nominatieve lijst'!$D$10:$D$3009,C199,'Nominatieve lijst'!$G$10:$G$3009))","v":""},{"$f":"IF(ISBLANK(Vrijwilligersregister!C199)=TRUE,\"\",SUMIF('Nominatieve lijst'!$D$10:$D$3009,C199,'Nominatieve lijst'!$H$10:$H$3009))","v":""},{"$f":"IF(ISBLANK(Vrijwilligersregister!C199)=TRUE,\"\",SUMIF('Nominatieve lijst'!$D$10:$D$3009,C199,'Nominatieve lijst'!$J$10:$J$3009))","v":""},{"$f":"IF(ISBLANK(Vrijwilligersregister!C199)=TRUE,\"\",D199+F199)","v":""},{"$f":"Vrijwilligersregister!L199","v":0}]
[null,192,{"$f":"IF(ISBLANK(Vrijwilligersregister!C200)=TRUE,\"\",Vrijwilligersregister!C200)","v":""},{"$f":"IF(ISBLANK(Vrijwilligersregister!C200)=TRUE,\"\",SUMIF('Nominatieve lijst'!$D$10:$D$3009,C200,'Nominatieve lijst'!$G$10:$G$3009))","v":""},{"$f":"IF(ISBLANK(Vrijwilligersregister!C200)=TRUE,\"\",SUMIF('Nominatieve lijst'!$D$10:$D$3009,C200,'Nominatieve lijst'!$H$10:$H$3009))","v":""},{"$f":"IF(ISBLANK(Vrijwilligersregister!C200)=TRUE,\"\",SUMIF('Nominatieve lijst'!$D$10:$D$3009,C200,'Nominatieve lijst'!$J$10:$J$3009))","v":""},{"$f":"IF(ISBLANK(Vrijwilligersregister!C200)=TRUE,\"\",D200+F200)","v":""},{"$f":"Vrijwilligersregister!L200","v":0}]
[null,193,{"$f":"IF(ISBLANK(Vrijwilligersregister!C201)=TRUE,\"\",Vrijwilligersregister!C201)","v":""},{"$f":"IF(ISBLANK(Vrijwilligersregister!C201)=TRUE,\"\",SUMIF('Nominatieve lijst'!$D$10:$D$3009,C201,'Nominatieve lijst'!$G$10:$G$3009))","v":""},{"$f":"IF(ISBLANK(Vrijwilligersregister!C201)=TRUE,\"\",SUMIF('Nominatieve lijst'!$D$10:$D$3009,C201,'Nominatieve lijst'!$H$10:$H$3009))","v":""},{"$f":"IF(ISBLANK(Vrijwilligersregister!C201)=TRUE,\"\",SUMIF('Nominatieve lijst'!$D$10:$D$3009,C201,'Nominatieve lijst'!$J$10:$J$3009))","v":""},{"$f":"IF(ISBLANK(Vrijwilligersregister!C201)=TRUE,\"\",D201+F201)","v":""},{"$f":"Vrijwilligersregister!L201","v":0}]
[null,194,{"$f":"IF(ISBLANK(Vrijwilligersregister!C202)=TRUE,\"\",Vrijwilligersregister!C202)","v":""},{"$f":"IF(ISBLANK(Vrijwilligersregister!C202)=TRUE,\"\",SUMIF('Nominatieve lijst'!$D$10:$D$3009,C202,'Nominatieve lijst'!$G$10:$G$3009))","v":""},{"$f":"IF(ISBLANK(Vrijwilligersregister!C202)=TRUE,\"\",SUMIF('Nominatieve lijst'!$D$10:$D$3009,C202,'Nominatieve lijst'!$H$10:$H$3009))","v":""},{"$f":"IF(ISBLANK(Vrijwilligersregister!C202)=TRUE,\"\",SUMIF('Nominatieve lijst'!$D$10:$D$3009,C202,'Nominatieve lijst'!$J$10:$J$3009))","v":""},{"$f":"IF(ISBLANK(Vrijwilligersregister!C202)=TRUE,\"\",D202+F202)","v":""},{"$f":"Vrijwilligersregister!L202","v":0}]
[null,195,{"$f":"IF(ISBLANK(Vrijwilligersregister!C203)=TRUE,\"\",Vrijwilligersregister!C203)","v":""},{"$f":"IF(ISBLANK(Vrijwilligersregister!C203)=TRUE,\"\",SUMIF('Nominatieve lijst'!$D$10:$D$3009,C203,'Nominatieve lijst'!$G$10:$G$3009))","v":""},{"$f":"IF(ISBLANK(Vrijwilligersregister!C203)=TRUE,\"\",SUMIF('Nominatieve lijst'!$D$10:$D$3009,C203,'Nominatieve lijst'!$H$10:$H$3009))","v":""},{"$f":"IF(ISBLANK(Vrijwilligersregister!C203)=TRUE,\"\",SUMIF('Nominatieve lijst'!$D$10:$D$3009,C203,'Nominatieve lijst'!$J$10:$J$3009))","v":""},{"$f":"IF(ISBLANK(Vrijwilligersregister!C203)=TRUE,\"\",D203+F203)","v":""},{"$f":"Vrijwilligersregister!L203","v":0}]
[null,196,{"$f":"IF(ISBLANK(Vrijwilligersregister!C204)=TRUE,\"\",Vrijwilligersregister!C204)","v":""},{"$f":"IF(ISBLANK(Vrijwilligersregister!C204)=TRUE,\"\",SUMIF('Nominatieve lijst'!$D$10:$D$3009,C204,'Nominatieve lijst'!$G$10:$G$3009))","v":""},{"$f":"IF(ISBLANK(Vrijwilligersregister!C204)=TRUE,\"\",SUMIF('Nominatieve lijst'!$D$10:$D$3009,C204,'Nominatieve lijst'!$H$10:$H$3009))","v":""},{"$f":"IF(ISBLANK(Vrijwilligersregister!C204)=TRUE,\"\",SUMIF('Nominatieve lijst'!$D$10:$D$3009,C204,'Nominatieve lijst'!$J$10:$J$3009))","v":""},{"$f":"IF(ISBLANK(Vrijwilligersregister!C204)=TRUE,\"\",D204+F204)","v":""},{"$f":"Vrijwilligersregister!L204","v":0}]
[null,197,{"$f":"IF(ISBLANK(Vrijwilligersregister!C205)=TRUE,\"\",Vrijwilligersregister!C205)","v":""},{"$f":"IF(ISBLANK(Vrijwilligersregister!C205)=TRUE,\"\",SUMIF('Nominatieve lijst'!$D$10:$D$3009,C205,'Nominatieve lijst'!$G$10:$G$3009))","v":""},{"$f":"IF(ISBLANK(Vrijwilligersregister!C205)=TRUE,\"\",SUMIF('Nominatieve lijst'!$D$10:$D$3009,C205,'Nominatieve lijst'!$H$10:$H$3009))","v":""},{"$f":"IF(ISBLANK(Vrijwilligersregister!C205)=TRUE,\"\",SUMIF('Nominatieve lijst'!$D$10:$D$3009,C205,'Nominatieve lijst'!$J$10:$J$3009))","v":""},{"$f":"IF(ISBLANK(Vrijwilligersregister!C205)=TRUE,\"\",D205+F205)","v":""},{"$f":"Vrijwilligersregister!L205","v":0}]
[null,198,{"$f":"IF(ISBLANK(Vrijwilligersregister!C206)=TRUE,\"\",Vrijwilligersregister!C206)","v":""},{"$f":"IF(ISBLANK(Vrijwilligersregister!C206)=TRUE,\"\",SUMIF('Nominatieve lijst'!$D$10:$D$3009,C206,'Nominatieve lijst'!$G$10:$G$3009))","v":""},{"$f":"IF(ISBLANK(Vrijwilligersregister!C206)=TRUE,\"\",SUMIF('Nominatieve lijst'!$D$10:$D$3009,C206,'Nominatieve lijst'!$H$10:$H$3009))","v":""},{"$f":"IF(ISBLANK(Vrijwilligersregister!C206)=TRUE,\"\",SUMIF('Nominatieve lijst'!$D$10:$D$3009,C206,'Nominatieve lijst'!$J$10:$J$3009))","v":""},{"$f":"IF(ISBLANK(Vrijwilligersregister!C206)=TRUE,\"\",D206+F206)","v":""},{"$f":"Vrijwilligersregister!L206","v":0}]
[null,199,{"$f":"IF(ISBLANK(Vrijwilligersregister!C207)=TRUE,\"\",Vrijwilligersregister!C207)","v":""},{"$f":"IF(ISBLANK(Vrijwilligersregister!C207)=TRUE,\"\",SUMIF('Nominatieve lijst'!$D$10:$D$3009,C207,'Nominatieve lijst'!$G$10:$G$3009))","v":""},{"$f":"IF(ISBLANK(Vrijwilligersregister!C207)=TRUE,\"\",SUMIF('Nominatieve lijst'!$D$10:$D$3009,C207,'Nominatieve lijst'!$H$10:$H$3009))","v":""},{"$f":"IF(ISBLANK(Vrijwilligersregister!C207)=TRUE,\"\",SUMIF('Nominatieve lijst'!$D$10:$D$3009,C207,'Nominatieve lijst'!$J$10:$J$3009))","v":""},{"$f":"IF(ISBLANK(Vrijwilligersregister!C207)=TRUE,\"\",D207+F207)","v":""},{"$f":"Vrijwilligersregister!L207","v":0}]
[null,200,{"$f":"IF(ISBLANK(Vrijwilligersregister!C208)=TRUE,\"\",Vrijwilligersregister!C208)","v":""},{"$f":"IF(ISBLANK(Vrijwilligersregister!C208)=TRUE,\"\",SUMIF('Nominatieve lijst'!$D$10:$D$3009,C208,'Nominatieve lijst'!$G$10:$G$3009))","v":""},{"$f":"IF(ISBLANK(Vrijwilligersregister!C208)=TRUE,\"\",SUMIF('Nominatieve lijst'!$D$10:$D$3009,C208,'Nominatieve lijst'!$H$10:$H$3009))","v":""},{"$f":"IF(ISBLANK(Vrijwilligersregister!C208)=TRUE,\"\",SUMIF('Nominatieve lijst'!$D$10:$D$3009,C208,'Nominatieve lijst'!$J$10:$J$3009))","v":""},{"$f":"IF(ISBLANK(Vrijwilligersregister!C208)=TRUE,\"\",D208+F208)","v":""},{"$f":"Vrijwilligersregister!L208","v":0}]
[null,201,{"$f":"IF(ISBLANK(Vrijwilligersregister!C209)=TRUE,\"\",Vrijwilligersregister!C209)","v":""},{"$f":"IF(ISBLANK(Vrijwilligersregister!C209)=TRUE,\"\",SUMIF('Nominatieve lijst'!$D$10:$D$3009,C209,'Nominatieve lijst'!$G$10:$G$3009))","v":""},{"$f":"IF(ISBLANK(Vrijwilligersregister!C209)=TRUE,\"\",SUMIF('Nominatieve lijst'!$D$10:$D$3009,C209,'Nominatieve lijst'!$H$10:$H$3009))","v":""},{"$f":"IF(ISBLANK(Vrijwilligersregister!C209)=TRUE,\"\",SUMIF('Nominatieve lijst'!$D$10:$D$3009,C209,'Nominatieve lijst'!$J$10:$J$3009))","v":""},{"$f":"IF(ISBLANK(Vrijwilligersregister!C209)=TRUE,\"\",D209+F209)","v":""},{"$f":"Vrijwilligersregister!L209","v":0}]
[null,202,{"$f":"IF(ISBLANK(Vrijwilligersregister!C210)=TRUE,\"\",Vrijwilligersregister!C210)","v":""},{"$f":"IF(ISBLANK(Vrijwilligersregister!C210)=TRUE,\"\",SUMIF('Nominatieve lijst'!$D$10:$D$3009,C210,'Nominatieve lijst'!$G$10:$G$3009))","v":""},{"$f":"IF(ISBLANK(Vrijwilligersregister!C210)=TRUE,\"\",SUMIF('Nominatieve lijst'!$D$10:$D$3009,C210,'Nominatieve lijst'!$H$10:$H$3009))","v":""},{"$f":"IF(ISBLANK(Vrijwilligersregister!C210)=TRUE,\"\",SUMIF('Nominatieve lijst'!$D$10:$D$3009,C210,'Nominatieve lijst'!$J$10:$J$3009))","v":""},{"$f":"IF(ISBLANK(Vrijwilligersregister!C210)=TRUE,\"\",D210+F210)","v":""},{"$f":"Vrijwilligersregister!L210","v":0}]
[null,203,{"$f":"IF(ISBLANK(Vrijwilligersregister!C211)=TRUE,\"\",Vrijwilligersregister!C211)","v":""},{"$f":"IF(ISBLANK(Vrijwilligersregister!C211)=TRUE,\"\",SUMIF('Nominatieve lijst'!$D$10:$D$3009,C211,'Nominatieve lijst'!$G$10:$G$3009))","v":""},{"$f":"IF(ISBLANK(Vrijwilligersregister!C211)=TRUE,\"\",SUMIF('Nominatieve lijst'!$D$10:$D$3009,C211,'Nominatieve lijst'!$H$10:$H$3009))","v":""},{"$f":"IF(ISBLANK(Vrijwilligersregister!C211)=TRUE,\"\",SUMIF('Nominatieve lijst'!$D$10:$D$3009,C211,'Nominatieve lijst'!$J$10:$J$3009))","v":""},{"$f":"IF(ISBLANK(Vrijwilligersregister!C211)=TRUE,\"\",D211+F211)","v":""},{"$f":"Vrijwilligersregister!L211","v":0}]
[null,204,{"$f":"IF(ISBLANK(Vrijwilligersregister!C212)=TRUE,\"\",Vrijwilligersregister!C212)","v":""},{"$f":"IF(ISBLANK(Vrijwilligersregister!C212)=TRUE,\"\",SUMIF('Nominatieve lijst'!$D$10:$D$3009,C212,'Nominatieve lijst'!$G$10:$G$3009))","v":""},{"$f":"IF(ISBLANK(Vrijwilligersregister!C212)=TRUE,\"\",SUMIF('Nominatieve lijst'!$D$10:$D$3009,C212,'Nominatieve lijst'!$H$10:$H$3009))","v":""},{"$f":"IF(ISBLANK(Vrijwilligersregister!C212)=TRUE,\"\",SUMIF('Nominatieve lijst'!$D$10:$D$3009,C212,'Nominatieve lijst'!$J$10:$J$3009))","v":""},{"$f":"IF(ISBLANK(Vrijwilligersregister!C212)=TRUE,\"\",D212+F212)","v":""},{"$f":"Vrijwilligersregister!L212","v":0}]
[null,205,{"$f":"IF(ISBLANK(Vrijwilligersregister!C213)=TRUE,\"\",Vrijwilligersregister!C213)","v":""},{"$f":"IF(ISBLANK(Vrijwilligersregister!C213)=TRUE,\"\",SUMIF('Nominatieve lijst'!$D$10:$D$3009,C213,'Nominatieve lijst'!$G$10:$G$3009))","v":""},{"$f":"IF(ISBLANK(Vrijwilligersregister!C213)=TRUE,\"\",SUMIF('Nominatieve lijst'!$D$10:$D$3009,C213,'Nominatieve lijst'!$H$10:$H$3009))","v":""},{"$f":"IF(ISBLANK(Vrijwilligersregister!C213)=TRUE,\"\",SUMIF('Nominatieve lijst'!$D$10:$D$3009,C213,'Nominatieve lijst'!$J$10:$J$3009))","v":""},{"$f":"IF(ISBLANK(Vrijwilligersregister!C213)=TRUE,\"\",D213+F213)","v":""},{"$f":"Vrijwilligersregister!L213","v":0}]
[null,206,{"$f":"IF(ISBLANK(Vrijwilligersregister!C214)=TRUE,\"\",Vrijwilligersregister!C214)","v":""},{"$f":"IF(ISBLANK(Vrijwilligersregister!C214)=TRUE,\"\",SUMIF('Nominatieve lijst'!$D$10:$D$3009,C214,'Nominatieve lijst'!$G$10:$G$3009))","v":""},{"$f":"IF(ISBLANK(Vrijwilligersregister!C214)=TRUE,\"\",SUMIF('Nominatieve lijst'!$D$10:$D$3009,C214,'Nominatieve lijst'!$H$10:$H$3009))","v":""},{"$f":"IF(ISBLANK(Vrijwilligersregister!C214)=TRUE,\"\",SUMIF('Nominatieve lijst'!$D$10:$D$3009,C214,'Nominatieve lijst'!$J$10:$J$3009))","v":""},{"$f":"IF(ISBLANK(Vrijwilligersregister!C214)=TRUE,\"\",D214+F214)","v":""},{"$f":"Vrijwilligersregister!L214","v":0}]
[null,207,{"$f":"IF(ISBLANK(Vrijwilligersregister!C215)=TRUE,\"\",Vrijwilligersregister!C215)","v":""},{"$f":"IF(ISBLANK(Vrijwilligersregister!C215)=TRUE,\"\",SUMIF('Nominatieve lijst'!$D$10:$D$3009,C215,'Nominatieve lijst'!$G$10:$G$3009))","v":""},{"$f":"IF(ISBLANK(Vrijwilligersregister!C215)=TRUE,\"\",SUMIF('Nominatieve lijst'!$D$10:$D$3009,C215,'Nominatieve lijst'!$H$10:$H$3009))","v":""},{"$f":"IF(ISBLANK(Vrijwilligersregister!C215)=TRUE,\"\",SUMIF('Nominatieve lijst'!$D$10:$D$3009,C215,'Nominatieve lijst'!$J$10:$J$3009))","v":""},{"$f":"IF(ISBLANK(Vrijwilligersregister!C215)=TRUE,\"\",D215+F215)","v":""},{"$f":"Vrijwilligersregister!L215","v":0}]
[null,208,{"$f":"IF(ISBLANK(Vrijwilligersregister!C216)=TRUE,\"\",Vrijwilligersregister!C216)","v":""},{"$f":"IF(ISBLANK(Vrijwilligersregister!C216)=TRUE,\"\",SUMIF('Nominatieve lijst'!$D$10:$D$3009,C216,'Nominatieve lijst'!$G$10:$G$3009))","v":""},{"$f":"IF(ISBLANK(Vrijwilligersregister!C216)=TRUE,\"\",SUMIF('Nominatieve lijst'!$D$10:$D$3009,C216,'Nominatieve lijst'!$H$10:$H$3009))","v":""},{"$f":"IF(ISBLANK(Vrijwilligersregister!C216)=TRUE,\"\",SUMIF('Nominatieve lijst'!$D$10:$D$3009,C216,'Nominatieve lijst'!$J$10:$J$3009))","v":""},{"$f":"IF(ISBLANK(Vrijwilligersregister!C216)=TRUE,\"\",D216+F216)","v":""},{"$f":"Vrijwilligersregister!L216","v":0}]
[null,209,{"$f":"IF(ISBLANK(Vrijwilligersregister!C217)=TRUE,\"\",Vrijwilligersregister!C217)","v":""},{"$f":"IF(ISBLANK(Vrijwilligersregister!C217)=TRUE,\"\",SUMIF('Nominatieve lijst'!$D$10:$D$3009,C217,'Nominatieve lijst'!$G$10:$G$3009))","v":""},{"$f":"IF(ISBLANK(Vrijwilligersregister!C217)=TRUE,\"\",SUMIF('Nominatieve lijst'!$D$10:$D$3009,C217,'Nominatieve lijst'!$H$10:$H$3009))","v":""},{"$f":"IF(ISBLANK(Vrijwilligersregister!C217)=TRUE,\"\",SUMIF('Nominatieve lijst'!$D$10:$D$3009,C217,'Nominatieve lijst'!$J$10:$J$3009))","v":""},{"$f":"IF(ISBLANK(Vrijwilligersregister!C217)=TRUE,\"\",D217+F217)","v":""},{"$f":"Vrijwilligersregister!L217","v":0}]
[null,210,{"$f":"IF(ISBLANK(Vrijwilligersregister!C218)=TRUE,\"\",Vrijwilligersregister!C218)","v":""},{"$f":"IF(ISBLANK(Vrijwilligersregister!C218)=TRUE,\"\",SUMIF('Nominatieve lijst'!$D$10:$D$3009,C218,'Nominatieve lijst'!$G$10:$G$3009))","v":""},{"$f":"IF(ISBLANK(Vrijwilligersregister!C218)=TRUE,\"\",SUMIF('Nominatieve lijst'!$D$10:$D$3009,C218,'Nominatieve lijst'!$H$10:$H$3009))","v":""},{"$f":"IF(ISBLANK(Vrijwilligersregister!C218)=TRUE,\"\",SUMIF('Nominatieve lijst'!$D$10:$D$3009,C218,'Nominatieve lijst'!$J$10:$J$3009))","v":""},{"$f":"IF(ISBLANK(Vrijwilligersregister!C218)=TRUE,\"\",D218+F218)","v":""},{"$f":"Vrijwilligersregister!L218","v":0}]
[null,211,{"$f":"IF(ISBLANK(Vrijwilligersregister!C219)=TRUE,\"\",Vrijwilligersregister!C219)","v":""},{"$f":"IF(ISBLANK(Vrijwilligersregister!C219)=TRUE,\"\",SUMIF('Nominatieve lijst'!$D$10:$D$3009,C219,'Nominatieve lijst'!$G$10:$G$3009))","v":""},{"$f":"IF(ISBLANK(Vrijwilligersregister!C219)=TRUE,\"\",SUMIF('Nominatieve lijst'!$D$10:$D$3009,C219,'Nominatieve lijst'!$H$10:$H$3009))","v":""},{"$f":"IF(ISBLANK(Vrijwilligersregister!C219)=TRUE,\"\",SUMIF('Nominatieve lijst'!$D$10:$D$3009,C219,'Nominatieve lijst'!$J$10:$J$3009))","v":""},{"$f":"IF(ISBLANK(Vrijwilligersregister!C219)=TRUE,\"\",D219+F219)","v":""},{"$f":"Vrijwilligersregister!L219","v":0}]
[null,212,{"$f":"IF(ISBLANK(Vrijwilligersregister!C220)=TRUE,\"\",Vrijwilligersregister!C220)","v":""},{"$f":"IF(ISBLANK(Vrijwilligersregister!C220)=TRUE,\"\",SUMIF('Nominatieve lijst'!$D$10:$D$3009,C220,'Nominatieve lijst'!$G$10:$G$3009))","v":""},{"$f":"IF(ISBLANK(Vrijwilligersregister!C220)=TRUE,\"\",SUMIF('Nominatieve lijst'!$D$10:$D$3009,C220,'Nominatieve lijst'!$H$10:$H$3009))","v":""},{"$f":"IF(ISBLANK(Vrijwilligersregister!C220)=TRUE,\"\",SUMIF('Nominatieve lijst'!$D$10:$D$3009,C220,'Nominatieve lijst'!$J$10:$J$3009))","v":""},{"$f":"IF(ISBLANK(Vrijwilligersregister!C220)=TRUE,\"\",D220+F220)","v":""},{"$f":"Vrijwilligersregister!L220","v":0}]
[null,213,{"$f":"IF(ISBLANK(Vrijwilligersregister!C221)=TRUE,\"\",Vrijwilligersregister!C221)","v":""},{"$f":"IF(ISBLANK(Vrijwilligersregister!C221)=TRUE,\"\",SUMIF('Nominatieve lijst'!$D$10:$D$3009,C221,'Nominatieve lijst'!$G$10:$G$3009))","v":""},{"$f":"IF(ISBLANK(Vrijwilligersregister!C221)=TRUE,\"\",SUMIF('Nominatieve lijst'!$D$10:$D$3009,C221,'Nominatieve lijst'!$H$10:$H$3009))","v":""},{"$f":"IF(ISBLANK(Vrijwilligersregister!C221)=TRUE,\"\",SUMIF('Nominatieve lijst'!$D$10:$D$3009,C221,'Nominatieve lijst'!$J$10:$J$3009))","v":""},{"$f":"IF(ISBLANK(Vrijwilligersregister!C221)=TRUE,\"\",D221+F221)","v":""},{"$f":"Vrijwilligersregister!L221","v":0}]
[null,214,{"$f":"IF(ISBLANK(Vrijwilligersregister!C222)=TRUE,\"\",Vrijwilligersregister!C222)","v":""},{"$f":"IF(ISBLANK(Vrijwilligersregister!C222)=TRUE,\"\",SUMIF('Nominatieve lijst'!$D$10:$D$3009,C222,'Nominatieve lijst'!$G$10:$G$3009))","v":""},{"$f":"IF(ISBLANK(Vrijwilligersregister!C222)=TRUE,\"\",SUMIF('Nominatieve lijst'!$D$10:$D$3009,C222,'Nominatieve lijst'!$H$10:$H$3009))","v":""},{"$f":"IF(ISBLANK(Vrijwilligersregister!C222)=TRUE,\"\",SUMIF('Nominatieve lijst'!$D$10:$D$3009,C222,'Nominatieve lijst'!$J$10:$J$3009))","v":""},{"$f":"IF(ISBLANK(Vrijwilligersregister!C222)=TRUE,\"\",D222+F222)","v":""},{"$f":"Vrijwilligersregister!L222","v":0}]
[null,215,{"$f":"IF(ISBLANK(Vrijwilligersregister!C223)=TRUE,\"\",Vrijwilligersregister!C223)","v":""},{"$f":"IF(ISBLANK(Vrijwilligersregister!C223)=TRUE,\"\",SUMIF('Nominatieve lijst'!$D$10:$D$3009,C223,'Nominatieve lijst'!$G$10:$G$3009))","v":""},{"$f":"IF(ISBLANK(Vrijwilligersregister!C223)=TRUE,\"\",SUMIF('Nominatieve lijst'!$D$10:$D$3009,C223,'Nominatieve lijst'!$H$10:$H$3009))","v":""},{"$f":"IF(ISBLANK(Vrijwilligersregister!C223)=TRUE,\"\",SUMIF('Nominatieve lijst'!$D$10:$D$3009,C223,'Nominatieve lijst'!$J$10:$J$3009))","v":""},{"$f":"IF(ISBLANK(Vrijwilligersregister!C223)=TRUE,\"\",D223+F223)","v":""},{"$f":"Vrijwilligersregister!L223","v":0}]
[null,216,{"$f":"IF(ISBLANK(Vrijwilligersregister!C224)=TRUE,\"\",Vrijwilligersregister!C224)","v":""},{"$f":"IF(ISBLANK(Vrijwilligersregister!C224)=TRUE,\"\",SUMIF('Nominatieve lijst'!$D$10:$D$3009,C224,'Nominatieve lijst'!$G$10:$G$3009))","v":""},{"$f":"IF(ISBLANK(Vrijwilligersregister!C224)=TRUE,\"\",SUMIF('Nominatieve lijst'!$D$10:$D$3009,C224,'Nominatieve lijst'!$H$10:$H$3009))","v":""},{"$f":"IF(ISBLANK(Vrijwilligersregister!C224)=TRUE,\"\",SUMIF('Nominatieve lijst'!$D$10:$D$3009,C224,'Nominatieve lijst'!$J$10:$J$3009))","v":""},{"$f":"IF(ISBLANK(Vrijwilligersregister!C224)=TRUE,\"\",D224+F224)","v":""},{"$f":"Vrijwilligersregister!L224","v":0}]
[null,217,{"$f":"IF(ISBLANK(Vrijwilligersregister!C225)=TRUE,\"\",Vrijwilligersregister!C225)","v":""},{"$f":"IF(ISBLANK(Vrijwilligersregister!C225)=TRUE,\"\",SUMIF('Nominatieve lijst'!$D$10:$D$3009,C225,'Nominatieve lijst'!$G$10:$G$3009))","v":""},{"$f":"IF(ISBLANK(Vrijwilligersregister!C225)=TRUE,\"\",SUMIF('Nominatieve lijst'!$D$10:$D$3009,C225,'Nominatieve lijst'!$H$10:$H$3009))","v":""},{"$f":"IF(ISBLANK(Vrijwilligersregister!C225)=TRUE,\"\",SUMIF('Nominatieve lijst'!$D$10:$D$3009,C225,'Nominatieve lijst'!$J$10:$J$3009))","v":""},{"$f":"IF(ISBLANK(Vrijwilligersregister!C225)=TRUE,\"\",D225+F225)","v":""},{"$f":"Vrijwilligersregister!L225","v":0}]
[null,218,{"$f":"IF(ISBLANK(Vrijwilligersregister!C226)=TRUE,\"\",Vrijwilligersregister!C226)","v":""},{"$f":"IF(ISBLANK(Vrijwilligersregister!C226)=TRUE,\"\",SUMIF('Nominatieve lijst'!$D$10:$D$3009,C226,'Nominatieve lijst'!$G$10:$G$3009))","v":""},{"$f":"IF(ISBLANK(Vrijwilligersregister!C226)=TRUE,\"\",SUMIF('Nominatieve lijst'!$D$10:$D$3009,C226,'Nominatieve lijst'!$H$10:$H$3009))","v":""},{"$f":"IF(ISBLANK(Vrijwilligersregister!C226)=TRUE,\"\",SUMIF('Nominatieve lijst'!$D$10:$D$3009,C226,'Nominatieve lijst'!$J$10:$J$3009))","v":""},{"$f":"IF(ISBLANK(Vrijwilligersregister!C226)=TRUE,\"\",D226+F226)","v":""},{"$f":"Vrijwilligersregister!L226","v":0}]
[null,219,{"$f":"IF(ISBLANK(Vrijwilligersregister!C227)=TRUE,\"\",Vrijwilligersregister!C227)","v":""},{"$f":"IF(ISBLANK(Vrijwilligersregister!C227)=TRUE,\"\",SUMIF('Nominatieve lijst'!$D$10:$D$3009,C227,'Nominatieve lijst'!$G$10:$G$3009))","v":""},{"$f":"IF(ISBLANK(Vrijwilligersregister!C227)=TRUE,\"\",SUMIF('Nominatieve lijst'!$D$10:$D$3009,C227,'Nominatieve lijst'!$H$10:$H$3009))","v":""},{"$f":"IF(ISBLANK(Vrijwilligersregister!C227)=TRUE,\"\",SUMIF('Nominatieve lijst'!$D$10:$D$3009,C227,'Nominatieve lijst'!$J$10:$J$3009))","v":""},{"$f":"IF(ISBLANK(Vrijwilligersregister!C227)=TRUE,\"\",D227+F227)","v":""},{"$f":"Vrijwilligersregister!L227","v":0}]
[null,220,{"$f":"IF(ISBLANK(Vrijwilligersregister!C228)=TRUE,\"\",Vrijwilligersregister!C228)","v":""},{"$f":"IF(ISBLANK(Vrijwilligersregister!C228)=TRUE,\"\",SUMIF('Nominatieve lijst'!$D$10:$D$3009,C228,'Nominatieve lijst'!$G$10:$G$3009))","v":""},{"$f":"IF(ISBLANK(Vrijwilligersregister!C228)=TRUE,\"\",SUMIF('Nominatieve lijst'!$D$10:$D$3009,C228,'Nominatieve lijst'!$H$10:$H$3009))","v":""},{"$f":"IF(ISBLANK(Vrijwilligersregister!C228)=TRUE,\"\",SUMIF('Nominatieve lijst'!$D$10:$D$3009,C228,'Nominatieve lijst'!$J$10:$J$3009))","v":""},{"$f":"IF(ISBLANK(Vrijwilligersregister!C228)=TRUE,\"\",D228+F228)","v":""},{"$f":"Vrijwilligersregister!L228","v":0}]
[null,221,{"$f":"IF(ISBLANK(Vrijwilligersregister!C229)=TRUE,\"\",Vrijwilligersregister!C229)","v":""},{"$f":"IF(ISBLANK(Vrijwilligersregister!C229)=TRUE,\"\",SUMIF('Nominatieve lijst'!$D$10:$D$3009,C229,'Nominatieve lijst'!$G$10:$G$3009))","v":""},{"$f":"IF(ISBLANK(Vrijwilligersregister!C229)=TRUE,\"\",SUMIF('Nominatieve lijst'!$D$10:$D$3009,C229,'Nominatieve lijst'!$H$10:$H$3009))","v":""},{"$f":"IF(ISBLANK(Vrijwilligersregister!C229)=TRUE,\"\",SUMIF('Nominatieve lijst'!$D$10:$D$3009,C229,'Nominatieve lijst'!$J$10:$J$3009))","v":""},{"$f":"IF(ISBLANK(Vrijwilligersregister!C229)=TRUE,\"\",D229+F229)","v":""},{"$f":"Vrijwilligersregister!L229","v":0}]
[null,222,{"$f":"IF(ISBLANK(Vrijwilligersregister!C230)=TRUE,\"\",Vrijwilligersregister!C230)","v":""},{"$f":"IF(ISBLANK(Vrijwilligersregister!C230)=TRUE,\"\",SUMIF('Nominatieve lijst'!$D$10:$D$3009,C230,'Nominatieve lijst'!$G$10:$G$3009))","v":""},{"$f":"IF(ISBLANK(Vrijwilligersregister!C230)=TRUE,\"\",SUMIF('Nominatieve lijst'!$D$10:$D$3009,C230,'Nominatieve lijst'!$H$10:$H$3009))","v":""},{"$f":"IF(ISBLANK(Vrijwilligersregister!C230)=TRUE,\"\",SUMIF('Nominatieve lijst'!$D$10:$D$3009,C230,'Nominatieve lijst'!$J$10:$J$3009))","v":""},{"$f":"IF(ISBLANK(Vrijwilligersregister!C230)=TRUE,\"\",D230+F230)","v":""},{"$f":"Vrijwilligersregister!L230","v":0}]
[null,223,{"$f":"IF(ISBLANK(Vrijwilligersregister!C231)=TRUE,\"\",Vrijwilligersregister!C231)","v":""},{"$f":"IF(ISBLANK(Vrijwilligersregister!C231)=TRUE,\"\",SUMIF('Nominatieve lijst'!$D$10:$D$3009,C231,'Nominatieve lijst'!$G$10:$G$3009))","v":""},{"$f":"IF(ISBLANK(Vrijwilligersregister!C231)=TRUE,\"\",SUMIF('Nominatieve lijst'!$D$10:$D$3009,C231,'Nominatieve lijst'!$H$10:$H$3009))","v":""},{"$f":"IF(ISBLANK(Vrijwilligersregister!C231)=TRUE,\"\",SUMIF('Nominatieve lijst'!$D$10:$D$3009,C231,'Nominatieve lijst'!$J$10:$J$3009))","v":""},{"$f":"IF(ISBLANK(Vrijwilligersregister!C231)=TRUE,\"\",D231+F231)","v":""},{"$f":"Vrijwilligersregister!L231","v":0}]
[null,224,{"$f":"IF(ISBLANK(Vrijwilligersregister!C232)=TRUE,\"\",Vrijwilligersregister!C232)","v":""},{"$f":"IF(ISBLANK(Vrijwilligersregister!C232)=TRUE,\"\",SUMIF('Nominatieve lijst'!$D$10:$D$3009,C232,'Nominatieve lijst'!$G$10:$G$3009))","v":""},{"$f":"IF(ISBLANK(Vrijwilligersregister!C232)=TRUE,\"\",SUMIF('Nominatieve lijst'!$D$10:$D$3009,C232,'Nominatieve lijst'!$H$10:$H$3009))","v":""},{"$f":"IF(ISBLANK(Vrijwilligersregister!C232)=TRUE,\"\",SUMIF('Nominatieve lijst'!$D$10:$D$3009,C232,'Nominatieve lijst'!$J$10:$J$3009))","v":""},{"$f":"IF(ISBLANK(Vrijwilligersregister!C232)=TRUE,\"\",D232+F232)","v":""},{"$f":"Vrijwilligersregister!L232","v":0}]
[null,225,{"$f":"IF(ISBLANK(Vrijwilligersregister!C233)=TRUE,\"\",Vrijwilligersregister!C233)","v":""},{"$f":"IF(ISBLANK(Vrijwilligersregister!C233)=TRUE,\"\",SUMIF('Nominatieve lijst'!$D$10:$D$3009,C233,'Nominatieve lijst'!$G$10:$G$3009))","v":""},{"$f":"IF(ISBLANK(Vrijwilligersregister!C233)=TRUE,\"\",SUMIF('Nominatieve lijst'!$D$10:$D$3009,C233,'Nominatieve lijst'!$H$10:$H$3009))","v":""},{"$f":"IF(ISBLANK(Vrijwilligersregister!C233)=TRUE,\"\",SUMIF('Nominatieve lijst'!$D$10:$D$3009,C233,'Nominatieve lijst'!$J$10:$J$3009))","v":""},{"$f":"IF(ISBLANK(Vrijwilligersregister!C233)=TRUE,\"\",D233+F233)","v":""},{"$f":"Vrijwilligersregister!L233","v":0}]
[null,226,{"$f":"IF(ISBLANK(Vrijwilligersregister!C234)=TRUE,\"\",Vrijwilligersregister!C234)","v":""},{"$f":"IF(ISBLANK(Vrijwilligersregister!C234)=TRUE,\"\",SUMIF('Nominatieve lijst'!$D$10:$D$3009,C234,'Nominatieve lijst'!$G$10:$G$3009))","v":""},{"$f":"IF(ISBLANK(Vrijwilligersregister!C234)=TRUE,\"\",SUMIF('Nominatieve lijst'!$D$10:$D$3009,C234,'Nominatieve lijst'!$H$10:$H$3009))","v":""},{"$f":"IF(ISBLANK(Vrijwilligersregister!C234)=TRUE,\"\",SUMIF('Nominatieve lijst'!$D$10:$D$3009,C234,'Nominatieve lijst'!$J$10:$J$3009))","v":""},{"$f":"IF(ISBLANK(Vrijwilligersregister!C234)=TRUE,\"\",D234+F234)","v":""},{"$f":"Vrijwilligersregister!L234","v":0}]
[null,227,{"$f":"IF(ISBLANK(Vrijwilligersregister!C235)=TRUE,\"\",Vrijwilligersregister!C235)","v":""},{"$f":"IF(ISBLANK(Vrijwilligersregister!C235)=TRUE,\"\",SUMIF('Nominatieve lijst'!$D$10:$D$3009,C235,'Nominatieve lijst'!$G$10:$G$3009))","v":""},{"$f":"IF(ISBLANK(Vrijwilligersregister!C235)=TRUE,\"\",SUMIF('Nominatieve lijst'!$D$10:$D$3009,C235,'Nominatieve lijst'!$H$10:$H$3009))","v":""},{"$f":"IF(ISBLANK(Vrijwilligersregister!C235)=TRUE,\"\",SUMIF('Nominatieve lijst'!$D$10:$D$3009,C235,'Nominatieve lijst'!$J$10:$J$3009))","v":""},{"$f":"IF(ISBLANK(Vrijwilligersregister!C235)=TRUE,\"\",D235+F235)","v":""},{"$f":"Vrijwilligersregister!L235","v":0}]
[null,228,{"$f":"IF(ISBLANK(Vrijwilligersregister!C236)=TRUE,\"\",Vrijwilligersregister!C236)","v":""},{"$f":"IF(ISBLANK(Vrijwilligersregister!C236)=TRUE,\"\",SUMIF('Nominatieve lijst'!$D$10:$D$3009,C236,'Nominatieve lijst'!$G$10:$G$3009))","v":""},{"$f":"IF(ISBLANK(Vrijwilligersregister!C236)=TRUE,\"\",SUMIF('Nominatieve lijst'!$D$10:$D$3009,C236,'Nominatieve lijst'!$H$10:$H$3009))","v":""},{"$f":"IF(ISBLANK(Vrijwilligersregister!C236)=TRUE,\"\",SUMIF('Nominatieve lijst'!$D$10:$D$3009,C236,'Nominatieve lijst'!$J$10:$J$3009))","v":""},{"$f":"IF(ISBLANK(Vrijwilligersregister!C236)=TRUE,\"\",D236+F236)","v":""},{"$f":"Vrijwilligersregister!L236","v":0}]
[null,229,{"$f":"IF(ISBLANK(Vrijwilligersregister!C237)=TRUE,\"\",Vrijwilligersregister!C237)","v":""},{"$f":"IF(ISBLANK(Vrijwilligersregister!C237)=TRUE,\"\",SUMIF('Nominatieve lijst'!$D$10:$D$3009,C237,'Nominatieve lijst'!$G$10:$G$3009))","v":""},{"$f":"IF(ISBLANK(Vrijwilligersregister!C237)=TRUE,\"\",SUMIF('Nominatieve lijst'!$D$10:$D$3009,C237,'Nominatieve lijst'!$H$10:$H$3009))","v":""},{"$f":"IF(ISBLANK(Vrijwilligersregister!C237)=TRUE,\"\",SUMIF('Nominatieve lijst'!$D$10:$D$3009,C237,'Nominatieve lijst'!$J$10:$J$3009))","v":""},{"$f":"IF(ISBLANK(Vrijwilligersregister!C237)=TRUE,\"\",D237+F237)","v":""},{"$f":"Vrijwilligersregister!L237","v":0}]
[null,230,{"$f":"IF(ISBLANK(Vrijwilligersregister!C238)=TRUE,\"\",Vrijwilligersregister!C238)","v":""},{"$f":"IF(ISBLANK(Vrijwilligersregister!C238)=TRUE,\"\",SUMIF('Nominatieve lijst'!$D$10:$D$3009,C238,'Nominatieve lijst'!$G$10:$G$3009))","v":""},{"$f":"IF(ISBLANK(Vrijwilligersregister!C238)=TRUE,\"\",SUMIF('Nominatieve lijst'!$D$10:$D$3009,C238,'Nominatieve lijst'!$H$10:$H$3009))","v":""},{"$f":"IF(ISBLANK(Vrijwilligersregister!C238)=TRUE,\"\",SUMIF('Nominatieve lijst'!$D$10:$D$3009,C238,'Nominatieve lijst'!$J$10:$J$3009))","v":""},{"$f":"IF(ISBLANK(Vrijwilligersregister!C238)=TRUE,\"\",D238+F238)","v":""},{"$f":"Vrijwilligersregister!L238","v":0}]
[null,231,{"$f":"IF(ISBLANK(Vrijwilligersregister!C239)=TRUE,\"\",Vrijwilligersregister!C239)","v":""},{"$f":"IF(ISBLANK(Vrijwilligersregister!C239)=TRUE,\"\",SUMIF('Nominatieve lijst'!$D$10:$D$3009,C239,'Nominatieve lijst'!$G$10:$G$3009))","v":""},{"$f":"IF(ISBLANK(Vrijwilligersregister!C239)=TRUE,\"\",SUMIF('Nominatieve lijst'!$D$10:$D$3009,C239,'Nominatieve lijst'!$H$10:$H$3009))","v":""},{"$f":"IF(ISBLANK(Vrijwilligersregister!C239)=TRUE,\"\",SUMIF('Nominatieve lijst'!$D$10:$D$3009,C239,'Nominatieve lijst'!$J$10:$J$3009))","v":""},{"$f":"IF(ISBLANK(Vrijwilligersregister!C239)=TRUE,\"\",D239+F239)","v":""},{"$f":"Vrijwilligersregister!L239","v":0}]
[null,232,{"$f":"IF(ISBLANK(Vrijwilligersregister!C240)=TRUE,\"\",Vrijwilligersregister!C240)","v":""},{"$f":"IF(ISBLANK(Vrijwilligersregister!C240)=TRUE,\"\",SUMIF('Nominatieve lijst'!$D$10:$D$3009,C240,'Nominatieve lijst'!$G$10:$G$3009))","v":""},{"$f":"IF(ISBLANK(Vrijwilligersregister!C240)=TRUE,\"\",SUMIF('Nominatieve lijst'!$D$10:$D$3009,C240,'Nominatieve lijst'!$H$10:$H$3009))","v":""},{"$f":"IF(ISBLANK(Vrijwilligersregister!C240)=TRUE,\"\",SUMIF('Nominatieve lijst'!$D$10:$D$3009,C240,'Nominatieve lijst'!$J$10:$J$3009))","v":""},{"$f":"IF(ISBLANK(Vrijwilligersregister!C240)=TRUE,\"\",D240+F240)","v":""},{"$f":"Vrijwilligersregister!L240","v":0}]
[null,233,{"$f":"IF(ISBLANK(Vrijwilligersregister!C241)=TRUE,\"\",Vrijwilligersregister!C241)","v":""},{"$f":"IF(ISBLANK(Vrijwilligersregister!C241)=TRUE,\"\",SUMIF('Nominatieve lijst'!$D$10:$D$3009,C241,'Nominatieve lijst'!$G$10:$G$3009))","v":""},{"$f":"IF(ISBLANK(Vrijwilligersregister!C241)=TRUE,\"\",SUMIF('Nominatieve lijst'!$D$10:$D$3009,C241,'Nominatieve lijst'!$H$10:$H$3009))","v":""},{"$f":"IF(ISBLANK(Vrijwilligersregister!C241)=TRUE,\"\",SUMIF('Nominatieve lijst'!$D$10:$D$3009,C241,'Nominatieve lijst'!$J$10:$J$3009))","v":""},{"$f":"IF(ISBLANK(Vrijwilligersregister!C241)=TRUE,\"\",D241+F241)","v":""},{"$f":"Vrijwilligersregister!L241","v":0}]
[null,234,{"$f":"IF(ISBLANK(Vrijwilligersregister!C242)=TRUE,\"\",Vrijwilligersregister!C242)","v":""},{"$f":"IF(ISBLANK(Vrijwilligersregister!C242)=TRUE,\"\",SUMIF('Nominatieve lijst'!$D$10:$D$3009,C242,'Nominatieve lijst'!$G$10:$G$3009))","v":""},{"$f":"IF(ISBLANK(Vrijwilligersregister!C242)=TRUE,\"\",SUMIF('Nominatieve lijst'!$D$10:$D$3009,C242,'Nominatieve lijst'!$H$10:$H$3009))","v":""},{"$f":"IF(ISBLANK(Vrijwilligersregister!C242)=TRUE,\"\",SUMIF('Nominatieve lijst'!$D$10:$D$3009,C242,'Nominatieve lijst'!$J$10:$J$3009))","v":""},{"$f":"IF(ISBLANK(Vrijwilligersregister!C242)=TRUE,\"\",D242+F242)","v":""},{"$f":"Vrijwilligersregister!L242","v":0}]
[null,235,{"$f":"IF(ISBLANK(Vrijwilligersregister!C243)=TRUE,\"\",Vrijwilligersregister!C243)","v":""},{"$f":"IF(ISBLANK(Vrijwilligersregister!C243)=TRUE,\"\",SUMIF('Nominatieve lijst'!$D$10:$D$3009,C243,'Nominatieve lijst'!$G$10:$G$3009))","v":""},{"$f":"IF(ISBLANK(Vrijwilligersregister!C243)=TRUE,\"\",SUMIF('Nominatieve lijst'!$D$10:$D$3009,C243,'Nominatieve lijst'!$H$10:$H$3009))","v":""},{"$f":"IF(ISBLANK(Vrijwilligersregister!C243)=TRUE,\"\",SUMIF('Nominatieve lijst'!$D$10:$D$3009,C243,'Nominatieve lijst'!$J$10:$J$3009))","v":""},{"$f":"IF(ISBLANK(Vrijwilligersregister!C243)=TRUE,\"\",D243+F243)","v":""},{"$f":"Vrijwilligersregister!L243","v":0}]
[null,236,{"$f":"IF(ISBLANK(Vrijwilligersregister!C244)=TRUE,\"\",Vrijwilligersregister!C244)","v":""},{"$f":"IF(ISBLANK(Vrijwilligersregister!C244)=TRUE,\"\",SUMIF('Nominatieve lijst'!$D$10:$D$3009,C244,'Nominatieve lijst'!$G$10:$G$3009))","v":""},{"$f":"IF(ISBLANK(Vrijwilligersregister!C244)=TRUE,\"\",SUMIF('Nominatieve lijst'!$D$10:$D$3009,C244,'Nominatieve lijst'!$H$10:$H$3009))","v":""},{"$f":"IF(ISBLANK(Vrijwilligersregister!C244)=TRUE,\"\",SUMIF('Nominatieve lijst'!$D$10:$D$3009,C244,'Nominatieve lijst'!$J$10:$J$3009))","v":""},{"$f":"IF(ISBLANK(Vrijwilligersregister!C244)=TRUE,\"\",D244+F244)","v":""},{"$f":"Vrijwilligersregister!L244","v":0}]
[null,237,{"$f":"IF(ISBLANK(Vrijwilligersregister!C245)=TRUE,\"\",Vrijwilligersregister!C245)","v":""},{"$f":"IF(ISBLANK(Vrijwilligersregister!C245)=TRUE,\"\",SUMIF('Nominatieve lijst'!$D$10:$D$3009,C245,'Nominatieve lijst'!$G$10:$G$3009))","v":""},{"$f":"IF(ISBLANK(Vrijwilligersregister!C245)=TRUE,\"\",SUMIF('Nominatieve lijst'!$D$10:$D$3009,C245,'Nominatieve lijst'!$H$10:$H$3009))","v":""},{"$f":"IF(ISBLANK(Vrijwilligersregister!C245)=TRUE,\"\",SUMIF('Nominatieve lijst'!$D$10:$D$3009,C245,'Nominatieve lijst'!$J$10:$J$3009))","v":""},{"$f":"IF(ISBLANK(Vrijwilligersregister!C245)=TRUE,\"\",D245+F245)","v":""},{"$f":"Vrijwilligersregister!L245","v":0}]
[null,238,{"$f":"IF(ISBLANK(Vrijwilligersregister!C246)=TRUE,\"\",Vrijwilligersregister!C246)","v":""},{"$f":"IF(ISBLANK(Vrijwilligersregister!C246)=TRUE,\"\",SUMIF('Nominatieve lijst'!$D$10:$D$3009,C246,'Nominatieve lijst'!$G$10:$G$3009))","v":""},{"$f":"IF(ISBLANK(Vrijwilligersregister!C246)=TRUE,\"\",SUMIF('Nominatieve lijst'!$D$10:$D$3009,C246,'Nominatieve lijst'!$H$10:$H$3009))","v":""},{"$f":"IF(ISBLANK(Vrijwilligersregister!C246)=TRUE,\"\",SUMIF('Nominatieve lijst'!$D$10:$D$3009,C246,'Nominatieve lijst'!$J$10:$J$3009))","v":""},{"$f":"IF(ISBLANK(Vrijwilligersregister!C246)=TRUE,\"\",D246+F246)","v":""},{"$f":"Vrijwilligersregister!L246","v":0}]
[null,239,{"$f":"IF(ISBLANK(Vrijwilligersregister!C247)=TRUE,\"\",Vrijwilligersregister!C247)","v":""},{"$f":"IF(ISBLANK(Vrijwilligersregister!C247)=TRUE,\"\",SUMIF('Nominatieve lijst'!$D$10:$D$3009,C247,'Nominatieve lijst'!$G$10:$G$3009))","v":""},{"$f":"IF(ISBLANK(Vrijwilligersregister!C247)=TRUE,\"\",SUMIF('Nominatieve lijst'!$D$10:$D$3009,C247,'Nominatieve lijst'!$H$10:$H$3009))","v":""},{"$f":"IF(ISBLANK(Vrijwilligersregister!C247)=TRUE,\"\",SUMIF('Nominatieve lijst'!$D$10:$D$3009,C247,'Nominatieve lijst'!$J$10:$J$3009))","v":""},{"$f":"IF(ISBLANK(Vrijwilligersregister!C247)=TRUE,\"\",D247+F247)","v":""},{"$f":"Vrijwilligersregister!L247","v":0}]
[null,240,{"$f":"IF(ISBLANK(Vrijwilligersregister!C248)=TRUE,\"\",Vrijwilligersregister!C248)","v":""},{"$f":"IF(ISBLANK(Vrijwilligersregister!C248)=TRUE,\"\",SUMIF('Nominatieve lijst'!$D$10:$D$3009,C248,'Nominatieve lijst'!$G$10:$G$3009))","v":""},{"$f":"IF(ISBLANK(Vrijwilligersregister!C248)=TRUE,\"\",SUMIF('Nominatieve lijst'!$D$10:$D$3009,C248,'Nominatieve lijst'!$H$10:$H$3009))","v":""},{"$f":"IF(ISBLANK(Vrijwilligersregister!C248)=TRUE,\"\",SUMIF('Nominatieve lijst'!$D$10:$D$3009,C248,'Nominatieve lijst'!$J$10:$J$3009))","v":""},{"$f":"IF(ISBLANK(Vrijwilligersregister!C248)=TRUE,\"\",D248+F248)","v":""},{"$f":"Vrijwilligersregister!L248","v":0}]
[null,241,{"$f":"IF(ISBLANK(Vrijwilligersregister!C249)=TRUE,\"\",Vrijwilligersregister!C249)","v":""},{"$f":"IF(ISBLANK(Vrijwilligersregister!C249)=TRUE,\"\",SUMIF('Nominatieve lijst'!$D$10:$D$3009,C249,'Nominatieve lijst'!$G$10:$G$3009))","v":""},{"$f":"IF(ISBLANK(Vrijwilligersregister!C249)=TRUE,\"\",SUMIF('Nominatieve lijst'!$D$10:$D$3009,C249,'Nominatieve lijst'!$H$10:$H$3009))","v":""},{"$f":"IF(ISBLANK(Vrijwilligersregister!C249)=TRUE,\"\",SUMIF('Nominatieve lijst'!$D$10:$D$3009,C249,'Nominatieve lijst'!$J$10:$J$3009))","v":""},{"$f":"IF(ISBLANK(Vrijwilligersregister!C249)=TRUE,\"\",D249+F249)","v":""},{"$f":"Vrijwilligersregister!L249","v":0}]
[null,242,{"$f":"IF(ISBLANK(Vrijwilligersregister!C250)=TRUE,\"\",Vrijwilligersregister!C250)","v":""},{"$f":"IF(ISBLANK(Vrijwilligersregister!C250)=TRUE,\"\",SUMIF('Nominatieve lijst'!$D$10:$D$3009,C250,'Nominatieve lijst'!$G$10:$G$3009))","v":""},{"$f":"IF(ISBLANK(Vrijwilligersregister!C250)=TRUE,\"\",SUMIF('Nominatieve lijst'!$D$10:$D$3009,C250,'Nominatieve lijst'!$H$10:$H$3009))","v":""},{"$f":"IF(ISBLANK(Vrijwilligersregister!C250)=TRUE,\"\",SUMIF('Nominatieve lijst'!$D$10:$D$3009,C250,'Nominatieve lijst'!$J$10:$J$3009))","v":""},{"$f":"IF(ISBLANK(Vrijwilligersregister!C250)=TRUE,\"\",D250+F250)","v":""},{"$f":"Vrijwilligersregister!L250","v":0}]
[null,243,{"$f":"IF(ISBLANK(Vrijwilligersregister!C251)=TRUE,\"\",Vrijwilligersregister!C251)","v":""},{"$f":"IF(ISBLANK(Vrijwilligersregister!C251)=TRUE,\"\",SUMIF('Nominatieve lijst'!$D$10:$D$3009,C251,'Nominatieve lijst'!$G$10:$G$3009))","v":""},{"$f":"IF(ISBLANK(Vrijwilligersregister!C251)=TRUE,\"\",SUMIF('Nominatieve lijst'!$D$10:$D$3009,C251,'Nominatieve lijst'!$H$10:$H$3009))","v":""},{"$f":"IF(ISBLANK(Vrijwilligersregister!C251)=TRUE,\"\",SUMIF('Nominatieve lijst'!$D$10:$D$3009,C251,'Nominatieve lijst'!$J$10:$J$3009))","v":""},{"$f":"IF(ISBLANK(Vrijwilligersregister!C251)=TRUE,\"\",D251+F251)","v":""},{"$f":"Vrijwilligersregister!L251","v":0}]
[null,244,{"$f":"IF(ISBLANK(Vrijwilligersregister!C252)=TRUE,\"\",Vrijwilligersregister!C252)","v":""},{"$f":"IF(ISBLANK(Vrijwilligersregister!C252)=TRUE,\"\",SUMIF('Nominatieve lijst'!$D$10:$D$3009,C252,'Nominatieve lijst'!$G$10:$G$3009))","v":""},{"$f":"IF(ISBLANK(Vrijwilligersregister!C252)=TRUE,\"\",SUMIF('Nominatieve lijst'!$D$10:$D$3009,C252,'Nominatieve lijst'!$H$10:$H$3009))","v":""},{"$f":"IF(ISBLANK(Vrijwilligersregister!C252)=TRUE,\"\",SUMIF('Nominatieve lijst'!$D$10:$D$3009,C252,'Nominatieve lijst'!$J$10:$J$3009))","v":""},{"$f":"IF(ISBLANK(Vrijwilligersregister!C252)=TRUE,\"\",D252+F252)","v":""},{"$f":"Vrijwilligersregister!L252","v":0}]
[null,245,{"$f":"IF(ISBLANK(Vrijwilligersregister!C253)=TRUE,\"\",Vrijwilligersregister!C253)","v":""},{"$f":"IF(ISBLANK(Vrijwilligersregister!C253)=TRUE,\"\",SUMIF('Nominatieve lijst'!$D$10:$D$3009,C253,'Nominatieve lijst'!$G$10:$G$3009))","v":""},{"$f":"IF(ISBLANK(Vrijwilligersregister!C253)=TRUE,\"\",SUMIF('Nominatieve lijst'!$D$10:$D$3009,C253,'Nominatieve lijst'!$H$10:$H$3009))","v":""},{"$f":"IF(ISBLANK(Vrijwilligersregister!C253)=TRUE,\"\",SUMIF('Nominatieve lijst'!$D$10:$D$3009,C253,'Nominatieve lijst'!$J$10:$J$3009))","v":""},{"$f":"IF(ISBLANK(Vrijwilligersregister!C253)=TRUE,\"\",D253+F253)","v":""},{"$f":"Vrijwilligersregister!L253","v":0}]
[null,246,{"$f":"IF(ISBLANK(Vrijwilligersregister!C254)=TRUE,\"\",Vrijwilligersregister!C254)","v":""},{"$f":"IF(ISBLANK(Vrijwilligersregister!C254)=TRUE,\"\",SUMIF('Nominatieve lijst'!$D$10:$D$3009,C254,'Nominatieve lijst'!$G$10:$G$3009))","v":""},{"$f":"IF(ISBLANK(Vrijwilligersregister!C254)=TRUE,\"\",SUMIF('Nominatieve lijst'!$D$10:$D$3009,C254,'Nominatieve lijst'!$H$10:$H$3009))","v":""},{"$f":"IF(ISBLANK(Vrijwilligersregister!C254)=TRUE,\"\",SUMIF('Nominatieve lijst'!$D$10:$D$3009,C254,'Nominatieve lijst'!$J$10:$J$3009))","v":""},{"$f":"IF(ISBLANK(Vrijwilligersregister!C254)=TRUE,\"\",D254+F254)","v":""},{"$f":"Vrijwilligersregister!L254","v":0}]
[null,247,{"$f":"IF(ISBLANK(Vrijwilligersregister!C255)=TRUE,\"\",Vrijwilligersregister!C255)","v":""},{"$f":"IF(ISBLANK(Vrijwilligersregister!C255)=TRUE,\"\",SUMIF('Nominatieve lijst'!$D$10:$D$3009,C255,'Nominatieve lijst'!$G$10:$G$3009))","v":""},{"$f":"IF(ISBLANK(Vrijwilligersregister!C255)=TRUE,\"\",SUMIF('Nominatieve lijst'!$D$10:$D$3009,C255,'Nominatieve lijst'!$H$10:$H$3009))","v":""},{"$f":"IF(ISBLANK(Vrijwilligersregister!C255)=TRUE,\"\",SUMIF('Nominatieve lijst'!$D$10:$D$3009,C255,'Nominatieve lijst'!$J$10:$J$3009))","v":""},{"$f":"IF(ISBLANK(Vrijwilligersregister!C255)=TRUE,\"\",D255+F255)","v":""},{"$f":"Vrijwilligersregister!L255","v":0}]
[null,248,{"$f":"IF(ISBLANK(Vrijwilligersregister!C256)=TRUE,\"\",Vrijwilligersregister!C256)","v":""},{"$f":"IF(ISBLANK(Vrijwilligersregister!C256)=TRUE,\"\",SUMIF('Nominatieve lijst'!$D$10:$D$3009,C256,'Nominatieve lijst'!$G$10:$G$3009))","v":""},{"$f":"IF(ISBLANK(Vrijwilligersregister!C256)=TRUE,\"\",SUMIF('Nominatieve lijst'!$D$10:$D$3009,C256,'Nominatieve lijst'!$H$10:$H$3009))","v":""},{"$f":"IF(ISBLANK(Vrijwilligersregister!C256)=TRUE,\"\",SUMIF('Nominatieve lijst'!$D$10:$D$3009,C256,'Nominatieve lijst'!$J$10:$J$3009))","v":""},{"$f":"IF(ISBLANK(Vrijwilligersregister!C256)=TRUE,\"\",D256+F256)","v":""},{"$f":"Vrijwilligersregister!L256","v":0}]
[null,249,{"$f":"IF(ISBLANK(Vrijwilligersregister!C257)=TRUE,\"\",Vrijwilligersregister!C257)","v":""},{"$f":"IF(ISBLANK(Vrijwilligersregister!C257)=TRUE,\"\",SUMIF('Nominatieve lijst'!$D$10:$D$3009,C257,'Nominatieve lijst'!$G$10:$G$3009))","v":""},{"$f":"IF(ISBLANK(Vrijwilligersregister!C257)=TRUE,\"\",SUMIF('Nominatieve lijst'!$D$10:$D$3009,C257,'Nominatieve lijst'!$H$10:$H$3009))","v":""},{"$f":"IF(ISBLANK(Vrijwilligersregister!C257)=TRUE,\"\",SUMIF('Nominatieve lijst'!$D$10:$D$3009,C257,'Nominatieve lijst'!$J$10:$J$3009))","v":""},{"$f":"IF(ISBLANK(Vrijwilligersregister!C257)=TRUE,\"\",D257+F257)","v":""},{"$f":"Vrijwilligersregister!L257","v":0}]
[null,250,{"$f":"IF(ISBLANK(Vrijwilligersregister!C258)=TRUE,\"\",Vrijwilligersregister!C258)","v":""},{"$f":"IF(ISBLANK(Vrijwilligersregister!C258)=TRUE,\"\",SUMIF('Nominatieve lijst'!$D$10:$D$3009,C258,'Nominatieve lijst'!$G$10:$G$3009))","v":""},{"$f":"IF(ISBLANK(Vrijwilligersregister!C258)=TRUE,\"\",SUMIF('Nominatieve lijst'!$D$10:$D$3009,C258,'Nominatieve lijst'!$H$10:$H$3009))","v":""},{"$f":"IF(ISBLANK(Vrijwilligersregister!C258)=TRUE,\"\",SUMIF('Nominatieve lijst'!$D$10:$D$3009,C258,'Nominatieve lijst'!$J$10:$J$3009))","v":""},{"$f":"IF(ISBLANK(Vrijwilligersregister!C258)=TRUE,\"\",D258+F258)","v":""},{"$f":"Vrijwilligersregister!L258","v":0}]
[null,251,{"$f":"IF(ISBLANK(Vrijwilligersregister!C259)=TRUE,\"\",Vrijwilligersregister!C259)","v":""},{"$f":"IF(ISBLANK(Vrijwilligersregister!C259)=TRUE,\"\",SUMIF('Nominatieve lijst'!$D$10:$D$3009,C259,'Nominatieve lijst'!$G$10:$G$3009))","v":""},{"$f":"IF(ISBLANK(Vrijwilligersregister!C259)=TRUE,\"\",SUMIF('Nominatieve lijst'!$D$10:$D$3009,C259,'Nominatieve lijst'!$H$10:$H$3009))","v":""},{"$f":"IF(ISBLANK(Vrijwilligersregister!C259)=TRUE,\"\",SUMIF('Nominatieve lijst'!$D$10:$D$3009,C259,'Nominatieve lijst'!$J$10:$J$3009))","v":""},{"$f":"IF(ISBLANK(Vrijwilligersregister!C259)=TRUE,\"\",D259+F259)","v":""},{"$f":"Vrijwilligersregister!L259","v":0}]
[null,252,{"$f":"IF(ISBLANK(Vrijwilligersregister!C260)=TRUE,\"\",Vrijwilligersregister!C260)","v":""},{"$f":"IF(ISBLANK(Vrijwilligersregister!C260)=TRUE,\"\",SUMIF('Nominatieve lijst'!$D$10:$D$3009,C260,'Nominatieve lijst'!$G$10:$G$3009))","v":""},{"$f":"IF(ISBLANK(Vrijwilligersregister!C260)=TRUE,\"\",SUMIF('Nominatieve lijst'!$D$10:$D$3009,C260,'Nominatieve lijst'!$H$10:$H$3009))","v":""},{"$f":"IF(ISBLANK(Vrijwilligersregister!C260)=TRUE,\"\",SUMIF('Nominatieve lijst'!$D$10:$D$3009,C260,'Nominatieve lijst'!$J$10:$J$3009))","v":""},{"$f":"IF(ISBLANK(Vrijwilligersregister!C260)=TRUE,\"\",D260+F260)","v":""},{"$f":"Vrijwilligersregister!L260","v":0}]
[null,253,{"$f":"IF(ISBLANK(Vrijwilligersregister!C261)=TRUE,\"\",Vrijwilligersregister!C261)","v":""},{"$f":"IF(ISBLANK(Vrijwilligersregister!C261)=TRUE,\"\",SUMIF('Nominatieve lijst'!$D$10:$D$3009,C261,'Nominatieve lijst'!$G$10:$G$3009))","v":""},{"$f":"IF(ISBLANK(Vrijwilligersregister!C261)=TRUE,\"\",SUMIF('Nominatieve lijst'!$D$10:$D$3009,C261,'Nominatieve lijst'!$H$10:$H$3009))","v":""},{"$f":"IF(ISBLANK(Vrijwilligersregister!C261)=TRUE,\"\",SUMIF('Nominatieve lijst'!$D$10:$D$3009,C261,'Nominatieve lijst'!$J$10:$J$3009))","v":""},{"$f":"IF(ISBLANK(Vrijwilligersregister!C261)=TRUE,\"\",D261+F261)","v":""},{"$f":"Vrijwilligersregister!L261","v":0}]
[null,254,{"$f":"IF(ISBLANK(Vrijwilligersregister!C262)=TRUE,\"\",Vrijwilligersregister!C262)","v":""},{"$f":"IF(ISBLANK(Vrijwilligersregister!C262)=TRUE,\"\",SUMIF('Nominatieve lijst'!$D$10:$D$3009,C262,'Nominatieve lijst'!$G$10:$G$3009))","v":""},{"$f":"IF(ISBLANK(Vrijwilligersregister!C262)=TRUE,\"\",SUMIF('Nominatieve lijst'!$D$10:$D$3009,C262,'Nominatieve lijst'!$H$10:$H$3009))","v":""},{"$f":"IF(ISBLANK(Vrijwilligersregister!C262)=TRUE,\"\",SUMIF('Nominatieve lijst'!$D$10:$D$3009,C262,'Nominatieve lijst'!$J$10:$J$3009))","v":""},{"$f":"IF(ISBLANK(Vrijwilligersregister!C262)=TRUE,\"\",D262+F262)","v":""},{"$f":"Vrijwilligersregister!L262","v":0}]
[null,255,{"$f":"IF(ISBLANK(Vrijwilligersregister!C263)=TRUE,\"\",Vrijwilligersregister!C263)","v":""},{"$f":"IF(ISBLANK(Vrijwilligersregister!C263)=TRUE,\"\",SUMIF('Nominatieve lijst'!$D$10:$D$3009,C263,'Nominatieve lijst'!$G$10:$G$3009))","v":""},{"$f":"IF(ISBLANK(Vrijwilligersregister!C263)=TRUE,\"\",SUMIF('Nominatieve lijst'!$D$10:$D$3009,C263,'Nominatieve lijst'!$H$10:$H$3009))","v":""},{"$f":"IF(ISBLANK(Vrijwilligersregister!C263)=TRUE,\"\",SUMIF('Nominatieve lijst'!$D$10:$D$3009,C263,'Nominatieve lijst'!$J$10:$J$3009))","v":""},{"$f":"IF(ISBLANK(Vrijwilligersregister!C263)=TRUE,\"\",D263+F263)","v":""},{"$f":"Vrijwilligersregister!L263","v":0}]
[null,256,{"$f":"IF(ISBLANK(Vrijwilligersregister!C264)=TRUE,\"\",Vrijwilligersregister!C264)","v":""},{"$f":"IF(ISBLANK(Vrijwilligersregister!C264)=TRUE,\"\",SUMIF('Nominatieve lijst'!$D$10:$D$3009,C264,'Nominatieve lijst'!$G$10:$G$3009))","v":""},{"$f":"IF(ISBLANK(Vrijwilligersregister!C264)=TRUE,\"\",SUMIF('Nominatieve lijst'!$D$10:$D$3009,C264,'Nominatieve lijst'!$H$10:$H$3009))","v":""},{"$f":"IF(ISBLANK(Vrijwilligersregister!C264)=TRUE,\"\",SUMIF('Nominatieve lijst'!$D$10:$D$3009,C264,'Nominatieve lijst'!$J$10:$J$3009))","v":""},{"$f":"IF(ISBLANK(Vrijwilligersregister!C264)=TRUE,\"\",D264+F264)","v":""},{"$f":"Vrijwilligersregister!L264","v":0}]
[null,257,{"$f":"IF(ISBLANK(Vrijwilligersregister!C265)=TRUE,\"\",Vrijwilligersregister!C265)","v":""},{"$f":"IF(ISBLANK(Vrijwilligersregister!C265)=TRUE,\"\",SUMIF('Nominatieve lijst'!$D$10:$D$3009,C265,'Nominatieve lijst'!$G$10:$G$3009))","v":""},{"$f":"IF(ISBLANK(Vrijwilligersregister!C265)=TRUE,\"\",SUMIF('Nominatieve lijst'!$D$10:$D$3009,C265,'Nominatieve lijst'!$H$10:$H$3009))","v":""},{"$f":"IF(ISBLANK(Vrijwilligersregister!C265)=TRUE,\"\",SUMIF('Nominatieve lijst'!$D$10:$D$3009,C265,'Nominatieve lijst'!$J$10:$J$3009))","v":""},{"$f":"IF(ISBLANK(Vrijwilligersregister!C265)=TRUE,\"\",D265+F265)","v":""},{"$f":"Vrijwilligersregister!L265","v":0}]
[null,258,{"$f":"IF(ISBLANK(Vrijwilligersregister!C266)=TRUE,\"\",Vrijwilligersregister!C266)","v":""},{"$f":"IF(ISBLANK(Vrijwilligersregister!C266)=TRUE,\"\",SUMIF('Nominatieve lijst'!$D$10:$D$3009,C266,'Nominatieve lijst'!$G$10:$G$3009))","v":""},{"$f":"IF(ISBLANK(Vrijwilligersregister!C266)=TRUE,\"\",SUMIF('Nominatieve lijst'!$D$10:$D$3009,C266,'Nominatieve lijst'!$H$10:$H$3009))","v":""},{"$f":"IF(ISBLANK(Vrijwilligersregister!C266)=TRUE,\"\",SUMIF('Nominatieve lijst'!$D$10:$D$3009,C266,'Nominatieve lijst'!$J$10:$J$3009))","v":""},{"$f":"IF(ISBLANK(Vrijwilligersregister!C266)=TRUE,\"\",D266+F266)","v":""},{"$f":"Vrijwilligersregister!L266","v":0}]
[null,259,{"$f":"IF(ISBLANK(Vrijwilligersregister!C267)=TRUE,\"\",Vrijwilligersregister!C267)","v":""},{"$f":"IF(ISBLANK(Vrijwilligersregister!C267)=TRUE,\"\",SUMIF('Nominatieve lijst'!$D$10:$D$3009,C267,'Nominatieve lijst'!$G$10:$G$3009))","v":""},{"$f":"IF(ISBLANK(Vrijwilligersregister!C267)=TRUE,\"\",SUMIF('Nominatieve lijst'!$D$10:$D$3009,C267,'Nominatieve lijst'!$H$10:$H$3009))","v":""},{"$f":"IF(ISBLANK(Vrijwilligersregister!C267)=TRUE,\"\",SUMIF('Nominatieve lijst'!$D$10:$D$3009,C267,'Nominatieve lijst'!$J$10:$J$3009))","v":""},{"$f":"IF(ISBLANK(Vrijwilligersregister!C267)=TRUE,\"\",D267+F267)","v":""},{"$f":"Vrijwilligersregister!L267","v":0}]
[null,260,{"$f":"IF(ISBLANK(Vrijwilligersregister!C268)=TRUE,\"\",Vrijwilligersregister!C268)","v":""},{"$f":"IF(ISBLANK(Vrijwilligersregister!C268)=TRUE,\"\",SUMIF('Nominatieve lijst'!$D$10:$D$3009,C268,'Nominatieve lijst'!$G$10:$G$3009))","v":""},{"$f":"IF(ISBLANK(Vrijwilligersregister!C268)=TRUE,\"\",SUMIF('Nominatieve lijst'!$D$10:$D$3009,C268,'Nominatieve lijst'!$H$10:$H$3009))","v":""},{"$f":"IF(ISBLANK(Vrijwilligersregister!C268)=TRUE,\"\",SUMIF('Nominatieve lijst'!$D$10:$D$3009,C268,'Nominatieve lijst'!$J$10:$J$3009))","v":""},{"$f":"IF(ISBLANK(Vrijwilligersregister!C268)=TRUE,\"\",D268+F268)","v":""},{"$f":"Vrijwilligersregister!L268","v":0}]
[null,261,{"$f":"IF(ISBLANK(Vrijwilligersregister!C269)=TRUE,\"\",Vrijwilligersregister!C269)","v":""},{"$f":"IF(ISBLANK(Vrijwilligersregister!C269)=TRUE,\"\",SUMIF('Nominatieve lijst'!$D$10:$D$3009,C269,'Nominatieve lijst'!$G$10:$G$3009))","v":""},{"$f":"IF(ISBLANK(Vrijwilligersregister!C269)=TRUE,\"\",SUMIF('Nominatieve lijst'!$D$10:$D$3009,C269,'Nominatieve lijst'!$H$10:$H$3009))","v":""},{"$f":"IF(ISBLANK(Vrijwilligersregister!C269)=TRUE,\"\",SUMIF('Nominatieve lijst'!$D$10:$D$3009,C269,'Nominatieve lijst'!$J$10:$J$3009))","v":""},{"$f":"IF(ISBLANK(Vrijwilligersregister!C269)=TRUE,\"\",D269+F269)","v":""},{"$f":"Vrijwilligersregister!L269","v":0}]
[null,262,{"$f":"IF(ISBLANK(Vrijwilligersregister!C270)=TRUE,\"\",Vrijwilligersregister!C270)","v":""},{"$f":"IF(ISBLANK(Vrijwilligersregister!C270)=TRUE,\"\",SUMIF('Nominatieve lijst'!$D$10:$D$3009,C270,'Nominatieve lijst'!$G$10:$G$3009))","v":""},{"$f":"IF(ISBLANK(Vrijwilligersregister!C270)=TRUE,\"\",SUMIF('Nominatieve lijst'!$D$10:$D$3009,C270,'Nominatieve lijst'!$H$10:$H$3009))","v":""},{"$f":"IF(ISBLANK(Vrijwilligersregister!C270)=TRUE,\"\",SUMIF('Nominatieve lijst'!$D$10:$D$3009,C270,'Nominatieve lijst'!$J$10:$J$3009))","v":""},{"$f":"IF(ISBLANK(Vrijwilligersregister!C270)=TRUE,\"\",D270+F270)","v":""},{"$f":"Vrijwilligersregister!L270","v":0}]
[null,263,{"$f":"IF(ISBLANK(Vrijwilligersregister!C271)=TRUE,\"\",Vrijwilligersregister!C271)","v":""},{"$f":"IF(ISBLANK(Vrijwilligersregister!C271)=TRUE,\"\",SUMIF('Nominatieve lijst'!$D$10:$D$3009,C271,'Nominatieve lijst'!$G$10:$G$3009))","v":""},{"$f":"IF(ISBLANK(Vrijwilligersregister!C271)=TRUE,\"\",SUMIF('Nominatieve lijst'!$D$10:$D$3009,C271,'Nominatieve lijst'!$H$10:$H$3009))","v":""},{"$f":"IF(ISBLANK(Vrijwilligersregister!C271)=TRUE,\"\",SUMIF('Nominatieve lijst'!$D$10:$D$3009,C271,'Nominatieve lijst'!$J$10:$J$3009))","v":""},{"$f":"IF(ISBLANK(Vrijwilligersregister!C271)=TRUE,\"\",D271+F271)","v":""},{"$f":"Vrijwilligersregister!L271","v":0}]
[null,264,{"$f":"IF(ISBLANK(Vrijwilligersregister!C272)=TRUE,\"\",Vrijwilligersregister!C272)","v":""},{"$f":"IF(ISBLANK(Vrijwilligersregister!C272)=TRUE,\"\",SUMIF('Nominatieve lijst'!$D$10:$D$3009,C272,'Nominatieve lijst'!$G$10:$G$3009))","v":""},{"$f":"IF(ISBLANK(Vrijwilligersregister!C272)=TRUE,\"\",SUMIF('Nominatieve lijst'!$D$10:$D$3009,C272,'Nominatieve lijst'!$H$10:$H$3009))","v":""},{"$f":"IF(ISBLANK(Vrijwilligersregister!C272)=TRUE,\"\",SUMIF('Nominatieve lijst'!$D$10:$D$3009,C272,'Nominatieve lijst'!$J$10:$J$3009))","v":""},{"$f":"IF(ISBLANK(Vrijwilligersregister!C272)=TRUE,\"\",D272+F272)","v":""},{"$f":"Vrijwilligersregister!L272","v":0}]
[null,265,{"$f":"IF(ISBLANK(Vrijwilligersregister!C273)=TRUE,\"\",Vrijwilligersregister!C273)","v":""},{"$f":"IF(ISBLANK(Vrijwilligersregister!C273)=TRUE,\"\",SUMIF('Nominatieve lijst'!$D$10:$D$3009,C273,'Nominatieve lijst'!$G$10:$G$3009))","v":""},{"$f":"IF(ISBLANK(Vrijwilligersregister!C273)=TRUE,\"\",SUMIF('Nominatieve lijst'!$D$10:$D$3009,C273,'Nominatieve lijst'!$H$10:$H$3009))","v":""},{"$f":"IF(ISBLANK(Vrijwilligersregister!C273)=TRUE,\"\",SUMIF('Nominatieve lijst'!$D$10:$D$3009,C273,'Nominatieve lijst'!$J$10:$J$3009))","v":""},{"$f":"IF(ISBLANK(Vrijwilligersregister!C273)=TRUE,\"\",D273+F273)","v":""},{"$f":"Vrijwilligersregister!L273","v":0}]
[null,266,{"$f":"IF(ISBLANK(Vrijwilligersregister!C274)=TRUE,\"\",Vrijwilligersregister!C274)","v":""},{"$f":"IF(ISBLANK(Vrijwilligersregister!C274)=TRUE,\"\",SUMIF('Nominatieve lijst'!$D$10:$D$3009,C274,'Nominatieve lijst'!$G$10:$G$3009))","v":""},{"$f":"IF(ISBLANK(Vrijwilligersregister!C274)=TRUE,\"\",SUMIF('Nominatieve lijst'!$D$10:$D$3009,C274,'Nominatieve lijst'!$H$10:$H$3009))","v":""},{"$f":"IF(ISBLANK(Vrijwilligersregister!C274)=TRUE,\"\",SUMIF('Nominatieve lijst'!$D$10:$D$3009,C274,'Nominatieve lijst'!$J$10:$J$3009))","v":""},{"$f":"IF(ISBLANK(Vrijwilligersregister!C274)=TRUE,\"\",D274+F274)","v":""},{"$f":"Vrijwilligersregister!L274","v":0}]
[null,267,{"$f":"IF(ISBLANK(Vrijwilligersregister!C275)=TRUE,\"\",Vrijwilligersregister!C275)","v":""},{"$f":"IF(ISBLANK(Vrijwilligersregister!C275)=TRUE,\"\",SUMIF('Nominatieve lijst'!$D$10:$D$3009,C275,'Nominatieve lijst'!$G$10:$G$3009))","v":""},{"$f":"IF(ISBLANK(Vrijwilligersregister!C275)=TRUE,\"\",SUMIF('Nominatieve lijst'!$D$10:$D$3009,C275,'Nominatieve lijst'!$H$10:$H$3009))","v":""},{"$f":"IF(ISBLANK(Vrijwilligersregister!C275)=TRUE,\"\",SUMIF('Nominatieve lijst'!$D$10:$D$3009,C275,'Nominatieve lijst'!$J$10:$J$3009))","v":""},{"$f":"IF(ISBLANK(Vrijwilligersregister!C275)=TRUE,\"\",D275+F275)","v":""},{"$f":"Vrijwilligersregister!L275","v":0}]
[null,268,{"$f":"IF(ISBLANK(Vrijwilligersregister!C276)=TRUE,\"\",Vrijwilligersregister!C276)","v":""},{"$f":"IF(ISBLANK(Vrijwilligersregister!C276)=TRUE,\"\",SUMIF('Nominatieve lijst'!$D$10:$D$3009,C276,'Nominatieve lijst'!$G$10:$G$3009))","v":""},{"$f":"IF(ISBLANK(Vrijwilligersregister!C276)=TRUE,\"\",SUMIF('Nominatieve lijst'!$D$10:$D$3009,C276,'Nominatieve lijst'!$H$10:$H$3009))","v":""},{"$f":"IF(ISBLANK(Vrijwilligersregister!C276)=TRUE,\"\",SUMIF('Nominatieve lijst'!$D$10:$D$3009,C276,'Nominatieve lijst'!$J$10:$J$3009))","v":""},{"$f":"IF(ISBLANK(Vrijwilligersregister!C276)=TRUE,\"\",D276+F276)","v":""},{"$f":"Vrijwilligersregister!L276","v":0}]
[null,269,{"$f":"IF(ISBLANK(Vrijwilligersregister!C277)=TRUE,\"\",Vrijwilligersregister!C277)","v":""},{"$f":"IF(ISBLANK(Vrijwilligersregister!C277)=TRUE,\"\",SUMIF('Nominatieve lijst'!$D$10:$D$3009,C277,'Nominatieve lijst'!$G$10:$G$3009))","v":""},{"$f":"IF(ISBLANK(Vrijwilligersregister!C277)=TRUE,\"\",SUMIF('Nominatieve lijst'!$D$10:$D$3009,C277,'Nominatieve lijst'!$H$10:$H$3009))","v":""},{"$f":"IF(ISBLANK(Vrijwilligersregister!C277)=TRUE,\"\",SUMIF('Nominatieve lijst'!$D$10:$D$3009,C277,'Nominatieve lijst'!$J$10:$J$3009))","v":""},{"$f":"IF(ISBLANK(Vrijwilligersregister!C277)=TRUE,\"\",D277+F277)","v":""},{"$f":"Vrijwilligersregister!L277","v":0}]
[null,270,{"$f":"IF(ISBLANK(Vrijwilligersregister!C278)=TRUE,\"\",Vrijwilligersregister!C278)","v":""},{"$f":"IF(ISBLANK(Vrijwilligersregister!C278)=TRUE,\"\",SUMIF('Nominatieve lijst'!$D$10:$D$3009,C278,'Nominatieve lijst'!$G$10:$G$3009))","v":""},{"$f":"IF(ISBLANK(Vrijwilligersregister!C278)=TRUE,\"\",SUMIF('Nominatieve lijst'!$D$10:$D$3009,C278,'Nominatieve lijst'!$H$10:$H$3009))","v":""},{"$f":"IF(ISBLANK(Vrijwilligersregister!C278)=TRUE,\"\",SUMIF('Nominatieve lijst'!$D$10:$D$3009,C278,'Nominatieve lijst'!$J$10:$J$3009))","v":""},{"$f":"IF(ISBLANK(Vrijwilligersregister!C278)=TRUE,\"\",D278+F278)","v":""},{"$f":"Vrijwilligersregister!L278","v":0}]
[null,271,{"$f":"IF(ISBLANK(Vrijwilligersregister!C279)=TRUE,\"\",Vrijwilligersregister!C279)","v":""},{"$f":"IF(ISBLANK(Vrijwilligersregister!C279)=TRUE,\"\",SUMIF('Nominatieve lijst'!$D$10:$D$3009,C279,'Nominatieve lijst'!$G$10:$G$3009))","v":""},{"$f":"IF(ISBLANK(Vrijwilligersregister!C279)=TRUE,\"\",SUMIF('Nominatieve lijst'!$D$10:$D$3009,C279,'Nominatieve lijst'!$H$10:$H$3009))","v":""},{"$f":"IF(ISBLANK(Vrijwilligersregister!C279)=TRUE,\"\",SUMIF('Nominatieve lijst'!$D$10:$D$3009,C279,'Nominatieve lijst'!$J$10:$J$3009))","v":""},{"$f":"IF(ISBLANK(Vrijwilligersregister!C279)=TRUE,\"\",D279+F279)","v":""},{"$f":"Vrijwilligersregister!L279","v":0}]
[null,272,{"$f":"IF(ISBLANK(Vrijwilligersregister!C280)=TRUE,\"\",Vrijwilligersregister!C280)","v":""},{"$f":"IF(ISBLANK(Vrijwilligersregister!C280)=TRUE,\"\",SUMIF('Nominatieve lijst'!$D$10:$D$3009,C280,'Nominatieve lijst'!$G$10:$G$3009))","v":""},{"$f":"IF(ISBLANK(Vrijwilligersregister!C280)=TRUE,\"\",SUMIF('Nominatieve lijst'!$D$10:$D$3009,C280,'Nominatieve lijst'!$H$10:$H$3009))","v":""},{"$f":"IF(ISBLANK(Vrijwilligersregister!C280)=TRUE,\"\",SUMIF('Nominatieve lijst'!$D$10:$D$3009,C280,'Nominatieve lijst'!$J$10:$J$3009))","v":""},{"$f":"IF(ISBLANK(Vrijwilligersregister!C280)=TRUE,\"\",D280+F280)","v":""},{"$f":"Vrijwilligersregister!L280","v":0}]
[null,273,{"$f":"IF(ISBLANK(Vrijwilligersregister!C281)=TRUE,\"\",Vrijwilligersregister!C281)","v":""},{"$f":"IF(ISBLANK(Vrijwilligersregister!C281)=TRUE,\"\",SUMIF('Nominatieve lijst'!$D$10:$D$3009,C281,'Nominatieve lijst'!$G$10:$G$3009))","v":""},{"$f":"IF(ISBLANK(Vrijwilligersregister!C281)=TRUE,\"\",SUMIF('Nominatieve lijst'!$D$10:$D$3009,C281,'Nominatieve lijst'!$H$10:$H$3009))","v":""},{"$f":"IF(ISBLANK(Vrijwilligersregister!C281)=TRUE,\"\",SUMIF('Nominatieve lijst'!$D$10:$D$3009,C281,'Nominatieve lijst'!$J$10:$J$3009))","v":""},{"$f":"IF(ISBLANK(Vrijwilligersregister!C281)=TRUE,\"\",D281+F281)","v":""},{"$f":"Vrijwilligersregister!L281","v":0}]
[null,274,{"$f":"IF(ISBLANK(Vrijwilligersregister!C282)=TRUE,\"\",Vrijwilligersregister!C282)","v":""},{"$f":"IF(ISBLANK(Vrijwilligersregister!C282)=TRUE,\"\",SUMIF('Nominatieve lijst'!$D$10:$D$3009,C282,'Nominatieve lijst'!$G$10:$G$3009))","v":""},{"$f":"IF(ISBLANK(Vrijwilligersregister!C282)=TRUE,\"\",SUMIF('Nominatieve lijst'!$D$10:$D$3009,C282,'Nominatieve lijst'!$H$10:$H$3009))","v":""},{"$f":"IF(ISBLANK(Vrijwilligersregister!C282)=TRUE,\"\",SUMIF('Nominatieve lijst'!$D$10:$D$3009,C282,'Nominatieve lijst'!$J$10:$J$3009))","v":""},{"$f":"IF(ISBLANK(Vrijwilligersregister!C282)=TRUE,\"\",D282+F282)","v":""},{"$f":"Vrijwilligersregister!L282","v":0}]
[null,275,{"$f":"IF(ISBLANK(Vrijwilligersregister!C283)=TRUE,\"\",Vrijwilligersregister!C283)","v":""},{"$f":"IF(ISBLANK(Vrijwilligersregister!C283)=TRUE,\"\",SUMIF('Nominatieve lijst'!$D$10:$D$3009,C283,'Nominatieve lijst'!$G$10:$G$3009))","v":""},{"$f":"IF(ISBLANK(Vrijwilligersregister!C283)=TRUE,\"\",SUMIF('Nominatieve lijst'!$D$10:$D$3009,C283,'Nominatieve lijst'!$H$10:$H$3009))","v":""},{"$f":"IF(ISBLANK(Vrijwilligersregister!C283)=TRUE,\"\",SUMIF('Nominatieve lijst'!$D$10:$D$3009,C283,'Nominatieve lijst'!$J$10:$J$3009))","v":""},{"$f":"IF(ISBLANK(Vrijwilligersregister!C283)=TRUE,\"\",D283+F283)","v":""},{"$f":"Vrijwilligersregister!L283","v":0}]
[null,276,{"$f":"IF(ISBLANK(Vrijwilligersregister!C284)=TRUE,\"\",Vrijwilligersregister!C284)","v":""},{"$f":"IF(ISBLANK(Vrijwilligersregister!C284)=TRUE,\"\",SUMIF('Nominatieve lijst'!$D$10:$D$3009,C284,'Nominatieve lijst'!$G$10:$G$3009))","v":""},{"$f":"IF(ISBLANK(Vrijwilligersregister!C284)=TRUE,\"\",SUMIF('Nominatieve lijst'!$D$10:$D$3009,C284,'Nominatieve lijst'!$H$10:$H$3009))","v":""},{"$f":"IF(ISBLANK(Vrijwilligersregister!C284)=TRUE,\"\",SUMIF('Nominatieve lijst'!$D$10:$D$3009,C284,'Nominatieve lijst'!$J$10:$J$3009))","v":""},{"$f":"IF(ISBLANK(Vrijwilligersregister!C284)=TRUE,\"\",D284+F284)","v":""},{"$f":"Vrijwilligersregister!L284","v":0}]
[null,277,{"$f":"IF(ISBLANK(Vrijwilligersregister!C285)=TRUE,\"\",Vrijwilligersregister!C285)","v":""},{"$f":"IF(ISBLANK(Vrijwilligersregister!C285)=TRUE,\"\",SUMIF('Nominatieve lijst'!$D$10:$D$3009,C285,'Nominatieve lijst'!$G$10:$G$3009))","v":""},{"$f":"IF(ISBLANK(Vrijwilligersregister!C285)=TRUE,\"\",SUMIF('Nominatieve lijst'!$D$10:$D$3009,C285,'Nominatieve lijst'!$H$10:$H$3009))","v":""},{"$f":"IF(ISBLANK(Vrijwilligersregister!C285)=TRUE,\"\",SUMIF('Nominatieve lijst'!$D$10:$D$3009,C285,'Nominatieve lijst'!$J$10:$J$3009))","v":""},{"$f":"IF(ISBLANK(Vrijwilligersregister!C285)=TRUE,\"\",D285+F285)","v":""},{"$f":"Vrijwilligersregister!L285","v":0}]
[null,278,{"$f":"IF(ISBLANK(Vrijwilligersregister!C286)=TRUE,\"\",Vrijwilligersregister!C286)","v":""},{"$f":"IF(ISBLANK(Vrijwilligersregister!C286)=TRUE,\"\",SUMIF('Nominatieve lijst'!$D$10:$D$3009,C286,'Nominatieve lijst'!$G$10:$G$3009))","v":""},{"$f":"IF(ISBLANK(Vrijwilligersregister!C286)=TRUE,\"\",SUMIF('Nominatieve lijst'!$D$10:$D$3009,C286,'Nominatieve lijst'!$H$10:$H$3009))","v":""},{"$f":"IF(ISBLANK(Vrijwilligersregister!C286)=TRUE,\"\",SUMIF('Nominatieve lijst'!$D$10:$D$3009,C286,'Nominatieve lijst'!$J$10:$J$3009))","v":""},{"$f":"IF(ISBLANK(Vrijwilligersregister!C286)=TRUE,\"\",D286+F286)","v":""},{"$f":"Vrijwilligersregister!L286","v":0}]
[null,279,{"$f":"IF(ISBLANK(Vrijwilligersregister!C287)=TRUE,\"\",Vrijwilligersregister!C287)","v":""},{"$f":"IF(ISBLANK(Vrijwilligersregister!C287)=TRUE,\"\",SUMIF('Nominatieve lijst'!$D$10:$D$3009,C287,'Nominatieve lijst'!$G$10:$G$3009))","v":""},{"$f":"IF(ISBLANK(Vrijwilligersregister!C287)=TRUE,\"\",SUMIF('Nominatieve lijst'!$D$10:$D$3009,C287,'Nominatieve lijst'!$H$10:$H$3009))","v":""},{"$f":"IF(ISBLANK(Vrijwilligersregister!C287)=TRUE,\"\",SUMIF('Nominatieve lijst'!$D$10:$D$3009,C287,'Nominatieve lijst'!$J$10:$J$3009))","v":""},{"$f":"IF(ISBLANK(Vrijwilligersregister!C287)=TRUE,\"\",D287+F287)","v":""},{"$f":"Vrijwilligersregister!L287","v":0}]
[null,280,{"$f":"IF(ISBLANK(Vrijwilligersregister!C288)=TRUE,\"\",Vrijwilligersregister!C288)","v":""},{"$f":"IF(ISBLANK(Vrijwilligersregister!C288)=TRUE,\"\",SUMIF('Nominatieve lijst'!$D$10:$D$3009,C288,'Nominatieve lijst'!$G$10:$G$3009))","v":""},{"$f":"IF(ISBLANK(Vrijwilligersregister!C288)=TRUE,\"\",SUMIF('Nominatieve lijst'!$D$10:$D$3009,C288,'Nominatieve lijst'!$H$10:$H$3009))","v":""},{"$f":"IF(ISBLANK(Vrijwilligersregister!C288)=TRUE,\"\",SUMIF('Nominatieve lijst'!$D$10:$D$3009,C288,'Nominatieve lijst'!$J$10:$J$3009))","v":""},{"$f":"IF(ISBLANK(Vrijwilligersregister!C288)=TRUE,\"\",D288+F288)","v":""},{"$f":"Vrijwilligersregister!L288","v":0}]
[null,281,{"$f":"IF(ISBLANK(Vrijwilligersregister!C289)=TRUE,\"\",Vrijwilligersregister!C289)","v":""},{"$f":"IF(ISBLANK(Vrijwilligersregister!C289)=TRUE,\"\",SUMIF('Nominatieve lijst'!$D$10:$D$3009,C289,'Nominatieve lijst'!$G$10:$G$3009))","v":""},{"$f":"IF(ISBLANK(Vrijwilligersregister!C289)=TRUE,\"\",SUMIF('Nominatieve lijst'!$D$10:$D$3009,C289,'Nominatieve lijst'!$H$10:$H$3009))","v":""},{"$f":"IF(ISBLANK(Vrijwilligersregister!C289)=TRUE,\"\",SUMIF('Nominatieve lijst'!$D$10:$D$3009,C289,'Nominatieve lijst'!$J$10:$J$3009))","v":""},{"$f":"IF(ISBLANK(Vrijwilligersregister!C289)=TRUE,\"\",D289+F289)","v":""},{"$f":"Vrijwilligersregister!L289","v":0}]
[null,282,{"$f":"IF(ISBLANK(Vrijwilligersregister!C290)=TRUE,\"\",Vrijwilligersregister!C290)","v":""},{"$f":"IF(ISBLANK(Vrijwilligersregister!C290)=TRUE,\"\",SUMIF('Nominatieve lijst'!$D$10:$D$3009,C290,'Nominatieve lijst'!$G$10:$G$3009))","v":""},{"$f":"IF(ISBLANK(Vrijwilligersregister!C290)=TRUE,\"\",SUMIF('Nominatieve lijst'!$D$10:$D$3009,C290,'Nominatieve lijst'!$H$10:$H$3009))","v":""},{"$f":"IF(ISBLANK(Vrijwilligersregister!C290)=TRUE,\"\",SUMIF('Nominatieve lijst'!$D$10:$D$3009,C290,'Nominatieve lijst'!$J$10:$J$3009))","v":""},{"$f":"IF(ISBLANK(Vrijwilligersregister!C290)=TRUE,\"\",D290+F290)","v":""},{"$f":"Vrijwilligersregister!L290","v":0}]
[null,283,{"$f":"IF(ISBLANK(Vrijwilligersregister!C291)=TRUE,\"\",Vrijwilligersregister!C291)","v":""},{"$f":"IF(ISBLANK(Vrijwilligersregister!C291)=TRUE,\"\",SUMIF('Nominatieve lijst'!$D$10:$D$3009,C291,'Nominatieve lijst'!$G$10:$G$3009))","v":""},{"$f":"IF(ISBLANK(Vrijwilligersregister!C291)=TRUE,\"\",SUMIF('Nominatieve lijst'!$D$10:$D$3009,C291,'Nominatieve lijst'!$H$10:$H$3009))","v":""},{"$f":"IF(ISBLANK(Vrijwilligersregister!C291)=TRUE,\"\",SUMIF('Nominatieve lijst'!$D$10:$D$3009,C291,'Nominatieve lijst'!$J$10:$J$3009))","v":""},{"$f":"IF(ISBLANK(Vrijwilligersregister!C291)=TRUE,\"\",D291+F291)","v":""},{"$f":"Vrijwilligersregister!L291","v":0}]
[null,284,{"$f":"IF(ISBLANK(Vrijwilligersregister!C292)=TRUE,\"\",Vrijwilligersregister!C292)","v":""},{"$f":"IF(ISBLANK(Vrijwilligersregister!C292)=TRUE,\"\",SUMIF('Nominatieve lijst'!$D$10:$D$3009,C292,'Nominatieve lijst'!$G$10:$G$3009))","v":""},{"$f":"IF(ISBLANK(Vrijwilligersregister!C292)=TRUE,\"\",SUMIF('Nominatieve lijst'!$D$10:$D$3009,C292,'Nominatieve lijst'!$H$10:$H$3009))","v":""},{"$f":"IF(ISBLANK(Vrijwilligersregister!C292)=TRUE,\"\",SUMIF('Nominatieve lijst'!$D$10:$D$3009,C292,'Nominatieve lijst'!$J$10:$J$3009))","v":""},{"$f":"IF(ISBLANK(Vrijwilligersregister!C292)=TRUE,\"\",D292+F292)","v":""},{"$f":"Vrijwilligersregister!L292","v":0}]
[null,285,{"$f":"IF(ISBLANK(Vrijwilligersregister!C293)=TRUE,\"\",Vrijwilligersregister!C293)","v":""},{"$f":"IF(ISBLANK(Vrijwilligersregister!C293)=TRUE,\"\",SUMIF('Nominatieve lijst'!$D$10:$D$3009,C293,'Nominatieve lijst'!$G$10:$G$3009))","v":""},{"$f":"IF(ISBLANK(Vrijwilligersregister!C293)=TRUE,\"\",SUMIF('Nominatieve lijst'!$D$10:$D$3009,C293,'Nominatieve lijst'!$H$10:$H$3009))","v":""},{"$f":"IF(ISBLANK(Vrijwilligersregister!C293)=TRUE,\"\",SUMIF('Nominatieve lijst'!$D$10:$D$3009,C293,'Nominatieve lijst'!$J$10:$J$3009))","v":""},{"$f":"IF(ISBLANK(Vrijwilligersregister!C293)=TRUE,\"\",D293+F293)","v":""},{"$f":"Vrijwilligersregister!L293","v":0}]
[null,286,{"$f":"IF(ISBLANK(Vrijwilligersregister!C294)=TRUE,\"\",Vrijwilligersregister!C294)","v":""},{"$f":"IF(ISBLANK(Vrijwilligersregister!C294)=TRUE,\"\",SUMIF('Nominatieve lijst'!$D$10:$D$3009,C294,'Nominatieve lijst'!$G$10:$G$3009))","v":""},{"$f":"IF(ISBLANK(Vrijwilligersregister!C294)=TRUE,\"\",SUMIF('Nominatieve lijst'!$D$10:$D$3009,C294,'Nominatieve lijst'!$H$10:$H$3009))","v":""},{"$f":"IF(ISBLANK(Vrijwilligersregister!C294)=TRUE,\"\",SUMIF('Nominatieve lijst'!$D$10:$D$3009,C294,'Nominatieve lijst'!$J$10:$J$3009))","v":""},{"$f":"IF(ISBLANK(Vrijwilligersregister!C294)=TRUE,\"\",D294+F294)","v":""},{"$f":"Vrijwilligersregister!L294","v":0}]
[null,287,{"$f":"IF(ISBLANK(Vrijwilligersregister!C295)=TRUE,\"\",Vrijwilligersregister!C295)","v":""},{"$f":"IF(ISBLANK(Vrijwilligersregister!C295)=TRUE,\"\",SUMIF('Nominatieve lijst'!$D$10:$D$3009,C295,'Nominatieve lijst'!$G$10:$G$3009))","v":""},{"$f":"IF(ISBLANK(Vrijwilligersregister!C295)=TRUE,\"\",SUMIF('Nominatieve lijst'!$D$10:$D$3009,C295,'Nominatieve lijst'!$H$10:$H$3009))","v":""},{"$f":"IF(ISBLANK(Vrijwilligersregister!C295)=TRUE,\"\",SUMIF('Nominatieve lijst'!$D$10:$D$3009,C295,'Nominatieve lijst'!$J$10:$J$3009))","v":""},{"$f":"IF(ISBLANK(Vrijwilligersregister!C295)=TRUE,\"\",D295+F295)","v":""},{"$f":"Vrijwilligersregister!L295","v":0}]
[null,288,{"$f":"IF(ISBLANK(Vrijwilligersregister!C296)=TRUE,\"\",Vrijwilligersregister!C296)","v":""},{"$f":"IF(ISBLANK(Vrijwilligersregister!C296)=TRUE,\"\",SUMIF('Nominatieve lijst'!$D$10:$D$3009,C296,'Nominatieve lijst'!$G$10:$G$3009))","v":""},{"$f":"IF(ISBLANK(Vrijwilligersregister!C296)=TRUE,\"\",SUMIF('Nominatieve lijst'!$D$10:$D$3009,C296,'Nominatieve lijst'!$H$10:$H$3009))","v":""},{"$f":"IF(ISBLANK(Vrijwilligersregister!C296)=TRUE,\"\",SUMIF('Nominatieve lijst'!$D$10:$D$3009,C296,'Nominatieve lijst'!$J$10:$J$3009))","v":""},{"$f":"IF(ISBLANK(Vrijwilligersregister!C296)=TRUE,\"\",D296+F296)","v":""},{"$f":"Vrijwilligersregister!L296","v":0}]
[null,289,{"$f":"IF(ISBLANK(Vrijwilligersregister!C297)=TRUE,\"\",Vrijwilligersregister!C297)","v":""},{"$f":"IF(ISBLANK(Vrijwilligersregister!C297)=TRUE,\"\",SUMIF('Nominatieve lijst'!$D$10:$D$3009,C297,'Nominatieve lijst'!$G$10:$G$3009))","v":""},{"$f":"IF(ISBLANK(Vrijwilligersregister!C297)=TRUE,\"\",SUMIF('Nominatieve lijst'!$D$10:$D$3009,C297,'Nominatieve lijst'!$H$10:$H$3009))","v":""},{"$f":"IF(ISBLANK(Vrijwilligersregister!C297)=TRUE,\"\",SUMIF('Nominatieve lijst'!$D$10:$D$3009,C297,'Nominatieve lijst'!$J$10:$J$3009))","v":""},{"$f":"IF(ISBLANK(Vrijwilligersregister!C297)=TRUE,\"\",D297+F297)","v":""},{"$f":"Vrijwilligersregister!L297","v":0}]
[null,290,{"$f":"IF(ISBLANK(Vrijwilligersregister!C298)=TRUE,\"\",Vrijwilligersregister!C298)","v":""},{"$f":"IF(ISBLANK(Vrijwilligersregister!C298)=TRUE,\"\",SUMIF('Nominatieve lijst'!$D$10:$D$3009,C298,'Nominatieve lijst'!$G$10:$G$3009))","v":""},{"$f":"IF(ISBLANK(Vrijwilligersregister!C298)=TRUE,\"\",SUMIF('Nominatieve lijst'!$D$10:$D$3009,C298,'Nominatieve lijst'!$H$10:$H$3009))","v":""},{"$f":"IF(ISBLANK(Vrijwilligersregister!C298)=TRUE,\"\",SUMIF('Nominatieve lijst'!$D$10:$D$3009,C298,'Nominatieve lijst'!$J$10:$J$3009))","v":""},{"$f":"IF(ISBLANK(Vrijwilligersregister!C298)=TRUE,\"\",D298+F298)","v":""},{"$f":"Vrijwilligersregister!L298","v":0}]
[null,291,{"$f":"IF(ISBLANK(Vrijwilligersregister!C299)=TRUE,\"\",Vrijwilligersregister!C299)","v":""},{"$f":"IF(ISBLANK(Vrijwilligersregister!C299)=TRUE,\"\",SUMIF('Nominatieve lijst'!$D$10:$D$3009,C299,'Nominatieve lijst'!$G$10:$G$3009))","v":""},{"$f":"IF(ISBLANK(Vrijwilligersregister!C299)=TRUE,\"\",SUMIF('Nominatieve lijst'!$D$10:$D$3009,C299,'Nominatieve lijst'!$H$10:$H$3009))","v":""},{"$f":"IF(ISBLANK(Vrijwilligersregister!C299)=TRUE,\"\",SUMIF('Nominatieve lijst'!$D$10:$D$3009,C299,'Nominatieve lijst'!$J$10:$J$3009))","v":""},{"$f":"IF(ISBLANK(Vrijwilligersregister!C299)=TRUE,\"\",D299+F299)","v":""},{"$f":"Vrijwilligersregister!L299","v":0}]
[null,292,{"$f":"IF(ISBLANK(Vrijwilligersregister!C300)=TRUE,\"\",Vrijwilligersregister!C300)","v":""},{"$f":"IF(ISBLANK(Vrijwilligersregister!C300)=TRUE,\"\",SUMIF('Nominatieve lijst'!$D$10:$D$3009,C300,'Nominatieve lijst'!$G$10:$G$3009))","v":""},{"$f":"IF(ISBLANK(Vrijwilligersregister!C300)=TRUE,\"\",SUMIF('Nominatieve lijst'!$D$10:$D$3009,C300,'Nominatieve lijst'!$H$10:$H$3009))","v":""},{"$f":"IF(ISBLANK(Vrijwilligersregister!C300)=TRUE,\"\",SUMIF('Nominatieve lijst'!$D$10:$D$3009,C300,'Nominatieve lijst'!$J$10:$J$3009))","v":""},{"$f":"IF(ISBLANK(Vrijwilligersregister!C300)=TRUE,\"\",D300+F300)","v":""},{"$f":"Vrijwilligersregister!L300","v":0}]
[null,293,{"$f":"IF(ISBLANK(Vrijwilligersregister!C301)=TRUE,\"\",Vrijwilligersregister!C301)","v":""},{"$f":"IF(ISBLANK(Vrijwilligersregister!C301)=TRUE,\"\",SUMIF('Nominatieve lijst'!$D$10:$D$3009,C301,'Nominatieve lijst'!$G$10:$G$3009))","v":""},{"$f":"IF(ISBLANK(Vrijwilligersregister!C301)=TRUE,\"\",SUMIF('Nominatieve lijst'!$D$10:$D$3009,C301,'Nominatieve lijst'!$H$10:$H$3009))","v":""},{"$f":"IF(ISBLANK(Vrijwilligersregister!C301)=TRUE,\"\",SUMIF('Nominatieve lijst'!$D$10:$D$3009,C301,'Nominatieve lijst'!$J$10:$J$3009))","v":""},{"$f":"IF(ISBLANK(Vrijwilligersregister!C301)=TRUE,\"\",D301+F301)","v":""},{"$f":"Vrijwilligersregister!L301","v":0}]
[null,294,{"$f":"IF(ISBLANK(Vrijwilligersregister!C302)=TRUE,\"\",Vrijwilligersregister!C302)","v":""},{"$f":"IF(ISBLANK(Vrijwilligersregister!C302)=TRUE,\"\",SUMIF('Nominatieve lijst'!$D$10:$D$3009,C302,'Nominatieve lijst'!$G$10:$G$3009))","v":""},{"$f":"IF(ISBLANK(Vrijwilligersregister!C302)=TRUE,\"\",SUMIF('Nominatieve lijst'!$D$10:$D$3009,C302,'Nominatieve lijst'!$H$10:$H$3009))","v":""},{"$f":"IF(ISBLANK(Vrijwilligersregister!C302)=TRUE,\"\",SUMIF('Nominatieve lijst'!$D$10:$D$3009,C302,'Nominatieve lijst'!$J$10:$J$3009))","v":""},{"$f":"IF(ISBLANK(Vrijwilligersregister!C302)=TRUE,\"\",D302+F302)","v":""},{"$f":"Vrijwilligersregister!L302","v":0}]
[null,295,{"$f":"IF(ISBLANK(Vrijwilligersregister!C303)=TRUE,\"\",Vrijwilligersregister!C303)","v":""},{"$f":"IF(ISBLANK(Vrijwilligersregister!C303)=TRUE,\"\",SUMIF('Nominatieve lijst'!$D$10:$D$3009,C303,'Nominatieve lijst'!$G$10:$G$3009))","v":""},{"$f":"IF(ISBLANK(Vrijwilligersregister!C303)=TRUE,\"\",SUMIF('Nominatieve lijst'!$D$10:$D$3009,C303,'Nominatieve lijst'!$H$10:$H$3009))","v":""},{"$f":"IF(ISBLANK(Vrijwilligersregister!C303)=TRUE,\"\",SUMIF('Nominatieve lijst'!$D$10:$D$3009,C303,'Nominatieve lijst'!$J$10:$J$3009))","v":""},{"$f":"IF(ISBLANK(Vrijwilligersregister!C303)=TRUE,\"\",D303+F303)","v":""},{"$f":"Vrijwilligersregister!L303","v":0}]
[null,296,{"$f":"IF(ISBLANK(Vrijwilligersregister!C304)=TRUE,\"\",Vrijwilligersregister!C304)","v":""},{"$f":"IF(ISBLANK(Vrijwilligersregister!C304)=TRUE,\"\",SUMIF('Nominatieve lijst'!$D$10:$D$3009,C304,'Nominatieve lijst'!$G$10:$G$3009))","v":""},{"$f":"IF(ISBLANK(Vrijwilligersregister!C304)=TRUE,\"\",SUMIF('Nominatieve lijst'!$D$10:$D$3009,C304,'Nominatieve lijst'!$H$10:$H$3009))","v":""},{"$f":"IF(ISBLANK(Vrijwilligersregister!C304)=TRUE,\"\",SUMIF('Nominatieve lijst'!$D$10:$D$3009,C304,'Nominatieve lijst'!$J$10:$J$3009))","v":""},{"$f":"IF(ISBLANK(Vrijwilligersregister!C304)=TRUE,\"\",D304+F304)","v":""},{"$f":"Vrijwilligersregister!L304","v":0}]
[null,297,{"$f":"IF(ISBLANK(Vrijwilligersregister!C305)=TRUE,\"\",Vrijwilligersregister!C305)","v":""},{"$f":"IF(ISBLANK(Vrijwilligersregister!C305)=TRUE,\"\",SUMIF('Nominatieve lijst'!$D$10:$D$3009,C305,'Nominatieve lijst'!$G$10:$G$3009))","v":""},{"$f":"IF(ISBLANK(Vrijwilligersregister!C305)=TRUE,\"\",SUMIF('Nominatieve lijst'!$D$10:$D$3009,C305,'Nominatieve lijst'!$H$10:$H$3009))","v":""},{"$f":"IF(ISBLANK(Vrijwilligersregister!C305)=TRUE,\"\",SUMIF('Nominatieve lijst'!$D$10:$D$3009,C305,'Nominatieve lijst'!$J$10:$J$3009))","v":""},{"$f":"IF(ISBLANK(Vrijwilligersregister!C305)=TRUE,\"\",D305+F305)","v":""},{"$f":"Vrijwilligersregister!L305","v":0}]
[null,298,{"$f":"IF(ISBLANK(Vrijwilligersregister!C306)=TRUE,\"\",Vrijwilligersregister!C306)","v":""},{"$f":"IF(ISBLANK(Vrijwilligersregister!C306)=TRUE,\"\",SUMIF('Nominatieve lijst'!$D$10:$D$3009,C306,'Nominatieve lijst'!$G$10:$G$3009))","v":""},{"$f":"IF(ISBLANK(Vrijwilligersregister!C306)=TRUE,\"\",SUMIF('Nominatieve lijst'!$D$10:$D$3009,C306,'Nominatieve lijst'!$H$10:$H$3009))","v":""},{"$f":"IF(ISBLANK(Vrijwilligersregister!C306)=TRUE,\"\",SUMIF('Nominatieve lijst'!$D$10:$D$3009,C306,'Nominatieve lijst'!$J$10:$J$3009))","v":""},{"$f":"IF(ISBLANK(Vrijwilligersregister!C306)=TRUE,\"\",D306+F306)","v":""},{"$f":"Vrijwilligersregister!L306","v":0}]
[null,299,{"$f":"IF(ISBLANK(Vrijwilligersregister!C307)=TRUE,\"\",Vrijwilligersregister!C307)","v":""},{"$f":"IF(ISBLANK(Vrijwilligersregister!C307)=TRUE,\"\",SUMIF('Nominatieve lijst'!$D$10:$D$3009,C307,'Nominatieve lijst'!$G$10:$G$3009))","v":""},{"$f":"IF(ISBLANK(Vrijwilligersregister!C307)=TRUE,\"\",SUMIF('Nominatieve lijst'!$D$10:$D$3009,C307,'Nominatieve lijst'!$H$10:$H$3009))","v":""},{"$f":"IF(ISBLANK(Vrijwilligersregister!C307)=TRUE,\"\",SUMIF('Nominatieve lijst'!$D$10:$D$3009,C307,'Nominatieve lijst'!$J$10:$J$3009))","v":""},{"$f":"IF(ISBLANK(Vrijwilligersregister!C307)=TRUE,\"\",D307+F307)","v":""},{"$f":"Vrijwilligersregister!L307","v":0}]
[null,300,{"$f":"IF(ISBLANK(Vrijwilligersregister!C308)=TRUE,\"\",Vrijwilligersregister!C308)","v":""},{"$f":"IF(ISBLANK(Vrijwilligersregister!C308)=TRUE,\"\",SUMIF('Nominatieve lijst'!$D$10:$D$3009,C308,'Nominatieve lijst'!$G$10:$G$3009))","v":""},{"$f":"IF(ISBLANK(Vrijwilligersregister!C308)=TRUE,\"\",SUMIF('Nominatieve lijst'!$D$10:$D$3009,C308,'Nominatieve lijst'!$H$10:$H$3009))","v":""},{"$f":"IF(ISBLANK(Vrijwilligersregister!C308)=TRUE,\"\",SUMIF('Nominatieve lijst'!$D$10:$D$3009,C308,'Nominatieve lijst'!$J$10:$J$3009))","v":""},{"$f":"IF(ISBLANK(Vrijwilligersregister!C308)=TRUE,\"\",D308+F308)","v":""},{"$f":"Vrijwilligersregister!L308","v":0}]
[null,301,{"$f":"IF(ISBLANK(Vrijwilligersregister!C309)=TRUE,\"\",Vrijwilligersregister!C309)","v":""},{"$f":"IF(ISBLANK(Vrijwilligersregister!C309)=TRUE,\"\",SUMIF('Nominatieve lijst'!$D$10:$D$3009,C309,'Nominatieve lijst'!$G$10:$G$3009))","v":""},{"$f":"IF(ISBLANK(Vrijwilligersregister!C309)=TRUE,\"\",SUMIF('Nominatieve lijst'!$D$10:$D$3009,C309,'Nominatieve lijst'!$H$10:$H$3009))","v":""},{"$f":"IF(ISBLANK(Vrijwilligersregister!C309)=TRUE,\"\",SUMIF('Nominatieve lijst'!$D$10:$D$3009,C309,'Nominatieve lijst'!$J$10:$J$3009))","v":""},{"$f":"IF(ISBLANK(Vrijwilligersregister!C309)=TRUE,\"\",D309+F309)","v":""},{"$f":"Vrijwilligersregister!L309","v":0}]
[null,302,{"$f":"IF(ISBLANK(Vrijwilligersregister!C310)=TRUE,\"\",Vrijwilligersregister!C310)","v":""},{"$f":"IF(ISBLANK(Vrijwilligersregister!C310)=TRUE,\"\",SUMIF('Nominatieve lijst'!$D$10:$D$3009,C310,'Nominatieve lijst'!$G$10:$G$3009))","v":""},{"$f":"IF(ISBLANK(Vrijwilligersregister!C310)=TRUE,\"\",SUMIF('Nominatieve lijst'!$D$10:$D$3009,C310,'Nominatieve lijst'!$H$10:$H$3009))","v":""},{"$f":"IF(ISBLANK(Vrijwilligersregister!C310)=TRUE,\"\",SUMIF('Nominatieve lijst'!$D$10:$D$3009,C310,'Nominatieve lijst'!$J$10:$J$3009))","v":""},{"$f":"IF(ISBLANK(Vrijwilligersregister!C310)=TRUE,\"\",D310+F310)","v":""},{"$f":"Vrijwilligersregister!L310","v":0}]
[null,303,{"$f":"IF(ISBLANK(Vrijwilligersregister!C311)=TRUE,\"\",Vrijwilligersregister!C311)","v":""},{"$f":"IF(ISBLANK(Vrijwilligersregister!C311)=TRUE,\"\",SUMIF('Nominatieve lijst'!$D$10:$D$3009,C311,'Nominatieve lijst'!$G$10:$G$3009))","v":""},{"$f":"IF(ISBLANK(Vrijwilligersregister!C311)=TRUE,\"\",SUMIF('Nominatieve lijst'!$D$10:$D$3009,C311,'Nominatieve lijst'!$H$10:$H$3009))","v":""},{"$f":"IF(ISBLANK(Vrijwilligersregister!C311)=TRUE,\"\",SUMIF('Nominatieve lijst'!$D$10:$D$3009,C311,'Nominatieve lijst'!$J$10:$J$3009))","v":""},{"$f":"IF(ISBLANK(Vrijwilligersregister!C311)=TRUE,\"\",D311+F311)","v":""},{"$f":"Vrijwilligersregister!L311","v":0}]
[null,304,{"$f":"IF(ISBLANK(Vrijwilligersregister!C312)=TRUE,\"\",Vrijwilligersregister!C312)","v":""},{"$f":"IF(ISBLANK(Vrijwilligersregister!C312)=TRUE,\"\",SUMIF('Nominatieve lijst'!$D$10:$D$3009,C312,'Nominatieve lijst'!$G$10:$G$3009))","v":""},{"$f":"IF(ISBLANK(Vrijwilligersregister!C312)=TRUE,\"\",SUMIF('Nominatieve lijst'!$D$10:$D$3009,C312,'Nominatieve lijst'!$H$10:$H$3009))","v":""},{"$f":"IF(ISBLANK(Vrijwilligersregister!C312)=TRUE,\"\",SUMIF('Nominatieve lijst'!$D$10:$D$3009,C312,'Nominatieve lijst'!$J$10:$J$3009))","v":""},{"$f":"IF(ISBLANK(Vrijwilligersregister!C312)=TRUE,\"\",D312+F312)","v":""},{"$f":"Vrijwilligersregister!L312","v":0}]
[null,305,{"$f":"IF(ISBLANK(Vrijwilligersregister!C313)=TRUE,\"\",Vrijwilligersregister!C313)","v":""},{"$f":"IF(ISBLANK(Vrijwilligersregister!C313)=TRUE,\"\",SUMIF('Nominatieve lijst'!$D$10:$D$3009,C313,'Nominatieve lijst'!$G$10:$G$3009))","v":""},{"$f":"IF(ISBLANK(Vrijwilligersregister!C313)=TRUE,\"\",SUMIF('Nominatieve lijst'!$D$10:$D$3009,C313,'Nominatieve lijst'!$H$10:$H$3009))","v":""},{"$f":"IF(ISBLANK(Vrijwilligersregister!C313)=TRUE,\"\",SUMIF('Nominatieve lijst'!$D$10:$D$3009,C313,'Nominatieve lijst'!$J$10:$J$3009))","v":""},{"$f":"IF(ISBLANK(Vrijwilligersregister!C313)=TRUE,\"\",D313+F313)","v":""},{"$f":"Vrijwilligersregister!L313","v":0}]
[null,306,{"$f":"IF(ISBLANK(Vrijwilligersregister!C314)=TRUE,\"\",Vrijwilligersregister!C314)","v":""},{"$f":"IF(ISBLANK(Vrijwilligersregister!C314)=TRUE,\"\",SUMIF('Nominatieve lijst'!$D$10:$D$3009,C314,'Nominatieve lijst'!$G$10:$G$3009))","v":""},{"$f":"IF(ISBLANK(Vrijwilligersregister!C314)=TRUE,\"\",SUMIF('Nominatieve lijst'!$D$10:$D$3009,C314,'Nominatieve lijst'!$H$10:$H$3009))","v":""},{"$f":"IF(ISBLANK(Vrijwilligersregister!C314)=TRUE,\"\",SUMIF('Nominatieve lijst'!$D$10:$D$3009,C314,'Nominatieve lijst'!$J$10:$J$3009))","v":""},{"$f":"IF(ISBLANK(Vrijwilligersregister!C314)=TRUE,\"\",D314+F314)","v":""},{"$f":"Vrijwilligersregister!L314","v":0}]
[null,307,{"$f":"IF(ISBLANK(Vrijwilligersregister!C315)=TRUE,\"\",Vrijwilligersregister!C315)","v":""},{"$f":"IF(ISBLANK(Vrijwilligersregister!C315)=TRUE,\"\",SUMIF('Nominatieve lijst'!$D$10:$D$3009,C315,'Nominatieve lijst'!$G$10:$G$3009))","v":""},{"$f":"IF(ISBLANK(Vrijwilligersregister!C315)=TRUE,\"\",SUMIF('Nominatieve lijst'!$D$10:$D$3009,C315,'Nominatieve lijst'!$H$10:$H$3009))","v":""},{"$f":"IF(ISBLANK(Vrijwilligersregister!C315)=TRUE,\"\",SUMIF('Nominatieve lijst'!$D$10:$D$3009,C315,'Nominatieve lijst'!$J$10:$J$3009))","v":""},{"$f":"IF(ISBLANK(Vrijwilligersregister!C315)=TRUE,\"\",D315+F315)","v":""},{"$f":"Vrijwilligersregister!L315","v":0}]
[null,308,{"$f":"IF(ISBLANK(Vrijwilligersregister!C316)=TRUE,\"\",Vrijwilligersregister!C316)","v":""},{"$f":"IF(ISBLANK(Vrijwilligersregister!C316)=TRUE,\"\",SUMIF('Nominatieve lijst'!$D$10:$D$3009,C316,'Nominatieve lijst'!$G$10:$G$3009))","v":""},{"$f":"IF(ISBLANK(Vrijwilligersregister!C316)=TRUE,\"\",SUMIF('Nominatieve lijst'!$D$10:$D$3009,C316,'Nominatieve lijst'!$H$10:$H$3009))","v":""},{"$f":"IF(ISBLANK(Vrijwilligersregister!C316)=TRUE,\"\",SUMIF('Nominatieve lijst'!$D$10:$D$3009,C316,'Nominatieve lijst'!$J$10:$J$3009))","v":""},{"$f":"IF(ISBLANK(Vrijwilligersregister!C316)=TRUE,\"\",D316+F316)","v":""},{"$f":"Vrijwilligersregister!L316","v":0}]
[null,309,{"$f":"IF(ISBLANK(Vrijwilligersregister!C317)=TRUE,\"\",Vrijwilligersregister!C317)","v":""},{"$f":"IF(ISBLANK(Vrijwilligersregister!C317)=TRUE,\"\",SUMIF('Nominatieve lijst'!$D$10:$D$3009,C317,'Nominatieve lijst'!$G$10:$G$3009))","v":""},{"$f":"IF(ISBLANK(Vrijwilligersregister!C317)=TRUE,\"\",SUMIF('Nominatieve lijst'!$D$10:$D$3009,C317,'Nominatieve lijst'!$H$10:$H$3009))","v":""},{"$f":"IF(ISBLANK(Vrijwilligersregister!C317)=TRUE,\"\",SUMIF('Nominatieve lijst'!$D$10:$D$3009,C317,'Nominatieve lijst'!$J$10:$J$3009))","v":""},{"$f":"IF(ISBLANK(Vrijwilligersregister!C317)=TRUE,\"\",D317+F317)","v":""},{"$f":"Vrijwilligersregister!L317","v":0}]
[null,310,{"$f":"IF(ISBLANK(Vrijwilligersregister!C318)=TRUE,\"\",Vrijwilligersregister!C318)","v":""},{"$f":"IF(ISBLANK(Vrijwilligersregister!C318)=TRUE,\"\",SUMIF('Nominatieve lijst'!$D$10:$D$3009,C318,'Nominatieve lijst'!$G$10:$G$3009))","v":""},{"$f":"IF(ISBLANK(Vrijwilligersregister!C318)=TRUE,\"\",SUMIF('Nominatieve lijst'!$D$10:$D$3009,C318,'Nominatieve lijst'!$H$10:$H$3009))","v":""},{"$f":"IF(ISBLANK(Vrijwilligersregister!C318)=TRUE,\"\",SUMIF('Nominatieve lijst'!$D$10:$D$3009,C318,'Nominatieve lijst'!$J$10:$J$3009))","v":""},{"$f":"IF(ISBLANK(Vrijwilligersregister!C318)=TRUE,\"\",D318+F318)","v":""},{"$f":"Vrijwilligersregister!L318","v":0}]
[null,311,{"$f":"IF(ISBLANK(Vrijwilligersregister!C319)=TRUE,\"\",Vrijwilligersregister!C319)","v":""},{"$f":"IF(ISBLANK(Vrijwilligersregister!C319)=TRUE,\"\",SUMIF('Nominatieve lijst'!$D$10:$D$3009,C319,'Nominatieve lijst'!$G$10:$G$3009))","v":""},{"$f":"IF(ISBLANK(Vrijwilligersregister!C319)=TRUE,\"\",SUMIF('Nominatieve lijst'!$D$10:$D$3009,C319,'Nominatieve lijst'!$H$10:$H$3009))","v":""},{"$f":"IF(ISBLANK(Vrijwilligersregister!C319)=TRUE,\"\",SUMIF('Nominatieve lijst'!$D$10:$D$3009,C319,'Nominatieve lijst'!$J$10:$J$3009))","v":""},{"$f":"IF(ISBLANK(Vrijwilligersregister!C319)=TRUE,\"\",D319+F319)","v":""},{"$f":"Vrijwilligersregister!L319","v":0}]
[null,312,{"$f":"IF(ISBLANK(Vrijwilligersregister!C320)=TRUE,\"\",Vrijwilligersregister!C320)","v":""},{"$f":"IF(ISBLANK(Vrijwilligersregister!C320)=TRUE,\"\",SUMIF('Nominatieve lijst'!$D$10:$D$3009,C320,'Nominatieve lijst'!$G$10:$G$3009))","v":""},{"$f":"IF(ISBLANK(Vrijwilligersregister!C320)=TRUE,\"\",SUMIF('Nominatieve lijst'!$D$10:$D$3009,C320,'Nominatieve lijst'!$H$10:$H$3009))","v":""},{"$f":"IF(ISBLANK(Vrijwilligersregister!C320)=TRUE,\"\",SUMIF('Nominatieve lijst'!$D$10:$D$3009,C320,'Nominatieve lijst'!$J$10:$J$3009))","v":""},{"$f":"IF(ISBLANK(Vrijwilligersregister!C320)=TRUE,\"\",D320+F320)","v":""},{"$f":"Vrijwilligersregister!L320","v":0}]
[null,313,{"$f":"IF(ISBLANK(Vrijwilligersregister!C321)=TRUE,\"\",Vrijwilligersregister!C321)","v":""},{"$f":"IF(ISBLANK(Vrijwilligersregister!C321)=TRUE,\"\",SUMIF('Nominatieve lijst'!$D$10:$D$3009,C321,'Nominatieve lijst'!$G$10:$G$3009))","v":""},{"$f":"IF(ISBLANK(Vrijwilligersregister!C321)=TRUE,\"\",SUMIF('Nominatieve lijst'!$D$10:$D$3009,C321,'Nominatieve lijst'!$H$10:$H$3009))","v":""},{"$f":"IF(ISBLANK(Vrijwilligersregister!C321)=TRUE,\"\",SUMIF('Nominatieve lijst'!$D$10:$D$3009,C321,'Nominatieve lijst'!$J$10:$J$3009))","v":""},{"$f":"IF(ISBLANK(Vrijwilligersregister!C321)=TRUE,\"\",D321+F321)","v":""},{"$f":"Vrijwilligersregister!L321","v":0}]
[null,314,{"$f":"IF(ISBLANK(Vrijwilligersregister!C322)=TRUE,\"\",Vrijwilligersregister!C322)","v":""},{"$f":"IF(ISBLANK(Vrijwilligersregister!C322)=TRUE,\"\",SUMIF('Nominatieve lijst'!$D$10:$D$3009,C322,'Nominatieve lijst'!$G$10:$G$3009))","v":""},{"$f":"IF(ISBLANK(Vrijwilligersregister!C322)=TRUE,\"\",SUMIF('Nominatieve lijst'!$D$10:$D$3009,C322,'Nominatieve lijst'!$H$10:$H$3009))","v":""},{"$f":"IF(ISBLANK(Vrijwilligersregister!C322)=TRUE,\"\",SUMIF('Nominatieve lijst'!$D$10:$D$3009,C322,'Nominatieve lijst'!$J$10:$J$3009))","v":""},{"$f":"IF(ISBLANK(Vrijwilligersregister!C322)=TRUE,\"\",D322+F322)","v":""},{"$f":"Vrijwilligersregister!L322","v":0}]
[null,315,{"$f":"IF(ISBLANK(Vrijwilligersregister!C323)=TRUE,\"\",Vrijwilligersregister!C323)","v":""},{"$f":"IF(ISBLANK(Vrijwilligersregister!C323)=TRUE,\"\",SUMIF('Nominatieve lijst'!$D$10:$D$3009,C323,'Nominatieve lijst'!$G$10:$G$3009))","v":""},{"$f":"IF(ISBLANK(Vrijwilligersregister!C323)=TRUE,\"\",SUMIF('Nominatieve lijst'!$D$10:$D$3009,C323,'Nominatieve lijst'!$H$10:$H$3009))","v":""},{"$f":"IF(ISBLANK(Vrijwilligersregister!C323)=TRUE,\"\",SUMIF('Nominatieve lijst'!$D$10:$D$3009,C323,'Nominatieve lijst'!$J$10:$J$3009))","v":""},{"$f":"IF(ISBLANK(Vrijwilligersregister!C323)=TRUE,\"\",D323+F323)","v":""},{"$f":"Vrijwilligersregister!L323","v":0}]
[null,316,{"$f":"IF(ISBLANK(Vrijwilligersregister!C324)=TRUE,\"\",Vrijwilligersregister!C324)","v":""},{"$f":"IF(ISBLANK(Vrijwilligersregister!C324)=TRUE,\"\",SUMIF('Nominatieve lijst'!$D$10:$D$3009,C324,'Nominatieve lijst'!$G$10:$G$3009))","v":""},{"$f":"IF(ISBLANK(Vrijwilligersregister!C324)=TRUE,\"\",SUMIF('Nominatieve lijst'!$D$10:$D$3009,C324,'Nominatieve lijst'!$H$10:$H$3009))","v":""},{"$f":"IF(ISBLANK(Vrijwilligersregister!C324)=TRUE,\"\",SUMIF('Nominatieve lijst'!$D$10:$D$3009,C324,'Nominatieve lijst'!$J$10:$J$3009))","v":""},{"$f":"IF(ISBLANK(Vrijwilligersregister!C324)=TRUE,\"\",D324+F324)","v":""},{"$f":"Vrijwilligersregister!L324","v":0}]
[null,317,{"$f":"IF(ISBLANK(Vrijwilligersregister!C325)=TRUE,\"\",Vrijwilligersregister!C325)","v":""},{"$f":"IF(ISBLANK(Vrijwilligersregister!C325)=TRUE,\"\",SUMIF('Nominatieve lijst'!$D$10:$D$3009,C325,'Nominatieve lijst'!$G$10:$G$3009))","v":""},{"$f":"IF(ISBLANK(Vrijwilligersregister!C325)=TRUE,\"\",SUMIF('Nominatieve lijst'!$D$10:$D$3009,C325,'Nominatieve lijst'!$H$10:$H$3009))","v":""},{"$f":"IF(ISBLANK(Vrijwilligersregister!C325)=TRUE,\"\",SUMIF('Nominatieve lijst'!$D$10:$D$3009,C325,'Nominatieve lijst'!$J$10:$J$3009))","v":""},{"$f":"IF(ISBLANK(Vrijwilligersregister!C325)=TRUE,\"\",D325+F325)","v":""},{"$f":"Vrijwilligersregister!L325","v":0}]
[null,318,{"$f":"IF(ISBLANK(Vrijwilligersregister!C326)=TRUE,\"\",Vrijwilligersregister!C326)","v":""},{"$f":"IF(ISBLANK(Vrijwilligersregister!C326)=TRUE,\"\",SUMIF('Nominatieve lijst'!$D$10:$D$3009,C326,'Nominatieve lijst'!$G$10:$G$3009))","v":""},{"$f":"IF(ISBLANK(Vrijwilligersregister!C326)=TRUE,\"\",SUMIF('Nominatieve lijst'!$D$10:$D$3009,C326,'Nominatieve lijst'!$H$10:$H$3009))","v":""},{"$f":"IF(ISBLANK(Vrijwilligersregister!C326)=TRUE,\"\",SUMIF('Nominatieve lijst'!$D$10:$D$3009,C326,'Nominatieve lijst'!$J$10:$J$3009))","v":""},{"$f":"IF(ISBLANK(Vrijwilligersregister!C326)=TRUE,\"\",D326+F326)","v":""},{"$f":"Vrijwilligersregister!L326","v":0}]
[null,319,{"$f":"IF(ISBLANK(Vrijwilligersregister!C327)=TRUE,\"\",Vrijwilligersregister!C327)","v":""},{"$f":"IF(ISBLANK(Vrijwilligersregister!C327)=TRUE,\"\",SUMIF('Nominatieve lijst'!$D$10:$D$3009,C327,'Nominatieve lijst'!$G$10:$G$3009))","v":""},{"$f":"IF(ISBLANK(Vrijwilligersregister!C327)=TRUE,\"\",SUMIF('Nominatieve lijst'!$D$10:$D$3009,C327,'Nominatieve lijst'!$H$10:$H$3009))","v":""},{"$f":"IF(ISBLANK(Vrijwilligersregister!C327)=TRUE,\"\",SUMIF('Nominatieve lijst'!$D$10:$D$3009,C327,'Nominatieve lijst'!$J$10:$J$3009))","v":""},{"$f":"IF(ISBLANK(Vrijwilligersregister!C327)=TRUE,\"\",D327+F327)","v":""},{"$f":"Vrijwilligersregister!L327","v":0}]
[null,320,{"$f":"IF(ISBLANK(Vrijwilligersregister!C328)=TRUE,\"\",Vrijwilligersregister!C328)","v":""},{"$f":"IF(ISBLANK(Vrijwilligersregister!C328)=TRUE,\"\",SUMIF('Nominatieve lijst'!$D$10:$D$3009,C328,'Nominatieve lijst'!$G$10:$G$3009))","v":""},{"$f":"IF(ISBLANK(Vrijwilligersregister!C328)=TRUE,\"\",SUMIF('Nominatieve lijst'!$D$10:$D$3009,C328,'Nominatieve lijst'!$H$10:$H$3009))","v":""},{"$f":"IF(ISBLANK(Vrijwilligersregister!C328)=TRUE,\"\",SUMIF('Nominatieve lijst'!$D$10:$D$3009,C328,'Nominatieve lijst'!$J$10:$J$3009))","v":""},{"$f":"IF(ISBLANK(Vrijwilligersregister!C328)=TRUE,\"\",D328+F328)","v":""},{"$f":"Vrijwilligersregister!L328","v":0}]
[null,321,{"$f":"IF(ISBLANK(Vrijwilligersregister!C329)=TRUE,\"\",Vrijwilligersregister!C329)","v":""},{"$f":"IF(ISBLANK(Vrijwilligersregister!C329)=TRUE,\"\",SUMIF('Nominatieve lijst'!$D$10:$D$3009,C329,'Nominatieve lijst'!$G$10:$G$3009))","v":""},{"$f":"IF(ISBLANK(Vrijwilligersregister!C329)=TRUE,\"\",SUMIF('Nominatieve lijst'!$D$10:$D$3009,C329,'Nominatieve lijst'!$H$10:$H$3009))","v":""},{"$f":"IF(ISBLANK(Vrijwilligersregister!C329)=TRUE,\"\",SUMIF('Nominatieve lijst'!$D$10:$D$3009,C329,'Nominatieve lijst'!$J$10:$J$3009))","v":""},{"$f":"IF(ISBLANK(Vrijwilligersregister!C329)=TRUE,\"\",D329+F329)","v":""},{"$f":"Vrijwilligersregister!L329","v":0}]
[null,322,{"$f":"IF(ISBLANK(Vrijwilligersregister!C330)=TRUE,\"\",Vrijwilligersregister!C330)","v":""},{"$f":"IF(ISBLANK(Vrijwilligersregister!C330)=TRUE,\"\",SUMIF('Nominatieve lijst'!$D$10:$D$3009,C330,'Nominatieve lijst'!$G$10:$G$3009))","v":""},{"$f":"IF(ISBLANK(Vrijwilligersregister!C330)=TRUE,\"\",SUMIF('Nominatieve lijst'!$D$10:$D$3009,C330,'Nominatieve lijst'!$H$10:$H$3009))","v":""},{"$f":"IF(ISBLANK(Vrijwilligersregister!C330)=TRUE,\"\",SUMIF('Nominatieve lijst'!$D$10:$D$3009,C330,'Nominatieve lijst'!$J$10:$J$3009))","v":""},{"$f":"IF(ISBLANK(Vrijwilligersregister!C330)=TRUE,\"\",D330+F330)","v":""},{"$f":"Vrijwilligersregister!L330","v":0}]
[null,323,{"$f":"IF(ISBLANK(Vrijwilligersregister!C331)=TRUE,\"\",Vrijwilligersregister!C331)","v":""},{"$f":"IF(ISBLANK(Vrijwilligersregister!C331)=TRUE,\"\",SUMIF('Nominatieve lijst'!$D$10:$D$3009,C331,'Nominatieve lijst'!$G$10:$G$3009))","v":""},{"$f":"IF(ISBLANK(Vrijwilligersregister!C331)=TRUE,\"\",SUMIF('Nominatieve lijst'!$D$10:$D$3009,C331,'Nominatieve lijst'!$H$10:$H$3009))","v":""},{"$f":"IF(ISBLANK(Vrijwilligersregister!C331)=TRUE,\"\",SUMIF('Nominatieve lijst'!$D$10:$D$3009,C331,'Nominatieve lijst'!$J$10:$J$3009))","v":""},{"$f":"IF(ISBLANK(Vrijwilligersregister!C331)=TRUE,\"\",D331+F331)","v":""},{"$f":"Vrijwilligersregister!L331","v":0}]
[null,324,{"$f":"IF(ISBLANK(Vrijwilligersregister!C332)=TRUE,\"\",Vrijwilligersregister!C332)","v":""},{"$f":"IF(ISBLANK(Vrijwilligersregister!C332)=TRUE,\"\",SUMIF('Nominatieve lijst'!$D$10:$D$3009,C332,'Nominatieve lijst'!$G$10:$G$3009))","v":""},{"$f":"IF(ISBLANK(Vrijwilligersregister!C332)=TRUE,\"\",SUMIF('Nominatieve lijst'!$D$10:$D$3009,C332,'Nominatieve lijst'!$H$10:$H$3009))","v":""},{"$f":"IF(ISBLANK(Vrijwilligersregister!C332)=TRUE,\"\",SUMIF('Nominatieve lijst'!$D$10:$D$3009,C332,'Nominatieve lijst'!$J$10:$J$3009))","v":""},{"$f":"IF(ISBLANK(Vrijwilligersregister!C332)=TRUE,\"\",D332+F332)","v":""},{"$f":"Vrijwilligersregister!L332","v":0}]
[null,325,{"$f":"IF(ISBLANK(Vrijwilligersregister!C333)=TRUE,\"\",Vrijwilligersregister!C333)","v":""},{"$f":"IF(ISBLANK(Vrijwilligersregister!C333)=TRUE,\"\",SUMIF('Nominatieve lijst'!$D$10:$D$3009,C333,'Nominatieve lijst'!$G$10:$G$3009))","v":""},{"$f":"IF(ISBLANK(Vrijwilligersregister!C333)=TRUE,\"\",SUMIF('Nominatieve lijst'!$D$10:$D$3009,C333,'Nominatieve lijst'!$H$10:$H$3009))","v":""},{"$f":"IF(ISBLANK(Vrijwilligersregister!C333)=TRUE,\"\",SUMIF('Nominatieve lijst'!$D$10:$D$3009,C333,'Nominatieve lijst'!$J$10:$J$3009))","v":""},{"$f":"IF(ISBLANK(Vrijwilligersregister!C333)=TRUE,\"\",D333+F333)","v":""},{"$f":"Vrijwilligersregister!L333","v":0}]
[null,326,{"$f":"IF(ISBLANK(Vrijwilligersregister!C334)=TRUE,\"\",Vrijwilligersregister!C334)","v":""},{"$f":"IF(ISBLANK(Vrijwilligersregister!C334)=TRUE,\"\",SUMIF('Nominatieve lijst'!$D$10:$D$3009,C334,'Nominatieve lijst'!$G$10:$G$3009))","v":""},{"$f":"IF(ISBLANK(Vrijwilligersregister!C334)=TRUE,\"\",SUMIF('Nominatieve lijst'!$D$10:$D$3009,C334,'Nominatieve lijst'!$H$10:$H$3009))","v":""},{"$f":"IF(ISBLANK(Vrijwilligersregister!C334)=TRUE,\"\",SUMIF('Nominatieve lijst'!$D$10:$D$3009,C334,'Nominatieve lijst'!$J$10:$J$3009))","v":""},{"$f":"IF(ISBLANK(Vrijwilligersregister!C334)=TRUE,\"\",D334+F334)","v":""},{"$f":"Vrijwilligersregister!L334","v":0}]
[null,327,{"$f":"IF(ISBLANK(Vrijwilligersregister!C335)=TRUE,\"\",Vrijwilligersregister!C335)","v":""},{"$f":"IF(ISBLANK(Vrijwilligersregister!C335)=TRUE,\"\",SUMIF('Nominatieve lijst'!$D$10:$D$3009,C335,'Nominatieve lijst'!$G$10:$G$3009))","v":""},{"$f":"IF(ISBLANK(Vrijwilligersregister!C335)=TRUE,\"\",SUMIF('Nominatieve lijst'!$D$10:$D$3009,C335,'Nominatieve lijst'!$H$10:$H$3009))","v":""},{"$f":"IF(ISBLANK(Vrijwilligersregister!C335)=TRUE,\"\",SUMIF('Nominatieve lijst'!$D$10:$D$3009,C335,'Nominatieve lijst'!$J$10:$J$3009))","v":""},{"$f":"IF(ISBLANK(Vrijwilligersregister!C335)=TRUE,\"\",D335+F335)","v":""},{"$f":"Vrijwilligersregister!L335","v":0}]
[null,328,{"$f":"IF(ISBLANK(Vrijwilligersregister!C336)=TRUE,\"\",Vrijwilligersregister!C336)","v":""},{"$f":"IF(ISBLANK(Vrijwilligersregister!C336)=TRUE,\"\",SUMIF('Nominatieve lijst'!$D$10:$D$3009,C336,'Nominatieve lijst'!$G$10:$G$3009))","v":""},{"$f":"IF(ISBLANK(Vrijwilligersregister!C336)=TRUE,\"\",SUMIF('Nominatieve lijst'!$D$10:$D$3009,C336,'Nominatieve lijst'!$H$10:$H$3009))","v":""},{"$f":"IF(ISBLANK(Vrijwilligersregister!C336)=TRUE,\"\",SUMIF('Nominatieve lijst'!$D$10:$D$3009,C336,'Nominatieve lijst'!$J$10:$J$3009))","v":""},{"$f":"IF(ISBLANK(Vrijwilligersregister!C336)=TRUE,\"\",D336+F336)","v":""},{"$f":"Vrijwilligersregister!L336","v":0}]
[null,329,{"$f":"IF(ISBLANK(Vrijwilligersregister!C337)=TRUE,\"\",Vrijwilligersregister!C337)","v":""},{"$f":"IF(ISBLANK(Vrijwilligersregister!C337)=TRUE,\"\",SUMIF('Nominatieve lijst'!$D$10:$D$3009,C337,'Nominatieve lijst'!$G$10:$G$3009))","v":""},{"$f":"IF(ISBLANK(Vrijwilligersregister!C337)=TRUE,\"\",SUMIF('Nominatieve lijst'!$D$10:$D$3009,C337,'Nominatieve lijst'!$H$10:$H$3009))","v":""},{"$f":"IF(ISBLANK(Vrijwilligersregister!C337)=TRUE,\"\",SUMIF('Nominatieve lijst'!$D$10:$D$3009,C337,'Nominatieve lijst'!$J$10:$J$3009))","v":""},{"$f":"IF(ISBLANK(Vrijwilligersregister!C337)=TRUE,\"\",D337+F337)","v":""},{"$f":"Vrijwilligersregister!L337","v":0}]
[null,330,{"$f":"IF(ISBLANK(Vrijwilligersregister!C338)=TRUE,\"\",Vrijwilligersregister!C338)","v":""},{"$f":"IF(ISBLANK(Vrijwilligersregister!C338)=TRUE,\"\",SUMIF('Nominatieve lijst'!$D$10:$D$3009,C338,'Nominatieve lijst'!$G$10:$G$3009))","v":""},{"$f":"IF(ISBLANK(Vrijwilligersregister!C338)=TRUE,\"\",SUMIF('Nominatieve lijst'!$D$10:$D$3009,C338,'Nominatieve lijst'!$H$10:$H$3009))","v":""},{"$f":"IF(ISBLANK(Vrijwilligersregister!C338)=TRUE,\"\",SUMIF('Nominatieve lijst'!$D$10:$D$3009,C338,'Nominatieve lijst'!$J$10:$J$3009))","v":""},{"$f":"IF(ISBLANK(Vrijwilligersregister!C338)=TRUE,\"\",D338+F338)","v":""},{"$f":"Vrijwilligersregister!L338","v":0}]
[null,331,{"$f":"IF(ISBLANK(Vrijwilligersregister!C339)=TRUE,\"\",Vrijwilligersregister!C339)","v":""},{"$f":"IF(ISBLANK(Vrijwilligersregister!C339)=TRUE,\"\",SUMIF('Nominatieve lijst'!$D$10:$D$3009,C339,'Nominatieve lijst'!$G$10:$G$3009))","v":""},{"$f":"IF(ISBLANK(Vrijwilligersregister!C339)=TRUE,\"\",SUMIF('Nominatieve lijst'!$D$10:$D$3009,C339,'Nominatieve lijst'!$H$10:$H$3009))","v":""},{"$f":"IF(ISBLANK(Vrijwilligersregister!C339)=TRUE,\"\",SUMIF('Nominatieve lijst'!$D$10:$D$3009,C339,'Nominatieve lijst'!$J$10:$J$3009))","v":""},{"$f":"IF(ISBLANK(Vrijwilligersregister!C339)=TRUE,\"\",D339+F339)","v":""},{"$f":"Vrijwilligersregister!L339","v":0}]
[null,332,{"$f":"IF(ISBLANK(Vrijwilligersregister!C340)=TRUE,\"\",Vrijwilligersregister!C340)","v":""},{"$f":"IF(ISBLANK(Vrijwilligersregister!C340)=TRUE,\"\",SUMIF('Nominatieve lijst'!$D$10:$D$3009,C340,'Nominatieve lijst'!$G$10:$G$3009))","v":""},{"$f":"IF(ISBLANK(Vrijwilligersregister!C340)=TRUE,\"\",SUMIF('Nominatieve lijst'!$D$10:$D$3009,C340,'Nominatieve lijst'!$H$10:$H$3009))","v":""},{"$f":"IF(ISBLANK(Vrijwilligersregister!C340)=TRUE,\"\",SUMIF('Nominatieve lijst'!$D$10:$D$3009,C340,'Nominatieve lijst'!$J$10:$J$3009))","v":""},{"$f":"IF(ISBLANK(Vrijwilligersregister!C340)=TRUE,\"\",D340+F340)","v":""},{"$f":"Vrijwilligersregister!L340","v":0}]
[null,333,{"$f":"IF(ISBLANK(Vrijwilligersregister!C341)=TRUE,\"\",Vrijwilligersregister!C341)","v":""},{"$f":"IF(ISBLANK(Vrijwilligersregister!C341)=TRUE,\"\",SUMIF('Nominatieve lijst'!$D$10:$D$3009,C341,'Nominatieve lijst'!$G$10:$G$3009))","v":""},{"$f":"IF(ISBLANK(Vrijwilligersregister!C341)=TRUE,\"\",SUMIF('Nominatieve lijst'!$D$10:$D$3009,C341,'Nominatieve lijst'!$H$10:$H$3009))","v":""},{"$f":"IF(ISBLANK(Vrijwilligersregister!C341)=TRUE,\"\",SUMIF('Nominatieve lijst'!$D$10:$D$3009,C341,'Nominatieve lijst'!$J$10:$J$3009))","v":""},{"$f":"IF(ISBLANK(Vrijwilligersregister!C341)=TRUE,\"\",D341+F341)","v":""},{"$f":"Vrijwilligersregister!L341","v":0}]
[null,334,{"$f":"IF(ISBLANK(Vrijwilligersregister!C342)=TRUE,\"\",Vrijwilligersregister!C342)","v":""},{"$f":"IF(ISBLANK(Vrijwilligersregister!C342)=TRUE,\"\",SUMIF('Nominatieve lijst'!$D$10:$D$3009,C342,'Nominatieve lijst'!$G$10:$G$3009))","v":""},{"$f":"IF(ISBLANK(Vrijwilligersregister!C342)=TRUE,\"\",SUMIF('Nominatieve lijst'!$D$10:$D$3009,C342,'Nominatieve lijst'!$H$10:$H$3009))","v":""},{"$f":"IF(ISBLANK(Vrijwilligersregister!C342)=TRUE,\"\",SUMIF('Nominatieve lijst'!$D$10:$D$3009,C342,'Nominatieve lijst'!$J$10:$J$3009))","v":""},{"$f":"IF(ISBLANK(Vrijwilligersregister!C342)=TRUE,\"\",D342+F342)","v":""},{"$f":"Vrijwilligersregister!L342","v":0}]
[null,335,{"$f":"IF(ISBLANK(Vrijwilligersregister!C343)=TRUE,\"\",Vrijwilligersregister!C343)","v":""},{"$f":"IF(ISBLANK(Vrijwilligersregister!C343)=TRUE,\"\",SUMIF('Nominatieve lijst'!$D$10:$D$3009,C343,'Nominatieve lijst'!$G$10:$G$3009))","v":""},{"$f":"IF(ISBLANK(Vrijwilligersregister!C343)=TRUE,\"\",SUMIF('Nominatieve lijst'!$D$10:$D$3009,C343,'Nominatieve lijst'!$H$10:$H$3009))","v":""},{"$f":"IF(ISBLANK(Vrijwilligersregister!C343)=TRUE,\"\",SUMIF('Nominatieve lijst'!$D$10:$D$3009,C343,'Nominatieve lijst'!$J$10:$J$3009))","v":""},{"$f":"IF(ISBLANK(Vrijwilligersregister!C343)=TRUE,\"\",D343+F343)","v":""},{"$f":"Vrijwilligersregister!L343","v":0}]
[null,336,{"$f":"IF(ISBLANK(Vrijwilligersregister!C344)=TRUE,\"\",Vrijwilligersregister!C344)","v":""},{"$f":"IF(ISBLANK(Vrijwilligersregister!C344)=TRUE,\"\",SUMIF('Nominatieve lijst'!$D$10:$D$3009,C344,'Nominatieve lijst'!$G$10:$G$3009))","v":""},{"$f":"IF(ISBLANK(Vrijwilligersregister!C344)=TRUE,\"\",SUMIF('Nominatieve lijst'!$D$10:$D$3009,C344,'Nominatieve lijst'!$H$10:$H$3009))","v":""},{"$f":"IF(ISBLANK(Vrijwilligersregister!C344)=TRUE,\"\",SUMIF('Nominatieve lijst'!$D$10:$D$3009,C344,'Nominatieve lijst'!$J$10:$J$3009))","v":""},{"$f":"IF(ISBLANK(Vrijwilligersregister!C344)=TRUE,\"\",D344+F344)","v":""},{"$f":"Vrijwilligersregister!L344","v":0}]
[null,337,{"$f":"IF(ISBLANK(Vrijwilligersregister!C345)=TRUE,\"\",Vrijwilligersregister!C345)","v":""},{"$f":"IF(ISBLANK(Vrijwilligersregister!C345)=TRUE,\"\",SUMIF('Nominatieve lijst'!$D$10:$D$3009,C345,'Nominatieve lijst'!$G$10:$G$3009))","v":""},{"$f":"IF(ISBLANK(Vrijwilligersregister!C345)=TRUE,\"\",SUMIF('Nominatieve lijst'!$D$10:$D$3009,C345,'Nominatieve lijst'!$H$10:$H$3009))","v":""},{"$f":"IF(ISBLANK(Vrijwilligersregister!C345)=TRUE,\"\",SUMIF('Nominatieve lijst'!$D$10:$D$3009,C345,'Nominatieve lijst'!$J$10:$J$3009))","v":""},{"$f":"IF(ISBLANK(Vrijwilligersregister!C345)=TRUE,\"\",D345+F345)","v":""},{"$f":"Vrijwilligersregister!L345","v":0}]
[null,338,{"$f":"IF(ISBLANK(Vrijwilligersregister!C346)=TRUE,\"\",Vrijwilligersregister!C346)","v":""},{"$f":"IF(ISBLANK(Vrijwilligersregister!C346)=TRUE,\"\",SUMIF('Nominatieve lijst'!$D$10:$D$3009,C346,'Nominatieve lijst'!$G$10:$G$3009))","v":""},{"$f":"IF(ISBLANK(Vrijwilligersregister!C346)=TRUE,\"\",SUMIF('Nominatieve lijst'!$D$10:$D$3009,C346,'Nominatieve lijst'!$H$10:$H$3009))","v":""},{"$f":"IF(ISBLANK(Vrijwilligersregister!C346)=TRUE,\"\",SUMIF('Nominatieve lijst'!$D$10:$D$3009,C346,'Nominatieve lijst'!$J$10:$J$3009))","v":""},{"$f":"IF(ISBLANK(Vrijwilligersregister!C346)=TRUE,\"\",D346+F346)","v":""},{"$f":"Vrijwilligersregister!L346","v":0}]
[null,339,{"$f":"IF(ISBLANK(Vrijwilligersregister!C347)=TRUE,\"\",Vrijwilligersregister!C347)","v":""},{"$f":"IF(ISBLANK(Vrijwilligersregister!C347)=TRUE,\"\",SUMIF('Nominatieve lijst'!$D$10:$D$3009,C347,'Nominatieve lijst'!$G$10:$G$3009))","v":""},{"$f":"IF(ISBLANK(Vrijwilligersregister!C347)=TRUE,\"\",SUMIF('Nominatieve lijst'!$D$10:$D$3009,C347,'Nominatieve lijst'!$H$10:$H$3009))","v":""},{"$f":"IF(ISBLANK(Vrijwilligersregister!C347)=TRUE,\"\",SUMIF('Nominatieve lijst'!$D$10:$D$3009,C347,'Nominatieve lijst'!$J$10:$J$3009))","v":""},{"$f":"IF(ISBLANK(Vrijwilligersregister!C347)=TRUE,\"\",D347+F347)","v":""},{"$f":"Vrijwilligersregister!L347","v":0}]
[null,340,{"$f":"IF(ISBLANK(Vrijwilligersregister!C348)=TRUE,\"\",Vrijwilligersregister!C348)","v":""},{"$f":"IF(ISBLANK(Vrijwilligersregister!C348)=TRUE,\"\",SUMIF('Nominatieve lijst'!$D$10:$D$3009,C348,'Nominatieve lijst'!$G$10:$G$3009))","v":""},{"$f":"IF(ISBLANK(Vrijwilligersregister!C348)=TRUE,\"\",SUMIF('Nominatieve lijst'!$D$10:$D$3009,C348,'Nominatieve lijst'!$H$10:$H$3009))","v":""},{"$f":"IF(ISBLANK(Vrijwilligersregister!C348)=TRUE,\"\",SUMIF('Nominatieve lijst'!$D$10:$D$3009,C348,'Nominatieve lijst'!$J$10:$J$3009))","v":""},{"$f":"IF(ISBLANK(Vrijwilligersregister!C348)=TRUE,\"\",D348+F348)","v":""},{"$f":"Vrijwilligersregister!L348","v":0}]
[null,341,{"$f":"IF(ISBLANK(Vrijwilligersregister!C349)=TRUE,\"\",Vrijwilligersregister!C349)","v":""},{"$f":"IF(ISBLANK(Vrijwilligersregister!C349)=TRUE,\"\",SUMIF('Nominatieve lijst'!$D$10:$D$3009,C349,'Nominatieve lijst'!$G$10:$G$3009))","v":""},{"$f":"IF(ISBLANK(Vrijwilligersregister!C349)=TRUE,\"\",SUMIF('Nominatieve lijst'!$D$10:$D$3009,C349,'Nominatieve lijst'!$H$10:$H$3009))","v":""},{"$f":"IF(ISBLANK(Vrijwilligersregister!C349)=TRUE,\"\",SUMIF('Nominatieve lijst'!$D$10:$D$3009,C349,'Nominatieve lijst'!$J$10:$J$3009))","v":""},{"$f":"IF(ISBLANK(Vrijwilligersregister!C349)=TRUE,\"\",D349+F349)","v":""},{"$f":"Vrijwilligersregister!L349","v":0}]
[null,342,{"$f":"IF(ISBLANK(Vrijwilligersregister!C350)=TRUE,\"\",Vrijwilligersregister!C350)","v":""},{"$f":"IF(ISBLANK(Vrijwilligersregister!C350)=TRUE,\"\",SUMIF('Nominatieve lijst'!$D$10:$D$3009,C350,'Nominatieve lijst'!$G$10:$G$3009))","v":""},{"$f":"IF(ISBLANK(Vrijwilligersregister!C350)=TRUE,\"\",SUMIF('Nominatieve lijst'!$D$10:$D$3009,C350,'Nominatieve lijst'!$H$10:$H$3009))","v":""},{"$f":"IF(ISBLANK(Vrijwilligersregister!C350)=TRUE,\"\",SUMIF('Nominatieve lijst'!$D$10:$D$3009,C350,'Nominatieve lijst'!$J$10:$J$3009))","v":""},{"$f":"IF(ISBLANK(Vrijwilligersregister!C350)=TRUE,\"\",D350+F350)","v":""},{"$f":"Vrijwilligersregister!L350","v":0}]
[null,343,{"$f":"IF(ISBLANK(Vrijwilligersregister!C351)=TRUE,\"\",Vrijwilligersregister!C351)","v":""},{"$f":"IF(ISBLANK(Vrijwilligersregister!C351)=TRUE,\"\",SUMIF('Nominatieve lijst'!$D$10:$D$3009,C351,'Nominatieve lijst'!$G$10:$G$3009))","v":""},{"$f":"IF(ISBLANK(Vrijwilligersregister!C351)=TRUE,\"\",SUMIF('Nominatieve lijst'!$D$10:$D$3009,C351,'Nominatieve lijst'!$H$10:$H$3009))","v":""},{"$f":"IF(ISBLANK(Vrijwilligersregister!C351)=TRUE,\"\",SUMIF('Nominatieve lijst'!$D$10:$D$3009,C351,'Nominatieve lijst'!$J$10:$J$3009))","v":""},{"$f":"IF(ISBLANK(Vrijwilligersregister!C351)=TRUE,\"\",D351+F351)","v":""},{"$f":"Vrijwilligersregister!L351","v":0}]
[null,344,{"$f":"IF(ISBLANK(Vrijwilligersregister!C352)=TRUE,\"\",Vrijwilligersregister!C352)","v":""},{"$f":"IF(ISBLANK(Vrijwilligersregister!C352)=TRUE,\"\",SUMIF('Nominatieve lijst'!$D$10:$D$3009,C352,'Nominatieve lijst'!$G$10:$G$3009))","v":""},{"$f":"IF(ISBLANK(Vrijwilligersregister!C352)=TRUE,\"\",SUMIF('Nominatieve lijst'!$D$10:$D$3009,C352,'Nominatieve lijst'!$H$10:$H$3009))","v":""},{"$f":"IF(ISBLANK(Vrijwilligersregister!C352)=TRUE,\"\",SUMIF('Nominatieve lijst'!$D$10:$D$3009,C352,'Nominatieve lijst'!$J$10:$J$3009))","v":""},{"$f":"IF(ISBLANK(Vrijwilligersregister!C352)=TRUE,\"\",D352+F352)","v":""},{"$f":"Vrijwilligersregister!L352","v":0}]
[null,345,{"$f":"IF(ISBLANK(Vrijwilligersregister!C353)=TRUE,\"\",Vrijwilligersregister!C353)","v":""},{"$f":"IF(ISBLANK(Vrijwilligersregister!C353)=TRUE,\"\",SUMIF('Nominatieve lijst'!$D$10:$D$3009,C353,'Nominatieve lijst'!$G$10:$G$3009))","v":""},{"$f":"IF(ISBLANK(Vrijwilligersregister!C353)=TRUE,\"\",SUMIF('Nominatieve lijst'!$D$10:$D$3009,C353,'Nominatieve lijst'!$H$10:$H$3009))","v":""},{"$f":"IF(ISBLANK(Vrijwilligersregister!C353)=TRUE,\"\",SUMIF('Nominatieve lijst'!$D$10:$D$3009,C353,'Nominatieve lijst'!$J$10:$J$3009))","v":""},{"$f":"IF(ISBLANK(Vrijwilligersregister!C353)=TRUE,\"\",D353+F353)","v":""},{"$f":"Vrijwilligersregister!L353","v":0}]
[null,346,{"$f":"IF(ISBLANK(Vrijwilligersregister!C354)=TRUE,\"\",Vrijwilligersregister!C354)","v":""},{"$f":"IF(ISBLANK(Vrijwilligersregister!C354)=TRUE,\"\",SUMIF('Nominatieve lijst'!$D$10:$D$3009,C354,'Nominatieve lijst'!$G$10:$G$3009))","v":""},{"$f":"IF(ISBLANK(Vrijwilligersregister!C354)=TRUE,\"\",SUMIF('Nominatieve lijst'!$D$10:$D$3009,C354,'Nominatieve lijst'!$H$10:$H$3009))","v":""},{"$f":"IF(ISBLANK(Vrijwilligersregister!C354)=TRUE,\"\",SUMIF('Nominatieve lijst'!$D$10:$D$3009,C354,'Nominatieve lijst'!$J$10:$J$3009))","v":""},{"$f":"IF(ISBLANK(Vrijwilligersregister!C354)=TRUE,\"\",D354+F354)","v":""},{"$f":"Vrijwilligersregister!L354","v":0}]
[null,347,{"$f":"IF(ISBLANK(Vrijwilligersregister!C355)=TRUE,\"\",Vrijwilligersregister!C355)","v":""},{"$f":"IF(ISBLANK(Vrijwilligersregister!C355)=TRUE,\"\",SUMIF('Nominatieve lijst'!$D$10:$D$3009,C355,'Nominatieve lijst'!$G$10:$G$3009))","v":""},{"$f":"IF(ISBLANK(Vrijwilligersregister!C355)=TRUE,\"\",SUMIF('Nominatieve lijst'!$D$10:$D$3009,C355,'Nominatieve lijst'!$H$10:$H$3009))","v":""},{"$f":"IF(ISBLANK(Vrijwilligersregister!C355)=TRUE,\"\",SUMIF('Nominatieve lijst'!$D$10:$D$3009,C355,'Nominatieve lijst'!$J$10:$J$3009))","v":""},{"$f":"IF(ISBLANK(Vrijwilligersregister!C355)=TRUE,\"\",D355+F355)","v":""},{"$f":"Vrijwilligersregister!L355","v":0}]
[null,348,{"$f":"IF(ISBLANK(Vrijwilligersregister!C356)=TRUE,\"\",Vrijwilligersregister!C356)","v":""},{"$f":"IF(ISBLANK(Vrijwilligersregister!C356)=TRUE,\"\",SUMIF('Nominatieve lijst'!$D$10:$D$3009,C356,'Nominatieve lijst'!$G$10:$G$3009))","v":""},{"$f":"IF(ISBLANK(Vrijwilligersregister!C356)=TRUE,\"\",SUMIF('Nominatieve lijst'!$D$10:$D$3009,C356,'Nominatieve lijst'!$H$10:$H$3009))","v":""},{"$f":"IF(ISBLANK(Vrijwilligersregister!C356)=TRUE,\"\",SUMIF('Nominatieve lijst'!$D$10:$D$3009,C356,'Nominatieve lijst'!$J$10:$J$3009))","v":""},{"$f":"IF(ISBLANK(Vrijwilligersregister!C356)=TRUE,\"\",D356+F356)","v":""},{"$f":"Vrijwilligersregister!L356","v":0}]
[null,349,{"$f":"IF(ISBLANK(Vrijwilligersregister!C357)=TRUE,\"\",Vrijwilligersregister!C357)","v":""},{"$f":"IF(ISBLANK(Vrijwilligersregister!C357)=TRUE,\"\",SUMIF('Nominatieve lijst'!$D$10:$D$3009,C357,'Nominatieve lijst'!$G$10:$G$3009))","v":""},{"$f":"IF(ISBLANK(Vrijwilligersregister!C357)=TRUE,\"\",SUMIF('Nominatieve lijst'!$D$10:$D$3009,C357,'Nominatieve lijst'!$H$10:$H$3009))","v":""},{"$f":"IF(ISBLANK(Vrijwilligersregister!C357)=TRUE,\"\",SUMIF('Nominatieve lijst'!$D$10:$D$3009,C357,'Nominatieve lijst'!$J$10:$J$3009))","v":""},{"$f":"IF(ISBLANK(Vrijwilligersregister!C357)=TRUE,\"\",D357+F357)","v":""},{"$f":"Vrijwilligersregister!L357","v":0}]
[null,350,{"$f":"IF(ISBLANK(Vrijwilligersregister!C358)=TRUE,\"\",Vrijwilligersregister!C358)","v":""},{"$f":"IF(ISBLANK(Vrijwilligersregister!C358)=TRUE,\"\",SUMIF('Nominatieve lijst'!$D$10:$D$3009,C358,'Nominatieve lijst'!$G$10:$G$3009))","v":""},{"$f":"IF(ISBLANK(Vrijwilligersregister!C358)=TRUE,\"\",SUMIF('Nominatieve lijst'!$D$10:$D$3009,C358,'Nominatieve lijst'!$H$10:$H$3009))","v":""},{"$f":"IF(ISBLANK(Vrijwilligersregister!C358)=TRUE,\"\",SUMIF('Nominatieve lijst'!$D$10:$D$3009,C358,'Nominatieve lijst'!$J$10:$J$3009))","v":""},{"$f":"IF(ISBLANK(Vrijwilligersregister!C358)=TRUE,\"\",D358+F358)","v":""},{"$f":"Vrijwilligersregister!L358","v":0}]
[null,351,{"$f":"IF(ISBLANK(Vrijwilligersregister!C359)=TRUE,\"\",Vrijwilligersregister!C359)","v":""},{"$f":"IF(ISBLANK(Vrijwilligersregister!C359)=TRUE,\"\",SUMIF('Nominatieve lijst'!$D$10:$D$3009,C359,'Nominatieve lijst'!$G$10:$G$3009))","v":""},{"$f":"IF(ISBLANK(Vrijwilligersregister!C359)=TRUE,\"\",SUMIF('Nominatieve lijst'!$D$10:$D$3009,C359,'Nominatieve lijst'!$H$10:$H$3009))","v":""},{"$f":"IF(ISBLANK(Vrijwilligersregister!C359)=TRUE,\"\",SUMIF('Nominatieve lijst'!$D$10:$D$3009,C359,'Nominatieve lijst'!$J$10:$J$3009))","v":""},{"$f":"IF(ISBLANK(Vrijwilligersregister!C359)=TRUE,\"\",D359+F359)","v":""},{"$f":"Vrijwilligersregister!L359","v":0}]
[null,352,{"$f":"IF(ISBLANK(Vrijwilligersregister!C360)=TRUE,\"\",Vrijwilligersregister!C360)","v":""},{"$f":"IF(ISBLANK(Vrijwilligersregister!C360)=TRUE,\"\",SUMIF('Nominatieve lijst'!$D$10:$D$3009,C360,'Nominatieve lijst'!$G$10:$G$3009))","v":""},{"$f":"IF(ISBLANK(Vrijwilligersregister!C360)=TRUE,\"\",SUMIF('Nominatieve lijst'!$D$10:$D$3009,C360,'Nominatieve lijst'!$H$10:$H$3009))","v":""},{"$f":"IF(ISBLANK(Vrijwilligersregister!C360)=TRUE,\"\",SUMIF('Nominatieve lijst'!$D$10:$D$3009,C360,'Nominatieve lijst'!$J$10:$J$3009))","v":""},{"$f":"IF(ISBLANK(Vrijwilligersregister!C360)=TRUE,\"\",D360+F360)","v":""},{"$f":"Vrijwilligersregister!L360","v":0}]
[null,353,{"$f":"IF(ISBLANK(Vrijwilligersregister!C361)=TRUE,\"\",Vrijwilligersregister!C361)","v":""},{"$f":"IF(ISBLANK(Vrijwilligersregister!C361)=TRUE,\"\",SUMIF('Nominatieve lijst'!$D$10:$D$3009,C361,'Nominatieve lijst'!$G$10:$G$3009))","v":""},{"$f":"IF(ISBLANK(Vrijwilligersregister!C361)=TRUE,\"\",SUMIF('Nominatieve lijst'!$D$10:$D$3009,C361,'Nominatieve lijst'!$H$10:$H$3009))","v":""},{"$f":"IF(ISBLANK(Vrijwilligersregister!C361)=TRUE,\"\",SUMIF('Nominatieve lijst'!$D$10:$D$3009,C361,'Nominatieve lijst'!$J$10:$J$3009))","v":""},{"$f":"IF(ISBLANK(Vrijwilligersregister!C361)=TRUE,\"\",D361+F361)","v":""},{"$f":"Vrijwilligersregister!L361","v":0}]
[null,354,{"$f":"IF(ISBLANK(Vrijwilligersregister!C362)=TRUE,\"\",Vrijwilligersregister!C362)","v":""},{"$f":"IF(ISBLANK(Vrijwilligersregister!C362)=TRUE,\"\",SUMIF('Nominatieve lijst'!$D$10:$D$3009,C362,'Nominatieve lijst'!$G$10:$G$3009))","v":""},{"$f":"IF(ISBLANK(Vrijwilligersregister!C362)=TRUE,\"\",SUMIF('Nominatieve lijst'!$D$10:$D$3009,C362,'Nominatieve lijst'!$H$10:$H$3009))","v":""},{"$f":"IF(ISBLANK(Vrijwilligersregister!C362)=TRUE,\"\",SUMIF('Nominatieve lijst'!$D$10:$D$3009,C362,'Nominatieve lijst'!$J$10:$J$3009))","v":""},{"$f":"IF(ISBLANK(Vrijwilligersregister!C362)=TRUE,\"\",D362+F362)","v":""},{"$f":"Vrijwilligersregister!L362","v":0}]
[null,355,{"$f":"IF(ISBLANK(Vrijwilligersregister!C363)=TRUE,\"\",Vrijwilligersregister!C363)","v":""},{"$f":"IF(ISBLANK(Vrijwilligersregister!C363)=TRUE,\"\",SUMIF('Nominatieve lijst'!$D$10:$D$3009,C363,'Nominatieve lijst'!$G$10:$G$3009))","v":""},{"$f":"IF(ISBLANK(Vrijwilligersregister!C363)=TRUE,\"\",SUMIF('Nominatieve lijst'!$D$10:$D$3009,C363,'Nominatieve lijst'!$H$10:$H$3009))","v":""},{"$f":"IF(ISBLANK(Vrijwilligersregister!C363)=TRUE,\"\",SUMIF('Nominatieve lijst'!$D$10:$D$3009,C363,'Nominatieve lijst'!$J$10:$J$3009))","v":""},{"$f":"IF(ISBLANK(Vrijwilligersregister!C363)=TRUE,\"\",D363+F363)","v":""},{"$f":"Vrijwilligersregister!L363","v":0}]
[null,356,{"$f":"IF(ISBLANK(Vrijwilligersregister!C364)=TRUE,\"\",Vrijwilligersregister!C364)","v":""},{"$f":"IF(ISBLANK(Vrijwilligersregister!C364)=TRUE,\"\",SUMIF('Nominatieve lijst'!$D$10:$D$3009,C364,'Nominatieve lijst'!$G$10:$G$3009))","v":""},{"$f":"IF(ISBLANK(Vrijwilligersregister!C364)=TRUE,\"\",SUMIF('Nominatieve lijst'!$D$10:$D$3009,C364,'Nominatieve lijst'!$H$10:$H$3009))","v":""},{"$f":"IF(ISBLANK(Vrijwilligersregister!C364)=TRUE,\"\",SUMIF('Nominatieve lijst'!$D$10:$D$3009,C364,'Nominatieve lijst'!$J$10:$J$3009))","v":""},{"$f":"IF(ISBLANK(Vrijwilligersregister!C364)=TRUE,\"\",D364+F364)","v":""},{"$f":"Vrijwilligersregister!L364","v":0}]
[null,357,{"$f":"IF(ISBLANK(Vrijwilligersregister!C365)=TRUE,\"\",Vrijwilligersregister!C365)","v":""},{"$f":"IF(ISBLANK(Vrijwilligersregister!C365)=TRUE,\"\",SUMIF('Nominatieve lijst'!$D$10:$D$3009,C365,'Nominatieve lijst'!$G$10:$G$3009))","v":""},{"$f":"IF(ISBLANK(Vrijwilligersregister!C365)=TRUE,\"\",SUMIF('Nominatieve lijst'!$D$10:$D$3009,C365,'Nominatieve lijst'!$H$10:$H$3009))","v":""},{"$f":"IF(ISBLANK(Vrijwilligersregister!C365)=TRUE,\"\",SUMIF('Nominatieve lijst'!$D$10:$D$3009,C365,'Nominatieve lijst'!$J$10:$J$3009))","v":""},{"$f":"IF(ISBLANK(Vrijwilligersregister!C365)=TRUE,\"\",D365+F365)","v":""},{"$f":"Vrijwilligersregister!L365","v":0}]
[null,358,{"$f":"IF(ISBLANK(Vrijwilligersregister!C366)=TRUE,\"\",Vrijwilligersregister!C366)","v":""},{"$f":"IF(ISBLANK(Vrijwilligersregister!C366)=TRUE,\"\",SUMIF('Nominatieve lijst'!$D$10:$D$3009,C366,'Nominatieve lijst'!$G$10:$G$3009))","v":""},{"$f":"IF(ISBLANK(Vrijwilligersregister!C366)=TRUE,\"\",SUMIF('Nominatieve lijst'!$D$10:$D$3009,C366,'Nominatieve lijst'!$H$10:$H$3009))","v":""},{"$f":"IF(ISBLANK(Vrijwilligersregister!C366)=TRUE,\"\",SUMIF('Nominatieve lijst'!$D$10:$D$3009,C366,'Nominatieve lijst'!$J$10:$J$3009))","v":""},{"$f":"IF(ISBLANK(Vrijwilligersregister!C366)=TRUE,\"\",D366+F366)","v":""},{"$f":"Vrijwilligersregister!L366","v":0}]
[null,359,{"$f":"IF(ISBLANK(Vrijwilligersregister!C367)=TRUE,\"\",Vrijwilligersregister!C367)","v":""},{"$f":"IF(ISBLANK(Vrijwilligersregister!C367)=TRUE,\"\",SUMIF('Nominatieve lijst'!$D$10:$D$3009,C367,'Nominatieve lijst'!$G$10:$G$3009))","v":""},{"$f":"IF(ISBLANK(Vrijwilligersregister!C367)=TRUE,\"\",SUMIF('Nominatieve lijst'!$D$10:$D$3009,C367,'Nominatieve lijst'!$H$10:$H$3009))","v":""},{"$f":"IF(ISBLANK(Vrijwilligersregister!C367)=TRUE,\"\",SUMIF('Nominatieve lijst'!$D$10:$D$3009,C367,'Nominatieve lijst'!$J$10:$J$3009))","v":""},{"$f":"IF(ISBLANK(Vrijwilligersregister!C367)=TRUE,\"\",D367+F367)","v":""},{"$f":"Vrijwilligersregister!L367","v":0}]
[null,360,{"$f":"IF(ISBLANK(Vrijwilligersregister!C368)=TRUE,\"\",Vrijwilligersregister!C368)","v":""},{"$f":"IF(ISBLANK(Vrijwilligersregister!C368)=TRUE,\"\",SUMIF('Nominatieve lijst'!$D$10:$D$3009,C368,'Nominatieve lijst'!$G$10:$G$3009))","v":""},{"$f":"IF(ISBLANK(Vrijwilligersregister!C368)=TRUE,\"\",SUMIF('Nominatieve lijst'!$D$10:$D$3009,C368,'Nominatieve lijst'!$H$10:$H$3009))","v":""},{"$f":"IF(ISBLANK(Vrijwilligersregister!C368)=TRUE,\"\",SUMIF('Nominatieve lijst'!$D$10:$D$3009,C368,'Nominatieve lijst'!$J$10:$J$3009))","v":""},{"$f":"IF(ISBLANK(Vrijwilligersregister!C368)=TRUE,\"\",D368+F368)","v":""},{"$f":"Vrijwilligersregister!L368","v":0}]
[null,361,{"$f":"IF(ISBLANK(Vrijwilligersregister!C369)=TRUE,\"\",Vrijwilligersregister!C369)","v":""},{"$f":"IF(ISBLANK(Vrijwilligersregister!C369)=TRUE,\"\",SUMIF('Nominatieve lijst'!$D$10:$D$3009,C369,'Nominatieve lijst'!$G$10:$G$3009))","v":""},{"$f":"IF(ISBLANK(Vrijwilligersregister!C369)=TRUE,\"\",SUMIF('Nominatieve lijst'!$D$10:$D$3009,C369,'Nominatieve lijst'!$H$10:$H$3009))","v":""},{"$f":"IF(ISBLANK(Vrijwilligersregister!C369)=TRUE,\"\",SUMIF('Nominatieve lijst'!$D$10:$D$3009,C369,'Nominatieve lijst'!$J$10:$J$3009))","v":""},{"$f":"IF(ISBLANK(Vrijwilligersregister!C369)=TRUE,\"\",D369+F369)","v":""},{"$f":"Vrijwilligersregister!L369","v":0}]
[null,362,{"$f":"IF(ISBLANK(Vrijwilligersregister!C370)=TRUE,\"\",Vrijwilligersregister!C370)","v":""},{"$f":"IF(ISBLANK(Vrijwilligersregister!C370)=TRUE,\"\",SUMIF('Nominatieve lijst'!$D$10:$D$3009,C370,'Nominatieve lijst'!$G$10:$G$3009))","v":""},{"$f":"IF(ISBLANK(Vrijwilligersregister!C370)=TRUE,\"\",SUMIF('Nominatieve lijst'!$D$10:$D$3009,C370,'Nominatieve lijst'!$H$10:$H$3009))","v":""},{"$f":"IF(ISBLANK(Vrijwilligersregister!C370)=TRUE,\"\",SUMIF('Nominatieve lijst'!$D$10:$D$3009,C370,'Nominatieve lijst'!$J$10:$J$3009))","v":""},{"$f":"IF(ISBLANK(Vrijwilligersregister!C370)=TRUE,\"\",D370+F370)","v":""},{"$f":"Vrijwilligersregister!L370","v":0}]
[null,363,{"$f":"IF(ISBLANK(Vrijwilligersregister!C371)=TRUE,\"\",Vrijwilligersregister!C371)","v":""},{"$f":"IF(ISBLANK(Vrijwilligersregister!C371)=TRUE,\"\",SUMIF('Nominatieve lijst'!$D$10:$D$3009,C371,'Nominatieve lijst'!$G$10:$G$3009))","v":""},{"$f":"IF(ISBLANK(Vrijwilligersregister!C371)=TRUE,\"\",SUMIF('Nominatieve lijst'!$D$10:$D$3009,C371,'Nominatieve lijst'!$H$10:$H$3009))","v":""},{"$f":"IF(ISBLANK(Vrijwilligersregister!C371)=TRUE,\"\",SUMIF('Nominatieve lijst'!$D$10:$D$3009,C371,'Nominatieve lijst'!$J$10:$J$3009))","v":""},{"$f":"IF(ISBLANK(Vrijwilligersregister!C371)=TRUE,\"\",D371+F371)","v":""},{"$f":"Vrijwilligersregister!L371","v":0}]
[null,364,{"$f":"IF(ISBLANK(Vrijwilligersregister!C372)=TRUE,\"\",Vrijwilligersregister!C372)","v":""},{"$f":"IF(ISBLANK(Vrijwilligersregister!C372)=TRUE,\"\",SUMIF('Nominatieve lijst'!$D$10:$D$3009,C372,'Nominatieve lijst'!$G$10:$G$3009))","v":""},{"$f":"IF(ISBLANK(Vrijwilligersregister!C372)=TRUE,\"\",SUMIF('Nominatieve lijst'!$D$10:$D$3009,C372,'Nominatieve lijst'!$H$10:$H$3009))","v":""},{"$f":"IF(ISBLANK(Vrijwilligersregister!C372)=TRUE,\"\",SUMIF('Nominatieve lijst'!$D$10:$D$3009,C372,'Nominatieve lijst'!$J$10:$J$3009))","v":""},{"$f":"IF(ISBLANK(Vrijwilligersregister!C372)=TRUE,\"\",D372+F372)","v":""},{"$f":"Vrijwilligersregister!L372","v":0}]
[null,365,{"$f":"IF(ISBLANK(Vrijwilligersregister!C373)=TRUE,\"\",Vrijwilligersregister!C373)","v":""},{"$f":"IF(ISBLANK(Vrijwilligersregister!C373)=TRUE,\"\",SUMIF('Nominatieve lijst'!$D$10:$D$3009,C373,'Nominatieve lijst'!$G$10:$G$3009))","v":""},{"$f":"IF(ISBLANK(Vrijwilligersregister!C373)=TRUE,\"\",SUMIF('Nominatieve lijst'!$D$10:$D$3009,C373,'Nominatieve lijst'!$H$10:$H$3009))","v":""},{"$f":"IF(ISBLANK(Vrijwilligersregister!C373)=TRUE,\"\",SUMIF('Nominatieve lijst'!$D$10:$D$3009,C373,'Nominatieve lijst'!$J$10:$J$3009))","v":""},{"$f":"IF(ISBLANK(Vrijwilligersregister!C373)=TRUE,\"\",D373+F373)","v":""},{"$f":"Vrijwilligersregister!L373","v":0}]
[null,366,{"$f":"IF(ISBLANK(Vrijwilligersregister!C374)=TRUE,\"\",Vrijwilligersregister!C374)","v":""},{"$f":"IF(ISBLANK(Vrijwilligersregister!C374)=TRUE,\"\",SUMIF('Nominatieve lijst'!$D$10:$D$3009,C374,'Nominatieve lijst'!$G$10:$G$3009))","v":""},{"$f":"IF(ISBLANK(Vrijwilligersregister!C374)=TRUE,\"\",SUMIF('Nominatieve lijst'!$D$10:$D$3009,C374,'Nominatieve lijst'!$H$10:$H$3009))","v":""},{"$f":"IF(ISBLANK(Vrijwilligersregister!C374)=TRUE,\"\",SUMIF('Nominatieve lijst'!$D$10:$D$3009,C374,'Nominatieve lijst'!$J$10:$J$3009))","v":""},{"$f":"IF(ISBLANK(Vrijwilligersregister!C374)=TRUE,\"\",D374+F374)","v":""},{"$f":"Vrijwilligersregister!L374","v":0}]
[null,367,{"$f":"IF(ISBLANK(Vrijwilligersregister!C375)=TRUE,\"\",Vrijwilligersregister!C375)","v":""},{"$f":"IF(ISBLANK(Vrijwilligersregister!C375)=TRUE,\"\",SUMIF('Nominatieve lijst'!$D$10:$D$3009,C375,'Nominatieve lijst'!$G$10:$G$3009))","v":""},{"$f":"IF(ISBLANK(Vrijwilligersregister!C375)=TRUE,\"\",SUMIF('Nominatieve lijst'!$D$10:$D$3009,C375,'Nominatieve lijst'!$H$10:$H$3009))","v":""},{"$f":"IF(ISBLANK(Vrijwilligersregister!C375)=TRUE,\"\",SUMIF('Nominatieve lijst'!$D$10:$D$3009,C375,'Nominatieve lijst'!$J$10:$J$3009))","v":""},{"$f":"IF(ISBLANK(Vrijwilligersregister!C375)=TRUE,\"\",D375+F375)","v":""},{"$f":"Vrijwilligersregister!L375","v":0}]
[null,368,{"$f":"IF(ISBLANK(Vrijwilligersregister!C376)=TRUE,\"\",Vrijwilligersregister!C376)","v":""},{"$f":"IF(ISBLANK(Vrijwilligersregister!C376)=TRUE,\"\",SUMIF('Nominatieve lijst'!$D$10:$D$3009,C376,'Nominatieve lijst'!$G$10:$G$3009))","v":""},{"$f":"IF(ISBLANK(Vrijwilligersregister!C376)=TRUE,\"\",SUMIF('Nominatieve lijst'!$D$10:$D$3009,C376,'Nominatieve lijst'!$H$10:$H$3009))","v":""},{"$f":"IF(ISBLANK(Vrijwilligersregister!C376)=TRUE,\"\",SUMIF('Nominatieve lijst'!$D$10:$D$3009,C376,'Nominatieve lijst'!$J$10:$J$3009))","v":""},{"$f":"IF(ISBLANK(Vrijwilligersregister!C376)=TRUE,\"\",D376+F376)","v":""},{"$f":"Vrijwilligersregister!L376","v":0}]
[null,369,{"$f":"IF(ISBLANK(Vrijwilligersregister!C377)=TRUE,\"\",Vrijwilligersregister!C377)","v":""},{"$f":"IF(ISBLANK(Vrijwilligersregister!C377)=TRUE,\"\",SUMIF('Nominatieve lijst'!$D$10:$D$3009,C377,'Nominatieve lijst'!$G$10:$G$3009))","v":""},{"$f":"IF(ISBLANK(Vrijwilligersregister!C377)=TRUE,\"\",SUMIF('Nominatieve lijst'!$D$10:$D$3009,C377,'Nominatieve lijst'!$H$10:$H$3009))","v":""},{"$f":"IF(ISBLANK(Vrijwilligersregister!C377)=TRUE,\"\",SUMIF('Nominatieve lijst'!$D$10:$D$3009,C377,'Nominatieve lijst'!$J$10:$J$3009))","v":""},{"$f":"IF(ISBLANK(Vrijwilligersregister!C377)=TRUE,\"\",D377+F377)","v":""},{"$f":"Vrijwilligersregister!L377","v":0}]
[null,370,{"$f":"IF(ISBLANK(Vrijwilligersregister!C378)=TRUE,\"\",Vrijwilligersregister!C378)","v":""},{"$f":"IF(ISBLANK(Vrijwilligersregister!C378)=TRUE,\"\",SUMIF('Nominatieve lijst'!$D$10:$D$3009,C378,'Nominatieve lijst'!$G$10:$G$3009))","v":""},{"$f":"IF(ISBLANK(Vrijwilligersregister!C378)=TRUE,\"\",SUMIF('Nominatieve lijst'!$D$10:$D$3009,C378,'Nominatieve lijst'!$H$10:$H$3009))","v":""},{"$f":"IF(ISBLANK(Vrijwilligersregister!C378)=TRUE,\"\",SUMIF('Nominatieve lijst'!$D$10:$D$3009,C378,'Nominatieve lijst'!$J$10:$J$3009))","v":""},{"$f":"IF(ISBLANK(Vrijwilligersregister!C378)=TRUE,\"\",D378+F378)","v":""},{"$f":"Vrijwilligersregister!L378","v":0}]
[null,371,{"$f":"IF(ISBLANK(Vrijwilligersregister!C379)=TRUE,\"\",Vrijwilligersregister!C379)","v":""},{"$f":"IF(ISBLANK(Vrijwilligersregister!C379)=TRUE,\"\",SUMIF('Nominatieve lijst'!$D$10:$D$3009,C379,'Nominatieve lijst'!$G$10:$G$3009))","v":""},{"$f":"IF(ISBLANK(Vrijwilligersregister!C379)=TRUE,\"\",SUMIF('Nominatieve lijst'!$D$10:$D$3009,C379,'Nominatieve lijst'!$H$10:$H$3009))","v":""},{"$f":"IF(ISBLANK(Vrijwilligersregister!C379)=TRUE,\"\",SUMIF('Nominatieve lijst'!$D$10:$D$3009,C379,'Nominatieve lijst'!$J$10:$J$3009))","v":""},{"$f":"IF(ISBLANK(Vrijwilligersregister!C379)=TRUE,\"\",D379+F379)","v":""},{"$f":"Vrijwilligersregister!L379","v":0}]
[null,372,{"$f":"IF(ISBLANK(Vrijwilligersregister!C380)=TRUE,\"\",Vrijwilligersregister!C380)","v":""},{"$f":"IF(ISBLANK(Vrijwilligersregister!C380)=TRUE,\"\",SUMIF('Nominatieve lijst'!$D$10:$D$3009,C380,'Nominatieve lijst'!$G$10:$G$3009))","v":""},{"$f":"IF(ISBLANK(Vrijwilligersregister!C380)=TRUE,\"\",SUMIF('Nominatieve lijst'!$D$10:$D$3009,C380,'Nominatieve lijst'!$H$10:$H$3009))","v":""},{"$f":"IF(ISBLANK(Vrijwilligersregister!C380)=TRUE,\"\",SUMIF('Nominatieve lijst'!$D$10:$D$3009,C380,'Nominatieve lijst'!$J$10:$J$3009))","v":""},{"$f":"IF(ISBLANK(Vrijwilligersregister!C380)=TRUE,\"\",D380+F380)","v":""},{"$f":"Vrijwilligersregister!L380","v":0}]
[null,373,{"$f":"IF(ISBLANK(Vrijwilligersregister!C381)=TRUE,\"\",Vrijwilligersregister!C381)","v":""},{"$f":"IF(ISBLANK(Vrijwilligersregister!C381)=TRUE,\"\",SUMIF('Nominatieve lijst'!$D$10:$D$3009,C381,'Nominatieve lijst'!$G$10:$G$3009))","v":""},{"$f":"IF(ISBLANK(Vrijwilligersregister!C381)=TRUE,\"\",SUMIF('Nominatieve lijst'!$D$10:$D$3009,C381,'Nominatieve lijst'!$H$10:$H$3009))","v":""},{"$f":"IF(ISBLANK(Vrijwilligersregister!C381)=TRUE,\"\",SUMIF('Nominatieve lijst'!$D$10:$D$3009,C381,'Nominatieve lijst'!$J$10:$J$3009))","v":""},{"$f":"IF(ISBLANK(Vrijwilligersregister!C381)=TRUE,\"\",D381+F381)","v":""},{"$f":"Vrijwilligersregister!L381","v":0}]
[null,374,{"$f":"IF(ISBLANK(Vrijwilligersregister!C382)=TRUE,\"\",Vrijwilligersregister!C382)","v":""},{"$f":"IF(ISBLANK(Vrijwilligersregister!C382)=TRUE,\"\",SUMIF('Nominatieve lijst'!$D$10:$D$3009,C382,'Nominatieve lijst'!$G$10:$G$3009))","v":""},{"$f":"IF(ISBLANK(Vrijwilligersregister!C382)=TRUE,\"\",SUMIF('Nominatieve lijst'!$D$10:$D$3009,C382,'Nominatieve lijst'!$H$10:$H$3009))","v":""},{"$f":"IF(ISBLANK(Vrijwilligersregister!C382)=TRUE,\"\",SUMIF('Nominatieve lijst'!$D$10:$D$3009,C382,'Nominatieve lijst'!$J$10:$J$3009))","v":""},{"$f":"IF(ISBLANK(Vrijwilligersregister!C382)=TRUE,\"\",D382+F382)","v":""},{"$f":"Vrijwilligersregister!L382","v":0}]
[null,375,{"$f":"IF(ISBLANK(Vrijwilligersregister!C383)=TRUE,\"\",Vrijwilligersregister!C383)","v":""},{"$f":"IF(ISBLANK(Vrijwilligersregister!C383)=TRUE,\"\",SUMIF('Nominatieve lijst'!$D$10:$D$3009,C383,'Nominatieve lijst'!$G$10:$G$3009))","v":""},{"$f":"IF(ISBLANK(Vrijwilligersregister!C383)=TRUE,\"\",SUMIF('Nominatieve lijst'!$D$10:$D$3009,C383,'Nominatieve lijst'!$H$10:$H$3009))","v":""},{"$f":"IF(ISBLANK(Vrijwilligersregister!C383)=TRUE,\"\",SUMIF('Nominatieve lijst'!$D$10:$D$3009,C383,'Nominatieve lijst'!$J$10:$J$3009))","v":""},{"$f":"IF(ISBLANK(Vrijwilligersregister!C383)=TRUE,\"\",D383+F383)","v":""},{"$f":"Vrijwilligersregister!L383","v":0}]
[null,376,{"$f":"IF(ISBLANK(Vrijwilligersregister!C384)=TRUE,\"\",Vrijwilligersregister!C384)","v":""},{"$f":"IF(ISBLANK(Vrijwilligersregister!C384)=TRUE,\"\",SUMIF('Nominatieve lijst'!$D$10:$D$3009,C384,'Nominatieve lijst'!$G$10:$G$3009))","v":""},{"$f":"IF(ISBLANK(Vrijwilligersregister!C384)=TRUE,\"\",SUMIF('Nominatieve lijst'!$D$10:$D$3009,C384,'Nominatieve lijst'!$H$10:$H$3009))","v":""},{"$f":"IF(ISBLANK(Vrijwilligersregister!C384)=TRUE,\"\",SUMIF('Nominatieve lijst'!$D$10:$D$3009,C384,'Nominatieve lijst'!$J$10:$J$3009))","v":""},{"$f":"IF(ISBLANK(Vrijwilligersregister!C384)=TRUE,\"\",D384+F384)","v":""},{"$f":"Vrijwilligersregister!L384","v":0}]
[null,377,{"$f":"IF(ISBLANK(Vrijwilligersregister!C385)=TRUE,\"\",Vrijwilligersregister!C385)","v":""},{"$f":"IF(ISBLANK(Vrijwilligersregister!C385)=TRUE,\"\",SUMIF('Nominatieve lijst'!$D$10:$D$3009,C385,'Nominatieve lijst'!$G$10:$G$3009))","v":""},{"$f":"IF(ISBLANK(Vrijwilligersregister!C385)=TRUE,\"\",SUMIF('Nominatieve lijst'!$D$10:$D$3009,C385,'Nominatieve lijst'!$H$10:$H$3009))","v":""},{"$f":"IF(ISBLANK(Vrijwilligersregister!C385)=TRUE,\"\",SUMIF('Nominatieve lijst'!$D$10:$D$3009,C385,'Nominatieve lijst'!$J$10:$J$3009))","v":""},{"$f":"IF(ISBLANK(Vrijwilligersregister!C385)=TRUE,\"\",D385+F385)","v":""},{"$f":"Vrijwilligersregister!L385","v":0}]
[null,378,{"$f":"IF(ISBLANK(Vrijwilligersregister!C386)=TRUE,\"\",Vrijwilligersregister!C386)","v":""},{"$f":"IF(ISBLANK(Vrijwilligersregister!C386)=TRUE,\"\",SUMIF('Nominatieve lijst'!$D$10:$D$3009,C386,'Nominatieve lijst'!$G$10:$G$3009))","v":""},{"$f":"IF(ISBLANK(Vrijwilligersregister!C386)=TRUE,\"\",SUMIF('Nominatieve lijst'!$D$10:$D$3009,C386,'Nominatieve lijst'!$H$10:$H$3009))","v":""},{"$f":"IF(ISBLANK(Vrijwilligersregister!C386)=TRUE,\"\",SUMIF('Nominatieve lijst'!$D$10:$D$3009,C386,'Nominatieve lijst'!$J$10:$J$3009))","v":""},{"$f":"IF(ISBLANK(Vrijwilligersregister!C386)=TRUE,\"\",D386+F386)","v":""},{"$f":"Vrijwilligersregister!L386","v":0}]
[null,379,{"$f":"IF(ISBLANK(Vrijwilligersregister!C387)=TRUE,\"\",Vrijwilligersregister!C387)","v":""},{"$f":"IF(ISBLANK(Vrijwilligersregister!C387)=TRUE,\"\",SUMIF('Nominatieve lijst'!$D$10:$D$3009,C387,'Nominatieve lijst'!$G$10:$G$3009))","v":""},{"$f":"IF(ISBLANK(Vrijwilligersregister!C387)=TRUE,\"\",SUMIF('Nominatieve lijst'!$D$10:$D$3009,C387,'Nominatieve lijst'!$H$10:$H$3009))","v":""},{"$f":"IF(ISBLANK(Vrijwilligersregister!C387)=TRUE,\"\",SUMIF('Nominatieve lijst'!$D$10:$D$3009,C387,'Nominatieve lijst'!$J$10:$J$3009))","v":""},{"$f":"IF(ISBLANK(Vrijwilligersregister!C387)=TRUE,\"\",D387+F387)","v":""},{"$f":"Vrijwilligersregister!L387","v":0}]
[null,380,{"$f":"IF(ISBLANK(Vrijwilligersregister!C388)=TRUE,\"\",Vrijwilligersregister!C388)","v":""},{"$f":"IF(ISBLANK(Vrijwilligersregister!C388)=TRUE,\"\",SUMIF('Nominatieve lijst'!$D$10:$D$3009,C388,'Nominatieve lijst'!$G$10:$G$3009))","v":""},{"$f":"IF(ISBLANK(Vrijwilligersregister!C388)=TRUE,\"\",SUMIF('Nominatieve lijst'!$D$10:$D$3009,C388,'Nominatieve lijst'!$H$10:$H$3009))","v":""},{"$f":"IF(ISBLANK(Vrijwilligersregister!C388)=TRUE,\"\",SUMIF('Nominatieve lijst'!$D$10:$D$3009,C388,'Nominatieve lijst'!$J$10:$J$3009))","v":""},{"$f":"IF(ISBLANK(Vrijwilligersregister!C388)=TRUE,\"\",D388+F388)","v":""},{"$f":"Vrijwilligersregister!L388","v":0}]
[null,381,{"$f":"IF(ISBLANK(Vrijwilligersregister!C389)=TRUE,\"\",Vrijwilligersregister!C389)","v":""},{"$f":"IF(ISBLANK(Vrijwilligersregister!C389)=TRUE,\"\",SUMIF('Nominatieve lijst'!$D$10:$D$3009,C389,'Nominatieve lijst'!$G$10:$G$3009))","v":""},{"$f":"IF(ISBLANK(Vrijwilligersregister!C389)=TRUE,\"\",SUMIF('Nominatieve lijst'!$D$10:$D$3009,C389,'Nominatieve lijst'!$H$10:$H$3009))","v":""},{"$f":"IF(ISBLANK(Vrijwilligersregister!C389)=TRUE,\"\",SUMIF('Nominatieve lijst'!$D$10:$D$3009,C389,'Nominatieve lijst'!$J$10:$J$3009))","v":""},{"$f":"IF(ISBLANK(Vrijwilligersregister!C389)=TRUE,\"\",D389+F389)","v":""},{"$f":"Vrijwilligersregister!L389","v":0}]
[null,382,{"$f":"IF(ISBLANK(Vrijwilligersregister!C390)=TRUE,\"\",Vrijwilligersregister!C390)","v":""},{"$f":"IF(ISBLANK(Vrijwilligersregister!C390)=TRUE,\"\",SUMIF('Nominatieve lijst'!$D$10:$D$3009,C390,'Nominatieve lijst'!$G$10:$G$3009))","v":""},{"$f":"IF(ISBLANK(Vrijwilligersregister!C390)=TRUE,\"\",SUMIF('Nominatieve lijst'!$D$10:$D$3009,C390,'Nominatieve lijst'!$H$10:$H$3009))","v":""},{"$f":"IF(ISBLANK(Vrijwilligersregister!C390)=TRUE,\"\",SUMIF('Nominatieve lijst'!$D$10:$D$3009,C390,'Nominatieve lijst'!$J$10:$J$3009))","v":""},{"$f":"IF(ISBLANK(Vrijwilligersregister!C390)=TRUE,\"\",D390+F390)","v":""},{"$f":"Vrijwilligersregister!L390","v":0}]
[null,383,{"$f":"IF(ISBLANK(Vrijwilligersregister!C391)=TRUE,\"\",Vrijwilligersregister!C391)","v":""},{"$f":"IF(ISBLANK(Vrijwilligersregister!C391)=TRUE,\"\",SUMIF('Nominatieve lijst'!$D$10:$D$3009,C391,'Nominatieve lijst'!$G$10:$G$3009))","v":""},{"$f":"IF(ISBLANK(Vrijwilligersregister!C391)=TRUE,\"\",SUMIF('Nominatieve lijst'!$D$10:$D$3009,C391,'Nominatieve lijst'!$H$10:$H$3009))","v":""},{"$f":"IF(ISBLANK(Vrijwilligersregister!C391)=TRUE,\"\",SUMIF('Nominatieve lijst'!$D$10:$D$3009,C391,'Nominatieve lijst'!$J$10:$J$3009))","v":""},{"$f":"IF(ISBLANK(Vrijwilligersregister!C391)=TRUE,\"\",D391+F391)","v":""},{"$f":"Vrijwilligersregister!L391","v":0}]
[null,384,{"$f":"IF(ISBLANK(Vrijwilligersregister!C392)=TRUE,\"\",Vrijwilligersregister!C392)","v":""},{"$f":"IF(ISBLANK(Vrijwilligersregister!C392)=TRUE,\"\",SUMIF('Nominatieve lijst'!$D$10:$D$3009,C392,'Nominatieve lijst'!$G$10:$G$3009))","v":""},{"$f":"IF(ISBLANK(Vrijwilligersregister!C392)=TRUE,\"\",SUMIF('Nominatieve lijst'!$D$10:$D$3009,C392,'Nominatieve lijst'!$H$10:$H$3009))","v":""},{"$f":"IF(ISBLANK(Vrijwilligersregister!C392)=TRUE,\"\",SUMIF('Nominatieve lijst'!$D$10:$D$3009,C392,'Nominatieve lijst'!$J$10:$J$3009))","v":""},{"$f":"IF(ISBLANK(Vrijwilligersregister!C392)=TRUE,\"\",D392+F392)","v":""},{"$f":"Vrijwilligersregister!L392","v":0}]
[null,385,{"$f":"IF(ISBLANK(Vrijwilligersregister!C393)=TRUE,\"\",Vrijwilligersregister!C393)","v":""},{"$f":"IF(ISBLANK(Vrijwilligersregister!C393)=TRUE,\"\",SUMIF('Nominatieve lijst'!$D$10:$D$3009,C393,'Nominatieve lijst'!$G$10:$G$3009))","v":""},{"$f":"IF(ISBLANK(Vrijwilligersregister!C393)=TRUE,\"\",SUMIF('Nominatieve lijst'!$D$10:$D$3009,C393,'Nominatieve lijst'!$H$10:$H$3009))","v":""},{"$f":"IF(ISBLANK(Vrijwilligersregister!C393)=TRUE,\"\",SUMIF('Nominatieve lijst'!$D$10:$D$3009,C393,'Nominatieve lijst'!$J$10:$J$3009))","v":""},{"$f":"IF(ISBLANK(Vrijwilligersregister!C393)=TRUE,\"\",D393+F393)","v":""},{"$f":"Vrijwilligersregister!L393","v":0}]
[null,386,{"$f":"IF(ISBLANK(Vrijwilligersregister!C394)=TRUE,\"\",Vrijwilligersregister!C394)","v":""},{"$f":"IF(ISBLANK(Vrijwilligersregister!C394)=TRUE,\"\",SUMIF('Nominatieve lijst'!$D$10:$D$3009,C394,'Nominatieve lijst'!$G$10:$G$3009))","v":""},{"$f":"IF(ISBLANK(Vrijwilligersregister!C394)=TRUE,\"\",SUMIF('Nominatieve lijst'!$D$10:$D$3009,C394,'Nominatieve lijst'!$H$10:$H$3009))","v":""},{"$f":"IF(ISBLANK(Vrijwilligersregister!C394)=TRUE,\"\",SUMIF('Nominatieve lijst'!$D$10:$D$3009,C394,'Nominatieve lijst'!$J$10:$J$3009))","v":""},{"$f":"IF(ISBLANK(Vrijwilligersregister!C394)=TRUE,\"\",D394+F394)","v":""},{"$f":"Vrijwilligersregister!L394","v":0}]
[null,387,{"$f":"IF(ISBLANK(Vrijwilligersregister!C395)=TRUE,\"\",Vrijwilligersregister!C395)","v":""},{"$f":"IF(ISBLANK(Vrijwilligersregister!C395)=TRUE,\"\",SUMIF('Nominatieve lijst'!$D$10:$D$3009,C395,'Nominatieve lijst'!$G$10:$G$3009))","v":""},{"$f":"IF(ISBLANK(Vrijwilligersregister!C395)=TRUE,\"\",SUMIF('Nominatieve lijst'!$D$10:$D$3009,C395,'Nominatieve lijst'!$H$10:$H$3009))","v":""},{"$f":"IF(ISBLANK(Vrijwilligersregister!C395)=TRUE,\"\",SUMIF('Nominatieve lijst'!$D$10:$D$3009,C395,'Nominatieve lijst'!$J$10:$J$3009))","v":""},{"$f":"IF(ISBLANK(Vrijwilligersregister!C395)=TRUE,\"\",D395+F395)","v":""},{"$f":"Vrijwilligersregister!L395","v":0}]
[null,388,{"$f":"IF(ISBLANK(Vrijwilligersregister!C396)=TRUE,\"\",Vrijwilligersregister!C396)","v":""},{"$f":"IF(ISBLANK(Vrijwilligersregister!C396)=TRUE,\"\",SUMIF('Nominatieve lijst'!$D$10:$D$3009,C396,'Nominatieve lijst'!$G$10:$G$3009))","v":""},{"$f":"IF(ISBLANK(Vrijwilligersregister!C396)=TRUE,\"\",SUMIF('Nominatieve lijst'!$D$10:$D$3009,C396,'Nominatieve lijst'!$H$10:$H$3009))","v":""},{"$f":"IF(ISBLANK(Vrijwilligersregister!C396)=TRUE,\"\",SUMIF('Nominatieve lijst'!$D$10:$D$3009,C396,'Nominatieve lijst'!$J$10:$J$3009))","v":""},{"$f":"IF(ISBLANK(Vrijwilligersregister!C396)=TRUE,\"\",D396+F396)","v":""},{"$f":"Vrijwilligersregister!L396","v":0}]
[null,389,{"$f":"IF(ISBLANK(Vrijwilligersregister!C397)=TRUE,\"\",Vrijwilligersregister!C397)","v":""},{"$f":"IF(ISBLANK(Vrijwilligersregister!C397)=TRUE,\"\",SUMIF('Nominatieve lijst'!$D$10:$D$3009,C397,'Nominatieve lijst'!$G$10:$G$3009))","v":""},{"$f":"IF(ISBLANK(Vrijwilligersregister!C397)=TRUE,\"\",SUMIF('Nominatieve lijst'!$D$10:$D$3009,C397,'Nominatieve lijst'!$H$10:$H$3009))","v":""},{"$f":"IF(ISBLANK(Vrijwilligersregister!C397)=TRUE,\"\",SUMIF('Nominatieve lijst'!$D$10:$D$3009,C397,'Nominatieve lijst'!$J$10:$J$3009))","v":""},{"$f":"IF(ISBLANK(Vrijwilligersregister!C397)=TRUE,\"\",D397+F397)","v":""},{"$f":"Vrijwilligersregister!L397","v":0}]
[null,390,{"$f":"IF(ISBLANK(Vrijwilligersregister!C398)=TRUE,\"\",Vrijwilligersregister!C398)","v":""},{"$f":"IF(ISBLANK(Vrijwilligersregister!C398)=TRUE,\"\",SUMIF('Nominatieve lijst'!$D$10:$D$3009,C398,'Nominatieve lijst'!$G$10:$G$3009))","v":""},{"$f":"IF(ISBLANK(Vrijwilligersregister!C398)=TRUE,\"\",SUMIF('Nominatieve lijst'!$D$10:$D$3009,C398,'Nominatieve lijst'!$H$10:$H$3009))","v":""},{"$f":"IF(ISBLANK(Vrijwilligersregister!C398)=TRUE,\"\",SUMIF('Nominatieve lijst'!$D$10:$D$3009,C398,'Nominatieve lijst'!$J$10:$J$3009))","v":""},{"$f":"IF(ISBLANK(Vrijwilligersregister!C398)=TRUE,\"\",D398+F398)","v":""},{"$f":"Vrijwilligersregister!L398","v":0}]
[null,391,{"$f":"IF(ISBLANK(Vrijwilligersregister!C399)=TRUE,\"\",Vrijwilligersregister!C399)","v":""},{"$f":"IF(ISBLANK(Vrijwilligersregister!C399)=TRUE,\"\",SUMIF('Nominatieve lijst'!$D$10:$D$3009,C399,'Nominatieve lijst'!$G$10:$G$3009))","v":""},{"$f":"IF(ISBLANK(Vrijwilligersregister!C399)=TRUE,\"\",SUMIF('Nominatieve lijst'!$D$10:$D$3009,C399,'Nominatieve lijst'!$H$10:$H$3009))","v":""},{"$f":"IF(ISBLANK(Vrijwilligersregister!C399)=TRUE,\"\",SUMIF('Nominatieve lijst'!$D$10:$D$3009,C399,'Nominatieve lijst'!$J$10:$J$3009))","v":""},{"$f":"IF(ISBLANK(Vrijwilligersregister!C399)=TRUE,\"\",D399+F399)","v":""},{"$f":"Vrijwilligersregister!L399","v":0}]
[null,392,{"$f":"IF(ISBLANK(Vrijwilligersregister!C400)=TRUE,\"\",Vrijwilligersregister!C400)","v":""},{"$f":"IF(ISBLANK(Vrijwilligersregister!C400)=TRUE,\"\",SUMIF('Nominatieve lijst'!$D$10:$D$3009,C400,'Nominatieve lijst'!$G$10:$G$3009))","v":""},{"$f":"IF(ISBLANK(Vrijwilligersregister!C400)=TRUE,\"\",SUMIF('Nominatieve lijst'!$D$10:$D$3009,C400,'Nominatieve lijst'!$H$10:$H$3009))","v":""},{"$f":"IF(ISBLANK(Vrijwilligersregister!C400)=TRUE,\"\",SUMIF('Nominatieve lijst'!$D$10:$D$3009,C400,'Nominatieve lijst'!$J$10:$J$3009))","v":""},{"$f":"IF(ISBLANK(Vrijwilligersregister!C400)=TRUE,\"\",D400+F400)","v":""},{"$f":"Vrijwilligersregister!L400","v":0}]
[null,393,{"$f":"IF(ISBLANK(Vrijwilligersregister!C401)=TRUE,\"\",Vrijwilligersregister!C401)","v":""},{"$f":"IF(ISBLANK(Vrijwilligersregister!C401)=TRUE,\"\",SUMIF('Nominatieve lijst'!$D$10:$D$3009,C401,'Nominatieve lijst'!$G$10:$G$3009))","v":""},{"$f":"IF(ISBLANK(Vrijwilligersregister!C401)=TRUE,\"\",SUMIF('Nominatieve lijst'!$D$10:$D$3009,C401,'Nominatieve lijst'!$H$10:$H$3009))","v":""},{"$f":"IF(ISBLANK(Vrijwilligersregister!C401)=TRUE,\"\",SUMIF('Nominatieve lijst'!$D$10:$D$3009,C401,'Nominatieve lijst'!$J$10:$J$3009))","v":""},{"$f":"IF(ISBLANK(Vrijwilligersregister!C401)=TRUE,\"\",D401+F401)","v":""},{"$f":"Vrijwilligersregister!L401","v":0}]
[null,394,{"$f":"IF(ISBLANK(Vrijwilligersregister!C402)=TRUE,\"\",Vrijwilligersregister!C402)","v":""},{"$f":"IF(ISBLANK(Vrijwilligersregister!C402)=TRUE,\"\",SUMIF('Nominatieve lijst'!$D$10:$D$3009,C402,'Nominatieve lijst'!$G$10:$G$3009))","v":""},{"$f":"IF(ISBLANK(Vrijwilligersregister!C402)=TRUE,\"\",SUMIF('Nominatieve lijst'!$D$10:$D$3009,C402,'Nominatieve lijst'!$H$10:$H$3009))","v":""},{"$f":"IF(ISBLANK(Vrijwilligersregister!C402)=TRUE,\"\",SUMIF('Nominatieve lijst'!$D$10:$D$3009,C402,'Nominatieve lijst'!$J$10:$J$3009))","v":""},{"$f":"IF(ISBLANK(Vrijwilligersregister!C402)=TRUE,\"\",D402+F402)","v":""},{"$f":"Vrijwilligersregister!L402","v":0}]
[null,395,{"$f":"IF(ISBLANK(Vrijwilligersregister!C403)=TRUE,\"\",Vrijwilligersregister!C403)","v":""},{"$f":"IF(ISBLANK(Vrijwilligersregister!C403)=TRUE,\"\",SUMIF('Nominatieve lijst'!$D$10:$D$3009,C403,'Nominatieve lijst'!$G$10:$G$3009))","v":""},{"$f":"IF(ISBLANK(Vrijwilligersregister!C403)=TRUE,\"\",SUMIF('Nominatieve lijst'!$D$10:$D$3009,C403,'Nominatieve lijst'!$H$10:$H$3009))","v":""},{"$f":"IF(ISBLANK(Vrijwilligersregister!C403)=TRUE,\"\",SUMIF('Nominatieve lijst'!$D$10:$D$3009,C403,'Nominatieve lijst'!$J$10:$J$3009))","v":""},{"$f":"IF(ISBLANK(Vrijwilligersregister!C403)=TRUE,\"\",D403+F403)","v":""},{"$f":"Vrijwilligersregister!L403","v":0}]
[null,396,{"$f":"IF(ISBLANK(Vrijwilligersregister!C404)=TRUE,\"\",Vrijwilligersregister!C404)","v":""},{"$f":"IF(ISBLANK(Vrijwilligersregister!C404)=TRUE,\"\",SUMIF('Nominatieve lijst'!$D$10:$D$3009,C404,'Nominatieve lijst'!$G$10:$G$3009))","v":""},{"$f":"IF(ISBLANK(Vrijwilligersregister!C404)=TRUE,\"\",SUMIF('Nominatieve lijst'!$D$10:$D$3009,C404,'Nominatieve lijst'!$H$10:$H$3009))","v":""},{"$f":"IF(ISBLANK(Vrijwilligersregister!C404)=TRUE,\"\",SUMIF('Nominatieve lijst'!$D$10:$D$3009,C404,'Nominatieve lijst'!$J$10:$J$3009))","v":""},{"$f":"IF(ISBLANK(Vrijwilligersregister!C404)=TRUE,\"\",D404+F404)","v":""},{"$f":"Vrijwilligersregister!L404","v":0}]
[null,397,{"$f":"IF(ISBLANK(Vrijwilligersregister!C405)=TRUE,\"\",Vrijwilligersregister!C405)","v":""},{"$f":"IF(ISBLANK(Vrijwilligersregister!C405)=TRUE,\"\",SUMIF('Nominatieve lijst'!$D$10:$D$3009,C405,'Nominatieve lijst'!$G$10:$G$3009))","v":""},{"$f":"IF(ISBLANK(Vrijwilligersregister!C405)=TRUE,\"\",SUMIF('Nominatieve lijst'!$D$10:$D$3009,C405,'Nominatieve lijst'!$H$10:$H$3009))","v":""},{"$f":"IF(ISBLANK(Vrijwilligersregister!C405)=TRUE,\"\",SUMIF('Nominatieve lijst'!$D$10:$D$3009,C405,'Nominatieve lijst'!$J$10:$J$3009))","v":""},{"$f":"IF(ISBLANK(Vrijwilligersregister!C405)=TRUE,\"\",D405+F405)","v":""},{"$f":"Vrijwilligersregister!L405","v":0}]
[null,398,{"$f":"IF(ISBLANK(Vrijwilligersregister!C406)=TRUE,\"\",Vrijwilligersregister!C406)","v":""},{"$f":"IF(ISBLANK(Vrijwilligersregister!C406)=TRUE,\"\",SUMIF('Nominatieve lijst'!$D$10:$D$3009,C406,'Nominatieve lijst'!$G$10:$G$3009))","v":""},{"$f":"IF(ISBLANK(Vrijwilligersregister!C406)=TRUE,\"\",SUMIF('Nominatieve lijst'!$D$10:$D$3009,C406,'Nominatieve lijst'!$H$10:$H$3009))","v":""},{"$f":"IF(ISBLANK(Vrijwilligersregister!C406)=TRUE,\"\",SUMIF('Nominatieve lijst'!$D$10:$D$3009,C406,'Nominatieve lijst'!$J$10:$J$3009))","v":""},{"$f":"IF(ISBLANK(Vrijwilligersregister!C406)=TRUE,\"\",D406+F406)","v":""},{"$f":"Vrijwilligersregister!L406","v":0}]
[null,399,{"$f":"IF(ISBLANK(Vrijwilligersregister!C407)=TRUE,\"\",Vrijwilligersregister!C407)","v":""},{"$f":"IF(ISBLANK(Vrijwilligersregister!C407)=TRUE,\"\",SUMIF('Nominatieve lijst'!$D$10:$D$3009,C407,'Nominatieve lijst'!$G$10:$G$3009))","v":""},{"$f":"IF(ISBLANK(Vrijwilligersregister!C407)=TRUE,\"\",SUMIF('Nominatieve lijst'!$D$10:$D$3009,C407,'Nominatieve lijst'!$H$10:$H$3009))","v":""},{"$f":"IF(ISBLANK(Vrijwilligersregister!C407)=TRUE,\"\",SUMIF('Nominatieve lijst'!$D$10:$D$3009,C407,'Nominatieve lijst'!$J$10:$J$3009))","v":""},{"$f":"IF(ISBLANK(Vrijwilligersregister!C407)=TRUE,\"\",D407+F407)","v":""},{"$f":"Vrijwilligersregister!L407","v":0}]
[null,400,{"$f":"IF(ISBLANK(Vrijwilligersregister!C408)=TRUE,\"\",Vrijwilligersregister!C408)","v":""},{"$f":"IF(ISBLANK(Vrijwilligersregister!C408)=TRUE,\"\",SUMIF('Nominatieve lijst'!$D$10:$D$3009,C408,'Nominatieve lijst'!$G$10:$G$3009))","v":""},{"$f":"IF(ISBLANK(Vrijwilligersregister!C408)=TRUE,\"\",SUMIF('Nominatieve lijst'!$D$10:$D$3009,C408,'Nominatieve lijst'!$H$10:$H$3009))","v":""},{"$f":"IF(ISBLANK(Vrijwilligersregister!C408)=TRUE,\"\",SUMIF('Nominatieve lijst'!$D$10:$D$3009,C408,'Nominatieve lijst'!$J$10:$J$3009))","v":""},{"$f":"IF(ISBLANK(Vrijwilligersregister!C408)=TRUE,\"\",D408+F408)","v":""},{"$f":"Vrijwilligersregister!L408","v":0}]
[null,401,{"$f":"IF(ISBLANK(Vrijwilligersregister!C409)=TRUE,\"\",Vrijwilligersregister!C409)","v":""},{"$f":"IF(ISBLANK(Vrijwilligersregister!C409)=TRUE,\"\",SUMIF('Nominatieve lijst'!$D$10:$D$3009,C409,'Nominatieve lijst'!$G$10:$G$3009))","v":""},{"$f":"IF(ISBLANK(Vrijwilligersregister!C409)=TRUE,\"\",SUMIF('Nominatieve lijst'!$D$10:$D$3009,C409,'Nominatieve lijst'!$H$10:$H$3009))","v":""},{"$f":"IF(ISBLANK(Vrijwilligersregister!C409)=TRUE,\"\",SUMIF('Nominatieve lijst'!$D$10:$D$3009,C409,'Nominatieve lijst'!$J$10:$J$3009))","v":""},{"$f":"IF(ISBLANK(Vrijwilligersregister!C409)=TRUE,\"\",D409+F409)","v":""},{"$f":"Vrijwilligersregister!L409","v":0}]
[null,402,{"$f":"IF(ISBLANK(Vrijwilligersregister!C410)=TRUE,\"\",Vrijwilligersregister!C410)","v":""},{"$f":"IF(ISBLANK(Vrijwilligersregister!C410)=TRUE,\"\",SUMIF('Nominatieve lijst'!$D$10:$D$3009,C410,'Nominatieve lijst'!$G$10:$G$3009))","v":""},{"$f":"IF(ISBLANK(Vrijwilligersregister!C410)=TRUE,\"\",SUMIF('Nominatieve lijst'!$D$10:$D$3009,C410,'Nominatieve lijst'!$H$10:$H$3009))","v":""},{"$f":"IF(ISBLANK(Vrijwilligersregister!C410)=TRUE,\"\",SUMIF('Nominatieve lijst'!$D$10:$D$3009,C410,'Nominatieve lijst'!$J$10:$J$3009))","v":""},{"$f":"IF(ISBLANK(Vrijwilligersregister!C410)=TRUE,\"\",D410+F410)","v":""},{"$f":"Vrijwilligersregister!L410","v":0}]
[null,403,{"$f":"IF(ISBLANK(Vrijwilligersregister!C411)=TRUE,\"\",Vrijwilligersregister!C411)","v":""},{"$f":"IF(ISBLANK(Vrijwilligersregister!C411)=TRUE,\"\",SUMIF('Nominatieve lijst'!$D$10:$D$3009,C411,'Nominatieve lijst'!$G$10:$G$3009))","v":""},{"$f":"IF(ISBLANK(Vrijwilligersregister!C411)=TRUE,\"\",SUMIF('Nominatieve lijst'!$D$10:$D$3009,C411,'Nominatieve lijst'!$H$10:$H$3009))","v":""},{"$f":"IF(ISBLANK(Vrijwilligersregister!C411)=TRUE,\"\",SUMIF('Nominatieve lijst'!$D$10:$D$3009,C411,'Nominatieve lijst'!$J$10:$J$3009))","v":""},{"$f":"IF(ISBLANK(Vrijwilligersregister!C411)=TRUE,\"\",D411+F411)","v":""},{"$f":"Vrijwilligersregister!L411","v":0}]
[null,404,{"$f":"IF(ISBLANK(Vrijwilligersregister!C412)=TRUE,\"\",Vrijwilligersregister!C412)","v":""},{"$f":"IF(ISBLANK(Vrijwilligersregister!C412)=TRUE,\"\",SUMIF('Nominatieve lijst'!$D$10:$D$3009,C412,'Nominatieve lijst'!$G$10:$G$3009))","v":""},{"$f":"IF(ISBLANK(Vrijwilligersregister!C412)=TRUE,\"\",SUMIF('Nominatieve lijst'!$D$10:$D$3009,C412,'Nominatieve lijst'!$H$10:$H$3009))","v":""},{"$f":"IF(ISBLANK(Vrijwilligersregister!C412)=TRUE,\"\",SUMIF('Nominatieve lijst'!$D$10:$D$3009,C412,'Nominatieve lijst'!$J$10:$J$3009))","v":""},{"$f":"IF(ISBLANK(Vrijwilligersregister!C412)=TRUE,\"\",D412+F412)","v":""},{"$f":"Vrijwilligersregister!L412","v":0}]
[null,405,{"$f":"IF(ISBLANK(Vrijwilligersregister!C413)=TRUE,\"\",Vrijwilligersregister!C413)","v":""},{"$f":"IF(ISBLANK(Vrijwilligersregister!C413)=TRUE,\"\",SUMIF('Nominatieve lijst'!$D$10:$D$3009,C413,'Nominatieve lijst'!$G$10:$G$3009))","v":""},{"$f":"IF(ISBLANK(Vrijwilligersregister!C413)=TRUE,\"\",SUMIF('Nominatieve lijst'!$D$10:$D$3009,C413,'Nominatieve lijst'!$H$10:$H$3009))","v":""},{"$f":"IF(ISBLANK(Vrijwilligersregister!C413)=TRUE,\"\",SUMIF('Nominatieve lijst'!$D$10:$D$3009,C413,'Nominatieve lijst'!$J$10:$J$3009))","v":""},{"$f":"IF(ISBLANK(Vrijwilligersregister!C413)=TRUE,\"\",D413+F413)","v":""},{"$f":"Vrijwilligersregister!L413","v":0}]
[null,406,{"$f":"IF(ISBLANK(Vrijwilligersregister!C414)=TRUE,\"\",Vrijwilligersregister!C414)","v":""},{"$f":"IF(ISBLANK(Vrijwilligersregister!C414)=TRUE,\"\",SUMIF('Nominatieve lijst'!$D$10:$D$3009,C414,'Nominatieve lijst'!$G$10:$G$3009))","v":""},{"$f":"IF(ISBLANK(Vrijwilligersregister!C414)=TRUE,\"\",SUMIF('Nominatieve lijst'!$D$10:$D$3009,C414,'Nominatieve lijst'!$H$10:$H$3009))","v":""},{"$f":"IF(ISBLANK(Vrijwilligersregister!C414)=TRUE,\"\",SUMIF('Nominatieve lijst'!$D$10:$D$3009,C414,'Nominatieve lijst'!$J$10:$J$3009))","v":""},{"$f":"IF(ISBLANK(Vrijwilligersregister!C414)=TRUE,\"\",D414+F414)","v":""},{"$f":"Vrijwilligersregister!L414","v":0}]
[null,407,{"$f":"IF(ISBLANK(Vrijwilligersregister!C415)=TRUE,\"\",Vrijwilligersregister!C415)","v":""},{"$f":"IF(ISBLANK(Vrijwilligersregister!C415)=TRUE,\"\",SUMIF('Nominatieve lijst'!$D$10:$D$3009,C415,'Nominatieve lijst'!$G$10:$G$3009))","v":""},{"$f":"IF(ISBLANK(Vrijwilligersregister!C415)=TRUE,\"\",SUMIF('Nominatieve lijst'!$D$10:$D$3009,C415,'Nominatieve lijst'!$H$10:$H$3009))","v":""},{"$f":"IF(ISBLANK(Vrijwilligersregister!C415)=TRUE,\"\",SUMIF('Nominatieve lijst'!$D$10:$D$3009,C415,'Nominatieve lijst'!$J$10:$J$3009))","v":""},{"$f":"IF(ISBLANK(Vrijwilligersregister!C415)=TRUE,\"\",D415+F415)","v":""},{"$f":"Vrijwilligersregister!L415","v":0}]
[null,408,{"$f":"IF(ISBLANK(Vrijwilligersregister!C416)=TRUE,\"\",Vrijwilligersregister!C416)","v":""},{"$f":"IF(ISBLANK(Vrijwilligersregister!C416)=TRUE,\"\",SUMIF('Nominatieve lijst'!$D$10:$D$3009,C416,'Nominatieve lijst'!$G$10:$G$3009))","v":""},{"$f":"IF(ISBLANK(Vrijwilligersregister!C416)=TRUE,\"\",SUMIF('Nominatieve lijst'!$D$10:$D$3009,C416,'Nominatieve lijst'!$H$10:$H$3009))","v":""},{"$f":"IF(ISBLANK(Vrijwilligersregister!C416)=TRUE,\"\",SUMIF('Nominatieve lijst'!$D$10:$D$3009,C416,'Nominatieve lijst'!$J$10:$J$3009))","v":""},{"$f":"IF(ISBLANK(Vrijwilligersregister!C416)=TRUE,\"\",D416+F416)","v":""},{"$f":"Vrijwilligersregister!L416","v":0}]
[null,409,{"$f":"IF(ISBLANK(Vrijwilligersregister!C417)=TRUE,\"\",Vrijwilligersregister!C417)","v":""},{"$f":"IF(ISBLANK(Vrijwilligersregister!C417)=TRUE,\"\",SUMIF('Nominatieve lijst'!$D$10:$D$3009,C417,'Nominatieve lijst'!$G$10:$G$3009))","v":""},{"$f":"IF(ISBLANK(Vrijwilligersregister!C417)=TRUE,\"\",SUMIF('Nominatieve lijst'!$D$10:$D$3009,C417,'Nominatieve lijst'!$H$10:$H$3009))","v":""},{"$f":"IF(ISBLANK(Vrijwilligersregister!C417)=TRUE,\"\",SUMIF('Nominatieve lijst'!$D$10:$D$3009,C417,'Nominatieve lijst'!$J$10:$J$3009))","v":""},{"$f":"IF(ISBLANK(Vrijwilligersregister!C417)=TRUE,\"\",D417+F417)","v":""},{"$f":"Vrijwilligersregister!L417","v":0}]
[null,410,{"$f":"IF(ISBLANK(Vrijwilligersregister!C418)=TRUE,\"\",Vrijwilligersregister!C418)","v":""},{"$f":"IF(ISBLANK(Vrijwilligersregister!C418)=TRUE,\"\",SUMIF('Nominatieve lijst'!$D$10:$D$3009,C418,'Nominatieve lijst'!$G$10:$G$3009))","v":""},{"$f":"IF(ISBLANK(Vrijwilligersregister!C418)=TRUE,\"\",SUMIF('Nominatieve lijst'!$D$10:$D$3009,C418,'Nominatieve lijst'!$H$10:$H$3009))","v":""},{"$f":"IF(ISBLANK(Vrijwilligersregister!C418)=TRUE,\"\",SUMIF('Nominatieve lijst'!$D$10:$D$3009,C418,'Nominatieve lijst'!$J$10:$J$3009))","v":""},{"$f":"IF(ISBLANK(Vrijwilligersregister!C418)=TRUE,\"\",D418+F418)","v":""},{"$f":"Vrijwilligersregister!L418","v":0}]
[null,411,{"$f":"IF(ISBLANK(Vrijwilligersregister!C419)=TRUE,\"\",Vrijwilligersregister!C419)","v":""},{"$f":"IF(ISBLANK(Vrijwilligersregister!C419)=TRUE,\"\",SUMIF('Nominatieve lijst'!$D$10:$D$3009,C419,'Nominatieve lijst'!$G$10:$G$3009))","v":""},{"$f":"IF(ISBLANK(Vrijwilligersregister!C419)=TRUE,\"\",SUMIF('Nominatieve lijst'!$D$10:$D$3009,C419,'Nominatieve lijst'!$H$10:$H$3009))","v":""},{"$f":"IF(ISBLANK(Vrijwilligersregister!C419)=TRUE,\"\",SUMIF('Nominatieve lijst'!$D$10:$D$3009,C419,'Nominatieve lijst'!$J$10:$J$3009))","v":""},{"$f":"IF(ISBLANK(Vrijwilligersregister!C419)=TRUE,\"\",D419+F419)","v":""},{"$f":"Vrijwilligersregister!L419","v":0}]
[null,412,{"$f":"IF(ISBLANK(Vrijwilligersregister!C420)=TRUE,\"\",Vrijwilligersregister!C420)","v":""},{"$f":"IF(ISBLANK(Vrijwilligersregister!C420)=TRUE,\"\",SUMIF('Nominatieve lijst'!$D$10:$D$3009,C420,'Nominatieve lijst'!$G$10:$G$3009))","v":""},{"$f":"IF(ISBLANK(Vrijwilligersregister!C420)=TRUE,\"\",SUMIF('Nominatieve lijst'!$D$10:$D$3009,C420,'Nominatieve lijst'!$H$10:$H$3009))","v":""},{"$f":"IF(ISBLANK(Vrijwilligersregister!C420)=TRUE,\"\",SUMIF('Nominatieve lijst'!$D$10:$D$3009,C420,'Nominatieve lijst'!$J$10:$J$3009))","v":""},{"$f":"IF(ISBLANK(Vrijwilligersregister!C420)=TRUE,\"\",D420+F420)","v":""},{"$f":"Vrijwilligersregister!L420","v":0}]
[null,413,{"$f":"IF(ISBLANK(Vrijwilligersregister!C421)=TRUE,\"\",Vrijwilligersregister!C421)","v":""},{"$f":"IF(ISBLANK(Vrijwilligersregister!C421)=TRUE,\"\",SUMIF('Nominatieve lijst'!$D$10:$D$3009,C421,'Nominatieve lijst'!$G$10:$G$3009))","v":""},{"$f":"IF(ISBLANK(Vrijwilligersregister!C421)=TRUE,\"\",SUMIF('Nominatieve lijst'!$D$10:$D$3009,C421,'Nominatieve lijst'!$H$10:$H$3009))","v":""},{"$f":"IF(ISBLANK(Vrijwilligersregister!C421)=TRUE,\"\",SUMIF('Nominatieve lijst'!$D$10:$D$3009,C421,'Nominatieve lijst'!$J$10:$J$3009))","v":""},{"$f":"IF(ISBLANK(Vrijwilligersregister!C421)=TRUE,\"\",D421+F421)","v":""},{"$f":"Vrijwilligersregister!L421","v":0}]
[null,414,{"$f":"IF(ISBLANK(Vrijwilligersregister!C422)=TRUE,\"\",Vrijwilligersregister!C422)","v":""},{"$f":"IF(ISBLANK(Vrijwilligersregister!C422)=TRUE,\"\",SUMIF('Nominatieve lijst'!$D$10:$D$3009,C422,'Nominatieve lijst'!$G$10:$G$3009))","v":""},{"$f":"IF(ISBLANK(Vrijwilligersregister!C422)=TRUE,\"\",SUMIF('Nominatieve lijst'!$D$10:$D$3009,C422,'Nominatieve lijst'!$H$10:$H$3009))","v":""},{"$f":"IF(ISBLANK(Vrijwilligersregister!C422)=TRUE,\"\",SUMIF('Nominatieve lijst'!$D$10:$D$3009,C422,'Nominatieve lijst'!$J$10:$J$3009))","v":""},{"$f":"IF(ISBLANK(Vrijwilligersregister!C422)=TRUE,\"\",D422+F422)","v":""},{"$f":"Vrijwilligersregister!L422","v":0}]
[null,415,{"$f":"IF(ISBLANK(Vrijwilligersregister!C423)=TRUE,\"\",Vrijwilligersregister!C423)","v":""},{"$f":"IF(ISBLANK(Vrijwilligersregister!C423)=TRUE,\"\",SUMIF('Nominatieve lijst'!$D$10:$D$3009,C423,'Nominatieve lijst'!$G$10:$G$3009))","v":""},{"$f":"IF(ISBLANK(Vrijwilligersregister!C423)=TRUE,\"\",SUMIF('Nominatieve lijst'!$D$10:$D$3009,C423,'Nominatieve lijst'!$H$10:$H$3009))","v":""},{"$f":"IF(ISBLANK(Vrijwilligersregister!C423)=TRUE,\"\",SUMIF('Nominatieve lijst'!$D$10:$D$3009,C423,'Nominatieve lijst'!$J$10:$J$3009))","v":""},{"$f":"IF(ISBLANK(Vrijwilligersregister!C423)=TRUE,\"\",D423+F423)","v":""},{"$f":"Vrijwilligersregister!L423","v":0}]
[null,416,{"$f":"IF(ISBLANK(Vrijwilligersregister!C424)=TRUE,\"\",Vrijwilligersregister!C424)","v":""},{"$f":"IF(ISBLANK(Vrijwilligersregister!C424)=TRUE,\"\",SUMIF('Nominatieve lijst'!$D$10:$D$3009,C424,'Nominatieve lijst'!$G$10:$G$3009))","v":""},{"$f":"IF(ISBLANK(Vrijwilligersregister!C424)=TRUE,\"\",SUMIF('Nominatieve lijst'!$D$10:$D$3009,C424,'Nominatieve lijst'!$H$10:$H$3009))","v":""},{"$f":"IF(ISBLANK(Vrijwilligersregister!C424)=TRUE,\"\",SUMIF('Nominatieve lijst'!$D$10:$D$3009,C424,'Nominatieve lijst'!$J$10:$J$3009))","v":""},{"$f":"IF(ISBLANK(Vrijwilligersregister!C424)=TRUE,\"\",D424+F424)","v":""},{"$f":"Vrijwilligersregister!L424","v":0}]
[null,417,{"$f":"IF(ISBLANK(Vrijwilligersregister!C425)=TRUE,\"\",Vrijwilligersregister!C425)","v":""},{"$f":"IF(ISBLANK(Vrijwilligersregister!C425)=TRUE,\"\",SUMIF('Nominatieve lijst'!$D$10:$D$3009,C425,'Nominatieve lijst'!$G$10:$G$3009))","v":""},{"$f":"IF(ISBLANK(Vrijwilligersregister!C425)=TRUE,\"\",SUMIF('Nominatieve lijst'!$D$10:$D$3009,C425,'Nominatieve lijst'!$H$10:$H$3009))","v":""},{"$f":"IF(ISBLANK(Vrijwilligersregister!C425)=TRUE,\"\",SUMIF('Nominatieve lijst'!$D$10:$D$3009,C425,'Nominatieve lijst'!$J$10:$J$3009))","v":""},{"$f":"IF(ISBLANK(Vrijwilligersregister!C425)=TRUE,\"\",D425+F425)","v":""},{"$f":"Vrijwilligersregister!L425","v":0}]
[null,418,{"$f":"IF(ISBLANK(Vrijwilligersregister!C426)=TRUE,\"\",Vrijwilligersregister!C426)","v":""},{"$f":"IF(ISBLANK(Vrijwilligersregister!C426)=TRUE,\"\",SUMIF('Nominatieve lijst'!$D$10:$D$3009,C426,'Nominatieve lijst'!$G$10:$G$3009))","v":""},{"$f":"IF(ISBLANK(Vrijwilligersregister!C426)=TRUE,\"\",SUMIF('Nominatieve lijst'!$D$10:$D$3009,C426,'Nominatieve lijst'!$H$10:$H$3009))","v":""},{"$f":"IF(ISBLANK(Vrijwilligersregister!C426)=TRUE,\"\",SUMIF('Nominatieve lijst'!$D$10:$D$3009,C426,'Nominatieve lijst'!$J$10:$J$3009))","v":""},{"$f":"IF(ISBLANK(Vrijwilligersregister!C426)=TRUE,\"\",D426+F426)","v":""},{"$f":"Vrijwilligersregister!L426","v":0}]
[null,419,{"$f":"IF(ISBLANK(Vrijwilligersregister!C427)=TRUE,\"\",Vrijwilligersregister!C427)","v":""},{"$f":"IF(ISBLANK(Vrijwilligersregister!C427)=TRUE,\"\",SUMIF('Nominatieve lijst'!$D$10:$D$3009,C427,'Nominatieve lijst'!$G$10:$G$3009))","v":""},{"$f":"IF(ISBLANK(Vrijwilligersregister!C427)=TRUE,\"\",SUMIF('Nominatieve lijst'!$D$10:$D$3009,C427,'Nominatieve lijst'!$H$10:$H$3009))","v":""},{"$f":"IF(ISBLANK(Vrijwilligersregister!C427)=TRUE,\"\",SUMIF('Nominatieve lijst'!$D$10:$D$3009,C427,'Nominatieve lijst'!$J$10:$J$3009))","v":""},{"$f":"IF(ISBLANK(Vrijwilligersregister!C427)=TRUE,\"\",D427+F427)","v":""},{"$f":"Vrijwilligersregister!L427","v":0}]
[null,420,{"$f":"IF(ISBLANK(Vrijwilligersregister!C428)=TRUE,\"\",Vrijwilligersregister!C428)","v":""},{"$f":"IF(ISBLANK(Vrijwilligersregister!C428)=TRUE,\"\",SUMIF('Nominatieve lijst'!$D$10:$D$3009,C428,'Nominatieve lijst'!$G$10:$G$3009))","v":""},{"$f":"IF(ISBLANK(Vrijwilligersregister!C428)=TRUE,\"\",SUMIF('Nominatieve lijst'!$D$10:$D$3009,C428,'Nominatieve lijst'!$H$10:$H$3009))","v":""},{"$f":"IF(ISBLANK(Vrijwilligersregister!C428)=TRUE,\"\",SUMIF('Nominatieve lijst'!$D$10:$D$3009,C428,'Nominatieve lijst'!$J$10:$J$3009))","v":""},{"$f":"IF(ISBLANK(Vrijwilligersregister!C428)=TRUE,\"\",D428+F428)","v":""},{"$f":"Vrijwilligersregister!L428","v":0}]
[null,421,{"$f":"IF(ISBLANK(Vrijwilligersregister!C429)=TRUE,\"\",Vrijwilligersregister!C429)","v":""},{"$f":"IF(ISBLANK(Vrijwilligersregister!C429)=TRUE,\"\",SUMIF('Nominatieve lijst'!$D$10:$D$3009,C429,'Nominatieve lijst'!$G$10:$G$3009))","v":""},{"$f":"IF(ISBLANK(Vrijwilligersregister!C429)=TRUE,\"\",SUMIF('Nominatieve lijst'!$D$10:$D$3009,C429,'Nominatieve lijst'!$H$10:$H$3009))","v":""},{"$f":"IF(ISBLANK(Vrijwilligersregister!C429)=TRUE,\"\",SUMIF('Nominatieve lijst'!$D$10:$D$3009,C429,'Nominatieve lijst'!$J$10:$J$3009))","v":""},{"$f":"IF(ISBLANK(Vrijwilligersregister!C429)=TRUE,\"\",D429+F429)","v":""},{"$f":"Vrijwilligersregister!L429","v":0}]
[null,422,{"$f":"IF(ISBLANK(Vrijwilligersregister!C430)=TRUE,\"\",Vrijwilligersregister!C430)","v":""},{"$f":"IF(ISBLANK(Vrijwilligersregister!C430)=TRUE,\"\",SUMIF('Nominatieve lijst'!$D$10:$D$3009,C430,'Nominatieve lijst'!$G$10:$G$3009))","v":""},{"$f":"IF(ISBLANK(Vrijwilligersregister!C430)=TRUE,\"\",SUMIF('Nominatieve lijst'!$D$10:$D$3009,C430,'Nominatieve lijst'!$H$10:$H$3009))","v":""},{"$f":"IF(ISBLANK(Vrijwilligersregister!C430)=TRUE,\"\",SUMIF('Nominatieve lijst'!$D$10:$D$3009,C430,'Nominatieve lijst'!$J$10:$J$3009))","v":""},{"$f":"IF(ISBLANK(Vrijwilligersregister!C430)=TRUE,\"\",D430+F430)","v":""},{"$f":"Vrijwilligersregister!L430","v":0}]
[null,423,{"$f":"IF(ISBLANK(Vrijwilligersregister!C431)=TRUE,\"\",Vrijwilligersregister!C431)","v":""},{"$f":"IF(ISBLANK(Vrijwilligersregister!C431)=TRUE,\"\",SUMIF('Nominatieve lijst'!$D$10:$D$3009,C431,'Nominatieve lijst'!$G$10:$G$3009))","v":""},{"$f":"IF(ISBLANK(Vrijwilligersregister!C431)=TRUE,\"\",SUMIF('Nominatieve lijst'!$D$10:$D$3009,C431,'Nominatieve lijst'!$H$10:$H$3009))","v":""},{"$f":"IF(ISBLANK(Vrijwilligersregister!C431)=TRUE,\"\",SUMIF('Nominatieve lijst'!$D$10:$D$3009,C431,'Nominatieve lijst'!$J$10:$J$3009))","v":""},{"$f":"IF(ISBLANK(Vrijwilligersregister!C431)=TRUE,\"\",D431+F431)","v":""},{"$f":"Vrijwilligersregister!L431","v":0}]
[null,424,{"$f":"IF(ISBLANK(Vrijwilligersregister!C432)=TRUE,\"\",Vrijwilligersregister!C432)","v":""},{"$f":"IF(ISBLANK(Vrijwilligersregister!C432)=TRUE,\"\",SUMIF('Nominatieve lijst'!$D$10:$D$3009,C432,'Nominatieve lijst'!$G$10:$G$3009))","v":""},{"$f":"IF(ISBLANK(Vrijwilligersregister!C432)=TRUE,\"\",SUMIF('Nominatieve lijst'!$D$10:$D$3009,C432,'Nominatieve lijst'!$H$10:$H$3009))","v":""},{"$f":"IF(ISBLANK(Vrijwilligersregister!C432)=TRUE,\"\",SUMIF('Nominatieve lijst'!$D$10:$D$3009,C432,'Nominatieve lijst'!$J$10:$J$3009))","v":""},{"$f":"IF(ISBLANK(Vrijwilligersregister!C432)=TRUE,\"\",D432+F432)","v":""},{"$f":"Vrijwilligersregister!L432","v":0}]
[null,425,{"$f":"IF(ISBLANK(Vrijwilligersregister!C433)=TRUE,\"\",Vrijwilligersregister!C433)","v":""},{"$f":"IF(ISBLANK(Vrijwilligersregister!C433)=TRUE,\"\",SUMIF('Nominatieve lijst'!$D$10:$D$3009,C433,'Nominatieve lijst'!$G$10:$G$3009))","v":""},{"$f":"IF(ISBLANK(Vrijwilligersregister!C433)=TRUE,\"\",SUMIF('Nominatieve lijst'!$D$10:$D$3009,C433,'Nominatieve lijst'!$H$10:$H$3009))","v":""},{"$f":"IF(ISBLANK(Vrijwilligersregister!C433)=TRUE,\"\",SUMIF('Nominatieve lijst'!$D$10:$D$3009,C433,'Nominatieve lijst'!$J$10:$J$3009))","v":""},{"$f":"IF(ISBLANK(Vrijwilligersregister!C433)=TRUE,\"\",D433+F433)","v":""},{"$f":"Vrijwilligersregister!L433","v":0}]
[null,426,{"$f":"IF(ISBLANK(Vrijwilligersregister!C434)=TRUE,\"\",Vrijwilligersregister!C434)","v":""},{"$f":"IF(ISBLANK(Vrijwilligersregister!C434)=TRUE,\"\",SUMIF('Nominatieve lijst'!$D$10:$D$3009,C434,'Nominatieve lijst'!$G$10:$G$3009))","v":""},{"$f":"IF(ISBLANK(Vrijwilligersregister!C434)=TRUE,\"\",SUMIF('Nominatieve lijst'!$D$10:$D$3009,C434,'Nominatieve lijst'!$H$10:$H$3009))","v":""},{"$f":"IF(ISBLANK(Vrijwilligersregister!C434)=TRUE,\"\",SUMIF('Nominatieve lijst'!$D$10:$D$3009,C434,'Nominatieve lijst'!$J$10:$J$3009))","v":""},{"$f":"IF(ISBLANK(Vrijwilligersregister!C434)=TRUE,\"\",D434+F434)","v":""},{"$f":"Vrijwilligersregister!L434","v":0}]
[null,427,{"$f":"IF(ISBLANK(Vrijwilligersregister!C435)=TRUE,\"\",Vrijwilligersregister!C435)","v":""},{"$f":"IF(ISBLANK(Vrijwilligersregister!C435)=TRUE,\"\",SUMIF('Nominatieve lijst'!$D$10:$D$3009,C435,'Nominatieve lijst'!$G$10:$G$3009))","v":""},{"$f":"IF(ISBLANK(Vrijwilligersregister!C435)=TRUE,\"\",SUMIF('Nominatieve lijst'!$D$10:$D$3009,C435,'Nominatieve lijst'!$H$10:$H$3009))","v":""},{"$f":"IF(ISBLANK(Vrijwilligersregister!C435)=TRUE,\"\",SUMIF('Nominatieve lijst'!$D$10:$D$3009,C435,'Nominatieve lijst'!$J$10:$J$3009))","v":""},{"$f":"IF(ISBLANK(Vrijwilligersregister!C435)=TRUE,\"\",D435+F435)","v":""},{"$f":"Vrijwilligersregister!L435","v":0}]
[null,428,{"$f":"IF(ISBLANK(Vrijwilligersregister!C436)=TRUE,\"\",Vrijwilligersregister!C436)","v":""},{"$f":"IF(ISBLANK(Vrijwilligersregister!C436)=TRUE,\"\",SUMIF('Nominatieve lijst'!$D$10:$D$3009,C436,'Nominatieve lijst'!$G$10:$G$3009))","v":""},{"$f":"IF(ISBLANK(Vrijwilligersregister!C436)=TRUE,\"\",SUMIF('Nominatieve lijst'!$D$10:$D$3009,C436,'Nominatieve lijst'!$H$10:$H$3009))","v":""},{"$f":"IF(ISBLANK(Vrijwilligersregister!C436)=TRUE,\"\",SUMIF('Nominatieve lijst'!$D$10:$D$3009,C436,'Nominatieve lijst'!$J$10:$J$3009))","v":""},{"$f":"IF(ISBLANK(Vrijwilligersregister!C436)=TRUE,\"\",D436+F436)","v":""},{"$f":"Vrijwilligersregister!L436","v":0}]
[null,429,{"$f":"IF(ISBLANK(Vrijwilligersregister!C437)=TRUE,\"\",Vrijwilligersregister!C437)","v":""},{"$f":"IF(ISBLANK(Vrijwilligersregister!C437)=TRUE,\"\",SUMIF('Nominatieve lijst'!$D$10:$D$3009,C437,'Nominatieve lijst'!$G$10:$G$3009))","v":""},{"$f":"IF(ISBLANK(Vrijwilligersregister!C437)=TRUE,\"\",SUMIF('Nominatieve lijst'!$D$10:$D$3009,C437,'Nominatieve lijst'!$H$10:$H$3009))","v":""},{"$f":"IF(ISBLANK(Vrijwilligersregister!C437)=TRUE,\"\",SUMIF('Nominatieve lijst'!$D$10:$D$3009,C437,'Nominatieve lijst'!$J$10:$J$3009))","v":""},{"$f":"IF(ISBLANK(Vrijwilligersregister!C437)=TRUE,\"\",D437+F437)","v":""},{"$f":"Vrijwilligersregister!L437","v":0}]
[null,430,{"$f":"IF(ISBLANK(Vrijwilligersregister!C438)=TRUE,\"\",Vrijwilligersregister!C438)","v":""},{"$f":"IF(ISBLANK(Vrijwilligersregister!C438)=TRUE,\"\",SUMIF('Nominatieve lijst'!$D$10:$D$3009,C438,'Nominatieve lijst'!$G$10:$G$3009))","v":""},{"$f":"IF(ISBLANK(Vrijwilligersregister!C438)=TRUE,\"\",SUMIF('Nominatieve lijst'!$D$10:$D$3009,C438,'Nominatieve lijst'!$H$10:$H$3009))","v":""},{"$f":"IF(ISBLANK(Vrijwilligersregister!C438)=TRUE,\"\",SUMIF('Nominatieve lijst'!$D$10:$D$3009,C438,'Nominatieve lijst'!$J$10:$J$3009))","v":""},{"$f":"IF(ISBLANK(Vrijwilligersregister!C438)=TRUE,\"\",D438+F438)","v":""},{"$f":"Vrijwilligersregister!L438","v":0}]
[null,431,{"$f":"IF(ISBLANK(Vrijwilligersregister!C439)=TRUE,\"\",Vrijwilligersregister!C439)","v":""},{"$f":"IF(ISBLANK(Vrijwilligersregister!C439)=TRUE,\"\",SUMIF('Nominatieve lijst'!$D$10:$D$3009,C439,'Nominatieve lijst'!$G$10:$G$3009))","v":""},{"$f":"IF(ISBLANK(Vrijwilligersregister!C439)=TRUE,\"\",SUMIF('Nominatieve lijst'!$D$10:$D$3009,C439,'Nominatieve lijst'!$H$10:$H$3009))","v":""},{"$f":"IF(ISBLANK(Vrijwilligersregister!C439)=TRUE,\"\",SUMIF('Nominatieve lijst'!$D$10:$D$3009,C439,'Nominatieve lijst'!$J$10:$J$3009))","v":""},{"$f":"IF(ISBLANK(Vrijwilligersregister!C439)=TRUE,\"\",D439+F439)","v":""},{"$f":"Vrijwilligersregister!L439","v":0}]
[null,432,{"$f":"IF(ISBLANK(Vrijwilligersregister!C440)=TRUE,\"\",Vrijwilligersregister!C440)","v":""},{"$f":"IF(ISBLANK(Vrijwilligersregister!C440)=TRUE,\"\",SUMIF('Nominatieve lijst'!$D$10:$D$3009,C440,'Nominatieve lijst'!$G$10:$G$3009))","v":""},{"$f":"IF(ISBLANK(Vrijwilligersregister!C440)=TRUE,\"\",SUMIF('Nominatieve lijst'!$D$10:$D$3009,C440,'Nominatieve lijst'!$H$10:$H$3009))","v":""},{"$f":"IF(ISBLANK(Vrijwilligersregister!C440)=TRUE,\"\",SUMIF('Nominatieve lijst'!$D$10:$D$3009,C440,'Nominatieve lijst'!$J$10:$J$3009))","v":""},{"$f":"IF(ISBLANK(Vrijwilligersregister!C440)=TRUE,\"\",D440+F440)","v":""},{"$f":"Vrijwilligersregister!L440","v":0}]
[null,433,{"$f":"IF(ISBLANK(Vrijwilligersregister!C441)=TRUE,\"\",Vrijwilligersregister!C441)","v":""},{"$f":"IF(ISBLANK(Vrijwilligersregister!C441)=TRUE,\"\",SUMIF('Nominatieve lijst'!$D$10:$D$3009,C441,'Nominatieve lijst'!$G$10:$G$3009))","v":""},{"$f":"IF(ISBLANK(Vrijwilligersregister!C441)=TRUE,\"\",SUMIF('Nominatieve lijst'!$D$10:$D$3009,C441,'Nominatieve lijst'!$H$10:$H$3009))","v":""},{"$f":"IF(ISBLANK(Vrijwilligersregister!C441)=TRUE,\"\",SUMIF('Nominatieve lijst'!$D$10:$D$3009,C441,'Nominatieve lijst'!$J$10:$J$3009))","v":""},{"$f":"IF(ISBLANK(Vrijwilligersregister!C441)=TRUE,\"\",D441+F441)","v":""},{"$f":"Vrijwilligersregister!L441","v":0}]
[null,434,{"$f":"IF(ISBLANK(Vrijwilligersregister!C442)=TRUE,\"\",Vrijwilligersregister!C442)","v":""},{"$f":"IF(ISBLANK(Vrijwilligersregister!C442)=TRUE,\"\",SUMIF('Nominatieve lijst'!$D$10:$D$3009,C442,'Nominatieve lijst'!$G$10:$G$3009))","v":""},{"$f":"IF(ISBLANK(Vrijwilligersregister!C442)=TRUE,\"\",SUMIF('Nominatieve lijst'!$D$10:$D$3009,C442,'Nominatieve lijst'!$H$10:$H$3009))","v":""},{"$f":"IF(ISBLANK(Vrijwilligersregister!C442)=TRUE,\"\",SUMIF('Nominatieve lijst'!$D$10:$D$3009,C442,'Nominatieve lijst'!$J$10:$J$3009))","v":""},{"$f":"IF(ISBLANK(Vrijwilligersregister!C442)=TRUE,\"\",D442+F442)","v":""},{"$f":"Vrijwilligersregister!L442","v":0}]
[null,435,{"$f":"IF(ISBLANK(Vrijwilligersregister!C443)=TRUE,\"\",Vrijwilligersregister!C443)","v":""},{"$f":"IF(ISBLANK(Vrijwilligersregister!C443)=TRUE,\"\",SUMIF('Nominatieve lijst'!$D$10:$D$3009,C443,'Nominatieve lijst'!$G$10:$G$3009))","v":""},{"$f":"IF(ISBLANK(Vrijwilligersregister!C443)=TRUE,\"\",SUMIF('Nominatieve lijst'!$D$10:$D$3009,C443,'Nominatieve lijst'!$H$10:$H$3009))","v":""},{"$f":"IF(ISBLANK(Vrijwilligersregister!C443)=TRUE,\"\",SUMIF('Nominatieve lijst'!$D$10:$D$3009,C443,'Nominatieve lijst'!$J$10:$J$3009))","v":""},{"$f":"IF(ISBLANK(Vrijwilligersregister!C443)=TRUE,\"\",D443+F443)","v":""},{"$f":"Vrijwilligersregister!L443","v":0}]
[null,436,{"$f":"IF(ISBLANK(Vrijwilligersregister!C444)=TRUE,\"\",Vrijwilligersregister!C444)","v":""},{"$f":"IF(ISBLANK(Vrijwilligersregister!C444)=TRUE,\"\",SUMIF('Nominatieve lijst'!$D$10:$D$3009,C444,'Nominatieve lijst'!$G$10:$G$3009))","v":""},{"$f":"IF(ISBLANK(Vrijwilligersregister!C444)=TRUE,\"\",SUMIF('Nominatieve lijst'!$D$10:$D$3009,C444,'Nominatieve lijst'!$H$10:$H$3009))","v":""},{"$f":"IF(ISBLANK(Vrijwilligersregister!C444)=TRUE,\"\",SUMIF('Nominatieve lijst'!$D$10:$D$3009,C444,'Nominatieve lijst'!$J$10:$J$3009))","v":""},{"$f":"IF(ISBLANK(Vrijwilligersregister!C444)=TRUE,\"\",D444+F444)","v":""},{"$f":"Vrijwilligersregister!L444","v":0}]
[null,437,{"$f":"IF(ISBLANK(Vrijwilligersregister!C445)=TRUE,\"\",Vrijwilligersregister!C445)","v":""},{"$f":"IF(ISBLANK(Vrijwilligersregister!C445)=TRUE,\"\",SUMIF('Nominatieve lijst'!$D$10:$D$3009,C445,'Nominatieve lijst'!$G$10:$G$3009))","v":""},{"$f":"IF(ISBLANK(Vrijwilligersregister!C445)=TRUE,\"\",SUMIF('Nominatieve lijst'!$D$10:$D$3009,C445,'Nominatieve lijst'!$H$10:$H$3009))","v":""},{"$f":"IF(ISBLANK(Vrijwilligersregister!C445)=TRUE,\"\",SUMIF('Nominatieve lijst'!$D$10:$D$3009,C445,'Nominatieve lijst'!$J$10:$J$3009))","v":""},{"$f":"IF(ISBLANK(Vrijwilligersregister!C445)=TRUE,\"\",D445+F445)","v":""},{"$f":"Vrijwilligersregister!L445","v":0}]
[null,438,{"$f":"IF(ISBLANK(Vrijwilligersregister!C446)=TRUE,\"\",Vrijwilligersregister!C446)","v":""},{"$f":"IF(ISBLANK(Vrijwilligersregister!C446)=TRUE,\"\",SUMIF('Nominatieve lijst'!$D$10:$D$3009,C446,'Nominatieve lijst'!$G$10:$G$3009))","v":""},{"$f":"IF(ISBLANK(Vrijwilligersregister!C446)=TRUE,\"\",SUMIF('Nominatieve lijst'!$D$10:$D$3009,C446,'Nominatieve lijst'!$H$10:$H$3009))","v":""},{"$f":"IF(ISBLANK(Vrijwilligersregister!C446)=TRUE,\"\",SUMIF('Nominatieve lijst'!$D$10:$D$3009,C446,'Nominatieve lijst'!$J$10:$J$3009))","v":""},{"$f":"IF(ISBLANK(Vrijwilligersregister!C446)=TRUE,\"\",D446+F446)","v":""},{"$f":"Vrijwilligersregister!L446","v":0}]
[null,439,{"$f":"IF(ISBLANK(Vrijwilligersregister!C447)=TRUE,\"\",Vrijwilligersregister!C447)","v":""},{"$f":"IF(ISBLANK(Vrijwilligersregister!C447)=TRUE,\"\",SUMIF('Nominatieve lijst'!$D$10:$D$3009,C447,'Nominatieve lijst'!$G$10:$G$3009))","v":""},{"$f":"IF(ISBLANK(Vrijwilligersregister!C447)=TRUE,\"\",SUMIF('Nominatieve lijst'!$D$10:$D$3009,C447,'Nominatieve lijst'!$H$10:$H$3009))","v":""},{"$f":"IF(ISBLANK(Vrijwilligersregister!C447)=TRUE,\"\",SUMIF('Nominatieve lijst'!$D$10:$D$3009,C447,'Nominatieve lijst'!$J$10:$J$3009))","v":""},{"$f":"IF(ISBLANK(Vrijwilligersregister!C447)=TRUE,\"\",D447+F447)","v":""},{"$f":"Vrijwilligersregister!L447","v":0}]
[null,440,{"$f":"IF(ISBLANK(Vrijwilligersregister!C448)=TRUE,\"\",Vrijwilligersregister!C448)","v":""},{"$f":"IF(ISBLANK(Vrijwilligersregister!C448)=TRUE,\"\",SUMIF('Nominatieve lijst'!$D$10:$D$3009,C448,'Nominatieve lijst'!$G$10:$G$3009))","v":""},{"$f":"IF(ISBLANK(Vrijwilligersregister!C448)=TRUE,\"\",SUMIF('Nominatieve lijst'!$D$10:$D$3009,C448,'Nominatieve lijst'!$H$10:$H$3009))","v":""},{"$f":"IF(ISBLANK(Vrijwilligersregister!C448)=TRUE,\"\",SUMIF('Nominatieve lijst'!$D$10:$D$3009,C448,'Nominatieve lijst'!$J$10:$J$3009))","v":""},{"$f":"IF(ISBLANK(Vrijwilligersregister!C448)=TRUE,\"\",D448+F448)","v":""},{"$f":"Vrijwilligersregister!L448","v":0}]
[null,441,{"$f":"IF(ISBLANK(Vrijwilligersregister!C449)=TRUE,\"\",Vrijwilligersregister!C449)","v":""},{"$f":"IF(ISBLANK(Vrijwilligersregister!C449)=TRUE,\"\",SUMIF('Nominatieve lijst'!$D$10:$D$3009,C449,'Nominatieve lijst'!$G$10:$G$3009))","v":""},{"$f":"IF(ISBLANK(Vrijwilligersregister!C449)=TRUE,\"\",SUMIF('Nominatieve lijst'!$D$10:$D$3009,C449,'Nominatieve lijst'!$H$10:$H$3009))","v":""},{"$f":"IF(ISBLANK(Vrijwilligersregister!C449)=TRUE,\"\",SUMIF('Nominatieve lijst'!$D$10:$D$3009,C449,'Nominatieve lijst'!$J$10:$J$3009))","v":""},{"$f":"IF(ISBLANK(Vrijwilligersregister!C449)=TRUE,\"\",D449+F449)","v":""},{"$f":"Vrijwilligersregister!L449","v":0}]
[null,442,{"$f":"IF(ISBLANK(Vrijwilligersregister!C450)=TRUE,\"\",Vrijwilligersregister!C450)","v":""},{"$f":"IF(ISBLANK(Vrijwilligersregister!C450)=TRUE,\"\",SUMIF('Nominatieve lijst'!$D$10:$D$3009,C450,'Nominatieve lijst'!$G$10:$G$3009))","v":""},{"$f":"IF(ISBLANK(Vrijwilligersregister!C450)=TRUE,\"\",SUMIF('Nominatieve lijst'!$D$10:$D$3009,C450,'Nominatieve lijst'!$H$10:$H$3009))","v":""},{"$f":"IF(ISBLANK(Vrijwilligersregister!C450)=TRUE,\"\",SUMIF('Nominatieve lijst'!$D$10:$D$3009,C450,'Nominatieve lijst'!$J$10:$J$3009))","v":""},{"$f":"IF(ISBLANK(Vrijwilligersregister!C450)=TRUE,\"\",D450+F450)","v":""},{"$f":"Vrijwilligersregister!L450","v":0}]
[null,443,{"$f":"IF(ISBLANK(Vrijwilligersregister!C451)=TRUE,\"\",Vrijwilligersregister!C451)","v":""},{"$f":"IF(ISBLANK(Vrijwilligersregister!C451)=TRUE,\"\",SUMIF('Nominatieve lijst'!$D$10:$D$3009,C451,'Nominatieve lijst'!$G$10:$G$3009))","v":""},{"$f":"IF(ISBLANK(Vrijwilligersregister!C451)=TRUE,\"\",SUMIF('Nominatieve lijst'!$D$10:$D$3009,C451,'Nominatieve lijst'!$H$10:$H$3009))","v":""},{"$f":"IF(ISBLANK(Vrijwilligersregister!C451)=TRUE,\"\",SUMIF('Nominatieve lijst'!$D$10:$D$3009,C451,'Nominatieve lijst'!$J$10:$J$3009))","v":""},{"$f":"IF(ISBLANK(Vrijwilligersregister!C451)=TRUE,\"\",D451+F451)","v":""},{"$f":"Vrijwilligersregister!L451","v":0}]
[null,444,{"$f":"IF(ISBLANK(Vrijwilligersregister!C452)=TRUE,\"\",Vrijwilligersregister!C452)","v":""},{"$f":"IF(ISBLANK(Vrijwilligersregister!C452)=TRUE,\"\",SUMIF('Nominatieve lijst'!$D$10:$D$3009,C452,'Nominatieve lijst'!$G$10:$G$3009))","v":""},{"$f":"IF(ISBLANK(Vrijwilligersregister!C452)=TRUE,\"\",SUMIF('Nominatieve lijst'!$D$10:$D$3009,C452,'Nominatieve lijst'!$H$10:$H$3009))","v":""},{"$f":"IF(ISBLANK(Vrijwilligersregister!C452)=TRUE,\"\",SUMIF('Nominatieve lijst'!$D$10:$D$3009,C452,'Nominatieve lijst'!$J$10:$J$3009))","v":""},{"$f":"IF(ISBLANK(Vrijwilligersregister!C452)=TRUE,\"\",D452+F452)","v":""},{"$f":"Vrijwilligersregister!L452","v":0}]
[null,445,{"$f":"IF(ISBLANK(Vrijwilligersregister!C453)=TRUE,\"\",Vrijwilligersregister!C453)","v":""},{"$f":"IF(ISBLANK(Vrijwilligersregister!C453)=TRUE,\"\",SUMIF('Nominatieve lijst'!$D$10:$D$3009,C453,'Nominatieve lijst'!$G$10:$G$3009))","v":""},{"$f":"IF(ISBLANK(Vrijwilligersregister!C453)=TRUE,\"\",SUMIF('Nominatieve lijst'!$D$10:$D$3009,C453,'Nominatieve lijst'!$H$10:$H$3009))","v":""},{"$f":"IF(ISBLANK(Vrijwilligersregister!C453)=TRUE,\"\",SUMIF('Nominatieve lijst'!$D$10:$D$3009,C453,'Nominatieve lijst'!$J$10:$J$3009))","v":""},{"$f":"IF(ISBLANK(Vrijwilligersregister!C453)=TRUE,\"\",D453+F453)","v":""},{"$f":"Vrijwilligersregister!L453","v":0}]
[null,446,{"$f":"IF(ISBLANK(Vrijwilligersregister!C454)=TRUE,\"\",Vrijwilligersregister!C454)","v":""},{"$f":"IF(ISBLANK(Vrijwilligersregister!C454)=TRUE,\"\",SUMIF('Nominatieve lijst'!$D$10:$D$3009,C454,'Nominatieve lijst'!$G$10:$G$3009))","v":""},{"$f":"IF(ISBLANK(Vrijwilligersregister!C454)=TRUE,\"\",SUMIF('Nominatieve lijst'!$D$10:$D$3009,C454,'Nominatieve lijst'!$H$10:$H$3009))","v":""},{"$f":"IF(ISBLANK(Vrijwilligersregister!C454)=TRUE,\"\",SUMIF('Nominatieve lijst'!$D$10:$D$3009,C454,'Nominatieve lijst'!$J$10:$J$3009))","v":""},{"$f":"IF(ISBLANK(Vrijwilligersregister!C454)=TRUE,\"\",D454+F454)","v":""},{"$f":"Vrijwilligersregister!L454","v":0}]
[null,447,{"$f":"IF(ISBLANK(Vrijwilligersregister!C455)=TRUE,\"\",Vrijwilligersregister!C455)","v":""},{"$f":"IF(ISBLANK(Vrijwilligersregister!C455)=TRUE,\"\",SUMIF('Nominatieve lijst'!$D$10:$D$3009,C455,'Nominatieve lijst'!$G$10:$G$3009))","v":""},{"$f":"IF(ISBLANK(Vrijwilligersregister!C455)=TRUE,\"\",SUMIF('Nominatieve lijst'!$D$10:$D$3009,C455,'Nominatieve lijst'!$H$10:$H$3009))","v":""},{"$f":"IF(ISBLANK(Vrijwilligersregister!C455)=TRUE,\"\",SUMIF('Nominatieve lijst'!$D$10:$D$3009,C455,'Nominatieve lijst'!$J$10:$J$3009))","v":""},{"$f":"IF(ISBLANK(Vrijwilligersregister!C455)=TRUE,\"\",D455+F455)","v":""},{"$f":"Vrijwilligersregister!L455","v":0}]
[null,448,{"$f":"IF(ISBLANK(Vrijwilligersregister!C456)=TRUE,\"\",Vrijwilligersregister!C456)","v":""},{"$f":"IF(ISBLANK(Vrijwilligersregister!C456)=TRUE,\"\",SUMIF('Nominatieve lijst'!$D$10:$D$3009,C456,'Nominatieve lijst'!$G$10:$G$3009))","v":""},{"$f":"IF(ISBLANK(Vrijwilligersregister!C456)=TRUE,\"\",SUMIF('Nominatieve lijst'!$D$10:$D$3009,C456,'Nominatieve lijst'!$H$10:$H$3009))","v":""},{"$f":"IF(ISBLANK(Vrijwilligersregister!C456)=TRUE,\"\",SUMIF('Nominatieve lijst'!$D$10:$D$3009,C456,'Nominatieve lijst'!$J$10:$J$3009))","v":""},{"$f":"IF(ISBLANK(Vrijwilligersregister!C456)=TRUE,\"\",D456+F456)","v":""},{"$f":"Vrijwilligersregister!L456","v":0}]
[null,449,{"$f":"IF(ISBLANK(Vrijwilligersregister!C457)=TRUE,\"\",Vrijwilligersregister!C457)","v":""},{"$f":"IF(ISBLANK(Vrijwilligersregister!C457)=TRUE,\"\",SUMIF('Nominatieve lijst'!$D$10:$D$3009,C457,'Nominatieve lijst'!$G$10:$G$3009))","v":""},{"$f":"IF(ISBLANK(Vrijwilligersregister!C457)=TRUE,\"\",SUMIF('Nominatieve lijst'!$D$10:$D$3009,C457,'Nominatieve lijst'!$H$10:$H$3009))","v":""},{"$f":"IF(ISBLANK(Vrijwilligersregister!C457)=TRUE,\"\",SUMIF('Nominatieve lijst'!$D$10:$D$3009,C457,'Nominatieve lijst'!$J$10:$J$3009))","v":""},{"$f":"IF(ISBLANK(Vrijwilligersregister!C457)=TRUE,\"\",D457+F457)","v":""},{"$f":"Vrijwilligersregister!L457","v":0}]
[null,450,{"$f":"IF(ISBLANK(Vrijwilligersregister!C458)=TRUE,\"\",Vrijwilligersregister!C458)","v":""},{"$f":"IF(ISBLANK(Vrijwilligersregister!C458)=TRUE,\"\",SUMIF('Nominatieve lijst'!$D$10:$D$3009,C458,'Nominatieve lijst'!$G$10:$G$3009))","v":""},{"$f":"IF(ISBLANK(Vrijwilligersregister!C458)=TRUE,\"\",SUMIF('Nominatieve lijst'!$D$10:$D$3009,C458,'Nominatieve lijst'!$H$10:$H$3009))","v":""},{"$f":"IF(ISBLANK(Vrijwilligersregister!C458)=TRUE,\"\",SUMIF('Nominatieve lijst'!$D$10:$D$3009,C458,'Nominatieve lijst'!$J$10:$J$3009))","v":""},{"$f":"IF(ISBLANK(Vrijwilligersregister!C458)=TRUE,\"\",D458+F458)","v":""},{"$f":"Vrijwilligersregister!L458","v":0}]
[null,451,{"$f":"IF(ISBLANK(Vrijwilligersregister!C459)=TRUE,\"\",Vrijwilligersregister!C459)","v":""},{"$f":"IF(ISBLANK(Vrijwilligersregister!C459)=TRUE,\"\",SUMIF('Nominatieve lijst'!$D$10:$D$3009,C459,'Nominatieve lijst'!$G$10:$G$3009))","v":""},{"$f":"IF(ISBLANK(Vrijwilligersregister!C459)=TRUE,\"\",SUMIF('Nominatieve lijst'!$D$10:$D$3009,C459,'Nominatieve lijst'!$H$10:$H$3009))","v":""},{"$f":"IF(ISBLANK(Vrijwilligersregister!C459)=TRUE,\"\",SUMIF('Nominatieve lijst'!$D$10:$D$3009,C459,'Nominatieve lijst'!$J$10:$J$3009))","v":""},{"$f":"IF(ISBLANK(Vrijwilligersregister!C459)=TRUE,\"\",D459+F459)","v":""},{"$f":"Vrijwilligersregister!L459","v":0}]
[null,452,{"$f":"IF(ISBLANK(Vrijwilligersregister!C460)=TRUE,\"\",Vrijwilligersregister!C460)","v":""},{"$f":"IF(ISBLANK(Vrijwilligersregister!C460)=TRUE,\"\",SUMIF('Nominatieve lijst'!$D$10:$D$3009,C460,'Nominatieve lijst'!$G$10:$G$3009))","v":""},{"$f":"IF(ISBLANK(Vrijwilligersregister!C460)=TRUE,\"\",SUMIF('Nominatieve lijst'!$D$10:$D$3009,C460,'Nominatieve lijst'!$H$10:$H$3009))","v":""},{"$f":"IF(ISBLANK(Vrijwilligersregister!C460)=TRUE,\"\",SUMIF('Nominatieve lijst'!$D$10:$D$3009,C460,'Nominatieve lijst'!$J$10:$J$3009))","v":""},{"$f":"IF(ISBLANK(Vrijwilligersregister!C460)=TRUE,\"\",D460+F460)","v":""},{"$f":"Vrijwilligersregister!L460","v":0}]
[null,453,{"$f":"IF(ISBLANK(Vrijwilligersregister!C461)=TRUE,\"\",Vrijwilligersregister!C461)","v":""},{"$f":"IF(ISBLANK(Vrijwilligersregister!C461)=TRUE,\"\",SUMIF('Nominatieve lijst'!$D$10:$D$3009,C461,'Nominatieve lijst'!$G$10:$G$3009))","v":""},{"$f":"IF(ISBLANK(Vrijwilligersregister!C461)=TRUE,\"\",SUMIF('Nominatieve lijst'!$D$10:$D$3009,C461,'Nominatieve lijst'!$H$10:$H$3009))","v":""},{"$f":"IF(ISBLANK(Vrijwilligersregister!C461)=TRUE,\"\",SUMIF('Nominatieve lijst'!$D$10:$D$3009,C461,'Nominatieve lijst'!$J$10:$J$3009))","v":""},{"$f":"IF(ISBLANK(Vrijwilligersregister!C461)=TRUE,\"\",D461+F461)","v":""},{"$f":"Vrijwilligersregister!L461","v":0}]
[null,454,{"$f":"IF(ISBLANK(Vrijwilligersregister!C462)=TRUE,\"\",Vrijwilligersregister!C462)","v":""},{"$f":"IF(ISBLANK(Vrijwilligersregister!C462)=TRUE,\"\",SUMIF('Nominatieve lijst'!$D$10:$D$3009,C462,'Nominatieve lijst'!$G$10:$G$3009))","v":""},{"$f":"IF(ISBLANK(Vrijwilligersregister!C462)=TRUE,\"\",SUMIF('Nominatieve lijst'!$D$10:$D$3009,C462,'Nominatieve lijst'!$H$10:$H$3009))","v":""},{"$f":"IF(ISBLANK(Vrijwilligersregister!C462)=TRUE,\"\",SUMIF('Nominatieve lijst'!$D$10:$D$3009,C462,'Nominatieve lijst'!$J$10:$J$3009))","v":""},{"$f":"IF(ISBLANK(Vrijwilligersregister!C462)=TRUE,\"\",D462+F462)","v":""},{"$f":"Vrijwilligersregister!L462","v":0}]
[null,455,{"$f":"IF(ISBLANK(Vrijwilligersregister!C463)=TRUE,\"\",Vrijwilligersregister!C463)","v":""},{"$f":"IF(ISBLANK(Vrijwilligersregister!C463)=TRUE,\"\",SUMIF('Nominatieve lijst'!$D$10:$D$3009,C463,'Nominatieve lijst'!$G$10:$G$3009))","v":""},{"$f":"IF(ISBLANK(Vrijwilligersregister!C463)=TRUE,\"\",SUMIF('Nominatieve lijst'!$D$10:$D$3009,C463,'Nominatieve lijst'!$H$10:$H$3009))","v":""},{"$f":"IF(ISBLANK(Vrijwilligersregister!C463)=TRUE,\"\",SUMIF('Nominatieve lijst'!$D$10:$D$3009,C463,'Nominatieve lijst'!$J$10:$J$3009))","v":""},{"$f":"IF(ISBLANK(Vrijwilligersregister!C463)=TRUE,\"\",D463+F463)","v":""},{"$f":"Vrijwilligersregister!L463","v":0}]
[null,456,{"$f":"IF(ISBLANK(Vrijwilligersregister!C464)=TRUE,\"\",Vrijwilligersregister!C464)","v":""},{"$f":"IF(ISBLANK(Vrijwilligersregister!C464)=TRUE,\"\",SUMIF('Nominatieve lijst'!$D$10:$D$3009,C464,'Nominatieve lijst'!$G$10:$G$3009))","v":""},{"$f":"IF(ISBLANK(Vrijwilligersregister!C464)=TRUE,\"\",SUMIF('Nominatieve lijst'!$D$10:$D$3009,C464,'Nominatieve lijst'!$H$10:$H$3009))","v":""},{"$f":"IF(ISBLANK(Vrijwilligersregister!C464)=TRUE,\"\",SUMIF('Nominatieve lijst'!$D$10:$D$3009,C464,'Nominatieve lijst'!$J$10:$J$3009))","v":""},{"$f":"IF(ISBLANK(Vrijwilligersregister!C464)=TRUE,\"\",D464+F464)","v":""},{"$f":"Vrijwilligersregister!L464","v":0}]
[null,457,{"$f":"IF(ISBLANK(Vrijwilligersregister!C465)=TRUE,\"\",Vrijwilligersregister!C465)","v":""},{"$f":"IF(ISBLANK(Vrijwilligersregister!C465)=TRUE,\"\",SUMIF('Nominatieve lijst'!$D$10:$D$3009,C465,'Nominatieve lijst'!$G$10:$G$3009))","v":""},{"$f":"IF(ISBLANK(Vrijwilligersregister!C465)=TRUE,\"\",SUMIF('Nominatieve lijst'!$D$10:$D$3009,C465,'Nominatieve lijst'!$H$10:$H$3009))","v":""},{"$f":"IF(ISBLANK(Vrijwilligersregister!C465)=TRUE,\"\",SUMIF('Nominatieve lijst'!$D$10:$D$3009,C465,'Nominatieve lijst'!$J$10:$J$3009))","v":""},{"$f":"IF(ISBLANK(Vrijwilligersregister!C465)=TRUE,\"\",D465+F465)","v":""},{"$f":"Vrijwilligersregister!L465","v":0}]
[null,458,{"$f":"IF(ISBLANK(Vrijwilligersregister!C466)=TRUE,\"\",Vrijwilligersregister!C466)","v":""},{"$f":"IF(ISBLANK(Vrijwilligersregister!C466)=TRUE,\"\",SUMIF('Nominatieve lijst'!$D$10:$D$3009,C466,'Nominatieve lijst'!$G$10:$G$3009))","v":""},{"$f":"IF(ISBLANK(Vrijwilligersregister!C466)=TRUE,\"\",SUMIF('Nominatieve lijst'!$D$10:$D$3009,C466,'Nominatieve lijst'!$H$10:$H$3009))","v":""},{"$f":"IF(ISBLANK(Vrijwilligersregister!C466)=TRUE,\"\",SUMIF('Nominatieve lijst'!$D$10:$D$3009,C466,'Nominatieve lijst'!$J$10:$J$3009))","v":""},{"$f":"IF(ISBLANK(Vrijwilligersregister!C466)=TRUE,\"\",D466+F466)","v":""},{"$f":"Vrijwilligersregister!L466","v":0}]
[null,459,{"$f":"IF(ISBLANK(Vrijwilligersregister!C467)=TRUE,\"\",Vrijwilligersregister!C467)","v":""},{"$f":"IF(ISBLANK(Vrijwilligersregister!C467)=TRUE,\"\",SUMIF('Nominatieve lijst'!$D$10:$D$3009,C467,'Nominatieve lijst'!$G$10:$G$3009))","v":""},{"$f":"IF(ISBLANK(Vrijwilligersregister!C467)=TRUE,\"\",SUMIF('Nominatieve lijst'!$D$10:$D$3009,C467,'Nominatieve lijst'!$H$10:$H$3009))","v":""},{"$f":"IF(ISBLANK(Vrijwilligersregister!C467)=TRUE,\"\",SUMIF('Nominatieve lijst'!$D$10:$D$3009,C467,'Nominatieve lijst'!$J$10:$J$3009))","v":""},{"$f":"IF(ISBLANK(Vrijwilligersregister!C467)=TRUE,\"\",D467+F467)","v":""},{"$f":"Vrijwilligersregister!L467","v":0}]
[null,460,{"$f":"IF(ISBLANK(Vrijwilligersregister!C468)=TRUE,\"\",Vrijwilligersregister!C468)","v":""},{"$f":"IF(ISBLANK(Vrijwilligersregister!C468)=TRUE,\"\",SUMIF('Nominatieve lijst'!$D$10:$D$3009,C468,'Nominatieve lijst'!$G$10:$G$3009))","v":""},{"$f":"IF(ISBLANK(Vrijwilligersregister!C468)=TRUE,\"\",SUMIF('Nominatieve lijst'!$D$10:$D$3009,C468,'Nominatieve lijst'!$H$10:$H$3009))","v":""},{"$f":"IF(ISBLANK(Vrijwilligersregister!C468)=TRUE,\"\",SUMIF('Nominatieve lijst'!$D$10:$D$3009,C468,'Nominatieve lijst'!$J$10:$J$3009))","v":""},{"$f":"IF(ISBLANK(Vrijwilligersregister!C468)=TRUE,\"\",D468+F468)","v":""},{"$f":"Vrijwilligersregister!L468","v":0}]
[null,461,{"$f":"IF(ISBLANK(Vrijwilligersregister!C469)=TRUE,\"\",Vrijwilligersregister!C469)","v":""},{"$f":"IF(ISBLANK(Vrijwilligersregister!C469)=TRUE,\"\",SUMIF('Nominatieve lijst'!$D$10:$D$3009,C469,'Nominatieve lijst'!$G$10:$G$3009))","v":""},{"$f":"IF(ISBLANK(Vrijwilligersregister!C469)=TRUE,\"\",SUMIF('Nominatieve lijst'!$D$10:$D$3009,C469,'Nominatieve lijst'!$H$10:$H$3009))","v":""},{"$f":"IF(ISBLANK(Vrijwilligersregister!C469)=TRUE,\"\",SUMIF('Nominatieve lijst'!$D$10:$D$3009,C469,'Nominatieve lijst'!$J$10:$J$3009))","v":""},{"$f":"IF(ISBLANK(Vrijwilligersregister!C469)=TRUE,\"\",D469+F469)","v":""},{"$f":"Vrijwilligersregister!L469","v":0}]
[null,462,{"$f":"IF(ISBLANK(Vrijwilligersregister!C470)=TRUE,\"\",Vrijwilligersregister!C470)","v":""},{"$f":"IF(ISBLANK(Vrijwilligersregister!C470)=TRUE,\"\",SUMIF('Nominatieve lijst'!$D$10:$D$3009,C470,'Nominatieve lijst'!$G$10:$G$3009))","v":""},{"$f":"IF(ISBLANK(Vrijwilligersregister!C470)=TRUE,\"\",SUMIF('Nominatieve lijst'!$D$10:$D$3009,C470,'Nominatieve lijst'!$H$10:$H$3009))","v":""},{"$f":"IF(ISBLANK(Vrijwilligersregister!C470)=TRUE,\"\",SUMIF('Nominatieve lijst'!$D$10:$D$3009,C470,'Nominatieve lijst'!$J$10:$J$3009))","v":""},{"$f":"IF(ISBLANK(Vrijwilligersregister!C470)=TRUE,\"\",D470+F470)","v":""},{"$f":"Vrijwilligersregister!L470","v":0}]
[null,463,{"$f":"IF(ISBLANK(Vrijwilligersregister!C471)=TRUE,\"\",Vrijwilligersregister!C471)","v":""},{"$f":"IF(ISBLANK(Vrijwilligersregister!C471)=TRUE,\"\",SUMIF('Nominatieve lijst'!$D$10:$D$3009,C471,'Nominatieve lijst'!$G$10:$G$3009))","v":""},{"$f":"IF(ISBLANK(Vrijwilligersregister!C471)=TRUE,\"\",SUMIF('Nominatieve lijst'!$D$10:$D$3009,C471,'Nominatieve lijst'!$H$10:$H$3009))","v":""},{"$f":"IF(ISBLANK(Vrijwilligersregister!C471)=TRUE,\"\",SUMIF('Nominatieve lijst'!$D$10:$D$3009,C471,'Nominatieve lijst'!$J$10:$J$3009))","v":""},{"$f":"IF(ISBLANK(Vrijwilligersregister!C471)=TRUE,\"\",D471+F471)","v":""},{"$f":"Vrijwilligersregister!L471","v":0}]
[null,464,{"$f":"IF(ISBLANK(Vrijwilligersregister!C472)=TRUE,\"\",Vrijwilligersregister!C472)","v":""},{"$f":"IF(ISBLANK(Vrijwilligersregister!C472)=TRUE,\"\",SUMIF('Nominatieve lijst'!$D$10:$D$3009,C472,'Nominatieve lijst'!$G$10:$G$3009))","v":""},{"$f":"IF(ISBLANK(Vrijwilligersregister!C472)=TRUE,\"\",SUMIF('Nominatieve lijst'!$D$10:$D$3009,C472,'Nominatieve lijst'!$H$10:$H$3009))","v":""},{"$f":"IF(ISBLANK(Vrijwilligersregister!C472)=TRUE,\"\",SUMIF('Nominatieve lijst'!$D$10:$D$3009,C472,'Nominatieve lijst'!$J$10:$J$3009))","v":""},{"$f":"IF(ISBLANK(Vrijwilligersregister!C472)=TRUE,\"\",D472+F472)","v":""},{"$f":"Vrijwilligersregister!L472","v":0}]
[null,465,{"$f":"IF(ISBLANK(Vrijwilligersregister!C473)=TRUE,\"\",Vrijwilligersregister!C473)","v":""},{"$f":"IF(ISBLANK(Vrijwilligersregister!C473)=TRUE,\"\",SUMIF('Nominatieve lijst'!$D$10:$D$3009,C473,'Nominatieve lijst'!$G$10:$G$3009))","v":""},{"$f":"IF(ISBLANK(Vrijwilligersregister!C473)=TRUE,\"\",SUMIF('Nominatieve lijst'!$D$10:$D$3009,C473,'Nominatieve lijst'!$H$10:$H$3009))","v":""},{"$f":"IF(ISBLANK(Vrijwilligersregister!C473)=TRUE,\"\",SUMIF('Nominatieve lijst'!$D$10:$D$3009,C473,'Nominatieve lijst'!$J$10:$J$3009))","v":""},{"$f":"IF(ISBLANK(Vrijwilligersregister!C473)=TRUE,\"\",D473+F473)","v":""},{"$f":"Vrijwilligersregister!L473","v":0}]
[null,466,{"$f":"IF(ISBLANK(Vrijwilligersregister!C474)=TRUE,\"\",Vrijwilligersregister!C474)","v":""},{"$f":"IF(ISBLANK(Vrijwilligersregister!C474)=TRUE,\"\",SUMIF('Nominatieve lijst'!$D$10:$D$3009,C474,'Nominatieve lijst'!$G$10:$G$3009))","v":""},{"$f":"IF(ISBLANK(Vrijwilligersregister!C474)=TRUE,\"\",SUMIF('Nominatieve lijst'!$D$10:$D$3009,C474,'Nominatieve lijst'!$H$10:$H$3009))","v":""},{"$f":"IF(ISBLANK(Vrijwilligersregister!C474)=TRUE,\"\",SUMIF('Nominatieve lijst'!$D$10:$D$3009,C474,'Nominatieve lijst'!$J$10:$J$3009))","v":""},{"$f":"IF(ISBLANK(Vrijwilligersregister!C474)=TRUE,\"\",D474+F474)","v":""},{"$f":"Vrijwilligersregister!L474","v":0}]
[null,467,{"$f":"IF(ISBLANK(Vrijwilligersregister!C475)=TRUE,\"\",Vrijwilligersregister!C475)","v":""},{"$f":"IF(ISBLANK(Vrijwilligersregister!C475)=TRUE,\"\",SUMIF('Nominatieve lijst'!$D$10:$D$3009,C475,'Nominatieve lijst'!$G$10:$G$3009))","v":""},{"$f":"IF(ISBLANK(Vrijwilligersregister!C475)=TRUE,\"\",SUMIF('Nominatieve lijst'!$D$10:$D$3009,C475,'Nominatieve lijst'!$H$10:$H$3009))","v":""},{"$f":"IF(ISBLANK(Vrijwilligersregister!C475)=TRUE,\"\",SUMIF('Nominatieve lijst'!$D$10:$D$3009,C475,'Nominatieve lijst'!$J$10:$J$3009))","v":""},{"$f":"IF(ISBLANK(Vrijwilligersregister!C475)=TRUE,\"\",D475+F475)","v":""},{"$f":"Vrijwilligersregister!L475","v":0}]
[null,468,{"$f":"IF(ISBLANK(Vrijwilligersregister!C476)=TRUE,\"\",Vrijwilligersregister!C476)","v":""},{"$f":"IF(ISBLANK(Vrijwilligersregister!C476)=TRUE,\"\",SUMIF('Nominatieve lijst'!$D$10:$D$3009,C476,'Nominatieve lijst'!$G$10:$G$3009))","v":""},{"$f":"IF(ISBLANK(Vrijwilligersregister!C476)=TRUE,\"\",SUMIF('Nominatieve lijst'!$D$10:$D$3009,C476,'Nominatieve lijst'!$H$10:$H$3009))","v":""},{"$f":"IF(ISBLANK(Vrijwilligersregister!C476)=TRUE,\"\",SUMIF('Nominatieve lijst'!$D$10:$D$3009,C476,'Nominatieve lijst'!$J$10:$J$3009))","v":""},{"$f":"IF(ISBLANK(Vrijwilligersregister!C476)=TRUE,\"\",D476+F476)","v":""},{"$f":"Vrijwilligersregister!L476","v":0}]
[null,469,{"$f":"IF(ISBLANK(Vrijwilligersregister!C477)=TRUE,\"\",Vrijwilligersregister!C477)","v":""},{"$f":"IF(ISBLANK(Vrijwilligersregister!C477)=TRUE,\"\",SUMIF('Nominatieve lijst'!$D$10:$D$3009,C477,'Nominatieve lijst'!$G$10:$G$3009))","v":""},{"$f":"IF(ISBLANK(Vrijwilligersregister!C477)=TRUE,\"\",SUMIF('Nominatieve lijst'!$D$10:$D$3009,C477,'Nominatieve lijst'!$H$10:$H$3009))","v":""},{"$f":"IF(ISBLANK(Vrijwilligersregister!C477)=TRUE,\"\",SUMIF('Nominatieve lijst'!$D$10:$D$3009,C477,'Nominatieve lijst'!$J$10:$J$3009))","v":""},{"$f":"IF(ISBLANK(Vrijwilligersregister!C477)=TRUE,\"\",D477+F477)","v":""},{"$f":"Vrijwilligersregister!L477","v":0}]
[null,470,{"$f":"IF(ISBLANK(Vrijwilligersregister!C478)=TRUE,\"\",Vrijwilligersregister!C478)","v":""},{"$f":"IF(ISBLANK(Vrijwilligersregister!C478)=TRUE,\"\",SUMIF('Nominatieve lijst'!$D$10:$D$3009,C478,'Nominatieve lijst'!$G$10:$G$3009))","v":""},{"$f":"IF(ISBLANK(Vrijwilligersregister!C478)=TRUE,\"\",SUMIF('Nominatieve lijst'!$D$10:$D$3009,C478,'Nominatieve lijst'!$H$10:$H$3009))","v":""},{"$f":"IF(ISBLANK(Vrijwilligersregister!C478)=TRUE,\"\",SUMIF('Nominatieve lijst'!$D$10:$D$3009,C478,'Nominatieve lijst'!$J$10:$J$3009))","v":""},{"$f":"IF(ISBLANK(Vrijwilligersregister!C478)=TRUE,\"\",D478+F478)","v":""},{"$f":"Vrijwilligersregister!L478","v":0}]
[null,471,{"$f":"IF(ISBLANK(Vrijwilligersregister!C479)=TRUE,\"\",Vrijwilligersregister!C479)","v":""},{"$f":"IF(ISBLANK(Vrijwilligersregister!C479)=TRUE,\"\",SUMIF('Nominatieve lijst'!$D$10:$D$3009,C479,'Nominatieve lijst'!$G$10:$G$3009))","v":""},{"$f":"IF(ISBLANK(Vrijwilligersregister!C479)=TRUE,\"\",SUMIF('Nominatieve lijst'!$D$10:$D$3009,C479,'Nominatieve lijst'!$H$10:$H$3009))","v":""},{"$f":"IF(ISBLANK(Vrijwilligersregister!C479)=TRUE,\"\",SUMIF('Nominatieve lijst'!$D$10:$D$3009,C479,'Nominatieve lijst'!$J$10:$J$3009))","v":""},{"$f":"IF(ISBLANK(Vrijwilligersregister!C479)=TRUE,\"\",D479+F479)","v":""},{"$f":"Vrijwilligersregister!L479","v":0}]
[null,472,{"$f":"IF(ISBLANK(Vrijwilligersregister!C480)=TRUE,\"\",Vrijwilligersregister!C480)","v":""},{"$f":"IF(ISBLANK(Vrijwilligersregister!C480)=TRUE,\"\",SUMIF('Nominatieve lijst'!$D$10:$D$3009,C480,'Nominatieve lijst'!$G$10:$G$3009))","v":""},{"$f":"IF(ISBLANK(Vrijwilligersregister!C480)=TRUE,\"\",SUMIF('Nominatieve lijst'!$D$10:$D$3009,C480,'Nominatieve lijst'!$H$10:$H$3009))","v":""},{"$f":"IF(ISBLANK(Vrijwilligersregister!C480)=TRUE,\"\",SUMIF('Nominatieve lijst'!$D$10:$D$3009,C480,'Nominatieve lijst'!$J$10:$J$3009))","v":""},{"$f":"IF(ISBLANK(Vrijwilligersregister!C480)=TRUE,\"\",D480+F480)","v":""},{"$f":"Vrijwilligersregister!L480","v":0}]
[null,473,{"$f":"IF(ISBLANK(Vrijwilligersregister!C481)=TRUE,\"\",Vrijwilligersregister!C481)","v":""},{"$f":"IF(ISBLANK(Vrijwilligersregister!C481)=TRUE,\"\",SUMIF('Nominatieve lijst'!$D$10:$D$3009,C481,'Nominatieve lijst'!$G$10:$G$3009))","v":""},{"$f":"IF(ISBLANK(Vrijwilligersregister!C481)=TRUE,\"\",SUMIF('Nominatieve lijst'!$D$10:$D$3009,C481,'Nominatieve lijst'!$H$10:$H$3009))","v":""},{"$f":"IF(ISBLANK(Vrijwilligersregister!C481)=TRUE,\"\",SUMIF('Nominatieve lijst'!$D$10:$D$3009,C481,'Nominatieve lijst'!$J$10:$J$3009))","v":""},{"$f":"IF(ISBLANK(Vrijwilligersregister!C481)=TRUE,\"\",D481+F481)","v":""},{"$f":"Vrijwilligersregister!L481","v":0}]
[null,474,{"$f":"IF(ISBLANK(Vrijwilligersregister!C482)=TRUE,\"\",Vrijwilligersregister!C482)","v":""},{"$f":"IF(ISBLANK(Vrijwilligersregister!C482)=TRUE,\"\",SUMIF('Nominatieve lijst'!$D$10:$D$3009,C482,'Nominatieve lijst'!$G$10:$G$3009))","v":""},{"$f":"IF(ISBLANK(Vrijwilligersregister!C482)=TRUE,\"\",SUMIF('Nominatieve lijst'!$D$10:$D$3009,C482,'Nominatieve lijst'!$H$10:$H$3009))","v":""},{"$f":"IF(ISBLANK(Vrijwilligersregister!C482)=TRUE,\"\",SUMIF('Nominatieve lijst'!$D$10:$D$3009,C482,'Nominatieve lijst'!$J$10:$J$3009))","v":""},{"$f":"IF(ISBLANK(Vrijwilligersregister!C482)=TRUE,\"\",D482+F482)","v":""},{"$f":"Vrijwilligersregister!L482","v":0}]
[null,475,{"$f":"IF(ISBLANK(Vrijwilligersregister!C483)=TRUE,\"\",Vrijwilligersregister!C483)","v":""},{"$f":"IF(ISBLANK(Vrijwilligersregister!C483)=TRUE,\"\",SUMIF('Nominatieve lijst'!$D$10:$D$3009,C483,'Nominatieve lijst'!$G$10:$G$3009))","v":""},{"$f":"IF(ISBLANK(Vrijwilligersregister!C483)=TRUE,\"\",SUMIF('Nominatieve lijst'!$D$10:$D$3009,C483,'Nominatieve lijst'!$H$10:$H$3009))","v":""},{"$f":"IF(ISBLANK(Vrijwilligersregister!C483)=TRUE,\"\",SUMIF('Nominatieve lijst'!$D$10:$D$3009,C483,'Nominatieve lijst'!$J$10:$J$3009))","v":""},{"$f":"IF(ISBLANK(Vrijwilligersregister!C483)=TRUE,\"\",D483+F483)","v":""},{"$f":"Vrijwilligersregister!L483","v":0}]
[null,476,{"$f":"IF(ISBLANK(Vrijwilligersregister!C484)=TRUE,\"\",Vrijwilligersregister!C484)","v":""},{"$f":"IF(ISBLANK(Vrijwilligersregister!C484)=TRUE,\"\",SUMIF('Nominatieve lijst'!$D$10:$D$3009,C484,'Nominatieve lijst'!$G$10:$G$3009))","v":""},{"$f":"IF(ISBLANK(Vrijwilligersregister!C484)=TRUE,\"\",SUMIF('Nominatieve lijst'!$D$10:$D$3009,C484,'Nominatieve lijst'!$H$10:$H$3009))","v":""},{"$f":"IF(ISBLANK(Vrijwilligersregister!C484)=TRUE,\"\",SUMIF('Nominatieve lijst'!$D$10:$D$3009,C484,'Nominatieve lijst'!$J$10:$J$3009))","v":""},{"$f":"IF(ISBLANK(Vrijwilligersregister!C484)=TRUE,\"\",D484+F484)","v":""},{"$f":"Vrijwilligersregister!L484","v":0}]
[null,477,{"$f":"IF(ISBLANK(Vrijwilligersregister!C485)=TRUE,\"\",Vrijwilligersregister!C485)","v":""},{"$f":"IF(ISBLANK(Vrijwilligersregister!C485)=TRUE,\"\",SUMIF('Nominatieve lijst'!$D$10:$D$3009,C485,'Nominatieve lijst'!$G$10:$G$3009))","v":""},{"$f":"IF(ISBLANK(Vrijwilligersregister!C485)=TRUE,\"\",SUMIF('Nominatieve lijst'!$D$10:$D$3009,C485,'Nominatieve lijst'!$H$10:$H$3009))","v":""},{"$f":"IF(ISBLANK(Vrijwilligersregister!C485)=TRUE,\"\",SUMIF('Nominatieve lijst'!$D$10:$D$3009,C485,'Nominatieve lijst'!$J$10:$J$3009))","v":""},{"$f":"IF(ISBLANK(Vrijwilligersregister!C485)=TRUE,\"\",D485+F485)","v":""},{"$f":"Vrijwilligersregister!L485","v":0}]
[null,478,{"$f":"IF(ISBLANK(Vrijwilligersregister!C486)=TRUE,\"\",Vrijwilligersregister!C486)","v":""},{"$f":"IF(ISBLANK(Vrijwilligersregister!C486)=TRUE,\"\",SUMIF('Nominatieve lijst'!$D$10:$D$3009,C486,'Nominatieve lijst'!$G$10:$G$3009))","v":""},{"$f":"IF(ISBLANK(Vrijwilligersregister!C486)=TRUE,\"\",SUMIF('Nominatieve lijst'!$D$10:$D$3009,C486,'Nominatieve lijst'!$H$10:$H$3009))","v":""},{"$f":"IF(ISBLANK(Vrijwilligersregister!C486)=TRUE,\"\",SUMIF('Nominatieve lijst'!$D$10:$D$3009,C486,'Nominatieve lijst'!$J$10:$J$3009))","v":""},{"$f":"IF(ISBLANK(Vrijwilligersregister!C486)=TRUE,\"\",D486+F486)","v":""},{"$f":"Vrijwilligersregister!L486","v":0}]
[null,479,{"$f":"IF(ISBLANK(Vrijwilligersregister!C487)=TRUE,\"\",Vrijwilligersregister!C487)","v":""},{"$f":"IF(ISBLANK(Vrijwilligersregister!C487)=TRUE,\"\",SUMIF('Nominatieve lijst'!$D$10:$D$3009,C487,'Nominatieve lijst'!$G$10:$G$3009))","v":""},{"$f":"IF(ISBLANK(Vrijwilligersregister!C487)=TRUE,\"\",SUMIF('Nominatieve lijst'!$D$10:$D$3009,C487,'Nominatieve lijst'!$H$10:$H$3009))","v":""},{"$f":"IF(ISBLANK(Vrijwilligersregister!C487)=TRUE,\"\",SUMIF('Nominatieve lijst'!$D$10:$D$3009,C487,'Nominatieve lijst'!$J$10:$J$3009))","v":""},{"$f":"IF(ISBLANK(Vrijwilligersregister!C487)=TRUE,\"\",D487+F487)","v":""},{"$f":"Vrijwilligersregister!L487","v":0}]
[null,480,{"$f":"IF(ISBLANK(Vrijwilligersregister!C488)=TRUE,\"\",Vrijwilligersregister!C488)","v":""},{"$f":"IF(ISBLANK(Vrijwilligersregister!C488)=TRUE,\"\",SUMIF('Nominatieve lijst'!$D$10:$D$3009,C488,'Nominatieve lijst'!$G$10:$G$3009))","v":""},{"$f":"IF(ISBLANK(Vrijwilligersregister!C488)=TRUE,\"\",SUMIF('Nominatieve lijst'!$D$10:$D$3009,C488,'Nominatieve lijst'!$H$10:$H$3009))","v":""},{"$f":"IF(ISBLANK(Vrijwilligersregister!C488)=TRUE,\"\",SUMIF('Nominatieve lijst'!$D$10:$D$3009,C488,'Nominatieve lijst'!$J$10:$J$3009))","v":""},{"$f":"IF(ISBLANK(Vrijwilligersregister!C488)=TRUE,\"\",D488+F488)","v":""},{"$f":"Vrijwilligersregister!L488","v":0}]
[null,481,{"$f":"IF(ISBLANK(Vrijwilligersregister!C489)=TRUE,\"\",Vrijwilligersregister!C489)","v":""},{"$f":"IF(ISBLANK(Vrijwilligersregister!C489)=TRUE,\"\",SUMIF('Nominatieve lijst'!$D$10:$D$3009,C489,'Nominatieve lijst'!$G$10:$G$3009))","v":""},{"$f":"IF(ISBLANK(Vrijwilligersregister!C489)=TRUE,\"\",SUMIF('Nominatieve lijst'!$D$10:$D$3009,C489,'Nominatieve lijst'!$H$10:$H$3009))","v":""},{"$f":"IF(ISBLANK(Vrijwilligersregister!C489)=TRUE,\"\",SUMIF('Nominatieve lijst'!$D$10:$D$3009,C489,'Nominatieve lijst'!$J$10:$J$3009))","v":""},{"$f":"IF(ISBLANK(Vrijwilligersregister!C489)=TRUE,\"\",D489+F489)","v":""},{"$f":"Vrijwilligersregister!L489","v":0}]
[null,482,{"$f":"IF(ISBLANK(Vrijwilligersregister!C490)=TRUE,\"\",Vrijwilligersregister!C490)","v":""},{"$f":"IF(ISBLANK(Vrijwilligersregister!C490)=TRUE,\"\",SUMIF('Nominatieve lijst'!$D$10:$D$3009,C490,'Nominatieve lijst'!$G$10:$G$3009))","v":""},{"$f":"IF(ISBLANK(Vrijwilligersregister!C490)=TRUE,\"\",SUMIF('Nominatieve lijst'!$D$10:$D$3009,C490,'Nominatieve lijst'!$H$10:$H$3009))","v":""},{"$f":"IF(ISBLANK(Vrijwilligersregister!C490)=TRUE,\"\",SUMIF('Nominatieve lijst'!$D$10:$D$3009,C490,'Nominatieve lijst'!$J$10:$J$3009))","v":""},{"$f":"IF(ISBLANK(Vrijwilligersregister!C490)=TRUE,\"\",D490+F490)","v":""},{"$f":"Vrijwilligersregister!L490","v":0}]
[null,483,{"$f":"IF(ISBLANK(Vrijwilligersregister!C491)=TRUE,\"\",Vrijwilligersregister!C491)","v":""},{"$f":"IF(ISBLANK(Vrijwilligersregister!C491)=TRUE,\"\",SUMIF('Nominatieve lijst'!$D$10:$D$3009,C491,'Nominatieve lijst'!$G$10:$G$3009))","v":""},{"$f":"IF(ISBLANK(Vrijwilligersregister!C491)=TRUE,\"\",SUMIF('Nominatieve lijst'!$D$10:$D$3009,C491,'Nominatieve lijst'!$H$10:$H$3009))","v":""},{"$f":"IF(ISBLANK(Vrijwilligersregister!C491)=TRUE,\"\",SUMIF('Nominatieve lijst'!$D$10:$D$3009,C491,'Nominatieve lijst'!$J$10:$J$3009))","v":""},{"$f":"IF(ISBLANK(Vrijwilligersregister!C491)=TRUE,\"\",D491+F491)","v":""},{"$f":"Vrijwilligersregister!L491","v":0}]
[null,484,{"$f":"IF(ISBLANK(Vrijwilligersregister!C492)=TRUE,\"\",Vrijwilligersregister!C492)","v":""},{"$f":"IF(ISBLANK(Vrijwilligersregister!C492)=TRUE,\"\",SUMIF('Nominatieve lijst'!$D$10:$D$3009,C492,'Nominatieve lijst'!$G$10:$G$3009))","v":""},{"$f":"IF(ISBLANK(Vrijwilligersregister!C492)=TRUE,\"\",SUMIF('Nominatieve lijst'!$D$10:$D$3009,C492,'Nominatieve lijst'!$H$10:$H$3009))","v":""},{"$f":"IF(ISBLANK(Vrijwilligersregister!C492)=TRUE,\"\",SUMIF('Nominatieve lijst'!$D$10:$D$3009,C492,'Nominatieve lijst'!$J$10:$J$3009))","v":""},{"$f":"IF(ISBLANK(Vrijwilligersregister!C492)=TRUE,\"\",D492+F492)","v":""},{"$f":"Vrijwilligersregister!L492","v":0}]
[null,485,{"$f":"IF(ISBLANK(Vrijwilligersregister!C493)=TRUE,\"\",Vrijwilligersregister!C493)","v":""},{"$f":"IF(ISBLANK(Vrijwilligersregister!C493)=TRUE,\"\",SUMIF('Nominatieve lijst'!$D$10:$D$3009,C493,'Nominatieve lijst'!$G$10:$G$3009))","v":""},{"$f":"IF(ISBLANK(Vrijwilligersregister!C493)=TRUE,\"\",SUMIF('Nominatieve lijst'!$D$10:$D$3009,C493,'Nominatieve lijst'!$H$10:$H$3009))","v":""},{"$f":"IF(ISBLANK(Vrijwilligersregister!C493)=TRUE,\"\",SUMIF('Nominatieve lijst'!$D$10:$D$3009,C493,'Nominatieve lijst'!$J$10:$J$3009))","v":""},{"$f":"IF(ISBLANK(Vrijwilligersregister!C493)=TRUE,\"\",D493+F493)","v":""},{"$f":"Vrijwilligersregister!L493","v":0}]
[null,486,{"$f":"IF(ISBLANK(Vrijwilligersregister!C494)=TRUE,\"\",Vrijwilligersregister!C494)","v":""},{"$f":"IF(ISBLANK(Vrijwilligersregister!C494)=TRUE,\"\",SUMIF('Nominatieve lijst'!$D$10:$D$3009,C494,'Nominatieve lijst'!$G$10:$G$3009))","v":""},{"$f":"IF(ISBLANK(Vrijwilligersregister!C494)=TRUE,\"\",SUMIF('Nominatieve lijst'!$D$10:$D$3009,C494,'Nominatieve lijst'!$H$10:$H$3009))","v":""},{"$f":"IF(ISBLANK(Vrijwilligersregister!C494)=TRUE,\"\",SUMIF('Nominatieve lijst'!$D$10:$D$3009,C494,'Nominatieve lijst'!$J$10:$J$3009))","v":""},{"$f":"IF(ISBLANK(Vrijwilligersregister!C494)=TRUE,\"\",D494+F494)","v":""},{"$f":"Vrijwilligersregister!L494","v":0}]
[null,487,{"$f":"IF(ISBLANK(Vrijwilligersregister!C495)=TRUE,\"\",Vrijwilligersregister!C495)","v":""},{"$f":"IF(ISBLANK(Vrijwilligersregister!C495)=TRUE,\"\",SUMIF('Nominatieve lijst'!$D$10:$D$3009,C495,'Nominatieve lijst'!$G$10:$G$3009))","v":""},{"$f":"IF(ISBLANK(Vrijwilligersregister!C495)=TRUE,\"\",SUMIF('Nominatieve lijst'!$D$10:$D$3009,C495,'Nominatieve lijst'!$H$10:$H$3009))","v":""},{"$f":"IF(ISBLANK(Vrijwilligersregister!C495)=TRUE,\"\",SUMIF('Nominatieve lijst'!$D$10:$D$3009,C495,'Nominatieve lijst'!$J$10:$J$3009))","v":""},{"$f":"IF(ISBLANK(Vrijwilligersregister!C495)=TRUE,\"\",D495+F495)","v":""},{"$f":"Vrijwilligersregister!L495","v":0}]
[null,488,{"$f":"IF(ISBLANK(Vrijwilligersregister!C496)=TRUE,\"\",Vrijwilligersregister!C496)","v":""},{"$f":"IF(ISBLANK(Vrijwilligersregister!C496)=TRUE,\"\",SUMIF('Nominatieve lijst'!$D$10:$D$3009,C496,'Nominatieve lijst'!$G$10:$G$3009))","v":""},{"$f":"IF(ISBLANK(Vrijwilligersregister!C496)=TRUE,\"\",SUMIF('Nominatieve lijst'!$D$10:$D$3009,C496,'Nominatieve lijst'!$H$10:$H$3009))","v":""},{"$f":"IF(ISBLANK(Vrijwilligersregister!C496)=TRUE,\"\",SUMIF('Nominatieve lijst'!$D$10:$D$3009,C496,'Nominatieve lijst'!$J$10:$J$3009))","v":""},{"$f":"IF(ISBLANK(Vrijwilligersregister!C496)=TRUE,\"\",D496+F496)","v":""},{"$f":"Vrijwilligersregister!L496","v":0}]
[null,489,{"$f":"IF(ISBLANK(Vrijwilligersregister!C497)=TRUE,\"\",Vrijwilligersregister!C497)","v":""},{"$f":"IF(ISBLANK(Vrijwilligersregister!C497)=TRUE,\"\",SUMIF('Nominatieve lijst'!$D$10:$D$3009,C497,'Nominatieve lijst'!$G$10:$G$3009))","v":""},{"$f":"IF(ISBLANK(Vrijwilligersregister!C497)=TRUE,\"\",SUMIF('Nominatieve lijst'!$D$10:$D$3009,C497,'Nominatieve lijst'!$H$10:$H$3009))","v":""},{"$f":"IF(ISBLANK(Vrijwilligersregister!C497)=TRUE,\"\",SUMIF('Nominatieve lijst'!$D$10:$D$3009,C497,'Nominatieve lijst'!$J$10:$J$3009))","v":""},{"$f":"IF(ISBLANK(Vrijwilligersregister!C497)=TRUE,\"\",D497+F497)","v":""},{"$f":"Vrijwilligersregister!L497","v":0}]
[null,490,{"$f":"IF(ISBLANK(Vrijwilligersregister!C498)=TRUE,\"\",Vrijwilligersregister!C498)","v":""},{"$f":"IF(ISBLANK(Vrijwilligersregister!C498)=TRUE,\"\",SUMIF('Nominatieve lijst'!$D$10:$D$3009,C498,'Nominatieve lijst'!$G$10:$G$3009))","v":""},{"$f":"IF(ISBLANK(Vrijwilligersregister!C498)=TRUE,\"\",SUMIF('Nominatieve lijst'!$D$10:$D$3009,C498,'Nominatieve lijst'!$H$10:$H$3009))","v":""},{"$f":"IF(ISBLANK(Vrijwilligersregister!C498)=TRUE,\"\",SUMIF('Nominatieve lijst'!$D$10:$D$3009,C498,'Nominatieve lijst'!$J$10:$J$3009))","v":""},{"$f":"IF(ISBLANK(Vrijwilligersregister!C498)=TRUE,\"\",D498+F498)","v":""},{"$f":"Vrijwilligersregister!L498","v":0}]
[null,491,{"$f":"IF(ISBLANK(Vrijwilligersregister!C499)=TRUE,\"\",Vrijwilligersregister!C499)","v":""},{"$f":"IF(ISBLANK(Vrijwilligersregister!C499)=TRUE,\"\",SUMIF('Nominatieve lijst'!$D$10:$D$3009,C499,'Nominatieve lijst'!$G$10:$G$3009))","v":""},{"$f":"IF(ISBLANK(Vrijwilligersregister!C499)=TRUE,\"\",SUMIF('Nominatieve lijst'!$D$10:$D$3009,C499,'Nominatieve lijst'!$H$10:$H$3009))","v":""},{"$f":"IF(ISBLANK(Vrijwilligersregister!C499)=TRUE,\"\",SUMIF('Nominatieve lijst'!$D$10:$D$3009,C499,'Nominatieve lijst'!$J$10:$J$3009))","v":""},{"$f":"IF(ISBLANK(Vrijwilligersregister!C499)=TRUE,\"\",D499+F499)","v":""},{"$f":"Vrijwilligersregister!L499","v":0}]
[null,492,{"$f":"IF(ISBLANK(Vrijwilligersregister!C500)=TRUE,\"\",Vrijwilligersregister!C500)","v":""},{"$f":"IF(ISBLANK(Vrijwilligersregister!C500)=TRUE,\"\",SUMIF('Nominatieve lijst'!$D$10:$D$3009,C500,'Nominatieve lijst'!$G$10:$G$3009))","v":""},{"$f":"IF(ISBLANK(Vrijwilligersregister!C500)=TRUE,\"\",SUMIF('Nominatieve lijst'!$D$10:$D$3009,C500,'Nominatieve lijst'!$H$10:$H$3009))","v":""},{"$f":"IF(ISBLANK(Vrijwilligersregister!C500)=TRUE,\"\",SUMIF('Nominatieve lijst'!$D$10:$D$3009,C500,'Nominatieve lijst'!$J$10:$J$3009))","v":""},{"$f":"IF(ISBLANK(Vrijwilligersregister!C500)=TRUE,\"\",D500+F500)","v":""},{"$f":"Vrijwilligersregister!L500","v":0}]
[null,493,{"$f":"IF(ISBLANK(Vrijwilligersregister!C501)=TRUE,\"\",Vrijwilligersregister!C501)","v":""},{"$f":"IF(ISBLANK(Vrijwilligersregister!C501)=TRUE,\"\",SUMIF('Nominatieve lijst'!$D$10:$D$3009,C501,'Nominatieve lijst'!$G$10:$G$3009))","v":""},{"$f":"IF(ISBLANK(Vrijwilligersregister!C501)=TRUE,\"\",SUMIF('Nominatieve lijst'!$D$10:$D$3009,C501,'Nominatieve lijst'!$H$10:$H$3009))","v":""},{"$f":"IF(ISBLANK(Vrijwilligersregister!C501)=TRUE,\"\",SUMIF('Nominatieve lijst'!$D$10:$D$3009,C501,'Nominatieve lijst'!$J$10:$J$3009))","v":""},{"$f":"IF(ISBLANK(Vrijwilligersregister!C501)=TRUE,\"\",D501+F501)","v":""},{"$f":"Vrijwilligersregister!L501","v":0}]
[null,494,{"$f":"IF(ISBLANK(Vrijwilligersregister!C502)=TRUE,\"\",Vrijwilligersregister!C502)","v":""},{"$f":"IF(ISBLANK(Vrijwilligersregister!C502)=TRUE,\"\",SUMIF('Nominatieve lijst'!$D$10:$D$3009,C502,'Nominatieve lijst'!$G$10:$G$3009))","v":""},{"$f":"IF(ISBLANK(Vrijwilligersregister!C502)=TRUE,\"\",SUMIF('Nominatieve lijst'!$D$10:$D$3009,C502,'Nominatieve lijst'!$H$10:$H$3009))","v":""},{"$f":"IF(ISBLANK(Vrijwilligersregister!C502)=TRUE,\"\",SUMIF('Nominatieve lijst'!$D$10:$D$3009,C502,'Nominatieve lijst'!$J$10:$J$3009))","v":""},{"$f":"IF(ISBLANK(Vrijwilligersregister!C502)=TRUE,\"\",D502+F502)","v":""},{"$f":"Vrijwilligersregister!L502","v":0}]
[null,495,{"$f":"IF(ISBLANK(Vrijwilligersregister!C503)=TRUE,\"\",Vrijwilligersregister!C503)","v":""},{"$f":"IF(ISBLANK(Vrijwilligersregister!C503)=TRUE,\"\",SUMIF('Nominatieve lijst'!$D$10:$D$3009,C503,'Nominatieve lijst'!$G$10:$G$3009))","v":""},{"$f":"IF(ISBLANK(Vrijwilligersregister!C503)=TRUE,\"\",SUMIF('Nominatieve lijst'!$D$10:$D$3009,C503,'Nominatieve lijst'!$H$10:$H$3009))","v":""},{"$f":"IF(ISBLANK(Vrijwilligersregister!C503)=TRUE,\"\",SUMIF('Nominatieve lijst'!$D$10:$D$3009,C503,'Nominatieve lijst'!$J$10:$J$3009))","v":""},{"$f":"IF(ISBLANK(Vrijwilligersregister!C503)=TRUE,\"\",D503+F503)","v":""},{"$f":"Vrijwilligersregister!L503","v":0}]
[null,496,{"$f":"IF(ISBLANK(Vrijwilligersregister!C504)=TRUE,\"\",Vrijwilligersregister!C504)","v":""},{"$f":"IF(ISBLANK(Vrijwilligersregister!C504)=TRUE,\"\",SUMIF('Nominatieve lijst'!$D$10:$D$3009,C504,'Nominatieve lijst'!$G$10:$G$3009))","v":""},{"$f":"IF(ISBLANK(Vrijwilligersregister!C504)=TRUE,\"\",SUMIF('Nominatieve lijst'!$D$10:$D$3009,C504,'Nominatieve lijst'!$H$10:$H$3009))","v":""},{"$f":"IF(ISBLANK(Vrijwilligersregister!C504)=TRUE,\"\",SUMIF('Nominatieve lijst'!$D$10:$D$3009,C504,'Nominatieve lijst'!$J$10:$J$3009))","v":""},{"$f":"IF(ISBLANK(Vrijwilligersregister!C504)=TRUE,\"\",D504+F504)","v":""},{"$f":"Vrijwilligersregister!L504","v":0}]
[null,497,{"$f":"IF(ISBLANK(Vrijwilligersregister!C505)=TRUE,\"\",Vrijwilligersregister!C505)","v":""},{"$f":"IF(ISBLANK(Vrijwilligersregister!C505)=TRUE,\"\",SUMIF('Nominatieve lijst'!$D$10:$D$3009,C505,'Nominatieve lijst'!$G$10:$G$3009))","v":""},{"$f":"IF(ISBLANK(Vrijwilligersregister!C505)=TRUE,\"\",SUMIF('Nominatieve lijst'!$D$10:$D$3009,C505,'Nominatieve lijst'!$H$10:$H$3009))","v":""},{"$f":"IF(ISBLANK(Vrijwilligersregister!C505)=TRUE,\"\",SUMIF('Nominatieve lijst'!$D$10:$D$3009,C505,'Nominatieve lijst'!$J$10:$J$3009))","v":""},{"$f":"IF(ISBLANK(Vrijwilligersregister!C505)=TRUE,\"\",D505+F505)","v":""},{"$f":"Vrijwilligersregister!L505","v":0}]
[null,498,{"$f":"IF(ISBLANK(Vrijwilligersregister!C506)=TRUE,\"\",Vrijwilligersregister!C506)","v":""},{"$f":"IF(ISBLANK(Vrijwilligersregister!C506)=TRUE,\"\",SUMIF('Nominatieve lijst'!$D$10:$D$3009,C506,'Nominatieve lijst'!$G$10:$G$3009))","v":""},{"$f":"IF(ISBLANK(Vrijwilligersregister!C506)=TRUE,\"\",SUMIF('Nominatieve lijst'!$D$10:$D$3009,C506,'Nominatieve lijst'!$H$10:$H$3009))","v":""},{"$f":"IF(ISBLANK(Vrijwilligersregister!C506)=TRUE,\"\",SUMIF('Nominatieve lijst'!$D$10:$D$3009,C506,'Nominatieve lijst'!$J$10:$J$3009))","v":""},{"$f":"IF(ISBLANK(Vrijwilligersregister!C506)=TRUE,\"\",D506+F506)","v":""},{"$f":"Vrijwilligersregister!L506","v":0}]
[null,499,{"$f":"IF(ISBLANK(Vrijwilligersregister!C507)=TRUE,\"\",Vrijwilligersregister!C507)","v":""},{"$f":"IF(ISBLANK(Vrijwilligersregister!C507)=TRUE,\"\",SUMIF('Nominatieve lijst'!$D$10:$D$3009,C507,'Nominatieve lijst'!$G$10:$G$3009))","v":""},{"$f":"IF(ISBLANK(Vrijwilligersregister!C507)=TRUE,\"\",SUMIF('Nominatieve lijst'!$D$10:$D$3009,C507,'Nominatieve lijst'!$H$10:$H$3009))","v":""},{"$f":"IF(ISBLANK(Vrijwilligersregister!C507)=TRUE,\"\",SUMIF('Nominatieve lijst'!$D$10:$D$3009,C507,'Nominatieve lijst'!$J$10:$J$3009))","v":""},{"$f":"IF(ISBLANK(Vrijwilligersregister!C507)=TRUE,\"\",D507+F507)","v":""},{"$f":"Vrijwilligersregister!L507","v":0}]
[null,500,{"$f":"IF(ISBLANK(Vrijwilligersregister!C508)=TRUE,\"\",Vrijwilligersregister!C508)","v":""},{"$f":"IF(ISBLANK(Vrijwilligersregister!C508)=TRUE,\"\",SUMIF('Nominatieve lijst'!$D$10:$D$3009,C508,'Nominatieve lijst'!$G$10:$G$3009))","v":""},{"$f":"IF(ISBLANK(Vrijwilligersregister!C508)=TRUE,\"\",SUMIF('Nominatieve lijst'!$D$10:$D$3009,C508,'Nominatieve lijst'!$H$10:$H$3009))","v":""},{"$f":"IF(ISBLANK(Vrijwilligersregister!C508)=TRUE,\"\",SUMIF('Nominatieve lijst'!$D$10:$D$3009,C508,'Nominatieve lijst'!$J$10:$J$3009))","v":""},{"$f":"IF(ISBLANK(Vrijwilligersregister!C508)=TRUE,\"\",D508+F508)","v":""},{"$f":"Vrijwilligersregister!L508","v":0}]
[null,501,{"$f":"IF(ISBLANK(Vrijwilligersregister!C509)=TRUE,\"\",Vrijwilligersregister!C509)","v":""},{"$f":"IF(ISBLANK(Vrijwilligersregister!C509)=TRUE,\"\",SUMIF('Nominatieve lijst'!$D$10:$D$3009,C509,'Nominatieve lijst'!$G$10:$G$3009))","v":""},{"$f":"IF(ISBLANK(Vrijwilligersregister!C509)=TRUE,\"\",SUMIF('Nominatieve lijst'!$D$10:$D$3009,C509,'Nominatieve lijst'!$H$10:$H$3009))","v":""},{"$f":"IF(ISBLANK(Vrijwilligersregister!C509)=TRUE,\"\",SUMIF('Nominatieve lijst'!$D$10:$D$3009,C509,'Nominatieve lijst'!$J$10:$J$3009))","v":""},{"$f":"IF(ISBLANK(Vrijwilligersregister!C509)=TRUE,\"\",D509+F509)","v":""},{"$f":"Vrijwilligersregister!L509","v":0}]
[null,502,{"$f":"IF(ISBLANK(Vrijwilligersregister!C510)=TRUE,\"\",Vrijwilligersregister!C510)","v":""},{"$f":"IF(ISBLANK(Vrijwilligersregister!C510)=TRUE,\"\",SUMIF('Nominatieve lijst'!$D$10:$D$3009,C510,'Nominatieve lijst'!$G$10:$G$3009))","v":""},{"$f":"IF(ISBLANK(Vrijwilligersregister!C510)=TRUE,\"\",SUMIF('Nominatieve lijst'!$D$10:$D$3009,C510,'Nominatieve lijst'!$H$10:$H$3009))","v":""},{"$f":"IF(ISBLANK(Vrijwilligersregister!C510)=TRUE,\"\",SUMIF('Nominatieve lijst'!$D$10:$D$3009,C510,'Nominatieve lijst'!$J$10:$J$3009))","v":""},{"$f":"IF(ISBLANK(Vrijwilligersregister!C510)=TRUE,\"\",D510+F510)","v":""},{"$f":"Vrijwilligersregister!L510","v":0}]
[null,503,{"$f":"IF(ISBLANK(Vrijwilligersregister!C511)=TRUE,\"\",Vrijwilligersregister!C511)","v":""},{"$f":"IF(ISBLANK(Vrijwilligersregister!C511)=TRUE,\"\",SUMIF('Nominatieve lijst'!$D$10:$D$3009,C511,'Nominatieve lijst'!$G$10:$G$3009))","v":""},{"$f":"IF(ISBLANK(Vrijwilligersregister!C511)=TRUE,\"\",SUMIF('Nominatieve lijst'!$D$10:$D$3009,C511,'Nominatieve lijst'!$H$10:$H$3009))","v":""},{"$f":"IF(ISBLANK(Vrijwilligersregister!C511)=TRUE,\"\",SUMIF('Nominatieve lijst'!$D$10:$D$3009,C511,'Nominatieve lijst'!$J$10:$J$3009))","v":""},{"$f":"IF(ISBLANK(Vrijwilligersregister!C511)=TRUE,\"\",D511+F511)","v":""},{"$f":"Vrijwilligersregister!L511","v":0}]
[null,504,{"$f":"IF(ISBLANK(Vrijwilligersregister!C512)=TRUE,\"\",Vrijwilligersregister!C512)","v":""},{"$f":"IF(ISBLANK(Vrijwilligersregister!C512)=TRUE,\"\",SUMIF('Nominatieve lijst'!$D$10:$D$3009,C512,'Nominatieve lijst'!$G$10:$G$3009))","v":""},{"$f":"IF(ISBLANK(Vrijwilligersregister!C512)=TRUE,\"\",SUMIF('Nominatieve lijst'!$D$10:$D$3009,C512,'Nominatieve lijst'!$H$10:$H$3009))","v":""},{"$f":"IF(ISBLANK(Vrijwilligersregister!C512)=TRUE,\"\",SUMIF('Nominatieve lijst'!$D$10:$D$3009,C512,'Nominatieve lijst'!$J$10:$J$3009))","v":""},{"$f":"IF(ISBLANK(Vrijwilligersregister!C512)=TRUE,\"\",D512+F512)","v":""},{"$f":"Vrijwilligersregister!L512","v":0}]
[null,505,{"$f":"IF(ISBLANK(Vrijwilligersregister!C513)=TRUE,\"\",Vrijwilligersregister!C513)","v":""},{"$f":"IF(ISBLANK(Vrijwilligersregister!C513)=TRUE,\"\",SUMIF('Nominatieve lijst'!$D$10:$D$3009,C513,'Nominatieve lijst'!$G$10:$G$3009))","v":""},{"$f":"IF(ISBLANK(Vrijwilligersregister!C513)=TRUE,\"\",SUMIF('Nominatieve lijst'!$D$10:$D$3009,C513,'Nominatieve lijst'!$H$10:$H$3009))","v":""},{"$f":"IF(ISBLANK(Vrijwilligersregister!C513)=TRUE,\"\",SUMIF('Nominatieve lijst'!$D$10:$D$3009,C513,'Nominatieve lijst'!$J$10:$J$3009))","v":""},{"$f":"IF(ISBLANK(Vrijwilligersregister!C513)=TRUE,\"\",D513+F513)","v":""},{"$f":"Vrijwilligersregister!L513","v":0}]
[null,506,{"$f":"IF(ISBLANK(Vrijwilligersregister!C514)=TRUE,\"\",Vrijwilligersregister!C514)","v":""},{"$f":"IF(ISBLANK(Vrijwilligersregister!C514)=TRUE,\"\",SUMIF('Nominatieve lijst'!$D$10:$D$3009,C514,'Nominatieve lijst'!$G$10:$G$3009))","v":""},{"$f":"IF(ISBLANK(Vrijwilligersregister!C514)=TRUE,\"\",SUMIF('Nominatieve lijst'!$D$10:$D$3009,C514,'Nominatieve lijst'!$H$10:$H$3009))","v":""},{"$f":"IF(ISBLANK(Vrijwilligersregister!C514)=TRUE,\"\",SUMIF('Nominatieve lijst'!$D$10:$D$3009,C514,'Nominatieve lijst'!$J$10:$J$3009))","v":""},{"$f":"IF(ISBLANK(Vrijwilligersregister!C514)=TRUE,\"\",D514+F514)","v":""},{"$f":"Vrijwilligersregister!L514","v":0}]
[null,507,{"$f":"IF(ISBLANK(Vrijwilligersregister!C515)=TRUE,\"\",Vrijwilligersregister!C515)","v":""},{"$f":"IF(ISBLANK(Vrijwilligersregister!C515)=TRUE,\"\",SUMIF('Nominatieve lijst'!$D$10:$D$3009,C515,'Nominatieve lijst'!$G$10:$G$3009))","v":""},{"$f":"IF(ISBLANK(Vrijwilligersregister!C515)=TRUE,\"\",SUMIF('Nominatieve lijst'!$D$10:$D$3009,C515,'Nominatieve lijst'!$H$10:$H$3009))","v":""},{"$f":"IF(ISBLANK(Vrijwilligersregister!C515)=TRUE,\"\",SUMIF('Nominatieve lijst'!$D$10:$D$3009,C515,'Nominatieve lijst'!$J$10:$J$3009))","v":""},{"$f":"IF(ISBLANK(Vrijwilligersregister!C515)=TRUE,\"\",D515+F515)","v":""},{"$f":"Vrijwilligersregister!L515","v":0}]
[null,508,{"$f":"IF(ISBLANK(Vrijwilligersregister!C516)=TRUE,\"\",Vrijwilligersregister!C516)","v":""},{"$f":"IF(ISBLANK(Vrijwilligersregister!C516)=TRUE,\"\",SUMIF('Nominatieve lijst'!$D$10:$D$3009,C516,'Nominatieve lijst'!$G$10:$G$3009))","v":""},{"$f":"IF(ISBLANK(Vrijwilligersregister!C516)=TRUE,\"\",SUMIF('Nominatieve lijst'!$D$10:$D$3009,C516,'Nominatieve lijst'!$H$10:$H$3009))","v":""},{"$f":"IF(ISBLANK(Vrijwilligersregister!C516)=TRUE,\"\",SUMIF('Nominatieve lijst'!$D$10:$D$3009,C516,'Nominatieve lijst'!$J$10:$J$3009))","v":""},{"$f":"IF(ISBLANK(Vrijwilligersregister!C516)=TRUE,\"\",D516+F516)","v":""},{"$f":"Vrijwilligersregister!L516","v":0}]
[null,509,{"$f":"IF(ISBLANK(Vrijwilligersregister!C517)=TRUE,\"\",Vrijwilligersregister!C517)","v":""},{"$f":"IF(ISBLANK(Vrijwilligersregister!C517)=TRUE,\"\",SUMIF('Nominatieve lijst'!$D$10:$D$3009,C517,'Nominatieve lijst'!$G$10:$G$3009))","v":""},{"$f":"IF(ISBLANK(Vrijwilligersregister!C517)=TRUE,\"\",SUMIF('Nominatieve lijst'!$D$10:$D$3009,C517,'Nominatieve lijst'!$H$10:$H$3009))","v":""},{"$f":"IF(ISBLANK(Vrijwilligersregister!C517)=TRUE,\"\",SUMIF('Nominatieve lijst'!$D$10:$D$3009,C517,'Nominatieve lijst'!$J$10:$J$3009))","v":""},{"$f":"IF(ISBLANK(Vrijwilligersregister!C517)=TRUE,\"\",D517+F517)","v":""},{"$f":"Vrijwilligersregister!L517","v":0}]
[null,510,{"$f":"IF(ISBLANK(Vrijwilligersregister!C518)=TRUE,\"\",Vrijwilligersregister!C518)","v":""},{"$f":"IF(ISBLANK(Vrijwilligersregister!C518)=TRUE,\"\",SUMIF('Nominatieve lijst'!$D$10:$D$3009,C518,'Nominatieve lijst'!$G$10:$G$3009))","v":""},{"$f":"IF(ISBLANK(Vrijwilligersregister!C518)=TRUE,\"\",SUMIF('Nominatieve lijst'!$D$10:$D$3009,C518,'Nominatieve lijst'!$H$10:$H$3009))","v":""},{"$f":"IF(ISBLANK(Vrijwilligersregister!C518)=TRUE,\"\",SUMIF('Nominatieve lijst'!$D$10:$D$3009,C518,'Nominatieve lijst'!$J$10:$J$3009))","v":""},{"$f":"IF(ISBLANK(Vrijwilligersregister!C518)=TRUE,\"\",D518+F518)","v":""},{"$f":"Vrijwilligersregister!L518","v":0}]
[null,511,{"$f":"IF(ISBLANK(Vrijwilligersregister!C519)=TRUE,\"\",Vrijwilligersregister!C519)","v":""},{"$f":"IF(ISBLANK(Vrijwilligersregister!C519)=TRUE,\"\",SUMIF('Nominatieve lijst'!$D$10:$D$3009,C519,'Nominatieve lijst'!$G$10:$G$3009))","v":""},{"$f":"IF(ISBLANK(Vrijwilligersregister!C519)=TRUE,\"\",SUMIF('Nominatieve lijst'!$D$10:$D$3009,C519,'Nominatieve lijst'!$H$10:$H$3009))","v":""},{"$f":"IF(ISBLANK(Vrijwilligersregister!C519)=TRUE,\"\",SUMIF('Nominatieve lijst'!$D$10:$D$3009,C519,'Nominatieve lijst'!$J$10:$J$3009))","v":""},{"$f":"IF(ISBLANK(Vrijwilligersregister!C519)=TRUE,\"\",D519+F519)","v":""},{"$f":"Vrijwilligersregister!L519","v":0}]
[null,512,{"$f":"IF(ISBLANK(Vrijwilligersregister!C520)=TRUE,\"\",Vrijwilligersregister!C520)","v":""},{"$f":"IF(ISBLANK(Vrijwilligersregister!C520)=TRUE,\"\",SUMIF('Nominatieve lijst'!$D$10:$D$3009,C520,'Nominatieve lijst'!$G$10:$G$3009))","v":""},{"$f":"IF(ISBLANK(Vrijwilligersregister!C520)=TRUE,\"\",SUMIF('Nominatieve lijst'!$D$10:$D$3009,C520,'Nominatieve lijst'!$H$10:$H$3009))","v":""},{"$f":"IF(ISBLANK(Vrijwilligersregister!C520)=TRUE,\"\",SUMIF('Nominatieve lijst'!$D$10:$D$3009,C520,'Nominatieve lijst'!$J$10:$J$3009))","v":""},{"$f":"IF(ISBLANK(Vrijwilligersregister!C520)=TRUE,\"\",D520+F520)","v":""},{"$f":"Vrijwilligersregister!L520","v":0}]
[null,513,{"$f":"IF(ISBLANK(Vrijwilligersregister!C521)=TRUE,\"\",Vrijwilligersregister!C521)","v":""},{"$f":"IF(ISBLANK(Vrijwilligersregister!C521)=TRUE,\"\",SUMIF('Nominatieve lijst'!$D$10:$D$3009,C521,'Nominatieve lijst'!$G$10:$G$3009))","v":""},{"$f":"IF(ISBLANK(Vrijwilligersregister!C521)=TRUE,\"\",SUMIF('Nominatieve lijst'!$D$10:$D$3009,C521,'Nominatieve lijst'!$H$10:$H$3009))","v":""},{"$f":"IF(ISBLANK(Vrijwilligersregister!C521)=TRUE,\"\",SUMIF('Nominatieve lijst'!$D$10:$D$3009,C521,'Nominatieve lijst'!$J$10:$J$3009))","v":""},{"$f":"IF(ISBLANK(Vrijwilligersregister!C521)=TRUE,\"\",D521+F521)","v":""},{"$f":"Vrijwilligersregister!L521","v":0}]
[null,514,{"$f":"IF(ISBLANK(Vrijwilligersregister!C522)=TRUE,\"\",Vrijwilligersregister!C522)","v":""},{"$f":"IF(ISBLANK(Vrijwilligersregister!C522)=TRUE,\"\",SUMIF('Nominatieve lijst'!$D$10:$D$3009,C522,'Nominatieve lijst'!$G$10:$G$3009))","v":""},{"$f":"IF(ISBLANK(Vrijwilligersregister!C522)=TRUE,\"\",SUMIF('Nominatieve lijst'!$D$10:$D$3009,C522,'Nominatieve lijst'!$H$10:$H$3009))","v":""},{"$f":"IF(ISBLANK(Vrijwilligersregister!C522)=TRUE,\"\",SUMIF('Nominatieve lijst'!$D$10:$D$3009,C522,'Nominatieve lijst'!$J$10:$J$3009))","v":""},{"$f":"IF(ISBLANK(Vrijwilligersregister!C522)=TRUE,\"\",D522+F522)","v":""},{"$f":"Vrijwilligersregister!L522","v":0}]
[null,515,{"$f":"IF(ISBLANK(Vrijwilligersregister!C523)=TRUE,\"\",Vrijwilligersregister!C523)","v":""},{"$f":"IF(ISBLANK(Vrijwilligersregister!C523)=TRUE,\"\",SUMIF('Nominatieve lijst'!$D$10:$D$3009,C523,'Nominatieve lijst'!$G$10:$G$3009))","v":""},{"$f":"IF(ISBLANK(Vrijwilligersregister!C523)=TRUE,\"\",SUMIF('Nominatieve lijst'!$D$10:$D$3009,C523,'Nominatieve lijst'!$H$10:$H$3009))","v":""},{"$f":"IF(ISBLANK(Vrijwilligersregister!C523)=TRUE,\"\",SUMIF('Nominatieve lijst'!$D$10:$D$3009,C523,'Nominatieve lijst'!$J$10:$J$3009))","v":""},{"$f":"IF(ISBLANK(Vrijwilligersregister!C523)=TRUE,\"\",D523+F523)","v":""},{"$f":"Vrijwilligersregister!L523","v":0}]
[null,516,{"$f":"IF(ISBLANK(Vrijwilligersregister!C524)=TRUE,\"\",Vrijwilligersregister!C524)","v":""},{"$f":"IF(ISBLANK(Vrijwilligersregister!C524)=TRUE,\"\",SUMIF('Nominatieve lijst'!$D$10:$D$3009,C524,'Nominatieve lijst'!$G$10:$G$3009))","v":""},{"$f":"IF(ISBLANK(Vrijwilligersregister!C524)=TRUE,\"\",SUMIF('Nominatieve lijst'!$D$10:$D$3009,C524,'Nominatieve lijst'!$H$10:$H$3009))","v":""},{"$f":"IF(ISBLANK(Vrijwilligersregister!C524)=TRUE,\"\",SUMIF('Nominatieve lijst'!$D$10:$D$3009,C524,'Nominatieve lijst'!$J$10:$J$3009))","v":""},{"$f":"IF(ISBLANK(Vrijwilligersregister!C524)=TRUE,\"\",D524+F524)","v":""},{"$f":"Vrijwilligersregister!L524","v":0}]
[null,517,{"$f":"IF(ISBLANK(Vrijwilligersregister!C525)=TRUE,\"\",Vrijwilligersregister!C525)","v":""},{"$f":"IF(ISBLANK(Vrijwilligersregister!C525)=TRUE,\"\",SUMIF('Nominatieve lijst'!$D$10:$D$3009,C525,'Nominatieve lijst'!$G$10:$G$3009))","v":""},{"$f":"IF(ISBLANK(Vrijwilligersregister!C525)=TRUE,\"\",SUMIF('Nominatieve lijst'!$D$10:$D$3009,C525,'Nominatieve lijst'!$H$10:$H$3009))","v":""},{"$f":"IF(ISBLANK(Vrijwilligersregister!C525)=TRUE,\"\",SUMIF('Nominatieve lijst'!$D$10:$D$3009,C525,'Nominatieve lijst'!$J$10:$J$3009))","v":""},{"$f":"IF(ISBLANK(Vrijwilligersregister!C525)=TRUE,\"\",D525+F525)","v":""},{"$f":"Vrijwilligersregister!L525","v":0}]
[null,518,{"$f":"IF(ISBLANK(Vrijwilligersregister!C526)=TRUE,\"\",Vrijwilligersregister!C526)","v":""},{"$f":"IF(ISBLANK(Vrijwilligersregister!C526)=TRUE,\"\",SUMIF('Nominatieve lijst'!$D$10:$D$3009,C526,'Nominatieve lijst'!$G$10:$G$3009))","v":""},{"$f":"IF(ISBLANK(Vrijwilligersregister!C526)=TRUE,\"\",SUMIF('Nominatieve lijst'!$D$10:$D$3009,C526,'Nominatieve lijst'!$H$10:$H$3009))","v":""},{"$f":"IF(ISBLANK(Vrijwilligersregister!C526)=TRUE,\"\",SUMIF('Nominatieve lijst'!$D$10:$D$3009,C526,'Nominatieve lijst'!$J$10:$J$3009))","v":""},{"$f":"IF(ISBLANK(Vrijwilligersregister!C526)=TRUE,\"\",D526+F526)","v":""},{"$f":"Vrijwilligersregister!L526","v":0}]
[null,519,{"$f":"IF(ISBLANK(Vrijwilligersregister!C527)=TRUE,\"\",Vrijwilligersregister!C527)","v":""},{"$f":"IF(ISBLANK(Vrijwilligersregister!C527)=TRUE,\"\",SUMIF('Nominatieve lijst'!$D$10:$D$3009,C527,'Nominatieve lijst'!$G$10:$G$3009))","v":""},{"$f":"IF(ISBLANK(Vrijwilligersregister!C527)=TRUE,\"\",SUMIF('Nominatieve lijst'!$D$10:$D$3009,C527,'Nominatieve lijst'!$H$10:$H$3009))","v":""},{"$f":"IF(ISBLANK(Vrijwilligersregister!C527)=TRUE,\"\",SUMIF('Nominatieve lijst'!$D$10:$D$3009,C527,'Nominatieve lijst'!$J$10:$J$3009))","v":""},{"$f":"IF(ISBLANK(Vrijwilligersregister!C527)=TRUE,\"\",D527+F527)","v":""},{"$f":"Vrijwilligersregister!L527","v":0}]
[null,520,{"$f":"IF(ISBLANK(Vrijwilligersregister!C528)=TRUE,\"\",Vrijwilligersregister!C528)","v":""},{"$f":"IF(ISBLANK(Vrijwilligersregister!C528)=TRUE,\"\",SUMIF('Nominatieve lijst'!$D$10:$D$3009,C528,'Nominatieve lijst'!$G$10:$G$3009))","v":""},{"$f":"IF(ISBLANK(Vrijwilligersregister!C528)=TRUE,\"\",SUMIF('Nominatieve lijst'!$D$10:$D$3009,C528,'Nominatieve lijst'!$H$10:$H$3009))","v":""},{"$f":"IF(ISBLANK(Vrijwilligersregister!C528)=TRUE,\"\",SUMIF('Nominatieve lijst'!$D$10:$D$3009,C528,'Nominatieve lijst'!$J$10:$J$3009))","v":""},{"$f":"IF(ISBLANK(Vrijwilligersregister!C528)=TRUE,\"\",D528+F528)","v":""},{"$f":"Vrijwilligersregister!L528","v":0}]
[null,521,{"$f":"IF(ISBLANK(Vrijwilligersregister!C529)=TRUE,\"\",Vrijwilligersregister!C529)","v":""},{"$f":"IF(ISBLANK(Vrijwilligersregister!C529)=TRUE,\"\",SUMIF('Nominatieve lijst'!$D$10:$D$3009,C529,'Nominatieve lijst'!$G$10:$G$3009))","v":""},{"$f":"IF(ISBLANK(Vrijwilligersregister!C529)=TRUE,\"\",SUMIF('Nominatieve lijst'!$D$10:$D$3009,C529,'Nominatieve lijst'!$H$10:$H$3009))","v":""},{"$f":"IF(ISBLANK(Vrijwilligersregister!C529)=TRUE,\"\",SUMIF('Nominatieve lijst'!$D$10:$D$3009,C529,'Nominatieve lijst'!$J$10:$J$3009))","v":""},{"$f":"IF(ISBLANK(Vrijwilligersregister!C529)=TRUE,\"\",D529+F529)","v":""},{"$f":"Vrijwilligersregister!L529","v":0}]
[null,522,{"$f":"IF(ISBLANK(Vrijwilligersregister!C530)=TRUE,\"\",Vrijwilligersregister!C530)","v":""},{"$f":"IF(ISBLANK(Vrijwilligersregister!C530)=TRUE,\"\",SUMIF('Nominatieve lijst'!$D$10:$D$3009,C530,'Nominatieve lijst'!$G$10:$G$3009))","v":""},{"$f":"IF(ISBLANK(Vrijwilligersregister!C530)=TRUE,\"\",SUMIF('Nominatieve lijst'!$D$10:$D$3009,C530,'Nominatieve lijst'!$H$10:$H$3009))","v":""},{"$f":"IF(ISBLANK(Vrijwilligersregister!C530)=TRUE,\"\",SUMIF('Nominatieve lijst'!$D$10:$D$3009,C530,'Nominatieve lijst'!$J$10:$J$3009))","v":""},{"$f":"IF(ISBLANK(Vrijwilligersregister!C530)=TRUE,\"\",D530+F530)","v":""},{"$f":"Vrijwilligersregister!L530","v":0}]
[null,523,{"$f":"IF(ISBLANK(Vrijwilligersregister!C531)=TRUE,\"\",Vrijwilligersregister!C531)","v":""},{"$f":"IF(ISBLANK(Vrijwilligersregister!C531)=TRUE,\"\",SUMIF('Nominatieve lijst'!$D$10:$D$3009,C531,'Nominatieve lijst'!$G$10:$G$3009))","v":""},{"$f":"IF(ISBLANK(Vrijwilligersregister!C531)=TRUE,\"\",SUMIF('Nominatieve lijst'!$D$10:$D$3009,C531,'Nominatieve lijst'!$H$10:$H$3009))","v":""},{"$f":"IF(ISBLANK(Vrijwilligersregister!C531)=TRUE,\"\",SUMIF('Nominatieve lijst'!$D$10:$D$3009,C531,'Nominatieve lijst'!$J$10:$J$3009))","v":""},{"$f":"IF(ISBLANK(Vrijwilligersregister!C531)=TRUE,\"\",D531+F531)","v":""},{"$f":"Vrijwilligersregister!L531","v":0}]
[null,524,{"$f":"IF(ISBLANK(Vrijwilligersregister!C532)=TRUE,\"\",Vrijwilligersregister!C532)","v":""},{"$f":"IF(ISBLANK(Vrijwilligersregister!C532)=TRUE,\"\",SUMIF('Nominatieve lijst'!$D$10:$D$3009,C532,'Nominatieve lijst'!$G$10:$G$3009))","v":""},{"$f":"IF(ISBLANK(Vrijwilligersregister!C532)=TRUE,\"\",SUMIF('Nominatieve lijst'!$D$10:$D$3009,C532,'Nominatieve lijst'!$H$10:$H$3009))","v":""},{"$f":"IF(ISBLANK(Vrijwilligersregister!C532)=TRUE,\"\",SUMIF('Nominatieve lijst'!$D$10:$D$3009,C532,'Nominatieve lijst'!$J$10:$J$3009))","v":""},{"$f":"IF(ISBLANK(Vrijwilligersregister!C532)=TRUE,\"\",D532+F532)","v":""},{"$f":"Vrijwilligersregister!L532","v":0}]
[null,525,{"$f":"IF(ISBLANK(Vrijwilligersregister!C533)=TRUE,\"\",Vrijwilligersregister!C533)","v":""},{"$f":"IF(ISBLANK(Vrijwilligersregister!C533)=TRUE,\"\",SUMIF('Nominatieve lijst'!$D$10:$D$3009,C533,'Nominatieve lijst'!$G$10:$G$3009))","v":""},{"$f":"IF(ISBLANK(Vrijwilligersregister!C533)=TRUE,\"\",SUMIF('Nominatieve lijst'!$D$10:$D$3009,C533,'Nominatieve lijst'!$H$10:$H$3009))","v":""},{"$f":"IF(ISBLANK(Vrijwilligersregister!C533)=TRUE,\"\",SUMIF('Nominatieve lijst'!$D$10:$D$3009,C533,'Nominatieve lijst'!$J$10:$J$3009))","v":""},{"$f":"IF(ISBLANK(Vrijwilligersregister!C533)=TRUE,\"\",D533+F533)","v":""},{"$f":"Vrijwilligersregister!L533","v":0}]
[null,526,{"$f":"IF(ISBLANK(Vrijwilligersregister!C534)=TRUE,\"\",Vrijwilligersregister!C534)","v":""},{"$f":"IF(ISBLANK(Vrijwilligersregister!C534)=TRUE,\"\",SUMIF('Nominatieve lijst'!$D$10:$D$3009,C534,'Nominatieve lijst'!$G$10:$G$3009))","v":""},{"$f":"IF(ISBLANK(Vrijwilligersregister!C534)=TRUE,\"\",SUMIF('Nominatieve lijst'!$D$10:$D$3009,C534,'Nominatieve lijst'!$H$10:$H$3009))","v":""},{"$f":"IF(ISBLANK(Vrijwilligersregister!C534)=TRUE,\"\",SUMIF('Nominatieve lijst'!$D$10:$D$3009,C534,'Nominatieve lijst'!$J$10:$J$3009))","v":""},{"$f":"IF(ISBLANK(Vrijwilligersregister!C534)=TRUE,\"\",D534+F534)","v":""},{"$f":"Vrijwilligersregister!L534","v":0}]
[null,527,{"$f":"IF(ISBLANK(Vrijwilligersregister!C535)=TRUE,\"\",Vrijwilligersregister!C535)","v":""},{"$f":"IF(ISBLANK(Vrijwilligersregister!C535)=TRUE,\"\",SUMIF('Nominatieve lijst'!$D$10:$D$3009,C535,'Nominatieve lijst'!$G$10:$G$3009))","v":""},{"$f":"IF(ISBLANK(Vrijwilligersregister!C535)=TRUE,\"\",SUMIF('Nominatieve lijst'!$D$10:$D$3009,C535,'Nominatieve lijst'!$H$10:$H$3009))","v":""},{"$f":"IF(ISBLANK(Vrijwilligersregister!C535)=TRUE,\"\",SUMIF('Nominatieve lijst'!$D$10:$D$3009,C535,'Nominatieve lijst'!$J$10:$J$3009))","v":""},{"$f":"IF(ISBLANK(Vrijwilligersregister!C535)=TRUE,\"\",D535+F535)","v":""},{"$f":"Vrijwilligersregister!L535","v":0}]
[null,528,{"$f":"IF(ISBLANK(Vrijwilligersregister!C536)=TRUE,\"\",Vrijwilligersregister!C536)","v":""},{"$f":"IF(ISBLANK(Vrijwilligersregister!C536)=TRUE,\"\",SUMIF('Nominatieve lijst'!$D$10:$D$3009,C536,'Nominatieve lijst'!$G$10:$G$3009))","v":""},{"$f":"IF(ISBLANK(Vrijwilligersregister!C536)=TRUE,\"\",SUMIF('Nominatieve lijst'!$D$10:$D$3009,C536,'Nominatieve lijst'!$H$10:$H$3009))","v":""},{"$f":"IF(ISBLANK(Vrijwilligersregister!C536)=TRUE,\"\",SUMIF('Nominatieve lijst'!$D$10:$D$3009,C536,'Nominatieve lijst'!$J$10:$J$3009))","v":""},{"$f":"IF(ISBLANK(Vrijwilligersregister!C536)=TRUE,\"\",D536+F536)","v":""},{"$f":"Vrijwilligersregister!L536","v":0}]
[null,529,{"$f":"IF(ISBLANK(Vrijwilligersregister!C537)=TRUE,\"\",Vrijwilligersregister!C537)","v":""},{"$f":"IF(ISBLANK(Vrijwilligersregister!C537)=TRUE,\"\",SUMIF('Nominatieve lijst'!$D$10:$D$3009,C537,'Nominatieve lijst'!$G$10:$G$3009))","v":""},{"$f":"IF(ISBLANK(Vrijwilligersregister!C537)=TRUE,\"\",SUMIF('Nominatieve lijst'!$D$10:$D$3009,C537,'Nominatieve lijst'!$H$10:$H$3009))","v":""},{"$f":"IF(ISBLANK(Vrijwilligersregister!C537)=TRUE,\"\",SUMIF('Nominatieve lijst'!$D$10:$D$3009,C537,'Nominatieve lijst'!$J$10:$J$3009))","v":""},{"$f":"IF(ISBLANK(Vrijwilligersregister!C537)=TRUE,\"\",D537+F537)","v":""},{"$f":"Vrijwilligersregister!L537","v":0}]
[null,530,{"$f":"IF(ISBLANK(Vrijwilligersregister!C538)=TRUE,\"\",Vrijwilligersregister!C538)","v":""},{"$f":"IF(ISBLANK(Vrijwilligersregister!C538)=TRUE,\"\",SUMIF('Nominatieve lijst'!$D$10:$D$3009,C538,'Nominatieve lijst'!$G$10:$G$3009))","v":""},{"$f":"IF(ISBLANK(Vrijwilligersregister!C538)=TRUE,\"\",SUMIF('Nominatieve lijst'!$D$10:$D$3009,C538,'Nominatieve lijst'!$H$10:$H$3009))","v":""},{"$f":"IF(ISBLANK(Vrijwilligersregister!C538)=TRUE,\"\",SUMIF('Nominatieve lijst'!$D$10:$D$3009,C538,'Nominatieve lijst'!$J$10:$J$3009))","v":""},{"$f":"IF(ISBLANK(Vrijwilligersregister!C538)=TRUE,\"\",D538+F538)","v":""},{"$f":"Vrijwilligersregister!L538","v":0}]
[null,531,{"$f":"IF(ISBLANK(Vrijwilligersregister!C539)=TRUE,\"\",Vrijwilligersregister!C539)","v":""},{"$f":"IF(ISBLANK(Vrijwilligersregister!C539)=TRUE,\"\",SUMIF('Nominatieve lijst'!$D$10:$D$3009,C539,'Nominatieve lijst'!$G$10:$G$3009))","v":""},{"$f":"IF(ISBLANK(Vrijwilligersregister!C539)=TRUE,\"\",SUMIF('Nominatieve lijst'!$D$10:$D$3009,C539,'Nominatieve lijst'!$H$10:$H$3009))","v":""},{"$f":"IF(ISBLANK(Vrijwilligersregister!C539)=TRUE,\"\",SUMIF('Nominatieve lijst'!$D$10:$D$3009,C539,'Nominatieve lijst'!$J$10:$J$3009))","v":""},{"$f":"IF(ISBLANK(Vrijwilligersregister!C539)=TRUE,\"\",D539+F539)","v":""},{"$f":"Vrijwilligersregister!L539","v":0}]
[null,532,{"$f":"IF(ISBLANK(Vrijwilligersregister!C540)=TRUE,\"\",Vrijwilligersregister!C540)","v":""},{"$f":"IF(ISBLANK(Vrijwilligersregister!C540)=TRUE,\"\",SUMIF('Nominatieve lijst'!$D$10:$D$3009,C540,'Nominatieve lijst'!$G$10:$G$3009))","v":""},{"$f":"IF(ISBLANK(Vrijwilligersregister!C540)=TRUE,\"\",SUMIF('Nominatieve lijst'!$D$10:$D$3009,C540,'Nominatieve lijst'!$H$10:$H$3009))","v":""},{"$f":"IF(ISBLANK(Vrijwilligersregister!C540)=TRUE,\"\",SUMIF('Nominatieve lijst'!$D$10:$D$3009,C540,'Nominatieve lijst'!$J$10:$J$3009))","v":""},{"$f":"IF(ISBLANK(Vrijwilligersregister!C540)=TRUE,\"\",D540+F540)","v":""},{"$f":"Vrijwilligersregister!L540","v":0}]
[null,533,{"$f":"IF(ISBLANK(Vrijwilligersregister!C541)=TRUE,\"\",Vrijwilligersregister!C541)","v":""},{"$f":"IF(ISBLANK(Vrijwilligersregister!C541)=TRUE,\"\",SUMIF('Nominatieve lijst'!$D$10:$D$3009,C541,'Nominatieve lijst'!$G$10:$G$3009))","v":""},{"$f":"IF(ISBLANK(Vrijwilligersregister!C541)=TRUE,\"\",SUMIF('Nominatieve lijst'!$D$10:$D$3009,C541,'Nominatieve lijst'!$H$10:$H$3009))","v":""},{"$f":"IF(ISBLANK(Vrijwilligersregister!C541)=TRUE,\"\",SUMIF('Nominatieve lijst'!$D$10:$D$3009,C541,'Nominatieve lijst'!$J$10:$J$3009))","v":""},{"$f":"IF(ISBLANK(Vrijwilligersregister!C541)=TRUE,\"\",D541+F541)","v":""},{"$f":"Vrijwilligersregister!L541","v":0}]
[null,534,{"$f":"IF(ISBLANK(Vrijwilligersregister!C542)=TRUE,\"\",Vrijwilligersregister!C542)","v":""},{"$f":"IF(ISBLANK(Vrijwilligersregister!C542)=TRUE,\"\",SUMIF('Nominatieve lijst'!$D$10:$D$3009,C542,'Nominatieve lijst'!$G$10:$G$3009))","v":""},{"$f":"IF(ISBLANK(Vrijwilligersregister!C542)=TRUE,\"\",SUMIF('Nominatieve lijst'!$D$10:$D$3009,C542,'Nominatieve lijst'!$H$10:$H$3009))","v":""},{"$f":"IF(ISBLANK(Vrijwilligersregister!C542)=TRUE,\"\",SUMIF('Nominatieve lijst'!$D$10:$D$3009,C542,'Nominatieve lijst'!$J$10:$J$3009))","v":""},{"$f":"IF(ISBLANK(Vrijwilligersregister!C542)=TRUE,\"\",D542+F542)","v":""},{"$f":"Vrijwilligersregister!L542","v":0}]
[null,535,{"$f":"IF(ISBLANK(Vrijwilligersregister!C543)=TRUE,\"\",Vrijwilligersregister!C543)","v":""},{"$f":"IF(ISBLANK(Vrijwilligersregister!C543)=TRUE,\"\",SUMIF('Nominatieve lijst'!$D$10:$D$3009,C543,'Nominatieve lijst'!$G$10:$G$3009))","v":""},{"$f":"IF(ISBLANK(Vrijwilligersregister!C543)=TRUE,\"\",SUMIF('Nominatieve lijst'!$D$10:$D$3009,C543,'Nominatieve lijst'!$H$10:$H$3009))","v":""},{"$f":"IF(ISBLANK(Vrijwilligersregister!C543)=TRUE,\"\",SUMIF('Nominatieve lijst'!$D$10:$D$3009,C543,'Nominatieve lijst'!$J$10:$J$3009))","v":""},{"$f":"IF(ISBLANK(Vrijwilligersregister!C543)=TRUE,\"\",D543+F543)","v":""},{"$f":"Vrijwilligersregister!L543","v":0}]
[null,536,{"$f":"IF(ISBLANK(Vrijwilligersregister!C544)=TRUE,\"\",Vrijwilligersregister!C544)","v":""},{"$f":"IF(ISBLANK(Vrijwilligersregister!C544)=TRUE,\"\",SUMIF('Nominatieve lijst'!$D$10:$D$3009,C544,'Nominatieve lijst'!$G$10:$G$3009))","v":""},{"$f":"IF(ISBLANK(Vrijwilligersregister!C544)=TRUE,\"\",SUMIF('Nominatieve lijst'!$D$10:$D$3009,C544,'Nominatieve lijst'!$H$10:$H$3009))","v":""},{"$f":"IF(ISBLANK(Vrijwilligersregister!C544)=TRUE,\"\",SUMIF('Nominatieve lijst'!$D$10:$D$3009,C544,'Nominatieve lijst'!$J$10:$J$3009))","v":""},{"$f":"IF(ISBLANK(Vrijwilligersregister!C544)=TRUE,\"\",D544+F544)","v":""},{"$f":"Vrijwilligersregister!L544","v":0}]
[null,537,{"$f":"IF(ISBLANK(Vrijwilligersregister!C545)=TRUE,\"\",Vrijwilligersregister!C545)","v":""},{"$f":"IF(ISBLANK(Vrijwilligersregister!C545)=TRUE,\"\",SUMIF('Nominatieve lijst'!$D$10:$D$3009,C545,'Nominatieve lijst'!$G$10:$G$3009))","v":""},{"$f":"IF(ISBLANK(Vrijwilligersregister!C545)=TRUE,\"\",SUMIF('Nominatieve lijst'!$D$10:$D$3009,C545,'Nominatieve lijst'!$H$10:$H$3009))","v":""},{"$f":"IF(ISBLANK(Vrijwilligersregister!C545)=TRUE,\"\",SUMIF('Nominatieve lijst'!$D$10:$D$3009,C545,'Nominatieve lijst'!$J$10:$J$3009))","v":""},{"$f":"IF(ISBLANK(Vrijwilligersregister!C545)=TRUE,\"\",D545+F545)","v":""},{"$f":"Vrijwilligersregister!L545","v":0}]
[null,538,{"$f":"IF(ISBLANK(Vrijwilligersregister!C546)=TRUE,\"\",Vrijwilligersregister!C546)","v":""},{"$f":"IF(ISBLANK(Vrijwilligersregister!C546)=TRUE,\"\",SUMIF('Nominatieve lijst'!$D$10:$D$3009,C546,'Nominatieve lijst'!$G$10:$G$3009))","v":""},{"$f":"IF(ISBLANK(Vrijwilligersregister!C546)=TRUE,\"\",SUMIF('Nominatieve lijst'!$D$10:$D$3009,C546,'Nominatieve lijst'!$H$10:$H$3009))","v":""},{"$f":"IF(ISBLANK(Vrijwilligersregister!C546)=TRUE,\"\",SUMIF('Nominatieve lijst'!$D$10:$D$3009,C546,'Nominatieve lijst'!$J$10:$J$3009))","v":""},{"$f":"IF(ISBLANK(Vrijwilligersregister!C546)=TRUE,\"\",D546+F546)","v":""},{"$f":"Vrijwilligersregister!L546","v":0}]
[null,539,{"$f":"IF(ISBLANK(Vrijwilligersregister!C547)=TRUE,\"\",Vrijwilligersregister!C547)","v":""},{"$f":"IF(ISBLANK(Vrijwilligersregister!C547)=TRUE,\"\",SUMIF('Nominatieve lijst'!$D$10:$D$3009,C547,'Nominatieve lijst'!$G$10:$G$3009))","v":""},{"$f":"IF(ISBLANK(Vrijwilligersregister!C547)=TRUE,\"\",SUMIF('Nominatieve lijst'!$D$10:$D$3009,C547,'Nominatieve lijst'!$H$10:$H$3009))","v":""},{"$f":"IF(ISBLANK(Vrijwilligersregister!C547)=TRUE,\"\",SUMIF('Nominatieve lijst'!$D$10:$D$3009,C547,'Nominatieve lijst'!$J$10:$J$3009))","v":""},{"$f":"IF(ISBLANK(Vrijwilligersregister!C547)=TRUE,\"\",D547+F547)","v":""},{"$f":"Vrijwilligersregister!L547","v":0}]
[null,540,{"$f":"IF(ISBLANK(Vrijwilligersregister!C548)=TRUE,\"\",Vrijwilligersregister!C548)","v":""},{"$f":"IF(ISBLANK(Vrijwilligersregister!C548)=TRUE,\"\",SUMIF('Nominatieve lijst'!$D$10:$D$3009,C548,'Nominatieve lijst'!$G$10:$G$3009))","v":""},{"$f":"IF(ISBLANK(Vrijwilligersregister!C548)=TRUE,\"\",SUMIF('Nominatieve lijst'!$D$10:$D$3009,C548,'Nominatieve lijst'!$H$10:$H$3009))","v":""},{"$f":"IF(ISBLANK(Vrijwilligersregister!C548)=TRUE,\"\",SUMIF('Nominatieve lijst'!$D$10:$D$3009,C548,'Nominatieve lijst'!$J$10:$J$3009))","v":""},{"$f":"IF(ISBLANK(Vrijwilligersregister!C548)=TRUE,\"\",D548+F548)","v":""},{"$f":"Vrijwilligersregister!L548","v":0}]
[null,541,{"$f":"IF(ISBLANK(Vrijwilligersregister!C549)=TRUE,\"\",Vrijwilligersregister!C549)","v":""},{"$f":"IF(ISBLANK(Vrijwilligersregister!C549)=TRUE,\"\",SUMIF('Nominatieve lijst'!$D$10:$D$3009,C549,'Nominatieve lijst'!$G$10:$G$3009))","v":""},{"$f":"IF(ISBLANK(Vrijwilligersregister!C549)=TRUE,\"\",SUMIF('Nominatieve lijst'!$D$10:$D$3009,C549,'Nominatieve lijst'!$H$10:$H$3009))","v":""},{"$f":"IF(ISBLANK(Vrijwilligersregister!C549)=TRUE,\"\",SUMIF('Nominatieve lijst'!$D$10:$D$3009,C549,'Nominatieve lijst'!$J$10:$J$3009))","v":""},{"$f":"IF(ISBLANK(Vrijwilligersregister!C549)=TRUE,\"\",D549+F549)","v":""},{"$f":"Vrijwilligersregister!L549","v":0}]
[null,542,{"$f":"IF(ISBLANK(Vrijwilligersregister!C550)=TRUE,\"\",Vrijwilligersregister!C550)","v":""},{"$f":"IF(ISBLANK(Vrijwilligersregister!C550)=TRUE,\"\",SUMIF('Nominatieve lijst'!$D$10:$D$3009,C550,'Nominatieve lijst'!$G$10:$G$3009))","v":""},{"$f":"IF(ISBLANK(Vrijwilligersregister!C550)=TRUE,\"\",SUMIF('Nominatieve lijst'!$D$10:$D$3009,C550,'Nominatieve lijst'!$H$10:$H$3009))","v":""},{"$f":"IF(ISBLANK(Vrijwilligersregister!C550)=TRUE,\"\",SUMIF('Nominatieve lijst'!$D$10:$D$3009,C550,'Nominatieve lijst'!$J$10:$J$3009))","v":""},{"$f":"IF(ISBLANK(Vrijwilligersregister!C550)=TRUE,\"\",D550+F550)","v":""},{"$f":"Vrijwilligersregister!L550","v":0}]
[null,543,{"$f":"IF(ISBLANK(Vrijwilligersregister!C551)=TRUE,\"\",Vrijwilligersregister!C551)","v":""},{"$f":"IF(ISBLANK(Vrijwilligersregister!C551)=TRUE,\"\",SUMIF('Nominatieve lijst'!$D$10:$D$3009,C551,'Nominatieve lijst'!$G$10:$G$3009))","v":""},{"$f":"IF(ISBLANK(Vrijwilligersregister!C551)=TRUE,\"\",SUMIF('Nominatieve lijst'!$D$10:$D$3009,C551,'Nominatieve lijst'!$H$10:$H$3009))","v":""},{"$f":"IF(ISBLANK(Vrijwilligersregister!C551)=TRUE,\"\",SUMIF('Nominatieve lijst'!$D$10:$D$3009,C551,'Nominatieve lijst'!$J$10:$J$3009))","v":""},{"$f":"IF(ISBLANK(Vrijwilligersregister!C551)=TRUE,\"\",D551+F551)","v":""},{"$f":"Vrijwilligersregister!L551","v":0}]
[null,544,{"$f":"IF(ISBLANK(Vrijwilligersregister!C552)=TRUE,\"\",Vrijwilligersregister!C552)","v":""},{"$f":"IF(ISBLANK(Vrijwilligersregister!C552)=TRUE,\"\",SUMIF('Nominatieve lijst'!$D$10:$D$3009,C552,'Nominatieve lijst'!$G$10:$G$3009))","v":""},{"$f":"IF(ISBLANK(Vrijwilligersregister!C552)=TRUE,\"\",SUMIF('Nominatieve lijst'!$D$10:$D$3009,C552,'Nominatieve lijst'!$H$10:$H$3009))","v":""},{"$f":"IF(ISBLANK(Vrijwilligersregister!C552)=TRUE,\"\",SUMIF('Nominatieve lijst'!$D$10:$D$3009,C552,'Nominatieve lijst'!$J$10:$J$3009))","v":""},{"$f":"IF(ISBLANK(Vrijwilligersregister!C552)=TRUE,\"\",D552+F552)","v":""},{"$f":"Vrijwilligersregister!L552","v":0}]
[null,545,{"$f":"IF(ISBLANK(Vrijwilligersregister!C553)=TRUE,\"\",Vrijwilligersregister!C553)","v":""},{"$f":"IF(ISBLANK(Vrijwilligersregister!C553)=TRUE,\"\",SUMIF('Nominatieve lijst'!$D$10:$D$3009,C553,'Nominatieve lijst'!$G$10:$G$3009))","v":""},{"$f":"IF(ISBLANK(Vrijwilligersregister!C553)=TRUE,\"\",SUMIF('Nominatieve lijst'!$D$10:$D$3009,C553,'Nominatieve lijst'!$H$10:$H$3009))","v":""},{"$f":"IF(ISBLANK(Vrijwilligersregister!C553)=TRUE,\"\",SUMIF('Nominatieve lijst'!$D$10:$D$3009,C553,'Nominatieve lijst'!$J$10:$J$3009))","v":""},{"$f":"IF(ISBLANK(Vrijwilligersregister!C553)=TRUE,\"\",D553+F553)","v":""},{"$f":"Vrijwilligersregister!L553","v":0}]
[null,546,{"$f":"IF(ISBLANK(Vrijwilligersregister!C554)=TRUE,\"\",Vrijwilligersregister!C554)","v":""},{"$f":"IF(ISBLANK(Vrijwilligersregister!C554)=TRUE,\"\",SUMIF('Nominatieve lijst'!$D$10:$D$3009,C554,'Nominatieve lijst'!$G$10:$G$3009))","v":""},{"$f":"IF(ISBLANK(Vrijwilligersregister!C554)=TRUE,\"\",SUMIF('Nominatieve lijst'!$D$10:$D$3009,C554,'Nominatieve lijst'!$H$10:$H$3009))","v":""},{"$f":"IF(ISBLANK(Vrijwilligersregister!C554)=TRUE,\"\",SUMIF('Nominatieve lijst'!$D$10:$D$3009,C554,'Nominatieve lijst'!$J$10:$J$3009))","v":""},{"$f":"IF(ISBLANK(Vrijwilligersregister!C554)=TRUE,\"\",D554+F554)","v":""},{"$f":"Vrijwilligersregister!L554","v":0}]
[null,547,{"$f":"IF(ISBLANK(Vrijwilligersregister!C555)=TRUE,\"\",Vrijwilligersregister!C555)","v":""},{"$f":"IF(ISBLANK(Vrijwilligersregister!C555)=TRUE,\"\",SUMIF('Nominatieve lijst'!$D$10:$D$3009,C555,'Nominatieve lijst'!$G$10:$G$3009))","v":""},{"$f":"IF(ISBLANK(Vrijwilligersregister!C555)=TRUE,\"\",SUMIF('Nominatieve lijst'!$D$10:$D$3009,C555,'Nominatieve lijst'!$H$10:$H$3009))","v":""},{"$f":"IF(ISBLANK(Vrijwilligersregister!C555)=TRUE,\"\",SUMIF('Nominatieve lijst'!$D$10:$D$3009,C555,'Nominatieve lijst'!$J$10:$J$3009))","v":""},{"$f":"IF(ISBLANK(Vrijwilligersregister!C555)=TRUE,\"\",D555+F555)","v":""},{"$f":"Vrijwilligersregister!L555","v":0}]
[null,548,{"$f":"IF(ISBLANK(Vrijwilligersregister!C556)=TRUE,\"\",Vrijwilligersregister!C556)","v":""},{"$f":"IF(ISBLANK(Vrijwilligersregister!C556)=TRUE,\"\",SUMIF('Nominatieve lijst'!$D$10:$D$3009,C556,'Nominatieve lijst'!$G$10:$G$3009))","v":""},{"$f":"IF(ISBLANK(Vrijwilligersregister!C556)=TRUE,\"\",SUMIF('Nominatieve lijst'!$D$10:$D$3009,C556,'Nominatieve lijst'!$H$10:$H$3009))","v":""},{"$f":"IF(ISBLANK(Vrijwilligersregister!C556)=TRUE,\"\",SUMIF('Nominatieve lijst'!$D$10:$D$3009,C556,'Nominatieve lijst'!$J$10:$J$3009))","v":""},{"$f":"IF(ISBLANK(Vrijwilligersregister!C556)=TRUE,\"\",D556+F556)","v":""},{"$f":"Vrijwilligersregister!L556","v":0}]
[null,549,{"$f":"IF(ISBLANK(Vrijwilligersregister!C557)=TRUE,\"\",Vrijwilligersregister!C557)","v":""},{"$f":"IF(ISBLANK(Vrijwilligersregister!C557)=TRUE,\"\",SUMIF('Nominatieve lijst'!$D$10:$D$3009,C557,'Nominatieve lijst'!$G$10:$G$3009))","v":""},{"$f":"IF(ISBLANK(Vrijwilligersregister!C557)=TRUE,\"\",SUMIF('Nominatieve lijst'!$D$10:$D$3009,C557,'Nominatieve lijst'!$H$10:$H$3009))","v":""},{"$f":"IF(ISBLANK(Vrijwilligersregister!C557)=TRUE,\"\",SUMIF('Nominatieve lijst'!$D$10:$D$3009,C557,'Nominatieve lijst'!$J$10:$J$3009))","v":""},{"$f":"IF(ISBLANK(Vrijwilligersregister!C557)=TRUE,\"\",D557+F557)","v":""},{"$f":"Vrijwilligersregister!L557","v":0}]
[null,550,{"$f":"IF(ISBLANK(Vrijwilligersregister!C558)=TRUE,\"\",Vrijwilligersregister!C558)","v":""},{"$f":"IF(ISBLANK(Vrijwilligersregister!C558)=TRUE,\"\",SUMIF('Nominatieve lijst'!$D$10:$D$3009,C558,'Nominatieve lijst'!$G$10:$G$3009))","v":""},{"$f":"IF(ISBLANK(Vrijwilligersregister!C558)=TRUE,\"\",SUMIF('Nominatieve lijst'!$D$10:$D$3009,C558,'Nominatieve lijst'!$H$10:$H$3009))","v":""},{"$f":"IF(ISBLANK(Vrijwilligersregister!C558)=TRUE,\"\",SUMIF('Nominatieve lijst'!$D$10:$D$3009,C558,'Nominatieve lijst'!$J$10:$J$3009))","v":""},{"$f":"IF(ISBLANK(Vrijwilligersregister!C558)=TRUE,\"\",D558+F558)","v":""},{"$f":"Vrijwilligersregister!L558","v":0}]
[null,551,{"$f":"IF(ISBLANK(Vrijwilligersregister!C559)=TRUE,\"\",Vrijwilligersregister!C559)","v":""},{"$f":"IF(ISBLANK(Vrijwilligersregister!C559)=TRUE,\"\",SUMIF('Nominatieve lijst'!$D$10:$D$3009,C559,'Nominatieve lijst'!$G$10:$G$3009))","v":""},{"$f":"IF(ISBLANK(Vrijwilligersregister!C559)=TRUE,\"\",SUMIF('Nominatieve lijst'!$D$10:$D$3009,C559,'Nominatieve lijst'!$H$10:$H$3009))","v":""},{"$f":"IF(ISBLANK(Vrijwilligersregister!C559)=TRUE,\"\",SUMIF('Nominatieve lijst'!$D$10:$D$3009,C559,'Nominatieve lijst'!$J$10:$J$3009))","v":""},{"$f":"IF(ISBLANK(Vrijwilligersregister!C559)=TRUE,\"\",D559+F559)","v":""},{"$f":"Vrijwilligersregister!L559","v":0}]
[null,552,{"$f":"IF(ISBLANK(Vrijwilligersregister!C560)=TRUE,\"\",Vrijwilligersregister!C560)","v":""},{"$f":"IF(ISBLANK(Vrijwilligersregister!C560)=TRUE,\"\",SUMIF('Nominatieve lijst'!$D$10:$D$3009,C560,'Nominatieve lijst'!$G$10:$G$3009))","v":""},{"$f":"IF(ISBLANK(Vrijwilligersregister!C560)=TRUE,\"\",SUMIF('Nominatieve lijst'!$D$10:$D$3009,C560,'Nominatieve lijst'!$H$10:$H$3009))","v":""},{"$f":"IF(ISBLANK(Vrijwilligersregister!C560)=TRUE,\"\",SUMIF('Nominatieve lijst'!$D$10:$D$3009,C560,'Nominatieve lijst'!$J$10:$J$3009))","v":""},{"$f":"IF(ISBLANK(Vrijwilligersregister!C560)=TRUE,\"\",D560+F560)","v":""},{"$f":"Vrijwilligersregister!L560","v":0}]
[null,553,{"$f":"IF(ISBLANK(Vrijwilligersregister!C561)=TRUE,\"\",Vrijwilligersregister!C561)","v":""},{"$f":"IF(ISBLANK(Vrijwilligersregister!C561)=TRUE,\"\",SUMIF('Nominatieve lijst'!$D$10:$D$3009,C561,'Nominatieve lijst'!$G$10:$G$3009))","v":""},{"$f":"IF(ISBLANK(Vrijwilligersregister!C561)=TRUE,\"\",SUMIF('Nominatieve lijst'!$D$10:$D$3009,C561,'Nominatieve lijst'!$H$10:$H$3009))","v":""},{"$f":"IF(ISBLANK(Vrijwilligersregister!C561)=TRUE,\"\",SUMIF('Nominatieve lijst'!$D$10:$D$3009,C561,'Nominatieve lijst'!$J$10:$J$3009))","v":""},{"$f":"IF(ISBLANK(Vrijwilligersregister!C561)=TRUE,\"\",D561+F561)","v":""},{"$f":"Vrijwilligersregister!L561","v":0}]
[null,554,{"$f":"IF(ISBLANK(Vrijwilligersregister!C562)=TRUE,\"\",Vrijwilligersregister!C562)","v":""},{"$f":"IF(ISBLANK(Vrijwilligersregister!C562)=TRUE,\"\",SUMIF('Nominatieve lijst'!$D$10:$D$3009,C562,'Nominatieve lijst'!$G$10:$G$3009))","v":""},{"$f":"IF(ISBLANK(Vrijwilligersregister!C562)=TRUE,\"\",SUMIF('Nominatieve lijst'!$D$10:$D$3009,C562,'Nominatieve lijst'!$H$10:$H$3009))","v":""},{"$f":"IF(ISBLANK(Vrijwilligersregister!C562)=TRUE,\"\",SUMIF('Nominatieve lijst'!$D$10:$D$3009,C562,'Nominatieve lijst'!$J$10:$J$3009))","v":""},{"$f":"IF(ISBLANK(Vrijwilligersregister!C562)=TRUE,\"\",D562+F562)","v":""},{"$f":"Vrijwilligersregister!L562","v":0}]
[null,555,{"$f":"IF(ISBLANK(Vrijwilligersregister!C563)=TRUE,\"\",Vrijwilligersregister!C563)","v":""},{"$f":"IF(ISBLANK(Vrijwilligersregister!C563)=TRUE,\"\",SUMIF('Nominatieve lijst'!$D$10:$D$3009,C563,'Nominatieve lijst'!$G$10:$G$3009))","v":""},{"$f":"IF(ISBLANK(Vrijwilligersregister!C563)=TRUE,\"\",SUMIF('Nominatieve lijst'!$D$10:$D$3009,C563,'Nominatieve lijst'!$H$10:$H$3009))","v":""},{"$f":"IF(ISBLANK(Vrijwilligersregister!C563)=TRUE,\"\",SUMIF('Nominatieve lijst'!$D$10:$D$3009,C563,'Nominatieve lijst'!$J$10:$J$3009))","v":""},{"$f":"IF(ISBLANK(Vrijwilligersregister!C563)=TRUE,\"\",D563+F563)","v":""},{"$f":"Vrijwilligersregister!L563","v":0}]
[null,556,{"$f":"IF(ISBLANK(Vrijwilligersregister!C564)=TRUE,\"\",Vrijwilligersregister!C564)","v":""},{"$f":"IF(ISBLANK(Vrijwilligersregister!C564)=TRUE,\"\",SUMIF('Nominatieve lijst'!$D$10:$D$3009,C564,'Nominatieve lijst'!$G$10:$G$3009))","v":""},{"$f":"IF(ISBLANK(Vrijwilligersregister!C564)=TRUE,\"\",SUMIF('Nominatieve lijst'!$D$10:$D$3009,C564,'Nominatieve lijst'!$H$10:$H$3009))","v":""},{"$f":"IF(ISBLANK(Vrijwilligersregister!C564)=TRUE,\"\",SUMIF('Nominatieve lijst'!$D$10:$D$3009,C564,'Nominatieve lijst'!$J$10:$J$3009))","v":""},{"$f":"IF(ISBLANK(Vrijwilligersregister!C564)=TRUE,\"\",D564+F564)","v":""},{"$f":"Vrijwilligersregister!L564","v":0}]
[null,557,{"$f":"IF(ISBLANK(Vrijwilligersregister!C565)=TRUE,\"\",Vrijwilligersregister!C565)","v":""},{"$f":"IF(ISBLANK(Vrijwilligersregister!C565)=TRUE,\"\",SUMIF('Nominatieve lijst'!$D$10:$D$3009,C565,'Nominatieve lijst'!$G$10:$G$3009))","v":""},{"$f":"IF(ISBLANK(Vrijwilligersregister!C565)=TRUE,\"\",SUMIF('Nominatieve lijst'!$D$10:$D$3009,C565,'Nominatieve lijst'!$H$10:$H$3009))","v":""},{"$f":"IF(ISBLANK(Vrijwilligersregister!C565)=TRUE,\"\",SUMIF('Nominatieve lijst'!$D$10:$D$3009,C565,'Nominatieve lijst'!$J$10:$J$3009))","v":""},{"$f":"IF(ISBLANK(Vrijwilligersregister!C565)=TRUE,\"\",D565+F565)","v":""},{"$f":"Vrijwilligersregister!L565","v":0}]
[null,558,{"$f":"IF(ISBLANK(Vrijwilligersregister!C566)=TRUE,\"\",Vrijwilligersregister!C566)","v":""},{"$f":"IF(ISBLANK(Vrijwilligersregister!C566)=TRUE,\"\",SUMIF('Nominatieve lijst'!$D$10:$D$3009,C566,'Nominatieve lijst'!$G$10:$G$3009))","v":""},{"$f":"IF(ISBLANK(Vrijwilligersregister!C566)=TRUE,\"\",SUMIF('Nominatieve lijst'!$D$10:$D$3009,C566,'Nominatieve lijst'!$H$10:$H$3009))","v":""},{"$f":"IF(ISBLANK(Vrijwilligersregister!C566)=TRUE,\"\",SUMIF('Nominatieve lijst'!$D$10:$D$3009,C566,'Nominatieve lijst'!$J$10:$J$3009))","v":""},{"$f":"IF(ISBLANK(Vrijwilligersregister!C566)=TRUE,\"\",D566+F566)","v":""},{"$f":"Vrijwilligersregister!L566","v":0}]
[null,559,{"$f":"IF(ISBLANK(Vrijwilligersregister!C567)=TRUE,\"\",Vrijwilligersregister!C567)","v":""},{"$f":"IF(ISBLANK(Vrijwilligersregister!C567)=TRUE,\"\",SUMIF('Nominatieve lijst'!$D$10:$D$3009,C567,'Nominatieve lijst'!$G$10:$G$3009))","v":""},{"$f":"IF(ISBLANK(Vrijwilligersregister!C567)=TRUE,\"\",SUMIF('Nominatieve lijst'!$D$10:$D$3009,C567,'Nominatieve lijst'!$H$10:$H$3009))","v":""},{"$f":"IF(ISBLANK(Vrijwilligersregister!C567)=TRUE,\"\",SUMIF('Nominatieve lijst'!$D$10:$D$3009,C567,'Nominatieve lijst'!$J$10:$J$3009))","v":""},{"$f":"IF(ISBLANK(Vrijwilligersregister!C567)=TRUE,\"\",D567+F567)","v":""},{"$f":"Vrijwilligersregister!L567","v":0}]
[null,560,{"$f":"IF(ISBLANK(Vrijwilligersregister!C568)=TRUE,\"\",Vrijwilligersregister!C568)","v":""},{"$f":"IF(ISBLANK(Vrijwilligersregister!C568)=TRUE,\"\",SUMIF('Nominatieve lijst'!$D$10:$D$3009,C568,'Nominatieve lijst'!$G$10:$G$3009))","v":""},{"$f":"IF(ISBLANK(Vrijwilligersregister!C568)=TRUE,\"\",SUMIF('Nominatieve lijst'!$D$10:$D$3009,C568,'Nominatieve lijst'!$H$10:$H$3009))","v":""},{"$f":"IF(ISBLANK(Vrijwilligersregister!C568)=TRUE,\"\",SUMIF('Nominatieve lijst'!$D$10:$D$3009,C568,'Nominatieve lijst'!$J$10:$J$3009))","v":""},{"$f":"IF(ISBLANK(Vrijwilligersregister!C568)=TRUE,\"\",D568+F568)","v":""},{"$f":"Vrijwilligersregister!L568","v":0}]
[null,561,{"$f":"IF(ISBLANK(Vrijwilligersregister!C569)=TRUE,\"\",Vrijwilligersregister!C569)","v":""},{"$f":"IF(ISBLANK(Vrijwilligersregister!C569)=TRUE,\"\",SUMIF('Nominatieve lijst'!$D$10:$D$3009,C569,'Nominatieve lijst'!$G$10:$G$3009))","v":""},{"$f":"IF(ISBLANK(Vrijwilligersregister!C569)=TRUE,\"\",SUMIF('Nominatieve lijst'!$D$10:$D$3009,C569,'Nominatieve lijst'!$H$10:$H$3009))","v":""},{"$f":"IF(ISBLANK(Vrijwilligersregister!C569)=TRUE,\"\",SUMIF('Nominatieve lijst'!$D$10:$D$3009,C569,'Nominatieve lijst'!$J$10:$J$3009))","v":""},{"$f":"IF(ISBLANK(Vrijwilligersregister!C569)=TRUE,\"\",D569+F569)","v":""},{"$f":"Vrijwilligersregister!L569","v":0}]
[null,562,{"$f":"IF(ISBLANK(Vrijwilligersregister!C570)=TRUE,\"\",Vrijwilligersregister!C570)","v":""},{"$f":"IF(ISBLANK(Vrijwilligersregister!C570)=TRUE,\"\",SUMIF('Nominatieve lijst'!$D$10:$D$3009,C570,'Nominatieve lijst'!$G$10:$G$3009))","v":""},{"$f":"IF(ISBLANK(Vrijwilligersregister!C570)=TRUE,\"\",SUMIF('Nominatieve lijst'!$D$10:$D$3009,C570,'Nominatieve lijst'!$H$10:$H$3009))","v":""},{"$f":"IF(ISBLANK(Vrijwilligersregister!C570)=TRUE,\"\",SUMIF('Nominatieve lijst'!$D$10:$D$3009,C570,'Nominatieve lijst'!$J$10:$J$3009))","v":""},{"$f":"IF(ISBLANK(Vrijwilligersregister!C570)=TRUE,\"\",D570+F570)","v":""},{"$f":"Vrijwilligersregister!L570","v":0}]
[null,563,{"$f":"IF(ISBLANK(Vrijwilligersregister!C571)=TRUE,\"\",Vrijwilligersregister!C571)","v":""},{"$f":"IF(ISBLANK(Vrijwilligersregister!C571)=TRUE,\"\",SUMIF('Nominatieve lijst'!$D$10:$D$3009,C571,'Nominatieve lijst'!$G$10:$G$3009))","v":""},{"$f":"IF(ISBLANK(Vrijwilligersregister!C571)=TRUE,\"\",SUMIF('Nominatieve lijst'!$D$10:$D$3009,C571,'Nominatieve lijst'!$H$10:$H$3009))","v":""},{"$f":"IF(ISBLANK(Vrijwilligersregister!C571)=TRUE,\"\",SUMIF('Nominatieve lijst'!$D$10:$D$3009,C571,'Nominatieve lijst'!$J$10:$J$3009))","v":""},{"$f":"IF(ISBLANK(Vrijwilligersregister!C571)=TRUE,\"\",D571+F571)","v":""},{"$f":"Vrijwilligersregister!L571","v":0}]
[null,564,{"$f":"IF(ISBLANK(Vrijwilligersregister!C572)=TRUE,\"\",Vrijwilligersregister!C572)","v":""},{"$f":"IF(ISBLANK(Vrijwilligersregister!C572)=TRUE,\"\",SUMIF('Nominatieve lijst'!$D$10:$D$3009,C572,'Nominatieve lijst'!$G$10:$G$3009))","v":""},{"$f":"IF(ISBLANK(Vrijwilligersregister!C572)=TRUE,\"\",SUMIF('Nominatieve lijst'!$D$10:$D$3009,C572,'Nominatieve lijst'!$H$10:$H$3009))","v":""},{"$f":"IF(ISBLANK(Vrijwilligersregister!C572)=TRUE,\"\",SUMIF('Nominatieve lijst'!$D$10:$D$3009,C572,'Nominatieve lijst'!$J$10:$J$3009))","v":""},{"$f":"IF(ISBLANK(Vrijwilligersregister!C572)=TRUE,\"\",D572+F572)","v":""},{"$f":"Vrijwilligersregister!L572","v":0}]
[null,565,{"$f":"IF(ISBLANK(Vrijwilligersregister!C573)=TRUE,\"\",Vrijwilligersregister!C573)","v":""},{"$f":"IF(ISBLANK(Vrijwilligersregister!C573)=TRUE,\"\",SUMIF('Nominatieve lijst'!$D$10:$D$3009,C573,'Nominatieve lijst'!$G$10:$G$3009))","v":""},{"$f":"IF(ISBLANK(Vrijwilligersregister!C573)=TRUE,\"\",SUMIF('Nominatieve lijst'!$D$10:$D$3009,C573,'Nominatieve lijst'!$H$10:$H$3009))","v":""},{"$f":"IF(ISBLANK(Vrijwilligersregister!C573)=TRUE,\"\",SUMIF('Nominatieve lijst'!$D$10:$D$3009,C573,'Nominatieve lijst'!$J$10:$J$3009))","v":""},{"$f":"IF(ISBLANK(Vrijwilligersregister!C573)=TRUE,\"\",D573+F573)","v":""},{"$f":"Vrijwilligersregister!L573","v":0}]
[null,566,{"$f":"IF(ISBLANK(Vrijwilligersregister!C574)=TRUE,\"\",Vrijwilligersregister!C574)","v":""},{"$f":"IF(ISBLANK(Vrijwilligersregister!C574)=TRUE,\"\",SUMIF('Nominatieve lijst'!$D$10:$D$3009,C574,'Nominatieve lijst'!$G$10:$G$3009))","v":""},{"$f":"IF(ISBLANK(Vrijwilligersregister!C574)=TRUE,\"\",SUMIF('Nominatieve lijst'!$D$10:$D$3009,C574,'Nominatieve lijst'!$H$10:$H$3009))","v":""},{"$f":"IF(ISBLANK(Vrijwilligersregister!C574)=TRUE,\"\",SUMIF('Nominatieve lijst'!$D$10:$D$3009,C574,'Nominatieve lijst'!$J$10:$J$3009))","v":""},{"$f":"IF(ISBLANK(Vrijwilligersregister!C574)=TRUE,\"\",D574+F574)","v":""},{"$f":"Vrijwilligersregister!L574","v":0}]
[null,567,{"$f":"IF(ISBLANK(Vrijwilligersregister!C575)=TRUE,\"\",Vrijwilligersregister!C575)","v":""},{"$f":"IF(ISBLANK(Vrijwilligersregister!C575)=TRUE,\"\",SUMIF('Nominatieve lijst'!$D$10:$D$3009,C575,'Nominatieve lijst'!$G$10:$G$3009))","v":""},{"$f":"IF(ISBLANK(Vrijwilligersregister!C575)=TRUE,\"\",SUMIF('Nominatieve lijst'!$D$10:$D$3009,C575,'Nominatieve lijst'!$H$10:$H$3009))","v":""},{"$f":"IF(ISBLANK(Vrijwilligersregister!C575)=TRUE,\"\",SUMIF('Nominatieve lijst'!$D$10:$D$3009,C575,'Nominatieve lijst'!$J$10:$J$3009))","v":""},{"$f":"IF(ISBLANK(Vrijwilligersregister!C575)=TRUE,\"\",D575+F575)","v":""},{"$f":"Vrijwilligersregister!L575","v":0}]
[null,568,{"$f":"IF(ISBLANK(Vrijwilligersregister!C576)=TRUE,\"\",Vrijwilligersregister!C576)","v":""},{"$f":"IF(ISBLANK(Vrijwilligersregister!C576)=TRUE,\"\",SUMIF('Nominatieve lijst'!$D$10:$D$3009,C576,'Nominatieve lijst'!$G$10:$G$3009))","v":""},{"$f":"IF(ISBLANK(Vrijwilligersregister!C576)=TRUE,\"\",SUMIF('Nominatieve lijst'!$D$10:$D$3009,C576,'Nominatieve lijst'!$H$10:$H$3009))","v":""},{"$f":"IF(ISBLANK(Vrijwilligersregister!C576)=TRUE,\"\",SUMIF('Nominatieve lijst'!$D$10:$D$3009,C576,'Nominatieve lijst'!$J$10:$J$3009))","v":""},{"$f":"IF(ISBLANK(Vrijwilligersregister!C576)=TRUE,\"\",D576+F576)","v":""},{"$f":"Vrijwilligersregister!L576","v":0}]
[null,569,{"$f":"IF(ISBLANK(Vrijwilligersregister!C577)=TRUE,\"\",Vrijwilligersregister!C577)","v":""},{"$f":"IF(ISBLANK(Vrijwilligersregister!C577)=TRUE,\"\",SUMIF('Nominatieve lijst'!$D$10:$D$3009,C577,'Nominatieve lijst'!$G$10:$G$3009))","v":""},{"$f":"IF(ISBLANK(Vrijwilligersregister!C577)=TRUE,\"\",SUMIF('Nominatieve lijst'!$D$10:$D$3009,C577,'Nominatieve lijst'!$H$10:$H$3009))","v":""},{"$f":"IF(ISBLANK(Vrijwilligersregister!C577)=TRUE,\"\",SUMIF('Nominatieve lijst'!$D$10:$D$3009,C577,'Nominatieve lijst'!$J$10:$J$3009))","v":""},{"$f":"IF(ISBLANK(Vrijwilligersregister!C577)=TRUE,\"\",D577+F577)","v":""},{"$f":"Vrijwilligersregister!L577","v":0}]
[null,570,{"$f":"IF(ISBLANK(Vrijwilligersregister!C578)=TRUE,\"\",Vrijwilligersregister!C578)","v":""},{"$f":"IF(ISBLANK(Vrijwilligersregister!C578)=TRUE,\"\",SUMIF('Nominatieve lijst'!$D$10:$D$3009,C578,'Nominatieve lijst'!$G$10:$G$3009))","v":""},{"$f":"IF(ISBLANK(Vrijwilligersregister!C578)=TRUE,\"\",SUMIF('Nominatieve lijst'!$D$10:$D$3009,C578,'Nominatieve lijst'!$H$10:$H$3009))","v":""},{"$f":"IF(ISBLANK(Vrijwilligersregister!C578)=TRUE,\"\",SUMIF('Nominatieve lijst'!$D$10:$D$3009,C578,'Nominatieve lijst'!$J$10:$J$3009))","v":""},{"$f":"IF(ISBLANK(Vrijwilligersregister!C578)=TRUE,\"\",D578+F578)","v":""},{"$f":"Vrijwilligersregister!L578","v":0}]
[null,571,{"$f":"IF(ISBLANK(Vrijwilligersregister!C579)=TRUE,\"\",Vrijwilligersregister!C579)","v":""},{"$f":"IF(ISBLANK(Vrijwilligersregister!C579)=TRUE,\"\",SUMIF('Nominatieve lijst'!$D$10:$D$3009,C579,'Nominatieve lijst'!$G$10:$G$3009))","v":""},{"$f":"IF(ISBLANK(Vrijwilligersregister!C579)=TRUE,\"\",SUMIF('Nominatieve lijst'!$D$10:$D$3009,C579,'Nominatieve lijst'!$H$10:$H$3009))","v":""},{"$f":"IF(ISBLANK(Vrijwilligersregister!C579)=TRUE,\"\",SUMIF('Nominatieve lijst'!$D$10:$D$3009,C579,'Nominatieve lijst'!$J$10:$J$3009))","v":""},{"$f":"IF(ISBLANK(Vrijwilligersregister!C579)=TRUE,\"\",D579+F579)","v":""},{"$f":"Vrijwilligersregister!L579","v":0}]
[null,572,{"$f":"IF(ISBLANK(Vrijwilligersregister!C580)=TRUE,\"\",Vrijwilligersregister!C580)","v":""},{"$f":"IF(ISBLANK(Vrijwilligersregister!C580)=TRUE,\"\",SUMIF('Nominatieve lijst'!$D$10:$D$3009,C580,'Nominatieve lijst'!$G$10:$G$3009))","v":""},{"$f":"IF(ISBLANK(Vrijwilligersregister!C580)=TRUE,\"\",SUMIF('Nominatieve lijst'!$D$10:$D$3009,C580,'Nominatieve lijst'!$H$10:$H$3009))","v":""},{"$f":"IF(ISBLANK(Vrijwilligersregister!C580)=TRUE,\"\",SUMIF('Nominatieve lijst'!$D$10:$D$3009,C580,'Nominatieve lijst'!$J$10:$J$3009))","v":""},{"$f":"IF(ISBLANK(Vrijwilligersregister!C580)=TRUE,\"\",D580+F580)","v":""},{"$f":"Vrijwilligersregister!L580","v":0}]
[null,573,{"$f":"IF(ISBLANK(Vrijwilligersregister!C581)=TRUE,\"\",Vrijwilligersregister!C581)","v":""},{"$f":"IF(ISBLANK(Vrijwilligersregister!C581)=TRUE,\"\",SUMIF('Nominatieve lijst'!$D$10:$D$3009,C581,'Nominatieve lijst'!$G$10:$G$3009))","v":""},{"$f":"IF(ISBLANK(Vrijwilligersregister!C581)=TRUE,\"\",SUMIF('Nominatieve lijst'!$D$10:$D$3009,C581,'Nominatieve lijst'!$H$10:$H$3009))","v":""},{"$f":"IF(ISBLANK(Vrijwilligersregister!C581)=TRUE,\"\",SUMIF('Nominatieve lijst'!$D$10:$D$3009,C581,'Nominatieve lijst'!$J$10:$J$3009))","v":""},{"$f":"IF(ISBLANK(Vrijwilligersregister!C581)=TRUE,\"\",D581+F581)","v":""},{"$f":"Vrijwilligersregister!L581","v":0}]
[null,574,{"$f":"IF(ISBLANK(Vrijwilligersregister!C582)=TRUE,\"\",Vrijwilligersregister!C582)","v":""},{"$f":"IF(ISBLANK(Vrijwilligersregister!C582)=TRUE,\"\",SUMIF('Nominatieve lijst'!$D$10:$D$3009,C582,'Nominatieve lijst'!$G$10:$G$3009))","v":""},{"$f":"IF(ISBLANK(Vrijwilligersregister!C582)=TRUE,\"\",SUMIF('Nominatieve lijst'!$D$10:$D$3009,C582,'Nominatieve lijst'!$H$10:$H$3009))","v":""},{"$f":"IF(ISBLANK(Vrijwilligersregister!C582)=TRUE,\"\",SUMIF('Nominatieve lijst'!$D$10:$D$3009,C582,'Nominatieve lijst'!$J$10:$J$3009))","v":""},{"$f":"IF(ISBLANK(Vrijwilligersregister!C582)=TRUE,\"\",D582+F582)","v":""},{"$f":"Vrijwilligersregister!L582","v":0}]
[null,575,{"$f":"IF(ISBLANK(Vrijwilligersregister!C583)=TRUE,\"\",Vrijwilligersregister!C583)","v":""},{"$f":"IF(ISBLANK(Vrijwilligersregister!C583)=TRUE,\"\",SUMIF('Nominatieve lijst'!$D$10:$D$3009,C583,'Nominatieve lijst'!$G$10:$G$3009))","v":""},{"$f":"IF(ISBLANK(Vrijwilligersregister!C583)=TRUE,\"\",SUMIF('Nominatieve lijst'!$D$10:$D$3009,C583,'Nominatieve lijst'!$H$10:$H$3009))","v":""},{"$f":"IF(ISBLANK(Vrijwilligersregister!C583)=TRUE,\"\",SUMIF('Nominatieve lijst'!$D$10:$D$3009,C583,'Nominatieve lijst'!$J$10:$J$3009))","v":""},{"$f":"IF(ISBLANK(Vrijwilligersregister!C583)=TRUE,\"\",D583+F583)","v":""},{"$f":"Vrijwilligersregister!L583","v":0}]
[null,576,{"$f":"IF(ISBLANK(Vrijwilligersregister!C584)=TRUE,\"\",Vrijwilligersregister!C584)","v":""},{"$f":"IF(ISBLANK(Vrijwilligersregister!C584)=TRUE,\"\",SUMIF('Nominatieve lijst'!$D$10:$D$3009,C584,'Nominatieve lijst'!$G$10:$G$3009))","v":""},{"$f":"IF(ISBLANK(Vrijwilligersregister!C584)=TRUE,\"\",SUMIF('Nominatieve lijst'!$D$10:$D$3009,C584,'Nominatieve lijst'!$H$10:$H$3009))","v":""},{"$f":"IF(ISBLANK(Vrijwilligersregister!C584)=TRUE,\"\",SUMIF('Nominatieve lijst'!$D$10:$D$3009,C584,'Nominatieve lijst'!$J$10:$J$3009))","v":""},{"$f":"IF(ISBLANK(Vrijwilligersregister!C584)=TRUE,\"\",D584+F584)","v":""},{"$f":"Vrijwilligersregister!L584","v":0}]
[null,577,{"$f":"IF(ISBLANK(Vrijwilligersregister!C585)=TRUE,\"\",Vrijwilligersregister!C585)","v":""},{"$f":"IF(ISBLANK(Vrijwilligersregister!C585)=TRUE,\"\",SUMIF('Nominatieve lijst'!$D$10:$D$3009,C585,'Nominatieve lijst'!$G$10:$G$3009))","v":""},{"$f":"IF(ISBLANK(Vrijwilligersregister!C585)=TRUE,\"\",SUMIF('Nominatieve lijst'!$D$10:$D$3009,C585,'Nominatieve lijst'!$H$10:$H$3009))","v":""},{"$f":"IF(ISBLANK(Vrijwilligersregister!C585)=TRUE,\"\",SUMIF('Nominatieve lijst'!$D$10:$D$3009,C585,'Nominatieve lijst'!$J$10:$J$3009))","v":""},{"$f":"IF(ISBLANK(Vrijwilligersregister!C585)=TRUE,\"\",D585+F585)","v":""},{"$f":"Vrijwilligersregister!L585","v":0}]
[null,578,{"$f":"IF(ISBLANK(Vrijwilligersregister!C586)=TRUE,\"\",Vrijwilligersregister!C586)","v":""},{"$f":"IF(ISBLANK(Vrijwilligersregister!C586)=TRUE,\"\",SUMIF('Nominatieve lijst'!$D$10:$D$3009,C586,'Nominatieve lijst'!$G$10:$G$3009))","v":""},{"$f":"IF(ISBLANK(Vrijwilligersregister!C586)=TRUE,\"\",SUMIF('Nominatieve lijst'!$D$10:$D$3009,C586,'Nominatieve lijst'!$H$10:$H$3009))","v":""},{"$f":"IF(ISBLANK(Vrijwilligersregister!C586)=TRUE,\"\",SUMIF('Nominatieve lijst'!$D$10:$D$3009,C586,'Nominatieve lijst'!$J$10:$J$3009))","v":""},{"$f":"IF(ISBLANK(Vrijwilligersregister!C586)=TRUE,\"\",D586+F586)","v":""},{"$f":"Vrijwilligersregister!L586","v":0}]
[null,579,{"$f":"IF(ISBLANK(Vrijwilligersregister!C587)=TRUE,\"\",Vrijwilligersregister!C587)","v":""},{"$f":"IF(ISBLANK(Vrijwilligersregister!C587)=TRUE,\"\",SUMIF('Nominatieve lijst'!$D$10:$D$3009,C587,'Nominatieve lijst'!$G$10:$G$3009))","v":""},{"$f":"IF(ISBLANK(Vrijwilligersregister!C587)=TRUE,\"\",SUMIF('Nominatieve lijst'!$D$10:$D$3009,C587,'Nominatieve lijst'!$H$10:$H$3009))","v":""},{"$f":"IF(ISBLANK(Vrijwilligersregister!C587)=TRUE,\"\",SUMIF('Nominatieve lijst'!$D$10:$D$3009,C587,'Nominatieve lijst'!$J$10:$J$3009))","v":""},{"$f":"IF(ISBLANK(Vrijwilligersregister!C587)=TRUE,\"\",D587+F587)","v":""},{"$f":"Vrijwilligersregister!L587","v":0}]
[null,580,{"$f":"IF(ISBLANK(Vrijwilligersregister!C588)=TRUE,\"\",Vrijwilligersregister!C588)","v":""},{"$f":"IF(ISBLANK(Vrijwilligersregister!C588)=TRUE,\"\",SUMIF('Nominatieve lijst'!$D$10:$D$3009,C588,'Nominatieve lijst'!$G$10:$G$3009))","v":""},{"$f":"IF(ISBLANK(Vrijwilligersregister!C588)=TRUE,\"\",SUMIF('Nominatieve lijst'!$D$10:$D$3009,C588,'Nominatieve lijst'!$H$10:$H$3009))","v":""},{"$f":"IF(ISBLANK(Vrijwilligersregister!C588)=TRUE,\"\",SUMIF('Nominatieve lijst'!$D$10:$D$3009,C588,'Nominatieve lijst'!$J$10:$J$3009))","v":""},{"$f":"IF(ISBLANK(Vrijwilligersregister!C588)=TRUE,\"\",D588+F588)","v":""},{"$f":"Vrijwilligersregister!L588","v":0}]
[null,581,{"$f":"IF(ISBLANK(Vrijwilligersregister!C589)=TRUE,\"\",Vrijwilligersregister!C589)","v":""},{"$f":"IF(ISBLANK(Vrijwilligersregister!C589)=TRUE,\"\",SUMIF('Nominatieve lijst'!$D$10:$D$3009,C589,'Nominatieve lijst'!$G$10:$G$3009))","v":""},{"$f":"IF(ISBLANK(Vrijwilligersregister!C589)=TRUE,\"\",SUMIF('Nominatieve lijst'!$D$10:$D$3009,C589,'Nominatieve lijst'!$H$10:$H$3009))","v":""},{"$f":"IF(ISBLANK(Vrijwilligersregister!C589)=TRUE,\"\",SUMIF('Nominatieve lijst'!$D$10:$D$3009,C589,'Nominatieve lijst'!$J$10:$J$3009))","v":""},{"$f":"IF(ISBLANK(Vrijwilligersregister!C589)=TRUE,\"\",D589+F589)","v":""},{"$f":"Vrijwilligersregister!L589","v":0}]
[null,582,{"$f":"IF(ISBLANK(Vrijwilligersregister!C590)=TRUE,\"\",Vrijwilligersregister!C590)","v":""},{"$f":"IF(ISBLANK(Vrijwilligersregister!C590)=TRUE,\"\",SUMIF('Nominatieve lijst'!$D$10:$D$3009,C590,'Nominatieve lijst'!$G$10:$G$3009))","v":""},{"$f":"IF(ISBLANK(Vrijwilligersregister!C590)=TRUE,\"\",SUMIF('Nominatieve lijst'!$D$10:$D$3009,C590,'Nominatieve lijst'!$H$10:$H$3009))","v":""},{"$f":"IF(ISBLANK(Vrijwilligersregister!C590)=TRUE,\"\",SUMIF('Nominatieve lijst'!$D$10:$D$3009,C590,'Nominatieve lijst'!$J$10:$J$3009))","v":""},{"$f":"IF(ISBLANK(Vrijwilligersregister!C590)=TRUE,\"\",D590+F590)","v":""},{"$f":"Vrijwilligersregister!L590","v":0}]
[null,583,{"$f":"IF(ISBLANK(Vrijwilligersregister!C591)=TRUE,\"\",Vrijwilligersregister!C591)","v":""},{"$f":"IF(ISBLANK(Vrijwilligersregister!C591)=TRUE,\"\",SUMIF('Nominatieve lijst'!$D$10:$D$3009,C591,'Nominatieve lijst'!$G$10:$G$3009))","v":""},{"$f":"IF(ISBLANK(Vrijwilligersregister!C591)=TRUE,\"\",SUMIF('Nominatieve lijst'!$D$10:$D$3009,C591,'Nominatieve lijst'!$H$10:$H$3009))","v":""},{"$f":"IF(ISBLANK(Vrijwilligersregister!C591)=TRUE,\"\",SUMIF('Nominatieve lijst'!$D$10:$D$3009,C591,'Nominatieve lijst'!$J$10:$J$3009))","v":""},{"$f":"IF(ISBLANK(Vrijwilligersregister!C591)=TRUE,\"\",D591+F591)","v":""},{"$f":"Vrijwilligersregister!L591","v":0}]
[null,584,{"$f":"IF(ISBLANK(Vrijwilligersregister!C592)=TRUE,\"\",Vrijwilligersregister!C592)","v":""},{"$f":"IF(ISBLANK(Vrijwilligersregister!C592)=TRUE,\"\",SUMIF('Nominatieve lijst'!$D$10:$D$3009,C592,'Nominatieve lijst'!$G$10:$G$3009))","v":""},{"$f":"IF(ISBLANK(Vrijwilligersregister!C592)=TRUE,\"\",SUMIF('Nominatieve lijst'!$D$10:$D$3009,C592,'Nominatieve lijst'!$H$10:$H$3009))","v":""},{"$f":"IF(ISBLANK(Vrijwilligersregister!C592)=TRUE,\"\",SUMIF('Nominatieve lijst'!$D$10:$D$3009,C592,'Nominatieve lijst'!$J$10:$J$3009))","v":""},{"$f":"IF(ISBLANK(Vrijwilligersregister!C592)=TRUE,\"\",D592+F592)","v":""},{"$f":"Vrijwilligersregister!L592","v":0}]
[null,585,{"$f":"IF(ISBLANK(Vrijwilligersregister!C593)=TRUE,\"\",Vrijwilligersregister!C593)","v":""},{"$f":"IF(ISBLANK(Vrijwilligersregister!C593)=TRUE,\"\",SUMIF('Nominatieve lijst'!$D$10:$D$3009,C593,'Nominatieve lijst'!$G$10:$G$3009))","v":""},{"$f":"IF(ISBLANK(Vrijwilligersregister!C593)=TRUE,\"\",SUMIF('Nominatieve lijst'!$D$10:$D$3009,C593,'Nominatieve lijst'!$H$10:$H$3009))","v":""},{"$f":"IF(ISBLANK(Vrijwilligersregister!C593)=TRUE,\"\",SUMIF('Nominatieve lijst'!$D$10:$D$3009,C593,'Nominatieve lijst'!$J$10:$J$3009))","v":""},{"$f":"IF(ISBLANK(Vrijwilligersregister!C593)=TRUE,\"\",D593+F593)","v":""},{"$f":"Vrijwilligersregister!L593","v":0}]
[null,586,{"$f":"IF(ISBLANK(Vrijwilligersregister!C594)=TRUE,\"\",Vrijwilligersregister!C594)","v":""},{"$f":"IF(ISBLANK(Vrijwilligersregister!C594)=TRUE,\"\",SUMIF('Nominatieve lijst'!$D$10:$D$3009,C594,'Nominatieve lijst'!$G$10:$G$3009))","v":""},{"$f":"IF(ISBLANK(Vrijwilligersregister!C594)=TRUE,\"\",SUMIF('Nominatieve lijst'!$D$10:$D$3009,C594,'Nominatieve lijst'!$H$10:$H$3009))","v":""},{"$f":"IF(ISBLANK(Vrijwilligersregister!C594)=TRUE,\"\",SUMIF('Nominatieve lijst'!$D$10:$D$3009,C594,'Nominatieve lijst'!$J$10:$J$3009))","v":""},{"$f":"IF(ISBLANK(Vrijwilligersregister!C594)=TRUE,\"\",D594+F594)","v":""},{"$f":"Vrijwilligersregister!L594","v":0}]
[null,587,{"$f":"IF(ISBLANK(Vrijwilligersregister!C595)=TRUE,\"\",Vrijwilligersregister!C595)","v":""},{"$f":"IF(ISBLANK(Vrijwilligersregister!C595)=TRUE,\"\",SUMIF('Nominatieve lijst'!$D$10:$D$3009,C595,'Nominatieve lijst'!$G$10:$G$3009))","v":""},{"$f":"IF(ISBLANK(Vrijwilligersregister!C595)=TRUE,\"\",SUMIF('Nominatieve lijst'!$D$10:$D$3009,C595,'Nominatieve lijst'!$H$10:$H$3009))","v":""},{"$f":"IF(ISBLANK(Vrijwilligersregister!C595)=TRUE,\"\",SUMIF('Nominatieve lijst'!$D$10:$D$3009,C595,'Nominatieve lijst'!$J$10:$J$3009))","v":""},{"$f":"IF(ISBLANK(Vrijwilligersregister!C595)=TRUE,\"\",D595+F595)","v":""},{"$f":"Vrijwilligersregister!L595","v":0}]
[null,588,{"$f":"IF(ISBLANK(Vrijwilligersregister!C596)=TRUE,\"\",Vrijwilligersregister!C596)","v":""},{"$f":"IF(ISBLANK(Vrijwilligersregister!C596)=TRUE,\"\",SUMIF('Nominatieve lijst'!$D$10:$D$3009,C596,'Nominatieve lijst'!$G$10:$G$3009))","v":""},{"$f":"IF(ISBLANK(Vrijwilligersregister!C596)=TRUE,\"\",SUMIF('Nominatieve lijst'!$D$10:$D$3009,C596,'Nominatieve lijst'!$H$10:$H$3009))","v":""},{"$f":"IF(ISBLANK(Vrijwilligersregister!C596)=TRUE,\"\",SUMIF('Nominatieve lijst'!$D$10:$D$3009,C596,'Nominatieve lijst'!$J$10:$J$3009))","v":""},{"$f":"IF(ISBLANK(Vrijwilligersregister!C596)=TRUE,\"\",D596+F596)","v":""},{"$f":"Vrijwilligersregister!L596","v":0}]
[null,589,{"$f":"IF(ISBLANK(Vrijwilligersregister!C597)=TRUE,\"\",Vrijwilligersregister!C597)","v":""},{"$f":"IF(ISBLANK(Vrijwilligersregister!C597)=TRUE,\"\",SUMIF('Nominatieve lijst'!$D$10:$D$3009,C597,'Nominatieve lijst'!$G$10:$G$3009))","v":""},{"$f":"IF(ISBLANK(Vrijwilligersregister!C597)=TRUE,\"\",SUMIF('Nominatieve lijst'!$D$10:$D$3009,C597,'Nominatieve lijst'!$H$10:$H$3009))","v":""},{"$f":"IF(ISBLANK(Vrijwilligersregister!C597)=TRUE,\"\",SUMIF('Nominatieve lijst'!$D$10:$D$3009,C597,'Nominatieve lijst'!$J$10:$J$3009))","v":""},{"$f":"IF(ISBLANK(Vrijwilligersregister!C597)=TRUE,\"\",D597+F597)","v":""},{"$f":"Vrijwilligersregister!L597","v":0}]
[null,590,{"$f":"IF(ISBLANK(Vrijwilligersregister!C598)=TRUE,\"\",Vrijwilligersregister!C598)","v":""},{"$f":"IF(ISBLANK(Vrijwilligersregister!C598)=TRUE,\"\",SUMIF('Nominatieve lijst'!$D$10:$D$3009,C598,'Nominatieve lijst'!$G$10:$G$3009))","v":""},{"$f":"IF(ISBLANK(Vrijwilligersregister!C598)=TRUE,\"\",SUMIF('Nominatieve lijst'!$D$10:$D$3009,C598,'Nominatieve lijst'!$H$10:$H$3009))","v":""},{"$f":"IF(ISBLANK(Vrijwilligersregister!C598)=TRUE,\"\",SUMIF('Nominatieve lijst'!$D$10:$D$3009,C598,'Nominatieve lijst'!$J$10:$J$3009))","v":""},{"$f":"IF(ISBLANK(Vrijwilligersregister!C598)=TRUE,\"\",D598+F598)","v":""},{"$f":"Vrijwilligersregister!L598","v":0}]
[null,591,{"$f":"IF(ISBLANK(Vrijwilligersregister!C599)=TRUE,\"\",Vrijwilligersregister!C599)","v":""},{"$f":"IF(ISBLANK(Vrijwilligersregister!C599)=TRUE,\"\",SUMIF('Nominatieve lijst'!$D$10:$D$3009,C599,'Nominatieve lijst'!$G$10:$G$3009))","v":""},{"$f":"IF(ISBLANK(Vrijwilligersregister!C599)=TRUE,\"\",SUMIF('Nominatieve lijst'!$D$10:$D$3009,C599,'Nominatieve lijst'!$H$10:$H$3009))","v":""},{"$f":"IF(ISBLANK(Vrijwilligersregister!C599)=TRUE,\"\",SUMIF('Nominatieve lijst'!$D$10:$D$3009,C599,'Nominatieve lijst'!$J$10:$J$3009))","v":""},{"$f":"IF(ISBLANK(Vrijwilligersregister!C599)=TRUE,\"\",D599+F599)","v":""},{"$f":"Vrijwilligersregister!L599","v":0}]
[null,592,{"$f":"IF(ISBLANK(Vrijwilligersregister!C600)=TRUE,\"\",Vrijwilligersregister!C600)","v":""},{"$f":"IF(ISBLANK(Vrijwilligersregister!C600)=TRUE,\"\",SUMIF('Nominatieve lijst'!$D$10:$D$3009,C600,'Nominatieve lijst'!$G$10:$G$3009))","v":""},{"$f":"IF(ISBLANK(Vrijwilligersregister!C600)=TRUE,\"\",SUMIF('Nominatieve lijst'!$D$10:$D$3009,C600,'Nominatieve lijst'!$H$10:$H$3009))","v":""},{"$f":"IF(ISBLANK(Vrijwilligersregister!C600)=TRUE,\"\",SUMIF('Nominatieve lijst'!$D$10:$D$3009,C600,'Nominatieve lijst'!$J$10:$J$3009))","v":""},{"$f":"IF(ISBLANK(Vrijwilligersregister!C600)=TRUE,\"\",D600+F600)","v":""},{"$f":"Vrijwilligersregister!L600","v":0}]
[null,593,{"$f":"IF(ISBLANK(Vrijwilligersregister!C601)=TRUE,\"\",Vrijwilligersregister!C601)","v":""},{"$f":"IF(ISBLANK(Vrijwilligersregister!C601)=TRUE,\"\",SUMIF('Nominatieve lijst'!$D$10:$D$3009,C601,'Nominatieve lijst'!$G$10:$G$3009))","v":""},{"$f":"IF(ISBLANK(Vrijwilligersregister!C601)=TRUE,\"\",SUMIF('Nominatieve lijst'!$D$10:$D$3009,C601,'Nominatieve lijst'!$H$10:$H$3009))","v":""},{"$f":"IF(ISBLANK(Vrijwilligersregister!C601)=TRUE,\"\",SUMIF('Nominatieve lijst'!$D$10:$D$3009,C601,'Nominatieve lijst'!$J$10:$J$3009))","v":""},{"$f":"IF(ISBLANK(Vrijwilligersregister!C601)=TRUE,\"\",D601+F601)","v":""},{"$f":"Vrijwilligersregister!L601","v":0}]
[null,594,{"$f":"IF(ISBLANK(Vrijwilligersregister!C602)=TRUE,\"\",Vrijwilligersregister!C602)","v":""},{"$f":"IF(ISBLANK(Vrijwilligersregister!C602)=TRUE,\"\",SUMIF('Nominatieve lijst'!$D$10:$D$3009,C602,'Nominatieve lijst'!$G$10:$G$3009))","v":""},{"$f":"IF(ISBLANK(Vrijwilligersregister!C602)=TRUE,\"\",SUMIF('Nominatieve lijst'!$D$10:$D$3009,C602,'Nominatieve lijst'!$H$10:$H$3009))","v":""},{"$f":"IF(ISBLANK(Vrijwilligersregister!C602)=TRUE,\"\",SUMIF('Nominatieve lijst'!$D$10:$D$3009,C602,'Nominatieve lijst'!$J$10:$J$3009))","v":""},{"$f":"IF(ISBLANK(Vrijwilligersregister!C602)=TRUE,\"\",D602+F602)","v":""},{"$f":"Vrijwilligersregister!L602","v":0}]
[null,595,{"$f":"IF(ISBLANK(Vrijwilligersregister!C603)=TRUE,\"\",Vrijwilligersregister!C603)","v":""},{"$f":"IF(ISBLANK(Vrijwilligersregister!C603)=TRUE,\"\",SUMIF('Nominatieve lijst'!$D$10:$D$3009,C603,'Nominatieve lijst'!$G$10:$G$3009))","v":""},{"$f":"IF(ISBLANK(Vrijwilligersregister!C603)=TRUE,\"\",SUMIF('Nominatieve lijst'!$D$10:$D$3009,C603,'Nominatieve lijst'!$H$10:$H$3009))","v":""},{"$f":"IF(ISBLANK(Vrijwilligersregister!C603)=TRUE,\"\",SUMIF('Nominatieve lijst'!$D$10:$D$3009,C603,'Nominatieve lijst'!$J$10:$J$3009))","v":""},{"$f":"IF(ISBLANK(Vrijwilligersregister!C603)=TRUE,\"\",D603+F603)","v":""},{"$f":"Vrijwilligersregister!L603","v":0}]
[null,596,{"$f":"IF(ISBLANK(Vrijwilligersregister!C604)=TRUE,\"\",Vrijwilligersregister!C604)","v":""},{"$f":"IF(ISBLANK(Vrijwilligersregister!C604)=TRUE,\"\",SUMIF('Nominatieve lijst'!$D$10:$D$3009,C604,'Nominatieve lijst'!$G$10:$G$3009))","v":""},{"$f":"IF(ISBLANK(Vrijwilligersregister!C604)=TRUE,\"\",SUMIF('Nominatieve lijst'!$D$10:$D$3009,C604,'Nominatieve lijst'!$H$10:$H$3009))","v":""},{"$f":"IF(ISBLANK(Vrijwilligersregister!C604)=TRUE,\"\",SUMIF('Nominatieve lijst'!$D$10:$D$3009,C604,'Nominatieve lijst'!$J$10:$J$3009))","v":""},{"$f":"IF(ISBLANK(Vrijwilligersregister!C604)=TRUE,\"\",D604+F604)","v":""},{"$f":"Vrijwilligersregister!L604","v":0}]
[null,597,{"$f":"IF(ISBLANK(Vrijwilligersregister!C605)=TRUE,\"\",Vrijwilligersregister!C605)","v":""},{"$f":"IF(ISBLANK(Vrijwilligersregister!C605)=TRUE,\"\",SUMIF('Nominatieve lijst'!$D$10:$D$3009,C605,'Nominatieve lijst'!$G$10:$G$3009))","v":""},{"$f":"IF(ISBLANK(Vrijwilligersregister!C605)=TRUE,\"\",SUMIF('Nominatieve lijst'!$D$10:$D$3009,C605,'Nominatieve lijst'!$H$10:$H$3009))","v":""},{"$f":"IF(ISBLANK(Vrijwilligersregister!C605)=TRUE,\"\",SUMIF('Nominatieve lijst'!$D$10:$D$3009,C605,'Nominatieve lijst'!$J$10:$J$3009))","v":""},{"$f":"IF(ISBLANK(Vrijwilligersregister!C605)=TRUE,\"\",D605+F605)","v":""},{"$f":"Vrijwilligersregister!L605","v":0}]
[null,598,{"$f":"IF(ISBLANK(Vrijwilligersregister!C606)=TRUE,\"\",Vrijwilligersregister!C606)","v":""},{"$f":"IF(ISBLANK(Vrijwilligersregister!C606)=TRUE,\"\",SUMIF('Nominatieve lijst'!$D$10:$D$3009,C606,'Nominatieve lijst'!$G$10:$G$3009))","v":""},{"$f":"IF(ISBLANK(Vrijwilligersregister!C606)=TRUE,\"\",SUMIF('Nominatieve lijst'!$D$10:$D$3009,C606,'Nominatieve lijst'!$H$10:$H$3009))","v":""},{"$f":"IF(ISBLANK(Vrijwilligersregister!C606)=TRUE,\"\",SUMIF('Nominatieve lijst'!$D$10:$D$3009,C606,'Nominatieve lijst'!$J$10:$J$3009))","v":""},{"$f":"IF(ISBLANK(Vrijwilligersregister!C606)=TRUE,\"\",D606+F606)","v":""},{"$f":"Vrijwilligersregister!L606","v":0}]
[null,599,{"$f":"IF(ISBLANK(Vrijwilligersregister!C607)=TRUE,\"\",Vrijwilligersregister!C607)","v":""},{"$f":"IF(ISBLANK(Vrijwilligersregister!C607)=TRUE,\"\",SUMIF('Nominatieve lijst'!$D$10:$D$3009,C607,'Nominatieve lijst'!$G$10:$G$3009))","v":""},{"$f":"IF(ISBLANK(Vrijwilligersregister!C607)=TRUE,\"\",SUMIF('Nominatieve lijst'!$D$10:$D$3009,C607,'Nominatieve lijst'!$H$10:$H$3009))","v":""},{"$f":"IF(ISBLANK(Vrijwilligersregister!C607)=TRUE,\"\",SUMIF('Nominatieve lijst'!$D$10:$D$3009,C607,'Nominatieve lijst'!$J$10:$J$3009))","v":""},{"$f":"IF(ISBLANK(Vrijwilligersregister!C607)=TRUE,\"\",D607+F607)","v":""},{"$f":"Vrijwilligersregister!L607","v":0}]
[null,600,{"$f":"IF(ISBLANK(Vrijwilligersregister!C608)=TRUE,\"\",Vrijwilligersregister!C608)","v":""},{"$f":"IF(ISBLANK(Vrijwilligersregister!C608)=TRUE,\"\",SUMIF('Nominatieve lijst'!$D$10:$D$3009,C608,'Nominatieve lijst'!$G$10:$G$3009))","v":""},{"$f":"IF(ISBLANK(Vrijwilligersregister!C608)=TRUE,\"\",SUMIF('Nominatieve lijst'!$D$10:$D$3009,C608,'Nominatieve lijst'!$H$10:$H$3009))","v":""},{"$f":"IF(ISBLANK(Vrijwilligersregister!C608)=TRUE,\"\",SUMIF('Nominatieve lijst'!$D$10:$D$3009,C608,'Nominatieve lijst'!$J$10:$J$3009))","v":""},{"$f":"IF(ISBLANK(Vrijwilligersregister!C608)=TRUE,\"\",D608+F608)","v":""},{"$f":"Vrijwilligersregister!L608","v":0}]
[null,601,{"$f":"IF(ISBLANK(Vrijwilligersregister!C609)=TRUE,\"\",Vrijwilligersregister!C609)","v":""},{"$f":"IF(ISBLANK(Vrijwilligersregister!C609)=TRUE,\"\",SUMIF('Nominatieve lijst'!$D$10:$D$3009,C609,'Nominatieve lijst'!$G$10:$G$3009))","v":""},{"$f":"IF(ISBLANK(Vrijwilligersregister!C609)=TRUE,\"\",SUMIF('Nominatieve lijst'!$D$10:$D$3009,C609,'Nominatieve lijst'!$H$10:$H$3009))","v":""},{"$f":"IF(ISBLANK(Vrijwilligersregister!C609)=TRUE,\"\",SUMIF('Nominatieve lijst'!$D$10:$D$3009,C609,'Nominatieve lijst'!$J$10:$J$3009))","v":""},{"$f":"IF(ISBLANK(Vrijwilligersregister!C609)=TRUE,\"\",D609+F609)","v":""},{"$f":"Vrijwilligersregister!L609","v":0}]
[null,602,{"$f":"IF(ISBLANK(Vrijwilligersregister!C610)=TRUE,\"\",Vrijwilligersregister!C610)","v":""},{"$f":"IF(ISBLANK(Vrijwilligersregister!C610)=TRUE,\"\",SUMIF('Nominatieve lijst'!$D$10:$D$3009,C610,'Nominatieve lijst'!$G$10:$G$3009))","v":""},{"$f":"IF(ISBLANK(Vrijwilligersregister!C610)=TRUE,\"\",SUMIF('Nominatieve lijst'!$D$10:$D$3009,C610,'Nominatieve lijst'!$H$10:$H$3009))","v":""},{"$f":"IF(ISBLANK(Vrijwilligersregister!C610)=TRUE,\"\",SUMIF('Nominatieve lijst'!$D$10:$D$3009,C610,'Nominatieve lijst'!$J$10:$J$3009))","v":""},{"$f":"IF(ISBLANK(Vrijwilligersregister!C610)=TRUE,\"\",D610+F610)","v":""},{"$f":"Vrijwilligersregister!L610","v":0}]
[null,603,{"$f":"IF(ISBLANK(Vrijwilligersregister!C611)=TRUE,\"\",Vrijwilligersregister!C611)","v":""},{"$f":"IF(ISBLANK(Vrijwilligersregister!C611)=TRUE,\"\",SUMIF('Nominatieve lijst'!$D$10:$D$3009,C611,'Nominatieve lijst'!$G$10:$G$3009))","v":""},{"$f":"IF(ISBLANK(Vrijwilligersregister!C611)=TRUE,\"\",SUMIF('Nominatieve lijst'!$D$10:$D$3009,C611,'Nominatieve lijst'!$H$10:$H$3009))","v":""},{"$f":"IF(ISBLANK(Vrijwilligersregister!C611)=TRUE,\"\",SUMIF('Nominatieve lijst'!$D$10:$D$3009,C611,'Nominatieve lijst'!$J$10:$J$3009))","v":""},{"$f":"IF(ISBLANK(Vrijwilligersregister!C611)=TRUE,\"\",D611+F611)","v":""},{"$f":"Vrijwilligersregister!L611","v":0}]
[null,604,{"$f":"IF(ISBLANK(Vrijwilligersregister!C612)=TRUE,\"\",Vrijwilligersregister!C612)","v":""},{"$f":"IF(ISBLANK(Vrijwilligersregister!C612)=TRUE,\"\",SUMIF('Nominatieve lijst'!$D$10:$D$3009,C612,'Nominatieve lijst'!$G$10:$G$3009))","v":""},{"$f":"IF(ISBLANK(Vrijwilligersregister!C612)=TRUE,\"\",SUMIF('Nominatieve lijst'!$D$10:$D$3009,C612,'Nominatieve lijst'!$H$10:$H$3009))","v":""},{"$f":"IF(ISBLANK(Vrijwilligersregister!C612)=TRUE,\"\",SUMIF('Nominatieve lijst'!$D$10:$D$3009,C612,'Nominatieve lijst'!$J$10:$J$3009))","v":""},{"$f":"IF(ISBLANK(Vrijwilligersregister!C612)=TRUE,\"\",D612+F612)","v":""},{"$f":"Vrijwilligersregister!L612","v":0}]
[null,605,{"$f":"IF(ISBLANK(Vrijwilligersregister!C613)=TRUE,\"\",Vrijwilligersregister!C613)","v":""},{"$f":"IF(ISBLANK(Vrijwilligersregister!C613)=TRUE,\"\",SUMIF('Nominatieve lijst'!$D$10:$D$3009,C613,'Nominatieve lijst'!$G$10:$G$3009))","v":""},{"$f":"IF(ISBLANK(Vrijwilligersregister!C613)=TRUE,\"\",SUMIF('Nominatieve lijst'!$D$10:$D$3009,C613,'Nominatieve lijst'!$H$10:$H$3009))","v":""},{"$f":"IF(ISBLANK(Vrijwilligersregister!C613)=TRUE,\"\",SUMIF('Nominatieve lijst'!$D$10:$D$3009,C613,'Nominatieve lijst'!$J$10:$J$3009))","v":""},{"$f":"IF(ISBLANK(Vrijwilligersregister!C613)=TRUE,\"\",D613+F613)","v":""},{"$f":"Vrijwilligersregister!L613","v":0}]
[null,606,{"$f":"IF(ISBLANK(Vrijwilligersregister!C614)=TRUE,\"\",Vrijwilligersregister!C614)","v":""},{"$f":"IF(ISBLANK(Vrijwilligersregister!C614)=TRUE,\"\",SUMIF('Nominatieve lijst'!$D$10:$D$3009,C614,'Nominatieve lijst'!$G$10:$G$3009))","v":""},{"$f":"IF(ISBLANK(Vrijwilligersregister!C614)=TRUE,\"\",SUMIF('Nominatieve lijst'!$D$10:$D$3009,C614,'Nominatieve lijst'!$H$10:$H$3009))","v":""},{"$f":"IF(ISBLANK(Vrijwilligersregister!C614)=TRUE,\"\",SUMIF('Nominatieve lijst'!$D$10:$D$3009,C614,'Nominatieve lijst'!$J$10:$J$3009))","v":""},{"$f":"IF(ISBLANK(Vrijwilligersregister!C614)=TRUE,\"\",D614+F614)","v":""},{"$f":"Vrijwilligersregister!L614","v":0}]
[null,607,{"$f":"IF(ISBLANK(Vrijwilligersregister!C615)=TRUE,\"\",Vrijwilligersregister!C615)","v":""},{"$f":"IF(ISBLANK(Vrijwilligersregister!C615)=TRUE,\"\",SUMIF('Nominatieve lijst'!$D$10:$D$3009,C615,'Nominatieve lijst'!$G$10:$G$3009))","v":""},{"$f":"IF(ISBLANK(Vrijwilligersregister!C615)=TRUE,\"\",SUMIF('Nominatieve lijst'!$D$10:$D$3009,C615,'Nominatieve lijst'!$H$10:$H$3009))","v":""},{"$f":"IF(ISBLANK(Vrijwilligersregister!C615)=TRUE,\"\",SUMIF('Nominatieve lijst'!$D$10:$D$3009,C615,'Nominatieve lijst'!$J$10:$J$3009))","v":""},{"$f":"IF(ISBLANK(Vrijwilligersregister!C615)=TRUE,\"\",D615+F615)","v":""},{"$f":"Vrijwilligersregister!L615","v":0}]
[null,608,{"$f":"IF(ISBLANK(Vrijwilligersregister!C616)=TRUE,\"\",Vrijwilligersregister!C616)","v":""},{"$f":"IF(ISBLANK(Vrijwilligersregister!C616)=TRUE,\"\",SUMIF('Nominatieve lijst'!$D$10:$D$3009,C616,'Nominatieve lijst'!$G$10:$G$3009))","v":""},{"$f":"IF(ISBLANK(Vrijwilligersregister!C616)=TRUE,\"\",SUMIF('Nominatieve lijst'!$D$10:$D$3009,C616,'Nominatieve lijst'!$H$10:$H$3009))","v":""},{"$f":"IF(ISBLANK(Vrijwilligersregister!C616)=TRUE,\"\",SUMIF('Nominatieve lijst'!$D$10:$D$3009,C616,'Nominatieve lijst'!$J$10:$J$3009))","v":""},{"$f":"IF(ISBLANK(Vrijwilligersregister!C616)=TRUE,\"\",D616+F616)","v":""},{"$f":"Vrijwilligersregister!L616","v":0}]
[null,609,{"$f":"IF(ISBLANK(Vrijwilligersregister!C617)=TRUE,\"\",Vrijwilligersregister!C617)","v":""},{"$f":"IF(ISBLANK(Vrijwilligersregister!C617)=TRUE,\"\",SUMIF('Nominatieve lijst'!$D$10:$D$3009,C617,'Nominatieve lijst'!$G$10:$G$3009))","v":""},{"$f":"IF(ISBLANK(Vrijwilligersregister!C617)=TRUE,\"\",SUMIF('Nominatieve lijst'!$D$10:$D$3009,C617,'Nominatieve lijst'!$H$10:$H$3009))","v":""},{"$f":"IF(ISBLANK(Vrijwilligersregister!C617)=TRUE,\"\",SUMIF('Nominatieve lijst'!$D$10:$D$3009,C617,'Nominatieve lijst'!$J$10:$J$3009))","v":""},{"$f":"IF(ISBLANK(Vrijwilligersregister!C617)=TRUE,\"\",D617+F617)","v":""},{"$f":"Vrijwilligersregister!L617","v":0}]
[null,610,{"$f":"IF(ISBLANK(Vrijwilligersregister!C618)=TRUE,\"\",Vrijwilligersregister!C618)","v":""},{"$f":"IF(ISBLANK(Vrijwilligersregister!C618)=TRUE,\"\",SUMIF('Nominatieve lijst'!$D$10:$D$3009,C618,'Nominatieve lijst'!$G$10:$G$3009))","v":""},{"$f":"IF(ISBLANK(Vrijwilligersregister!C618)=TRUE,\"\",SUMIF('Nominatieve lijst'!$D$10:$D$3009,C618,'Nominatieve lijst'!$H$10:$H$3009))","v":""},{"$f":"IF(ISBLANK(Vrijwilligersregister!C618)=TRUE,\"\",SUMIF('Nominatieve lijst'!$D$10:$D$3009,C618,'Nominatieve lijst'!$J$10:$J$3009))","v":""},{"$f":"IF(ISBLANK(Vrijwilligersregister!C618)=TRUE,\"\",D618+F618)","v":""},{"$f":"Vrijwilligersregister!L618","v":0}]
[null,611,{"$f":"IF(ISBLANK(Vrijwilligersregister!C619)=TRUE,\"\",Vrijwilligersregister!C619)","v":""},{"$f":"IF(ISBLANK(Vrijwilligersregister!C619)=TRUE,\"\",SUMIF('Nominatieve lijst'!$D$10:$D$3009,C619,'Nominatieve lijst'!$G$10:$G$3009))","v":""},{"$f":"IF(ISBLANK(Vrijwilligersregister!C619)=TRUE,\"\",SUMIF('Nominatieve lijst'!$D$10:$D$3009,C619,'Nominatieve lijst'!$H$10:$H$3009))","v":""},{"$f":"IF(ISBLANK(Vrijwilligersregister!C619)=TRUE,\"\",SUMIF('Nominatieve lijst'!$D$10:$D$3009,C619,'Nominatieve lijst'!$J$10:$J$3009))","v":""},{"$f":"IF(ISBLANK(Vrijwilligersregister!C619)=TRUE,\"\",D619+F619)","v":""},{"$f":"Vrijwilligersregister!L619","v":0}]
[null,612,{"$f":"IF(ISBLANK(Vrijwilligersregister!C620)=TRUE,\"\",Vrijwilligersregister!C620)","v":""},{"$f":"IF(ISBLANK(Vrijwilligersregister!C620)=TRUE,\"\",SUMIF('Nominatieve lijst'!$D$10:$D$3009,C620,'Nominatieve lijst'!$G$10:$G$3009))","v":""},{"$f":"IF(ISBLANK(Vrijwilligersregister!C620)=TRUE,\"\",SUMIF('Nominatieve lijst'!$D$10:$D$3009,C620,'Nominatieve lijst'!$H$10:$H$3009))","v":""},{"$f":"IF(ISBLANK(Vrijwilligersregister!C620)=TRUE,\"\",SUMIF('Nominatieve lijst'!$D$10:$D$3009,C620,'Nominatieve lijst'!$J$10:$J$3009))","v":""},{"$f":"IF(ISBLANK(Vrijwilligersregister!C620)=TRUE,\"\",D620+F620)","v":""},{"$f":"Vrijwilligersregister!L620","v":0}]
[null,613,{"$f":"IF(ISBLANK(Vrijwilligersregister!C621)=TRUE,\"\",Vrijwilligersregister!C621)","v":""},{"$f":"IF(ISBLANK(Vrijwilligersregister!C621)=TRUE,\"\",SUMIF('Nominatieve lijst'!$D$10:$D$3009,C621,'Nominatieve lijst'!$G$10:$G$3009))","v":""},{"$f":"IF(ISBLANK(Vrijwilligersregister!C621)=TRUE,\"\",SUMIF('Nominatieve lijst'!$D$10:$D$3009,C621,'Nominatieve lijst'!$H$10:$H$3009))","v":""},{"$f":"IF(ISBLANK(Vrijwilligersregister!C621)=TRUE,\"\",SUMIF('Nominatieve lijst'!$D$10:$D$3009,C621,'Nominatieve lijst'!$J$10:$J$3009))","v":""},{"$f":"IF(ISBLANK(Vrijwilligersregister!C621)=TRUE,\"\",D621+F621)","v":""},{"$f":"Vrijwilligersregister!L621","v":0}]
[null,614,{"$f":"IF(ISBLANK(Vrijwilligersregister!C622)=TRUE,\"\",Vrijwilligersregister!C622)","v":""},{"$f":"IF(ISBLANK(Vrijwilligersregister!C622)=TRUE,\"\",SUMIF('Nominatieve lijst'!$D$10:$D$3009,C622,'Nominatieve lijst'!$G$10:$G$3009))","v":""},{"$f":"IF(ISBLANK(Vrijwilligersregister!C622)=TRUE,\"\",SUMIF('Nominatieve lijst'!$D$10:$D$3009,C622,'Nominatieve lijst'!$H$10:$H$3009))","v":""},{"$f":"IF(ISBLANK(Vrijwilligersregister!C622)=TRUE,\"\",SUMIF('Nominatieve lijst'!$D$10:$D$3009,C622,'Nominatieve lijst'!$J$10:$J$3009))","v":""},{"$f":"IF(ISBLANK(Vrijwilligersregister!C622)=TRUE,\"\",D622+F622)","v":""},{"$f":"Vrijwilligersregister!L622","v":0}]
[null,615,{"$f":"IF(ISBLANK(Vrijwilligersregister!C623)=TRUE,\"\",Vrijwilligersregister!C623)","v":""},{"$f":"IF(ISBLANK(Vrijwilligersregister!C623)=TRUE,\"\",SUMIF('Nominatieve lijst'!$D$10:$D$3009,C623,'Nominatieve lijst'!$G$10:$G$3009))","v":""},{"$f":"IF(ISBLANK(Vrijwilligersregister!C623)=TRUE,\"\",SUMIF('Nominatieve lijst'!$D$10:$D$3009,C623,'Nominatieve lijst'!$H$10:$H$3009))","v":""},{"$f":"IF(ISBLANK(Vrijwilligersregister!C623)=TRUE,\"\",SUMIF('Nominatieve lijst'!$D$10:$D$3009,C623,'Nominatieve lijst'!$J$10:$J$3009))","v":""},{"$f":"IF(ISBLANK(Vrijwilligersregister!C623)=TRUE,\"\",D623+F623)","v":""},{"$f":"Vrijwilligersregister!L623","v":0}]
[null,616,{"$f":"IF(ISBLANK(Vrijwilligersregister!C624)=TRUE,\"\",Vrijwilligersregister!C624)","v":""},{"$f":"IF(ISBLANK(Vrijwilligersregister!C624)=TRUE,\"\",SUMIF('Nominatieve lijst'!$D$10:$D$3009,C624,'Nominatieve lijst'!$G$10:$G$3009))","v":""},{"$f":"IF(ISBLANK(Vrijwilligersregister!C624)=TRUE,\"\",SUMIF('Nominatieve lijst'!$D$10:$D$3009,C624,'Nominatieve lijst'!$H$10:$H$3009))","v":""},{"$f":"IF(ISBLANK(Vrijwilligersregister!C624)=TRUE,\"\",SUMIF('Nominatieve lijst'!$D$10:$D$3009,C624,'Nominatieve lijst'!$J$10:$J$3009))","v":""},{"$f":"IF(ISBLANK(Vrijwilligersregister!C624)=TRUE,\"\",D624+F624)","v":""},{"$f":"Vrijwilligersregister!L624","v":0}]
[null,617,{"$f":"IF(ISBLANK(Vrijwilligersregister!C625)=TRUE,\"\",Vrijwilligersregister!C625)","v":""},{"$f":"IF(ISBLANK(Vrijwilligersregister!C625)=TRUE,\"\",SUMIF('Nominatieve lijst'!$D$10:$D$3009,C625,'Nominatieve lijst'!$G$10:$G$3009))","v":""},{"$f":"IF(ISBLANK(Vrijwilligersregister!C625)=TRUE,\"\",SUMIF('Nominatieve lijst'!$D$10:$D$3009,C625,'Nominatieve lijst'!$H$10:$H$3009))","v":""},{"$f":"IF(ISBLANK(Vrijwilligersregister!C625)=TRUE,\"\",SUMIF('Nominatieve lijst'!$D$10:$D$3009,C625,'Nominatieve lijst'!$J$10:$J$3009))","v":""},{"$f":"IF(ISBLANK(Vrijwilligersregister!C625)=TRUE,\"\",D625+F625)","v":""},{"$f":"Vrijwilligersregister!L625","v":0}]
[null,618,{"$f":"IF(ISBLANK(Vrijwilligersregister!C626)=TRUE,\"\",Vrijwilligersregister!C626)","v":""},{"$f":"IF(ISBLANK(Vrijwilligersregister!C626)=TRUE,\"\",SUMIF('Nominatieve lijst'!$D$10:$D$3009,C626,'Nominatieve lijst'!$G$10:$G$3009))","v":""},{"$f":"IF(ISBLANK(Vrijwilligersregister!C626)=TRUE,\"\",SUMIF('Nominatieve lijst'!$D$10:$D$3009,C626,'Nominatieve lijst'!$H$10:$H$3009))","v":""},{"$f":"IF(ISBLANK(Vrijwilligersregister!C626)=TRUE,\"\",SUMIF('Nominatieve lijst'!$D$10:$D$3009,C626,'Nominatieve lijst'!$J$10:$J$3009))","v":""},{"$f":"IF(ISBLANK(Vrijwilligersregister!C626)=TRUE,\"\",D626+F626)","v":""},{"$f":"Vrijwilligersregister!L626","v":0}]
[null,619,{"$f":"IF(ISBLANK(Vrijwilligersregister!C627)=TRUE,\"\",Vrijwilligersregister!C627)","v":""},{"$f":"IF(ISBLANK(Vrijwilligersregister!C627)=TRUE,\"\",SUMIF('Nominatieve lijst'!$D$10:$D$3009,C627,'Nominatieve lijst'!$G$10:$G$3009))","v":""},{"$f":"IF(ISBLANK(Vrijwilligersregister!C627)=TRUE,\"\",SUMIF('Nominatieve lijst'!$D$10:$D$3009,C627,'Nominatieve lijst'!$H$10:$H$3009))","v":""},{"$f":"IF(ISBLANK(Vrijwilligersregister!C627)=TRUE,\"\",SUMIF('Nominatieve lijst'!$D$10:$D$3009,C627,'Nominatieve lijst'!$J$10:$J$3009))","v":""},{"$f":"IF(ISBLANK(Vrijwilligersregister!C627)=TRUE,\"\",D627+F627)","v":""},{"$f":"Vrijwilligersregister!L627","v":0}]
[null,620,{"$f":"IF(ISBLANK(Vrijwilligersregister!C628)=TRUE,\"\",Vrijwilligersregister!C628)","v":""},{"$f":"IF(ISBLANK(Vrijwilligersregister!C628)=TRUE,\"\",SUMIF('Nominatieve lijst'!$D$10:$D$3009,C628,'Nominatieve lijst'!$G$10:$G$3009))","v":""},{"$f":"IF(ISBLANK(Vrijwilligersregister!C628)=TRUE,\"\",SUMIF('Nominatieve lijst'!$D$10:$D$3009,C628,'Nominatieve lijst'!$H$10:$H$3009))","v":""},{"$f":"IF(ISBLANK(Vrijwilligersregister!C628)=TRUE,\"\",SUMIF('Nominatieve lijst'!$D$10:$D$3009,C628,'Nominatieve lijst'!$J$10:$J$3009))","v":""},{"$f":"IF(ISBLANK(Vrijwilligersregister!C628)=TRUE,\"\",D628+F628)","v":""},{"$f":"Vrijwilligersregister!L628","v":0}]
[null,621,{"$f":"IF(ISBLANK(Vrijwilligersregister!C629)=TRUE,\"\",Vrijwilligersregister!C629)","v":""},{"$f":"IF(ISBLANK(Vrijwilligersregister!C629)=TRUE,\"\",SUMIF('Nominatieve lijst'!$D$10:$D$3009,C629,'Nominatieve lijst'!$G$10:$G$3009))","v":""},{"$f":"IF(ISBLANK(Vrijwilligersregister!C629)=TRUE,\"\",SUMIF('Nominatieve lijst'!$D$10:$D$3009,C629,'Nominatieve lijst'!$H$10:$H$3009))","v":""},{"$f":"IF(ISBLANK(Vrijwilligersregister!C629)=TRUE,\"\",SUMIF('Nominatieve lijst'!$D$10:$D$3009,C629,'Nominatieve lijst'!$J$10:$J$3009))","v":""},{"$f":"IF(ISBLANK(Vrijwilligersregister!C629)=TRUE,\"\",D629+F629)","v":""},{"$f":"Vrijwilligersregister!L629","v":0}]
[null,622,{"$f":"IF(ISBLANK(Vrijwilligersregister!C630)=TRUE,\"\",Vrijwilligersregister!C630)","v":""},{"$f":"IF(ISBLANK(Vrijwilligersregister!C630)=TRUE,\"\",SUMIF('Nominatieve lijst'!$D$10:$D$3009,C630,'Nominatieve lijst'!$G$10:$G$3009))","v":""},{"$f":"IF(ISBLANK(Vrijwilligersregister!C630)=TRUE,\"\",SUMIF('Nominatieve lijst'!$D$10:$D$3009,C630,'Nominatieve lijst'!$H$10:$H$3009))","v":""},{"$f":"IF(ISBLANK(Vrijwilligersregister!C630)=TRUE,\"\",SUMIF('Nominatieve lijst'!$D$10:$D$3009,C630,'Nominatieve lijst'!$J$10:$J$3009))","v":""},{"$f":"IF(ISBLANK(Vrijwilligersregister!C630)=TRUE,\"\",D630+F630)","v":""},{"$f":"Vrijwilligersregister!L630","v":0}]
[null,623,{"$f":"IF(ISBLANK(Vrijwilligersregister!C631)=TRUE,\"\",Vrijwilligersregister!C631)","v":""},{"$f":"IF(ISBLANK(Vrijwilligersregister!C631)=TRUE,\"\",SUMIF('Nominatieve lijst'!$D$10:$D$3009,C631,'Nominatieve lijst'!$G$10:$G$3009))","v":""},{"$f":"IF(ISBLANK(Vrijwilligersregister!C631)=TRUE,\"\",SUMIF('Nominatieve lijst'!$D$10:$D$3009,C631,'Nominatieve lijst'!$H$10:$H$3009))","v":""},{"$f":"IF(ISBLANK(Vrijwilligersregister!C631)=TRUE,\"\",SUMIF('Nominatieve lijst'!$D$10:$D$3009,C631,'Nominatieve lijst'!$J$10:$J$3009))","v":""},{"$f":"IF(ISBLANK(Vrijwilligersregister!C631)=TRUE,\"\",D631+F631)","v":""},{"$f":"Vrijwilligersregister!L631","v":0}]
[null,624,{"$f":"IF(ISBLANK(Vrijwilligersregister!C632)=TRUE,\"\",Vrijwilligersregister!C632)","v":""},{"$f":"IF(ISBLANK(Vrijwilligersregister!C632)=TRUE,\"\",SUMIF('Nominatieve lijst'!$D$10:$D$3009,C632,'Nominatieve lijst'!$G$10:$G$3009))","v":""},{"$f":"IF(ISBLANK(Vrijwilligersregister!C632)=TRUE,\"\",SUMIF('Nominatieve lijst'!$D$10:$D$3009,C632,'Nominatieve lijst'!$H$10:$H$3009))","v":""},{"$f":"IF(ISBLANK(Vrijwilligersregister!C632)=TRUE,\"\",SUMIF('Nominatieve lijst'!$D$10:$D$3009,C632,'Nominatieve lijst'!$J$10:$J$3009))","v":""},{"$f":"IF(ISBLANK(Vrijwilligersregister!C632)=TRUE,\"\",D632+F632)","v":""},{"$f":"Vrijwilligersregister!L632","v":0}]
[null,625,{"$f":"IF(ISBLANK(Vrijwilligersregister!C633)=TRUE,\"\",Vrijwilligersregister!C633)","v":""},{"$f":"IF(ISBLANK(Vrijwilligersregister!C633)=TRUE,\"\",SUMIF('Nominatieve lijst'!$D$10:$D$3009,C633,'Nominatieve lijst'!$G$10:$G$3009))","v":""},{"$f":"IF(ISBLANK(Vrijwilligersregister!C633)=TRUE,\"\",SUMIF('Nominatieve lijst'!$D$10:$D$3009,C633,'Nominatieve lijst'!$H$10:$H$3009))","v":""},{"$f":"IF(ISBLANK(Vrijwilligersregister!C633)=TRUE,\"\",SUMIF('Nominatieve lijst'!$D$10:$D$3009,C633,'Nominatieve lijst'!$J$10:$J$3009))","v":""},{"$f":"IF(ISBLANK(Vrijwilligersregister!C633)=TRUE,\"\",D633+F633)","v":""},{"$f":"Vrijwilligersregister!L633","v":0}]
[null,626,{"$f":"IF(ISBLANK(Vrijwilligersregister!C634)=TRUE,\"\",Vrijwilligersregister!C634)","v":""},{"$f":"IF(ISBLANK(Vrijwilligersregister!C634)=TRUE,\"\",SUMIF('Nominatieve lijst'!$D$10:$D$3009,C634,'Nominatieve lijst'!$G$10:$G$3009))","v":""},{"$f":"IF(ISBLANK(Vrijwilligersregister!C634)=TRUE,\"\",SUMIF('Nominatieve lijst'!$D$10:$D$3009,C634,'Nominatieve lijst'!$H$10:$H$3009))","v":""},{"$f":"IF(ISBLANK(Vrijwilligersregister!C634)=TRUE,\"\",SUMIF('Nominatieve lijst'!$D$10:$D$3009,C634,'Nominatieve lijst'!$J$10:$J$3009))","v":""},{"$f":"IF(ISBLANK(Vrijwilligersregister!C634)=TRUE,\"\",D634+F634)","v":""},{"$f":"Vrijwilligersregister!L634","v":0}]
[null,627,{"$f":"IF(ISBLANK(Vrijwilligersregister!C635)=TRUE,\"\",Vrijwilligersregister!C635)","v":""},{"$f":"IF(ISBLANK(Vrijwilligersregister!C635)=TRUE,\"\",SUMIF('Nominatieve lijst'!$D$10:$D$3009,C635,'Nominatieve lijst'!$G$10:$G$3009))","v":""},{"$f":"IF(ISBLANK(Vrijwilligersregister!C635)=TRUE,\"\",SUMIF('Nominatieve lijst'!$D$10:$D$3009,C635,'Nominatieve lijst'!$H$10:$H$3009))","v":""},{"$f":"IF(ISBLANK(Vrijwilligersregister!C635)=TRUE,\"\",SUMIF('Nominatieve lijst'!$D$10:$D$3009,C635,'Nominatieve lijst'!$J$10:$J$3009))","v":""},{"$f":"IF(ISBLANK(Vrijwilligersregister!C635)=TRUE,\"\",D635+F635)","v":""},{"$f":"Vrijwilligersregister!L635","v":0}]
[null,628,{"$f":"IF(ISBLANK(Vrijwilligersregister!C636)=TRUE,\"\",Vrijwilligersregister!C636)","v":""},{"$f":"IF(ISBLANK(Vrijwilligersregister!C636)=TRUE,\"\",SUMIF('Nominatieve lijst'!$D$10:$D$3009,C636,'Nominatieve lijst'!$G$10:$G$3009))","v":""},{"$f":"IF(ISBLANK(Vrijwilligersregister!C636)=TRUE,\"\",SUMIF('Nominatieve lijst'!$D$10:$D$3009,C636,'Nominatieve lijst'!$H$10:$H$3009))","v":""},{"$f":"IF(ISBLANK(Vrijwilligersregister!C636)=TRUE,\"\",SUMIF('Nominatieve lijst'!$D$10:$D$3009,C636,'Nominatieve lijst'!$J$10:$J$3009))","v":""},{"$f":"IF(ISBLANK(Vrijwilligersregister!C636)=TRUE,\"\",D636+F636)","v":""},{"$f":"Vrijwilligersregister!L636","v":0}]
[null,629,{"$f":"IF(ISBLANK(Vrijwilligersregister!C637)=TRUE,\"\",Vrijwilligersregister!C637)","v":""},{"$f":"IF(ISBLANK(Vrijwilligersregister!C637)=TRUE,\"\",SUMIF('Nominatieve lijst'!$D$10:$D$3009,C637,'Nominatieve lijst'!$G$10:$G$3009))","v":""},{"$f":"IF(ISBLANK(Vrijwilligersregister!C637)=TRUE,\"\",SUMIF('Nominatieve lijst'!$D$10:$D$3009,C637,'Nominatieve lijst'!$H$10:$H$3009))","v":""},{"$f":"IF(ISBLANK(Vrijwilligersregister!C637)=TRUE,\"\",SUMIF('Nominatieve lijst'!$D$10:$D$3009,C637,'Nominatieve lijst'!$J$10:$J$3009))","v":""},{"$f":"IF(ISBLANK(Vrijwilligersregister!C637)=TRUE,\"\",D637+F637)","v":""},{"$f":"Vrijwilligersregister!L637","v":0}]
[null,630,{"$f":"IF(ISBLANK(Vrijwilligersregister!C638)=TRUE,\"\",Vrijwilligersregister!C638)","v":""},{"$f":"IF(ISBLANK(Vrijwilligersregister!C638)=TRUE,\"\",SUMIF('Nominatieve lijst'!$D$10:$D$3009,C638,'Nominatieve lijst'!$G$10:$G$3009))","v":""},{"$f":"IF(ISBLANK(Vrijwilligersregister!C638)=TRUE,\"\",SUMIF('Nominatieve lijst'!$D$10:$D$3009,C638,'Nominatieve lijst'!$H$10:$H$3009))","v":""},{"$f":"IF(ISBLANK(Vrijwilligersregister!C638)=TRUE,\"\",SUMIF('Nominatieve lijst'!$D$10:$D$3009,C638,'Nominatieve lijst'!$J$10:$J$3009))","v":""},{"$f":"IF(ISBLANK(Vrijwilligersregister!C638)=TRUE,\"\",D638+F638)","v":""},{"$f":"Vrijwilligersregister!L638","v":0}]
[null,631,{"$f":"IF(ISBLANK(Vrijwilligersregister!C639)=TRUE,\"\",Vrijwilligersregister!C639)","v":""},{"$f":"IF(ISBLANK(Vrijwilligersregister!C639)=TRUE,\"\",SUMIF('Nominatieve lijst'!$D$10:$D$3009,C639,'Nominatieve lijst'!$G$10:$G$3009))","v":""},{"$f":"IF(ISBLANK(Vrijwilligersregister!C639)=TRUE,\"\",SUMIF('Nominatieve lijst'!$D$10:$D$3009,C639,'Nominatieve lijst'!$H$10:$H$3009))","v":""},{"$f":"IF(ISBLANK(Vrijwilligersregister!C639)=TRUE,\"\",SUMIF('Nominatieve lijst'!$D$10:$D$3009,C639,'Nominatieve lijst'!$J$10:$J$3009))","v":""},{"$f":"IF(ISBLANK(Vrijwilligersregister!C639)=TRUE,\"\",D639+F639)","v":""},{"$f":"Vrijwilligersregister!L639","v":0}]
[null,632,{"$f":"IF(ISBLANK(Vrijwilligersregister!C640)=TRUE,\"\",Vrijwilligersregister!C640)","v":""},{"$f":"IF(ISBLANK(Vrijwilligersregister!C640)=TRUE,\"\",SUMIF('Nominatieve lijst'!$D$10:$D$3009,C640,'Nominatieve lijst'!$G$10:$G$3009))","v":""},{"$f":"IF(ISBLANK(Vrijwilligersregister!C640)=TRUE,\"\",SUMIF('Nominatieve lijst'!$D$10:$D$3009,C640,'Nominatieve lijst'!$H$10:$H$3009))","v":""},{"$f":"IF(ISBLANK(Vrijwilligersregister!C640)=TRUE,\"\",SUMIF('Nominatieve lijst'!$D$10:$D$3009,C640,'Nominatieve lijst'!$J$10:$J$3009))","v":""},{"$f":"IF(ISBLANK(Vrijwilligersregister!C640)=TRUE,\"\",D640+F640)","v":""},{"$f":"Vrijwilligersregister!L640","v":0}]
[null,633,{"$f":"IF(ISBLANK(Vrijwilligersregister!C641)=TRUE,\"\",Vrijwilligersregister!C641)","v":""},{"$f":"IF(ISBLANK(Vrijwilligersregister!C641)=TRUE,\"\",SUMIF('Nominatieve lijst'!$D$10:$D$3009,C641,'Nominatieve lijst'!$G$10:$G$3009))","v":""},{"$f":"IF(ISBLANK(Vrijwilligersregister!C641)=TRUE,\"\",SUMIF('Nominatieve lijst'!$D$10:$D$3009,C641,'Nominatieve lijst'!$H$10:$H$3009))","v":""},{"$f":"IF(ISBLANK(Vrijwilligersregister!C641)=TRUE,\"\",SUMIF('Nominatieve lijst'!$D$10:$D$3009,C641,'Nominatieve lijst'!$J$10:$J$3009))","v":""},{"$f":"IF(ISBLANK(Vrijwilligersregister!C641)=TRUE,\"\",D641+F641)","v":""},{"$f":"Vrijwilligersregister!L641","v":0}]
[null,634,{"$f":"IF(ISBLANK(Vrijwilligersregister!C642)=TRUE,\"\",Vrijwilligersregister!C642)","v":""},{"$f":"IF(ISBLANK(Vrijwilligersregister!C642)=TRUE,\"\",SUMIF('Nominatieve lijst'!$D$10:$D$3009,C642,'Nominatieve lijst'!$G$10:$G$3009))","v":""},{"$f":"IF(ISBLANK(Vrijwilligersregister!C642)=TRUE,\"\",SUMIF('Nominatieve lijst'!$D$10:$D$3009,C642,'Nominatieve lijst'!$H$10:$H$3009))","v":""},{"$f":"IF(ISBLANK(Vrijwilligersregister!C642)=TRUE,\"\",SUMIF('Nominatieve lijst'!$D$10:$D$3009,C642,'Nominatieve lijst'!$J$10:$J$3009))","v":""},{"$f":"IF(ISBLANK(Vrijwilligersregister!C642)=TRUE,\"\",D642+F642)","v":""},{"$f":"Vrijwilligersregister!L642","v":0}]
[null,635,{"$f":"IF(ISBLANK(Vrijwilligersregister!C643)=TRUE,\"\",Vrijwilligersregister!C643)","v":""},{"$f":"IF(ISBLANK(Vrijwilligersregister!C643)=TRUE,\"\",SUMIF('Nominatieve lijst'!$D$10:$D$3009,C643,'Nominatieve lijst'!$G$10:$G$3009))","v":""},{"$f":"IF(ISBLANK(Vrijwilligersregister!C643)=TRUE,\"\",SUMIF('Nominatieve lijst'!$D$10:$D$3009,C643,'Nominatieve lijst'!$H$10:$H$3009))","v":""},{"$f":"IF(ISBLANK(Vrijwilligersregister!C643)=TRUE,\"\",SUMIF('Nominatieve lijst'!$D$10:$D$3009,C643,'Nominatieve lijst'!$J$10:$J$3009))","v":""},{"$f":"IF(ISBLANK(Vrijwilligersregister!C643)=TRUE,\"\",D643+F643)","v":""},{"$f":"Vrijwilligersregister!L643","v":0}]
[null,636,{"$f":"IF(ISBLANK(Vrijwilligersregister!C644)=TRUE,\"\",Vrijwilligersregister!C644)","v":""},{"$f":"IF(ISBLANK(Vrijwilligersregister!C644)=TRUE,\"\",SUMIF('Nominatieve lijst'!$D$10:$D$3009,C644,'Nominatieve lijst'!$G$10:$G$3009))","v":""},{"$f":"IF(ISBLANK(Vrijwilligersregister!C644)=TRUE,\"\",SUMIF('Nominatieve lijst'!$D$10:$D$3009,C644,'Nominatieve lijst'!$H$10:$H$3009))","v":""},{"$f":"IF(ISBLANK(Vrijwilligersregister!C644)=TRUE,\"\",SUMIF('Nominatieve lijst'!$D$10:$D$3009,C644,'Nominatieve lijst'!$J$10:$J$3009))","v":""},{"$f":"IF(ISBLANK(Vrijwilligersregister!C644)=TRUE,\"\",D644+F644)","v":""},{"$f":"Vrijwilligersregister!L644","v":0}]
[null,637,{"$f":"IF(ISBLANK(Vrijwilligersregister!C645)=TRUE,\"\",Vrijwilligersregister!C645)","v":""},{"$f":"IF(ISBLANK(Vrijwilligersregister!C645)=TRUE,\"\",SUMIF('Nominatieve lijst'!$D$10:$D$3009,C645,'Nominatieve lijst'!$G$10:$G$3009))","v":""},{"$f":"IF(ISBLANK(Vrijwilligersregister!C645)=TRUE,\"\",SUMIF('Nominatieve lijst'!$D$10:$D$3009,C645,'Nominatieve lijst'!$H$10:$H$3009))","v":""},{"$f":"IF(ISBLANK(Vrijwilligersregister!C645)=TRUE,\"\",SUMIF('Nominatieve lijst'!$D$10:$D$3009,C645,'Nominatieve lijst'!$J$10:$J$3009))","v":""},{"$f":"IF(ISBLANK(Vrijwilligersregister!C645)=TRUE,\"\",D645+F645)","v":""},{"$f":"Vrijwilligersregister!L645","v":0}]
[null,638,{"$f":"IF(ISBLANK(Vrijwilligersregister!C646)=TRUE,\"\",Vrijwilligersregister!C646)","v":""},{"$f":"IF(ISBLANK(Vrijwilligersregister!C646)=TRUE,\"\",SUMIF('Nominatieve lijst'!$D$10:$D$3009,C646,'Nominatieve lijst'!$G$10:$G$3009))","v":""},{"$f":"IF(ISBLANK(Vrijwilligersregister!C646)=TRUE,\"\",SUMIF('Nominatieve lijst'!$D$10:$D$3009,C646,'Nominatieve lijst'!$H$10:$H$3009))","v":""},{"$f":"IF(ISBLANK(Vrijwilligersregister!C646)=TRUE,\"\",SUMIF('Nominatieve lijst'!$D$10:$D$3009,C646,'Nominatieve lijst'!$J$10:$J$3009))","v":""},{"$f":"IF(ISBLANK(Vrijwilligersregister!C646)=TRUE,\"\",D646+F646)","v":""},{"$f":"Vrijwilligersregister!L646","v":0}]
[null,639,{"$f":"IF(ISBLANK(Vrijwilligersregister!C647)=TRUE,\"\",Vrijwilligersregister!C647)","v":""},{"$f":"IF(ISBLANK(Vrijwilligersregister!C647)=TRUE,\"\",SUMIF('Nominatieve lijst'!$D$10:$D$3009,C647,'Nominatieve lijst'!$G$10:$G$3009))","v":""},{"$f":"IF(ISBLANK(Vrijwilligersregister!C647)=TRUE,\"\",SUMIF('Nominatieve lijst'!$D$10:$D$3009,C647,'Nominatieve lijst'!$H$10:$H$3009))","v":""},{"$f":"IF(ISBLANK(Vrijwilligersregister!C647)=TRUE,\"\",SUMIF('Nominatieve lijst'!$D$10:$D$3009,C647,'Nominatieve lijst'!$J$10:$J$3009))","v":""},{"$f":"IF(ISBLANK(Vrijwilligersregister!C647)=TRUE,\"\",D647+F647)","v":""},{"$f":"Vrijwilligersregister!L647","v":0}]
[null,640,{"$f":"IF(ISBLANK(Vrijwilligersregister!C648)=TRUE,\"\",Vrijwilligersregister!C648)","v":""},{"$f":"IF(ISBLANK(Vrijwilligersregister!C648)=TRUE,\"\",SUMIF('Nominatieve lijst'!$D$10:$D$3009,C648,'Nominatieve lijst'!$G$10:$G$3009))","v":""},{"$f":"IF(ISBLANK(Vrijwilligersregister!C648)=TRUE,\"\",SUMIF('Nominatieve lijst'!$D$10:$D$3009,C648,'Nominatieve lijst'!$H$10:$H$3009))","v":""},{"$f":"IF(ISBLANK(Vrijwilligersregister!C648)=TRUE,\"\",SUMIF('Nominatieve lijst'!$D$10:$D$3009,C648,'Nominatieve lijst'!$J$10:$J$3009))","v":""},{"$f":"IF(ISBLANK(Vrijwilligersregister!C648)=TRUE,\"\",D648+F648)","v":""},{"$f":"Vrijwilligersregister!L648","v":0}]
[null,641,{"$f":"IF(ISBLANK(Vrijwilligersregister!C649)=TRUE,\"\",Vrijwilligersregister!C649)","v":""},{"$f":"IF(ISBLANK(Vrijwilligersregister!C649)=TRUE,\"\",SUMIF('Nominatieve lijst'!$D$10:$D$3009,C649,'Nominatieve lijst'!$G$10:$G$3009))","v":""},{"$f":"IF(ISBLANK(Vrijwilligersregister!C649)=TRUE,\"\",SUMIF('Nominatieve lijst'!$D$10:$D$3009,C649,'Nominatieve lijst'!$H$10:$H$3009))","v":""},{"$f":"IF(ISBLANK(Vrijwilligersregister!C649)=TRUE,\"\",SUMIF('Nominatieve lijst'!$D$10:$D$3009,C649,'Nominatieve lijst'!$J$10:$J$3009))","v":""},{"$f":"IF(ISBLANK(Vrijwilligersregister!C649)=TRUE,\"\",D649+F649)","v":""},{"$f":"Vrijwilligersregister!L649","v":0}]
[null,642,{"$f":"IF(ISBLANK(Vrijwilligersregister!C650)=TRUE,\"\",Vrijwilligersregister!C650)","v":""},{"$f":"IF(ISBLANK(Vrijwilligersregister!C650)=TRUE,\"\",SUMIF('Nominatieve lijst'!$D$10:$D$3009,C650,'Nominatieve lijst'!$G$10:$G$3009))","v":""},{"$f":"IF(ISBLANK(Vrijwilligersregister!C650)=TRUE,\"\",SUMIF('Nominatieve lijst'!$D$10:$D$3009,C650,'Nominatieve lijst'!$H$10:$H$3009))","v":""},{"$f":"IF(ISBLANK(Vrijwilligersregister!C650)=TRUE,\"\",SUMIF('Nominatieve lijst'!$D$10:$D$3009,C650,'Nominatieve lijst'!$J$10:$J$3009))","v":""},{"$f":"IF(ISBLANK(Vrijwilligersregister!C650)=TRUE,\"\",D650+F650)","v":""},{"$f":"Vrijwilligersregister!L650","v":0}]
[null,643,{"$f":"IF(ISBLANK(Vrijwilligersregister!C651)=TRUE,\"\",Vrijwilligersregister!C651)","v":""},{"$f":"IF(ISBLANK(Vrijwilligersregister!C651)=TRUE,\"\",SUMIF('Nominatieve lijst'!$D$10:$D$3009,C651,'Nominatieve lijst'!$G$10:$G$3009))","v":""},{"$f":"IF(ISBLANK(Vrijwilligersregister!C651)=TRUE,\"\",SUMIF('Nominatieve lijst'!$D$10:$D$3009,C651,'Nominatieve lijst'!$H$10:$H$3009))","v":""},{"$f":"IF(ISBLANK(Vrijwilligersregister!C651)=TRUE,\"\",SUMIF('Nominatieve lijst'!$D$10:$D$3009,C651,'Nominatieve lijst'!$J$10:$J$3009))","v":""},{"$f":"IF(ISBLANK(Vrijwilligersregister!C651)=TRUE,\"\",D651+F651)","v":""},{"$f":"Vrijwilligersregister!L651","v":0}]
[null,644,{"$f":"IF(ISBLANK(Vrijwilligersregister!C652)=TRUE,\"\",Vrijwilligersregister!C652)","v":""},{"$f":"IF(ISBLANK(Vrijwilligersregister!C652)=TRUE,\"\",SUMIF('Nominatieve lijst'!$D$10:$D$3009,C652,'Nominatieve lijst'!$G$10:$G$3009))","v":""},{"$f":"IF(ISBLANK(Vrijwilligersregister!C652)=TRUE,\"\",SUMIF('Nominatieve lijst'!$D$10:$D$3009,C652,'Nominatieve lijst'!$H$10:$H$3009))","v":""},{"$f":"IF(ISBLANK(Vrijwilligersregister!C652)=TRUE,\"\",SUMIF('Nominatieve lijst'!$D$10:$D$3009,C652,'Nominatieve lijst'!$J$10:$J$3009))","v":""},{"$f":"IF(ISBLANK(Vrijwilligersregister!C652)=TRUE,\"\",D652+F652)","v":""},{"$f":"Vrijwilligersregister!L652","v":0}]
[null,645,{"$f":"IF(ISBLANK(Vrijwilligersregister!C653)=TRUE,\"\",Vrijwilligersregister!C653)","v":""},{"$f":"IF(ISBLANK(Vrijwilligersregister!C653)=TRUE,\"\",SUMIF('Nominatieve lijst'!$D$10:$D$3009,C653,'Nominatieve lijst'!$G$10:$G$3009))","v":""},{"$f":"IF(ISBLANK(Vrijwilligersregister!C653)=TRUE,\"\",SUMIF('Nominatieve lijst'!$D$10:$D$3009,C653,'Nominatieve lijst'!$H$10:$H$3009))","v":""},{"$f":"IF(ISBLANK(Vrijwilligersregister!C653)=TRUE,\"\",SUMIF('Nominatieve lijst'!$D$10:$D$3009,C653,'Nominatieve lijst'!$J$10:$J$3009))","v":""},{"$f":"IF(ISBLANK(Vrijwilligersregister!C653)=TRUE,\"\",D653+F653)","v":""},{"$f":"Vrijwilligersregister!L653","v":0}]
[null,646,{"$f":"IF(ISBLANK(Vrijwilligersregister!C654)=TRUE,\"\",Vrijwilligersregister!C654)","v":""},{"$f":"IF(ISBLANK(Vrijwilligersregister!C654)=TRUE,\"\",SUMIF('Nominatieve lijst'!$D$10:$D$3009,C654,'Nominatieve lijst'!$G$10:$G$3009))","v":""},{"$f":"IF(ISBLANK(Vrijwilligersregister!C654)=TRUE,\"\",SUMIF('Nominatieve lijst'!$D$10:$D$3009,C654,'Nominatieve lijst'!$H$10:$H$3009))","v":""},{"$f":"IF(ISBLANK(Vrijwilligersregister!C654)=TRUE,\"\",SUMIF('Nominatieve lijst'!$D$10:$D$3009,C654,'Nominatieve lijst'!$J$10:$J$3009))","v":""},{"$f":"IF(ISBLANK(Vrijwilligersregister!C654)=TRUE,\"\",D654+F654)","v":""},{"$f":"Vrijwilligersregister!L654","v":0}]
[null,647,{"$f":"IF(ISBLANK(Vrijwilligersregister!C655)=TRUE,\"\",Vrijwilligersregister!C655)","v":""},{"$f":"IF(ISBLANK(Vrijwilligersregister!C655)=TRUE,\"\",SUMIF('Nominatieve lijst'!$D$10:$D$3009,C655,'Nominatieve lijst'!$G$10:$G$3009))","v":""},{"$f":"IF(ISBLANK(Vrijwilligersregister!C655)=TRUE,\"\",SUMIF('Nominatieve lijst'!$D$10:$D$3009,C655,'Nominatieve lijst'!$H$10:$H$3009))","v":""},{"$f":"IF(ISBLANK(Vrijwilligersregister!C655)=TRUE,\"\",SUMIF('Nominatieve lijst'!$D$10:$D$3009,C655,'Nominatieve lijst'!$J$10:$J$3009))","v":""},{"$f":"IF(ISBLANK(Vrijwilligersregister!C655)=TRUE,\"\",D655+F655)","v":""},{"$f":"Vrijwilligersregister!L655","v":0}]
[null,648,{"$f":"IF(ISBLANK(Vrijwilligersregister!C656)=TRUE,\"\",Vrijwilligersregister!C656)","v":""},{"$f":"IF(ISBLANK(Vrijwilligersregister!C656)=TRUE,\"\",SUMIF('Nominatieve lijst'!$D$10:$D$3009,C656,'Nominatieve lijst'!$G$10:$G$3009))","v":""},{"$f":"IF(ISBLANK(Vrijwilligersregister!C656)=TRUE,\"\",SUMIF('Nominatieve lijst'!$D$10:$D$3009,C656,'Nominatieve lijst'!$H$10:$H$3009))","v":""},{"$f":"IF(ISBLANK(Vrijwilligersregister!C656)=TRUE,\"\",SUMIF('Nominatieve lijst'!$D$10:$D$3009,C656,'Nominatieve lijst'!$J$10:$J$3009))","v":""},{"$f":"IF(ISBLANK(Vrijwilligersregister!C656)=TRUE,\"\",D656+F656)","v":""},{"$f":"Vrijwilligersregister!L656","v":0}]
[null,649,{"$f":"IF(ISBLANK(Vrijwilligersregister!C657)=TRUE,\"\",Vrijwilligersregister!C657)","v":""},{"$f":"IF(ISBLANK(Vrijwilligersregister!C657)=TRUE,\"\",SUMIF('Nominatieve lijst'!$D$10:$D$3009,C657,'Nominatieve lijst'!$G$10:$G$3009))","v":""},{"$f":"IF(ISBLANK(Vrijwilligersregister!C657)=TRUE,\"\",SUMIF('Nominatieve lijst'!$D$10:$D$3009,C657,'Nominatieve lijst'!$H$10:$H$3009))","v":""},{"$f":"IF(ISBLANK(Vrijwilligersregister!C657)=TRUE,\"\",SUMIF('Nominatieve lijst'!$D$10:$D$3009,C657,'Nominatieve lijst'!$J$10:$J$3009))","v":""},{"$f":"IF(ISBLANK(Vrijwilligersregister!C657)=TRUE,\"\",D657+F657)","v":""},{"$f":"Vrijwilligersregister!L657","v":0}]
[null,650,{"$f":"IF(ISBLANK(Vrijwilligersregister!C658)=TRUE,\"\",Vrijwilligersregister!C658)","v":""},{"$f":"IF(ISBLANK(Vrijwilligersregister!C658)=TRUE,\"\",SUMIF('Nominatieve lijst'!$D$10:$D$3009,C658,'Nominatieve lijst'!$G$10:$G$3009))","v":""},{"$f":"IF(ISBLANK(Vrijwilligersregister!C658)=TRUE,\"\",SUMIF('Nominatieve lijst'!$D$10:$D$3009,C658,'Nominatieve lijst'!$H$10:$H$3009))","v":""},{"$f":"IF(ISBLANK(Vrijwilligersregister!C658)=TRUE,\"\",SUMIF('Nominatieve lijst'!$D$10:$D$3009,C658,'Nominatieve lijst'!$J$10:$J$3009))","v":""},{"$f":"IF(ISBLANK(Vrijwilligersregister!C658)=TRUE,\"\",D658+F658)","v":""},{"$f":"Vrijwilligersregister!L658","v":0}]
[null,651,{"$f":"IF(ISBLANK(Vrijwilligersregister!C659)=TRUE,\"\",Vrijwilligersregister!C659)","v":""},{"$f":"IF(ISBLANK(Vrijwilligersregister!C659)=TRUE,\"\",SUMIF('Nominatieve lijst'!$D$10:$D$3009,C659,'Nominatieve lijst'!$G$10:$G$3009))","v":""},{"$f":"IF(ISBLANK(Vrijwilligersregister!C659)=TRUE,\"\",SUMIF('Nominatieve lijst'!$D$10:$D$3009,C659,'Nominatieve lijst'!$H$10:$H$3009))","v":""},{"$f":"IF(ISBLANK(Vrijwilligersregister!C659)=TRUE,\"\",SUMIF('Nominatieve lijst'!$D$10:$D$3009,C659,'Nominatieve lijst'!$J$10:$J$3009))","v":""},{"$f":"IF(ISBLANK(Vrijwilligersregister!C659)=TRUE,\"\",D659+F659)","v":""},{"$f":"Vrijwilligersregister!L659","v":0}]
[null,652,{"$f":"IF(ISBLANK(Vrijwilligersregister!C660)=TRUE,\"\",Vrijwilligersregister!C660)","v":""},{"$f":"IF(ISBLANK(Vrijwilligersregister!C660)=TRUE,\"\",SUMIF('Nominatieve lijst'!$D$10:$D$3009,C660,'Nominatieve lijst'!$G$10:$G$3009))","v":""},{"$f":"IF(ISBLANK(Vrijwilligersregister!C660)=TRUE,\"\",SUMIF('Nominatieve lijst'!$D$10:$D$3009,C660,'Nominatieve lijst'!$H$10:$H$3009))","v":""},{"$f":"IF(ISBLANK(Vrijwilligersregister!C660)=TRUE,\"\",SUMIF('Nominatieve lijst'!$D$10:$D$3009,C660,'Nominatieve lijst'!$J$10:$J$3009))","v":""},{"$f":"IF(ISBLANK(Vrijwilligersregister!C660)=TRUE,\"\",D660+F660)","v":""},{"$f":"Vrijwilligersregister!L660","v":0}]
[null,653,{"$f":"IF(ISBLANK(Vrijwilligersregister!C661)=TRUE,\"\",Vrijwilligersregister!C661)","v":""},{"$f":"IF(ISBLANK(Vrijwilligersregister!C661)=TRUE,\"\",SUMIF('Nominatieve lijst'!$D$10:$D$3009,C661,'Nominatieve lijst'!$G$10:$G$3009))","v":""},{"$f":"IF(ISBLANK(Vrijwilligersregister!C661)=TRUE,\"\",SUMIF('Nominatieve lijst'!$D$10:$D$3009,C661,'Nominatieve lijst'!$H$10:$H$3009))","v":""},{"$f":"IF(ISBLANK(Vrijwilligersregister!C661)=TRUE,\"\",SUMIF('Nominatieve lijst'!$D$10:$D$3009,C661,'Nominatieve lijst'!$J$10:$J$3009))","v":""},{"$f":"IF(ISBLANK(Vrijwilligersregister!C661)=TRUE,\"\",D661+F661)","v":""},{"$f":"Vrijwilligersregister!L661","v":0}]
[null,654,{"$f":"IF(ISBLANK(Vrijwilligersregister!C662)=TRUE,\"\",Vrijwilligersregister!C662)","v":""},{"$f":"IF(ISBLANK(Vrijwilligersregister!C662)=TRUE,\"\",SUMIF('Nominatieve lijst'!$D$10:$D$3009,C662,'Nominatieve lijst'!$G$10:$G$3009))","v":""},{"$f":"IF(ISBLANK(Vrijwilligersregister!C662)=TRUE,\"\",SUMIF('Nominatieve lijst'!$D$10:$D$3009,C662,'Nominatieve lijst'!$H$10:$H$3009))","v":""},{"$f":"IF(ISBLANK(Vrijwilligersregister!C662)=TRUE,\"\",SUMIF('Nominatieve lijst'!$D$10:$D$3009,C662,'Nominatieve lijst'!$J$10:$J$3009))","v":""},{"$f":"IF(ISBLANK(Vrijwilligersregister!C662)=TRUE,\"\",D662+F662)","v":""},{"$f":"Vrijwilligersregister!L662","v":0}]
[null,655,{"$f":"IF(ISBLANK(Vrijwilligersregister!C663)=TRUE,\"\",Vrijwilligersregister!C663)","v":""},{"$f":"IF(ISBLANK(Vrijwilligersregister!C663)=TRUE,\"\",SUMIF('Nominatieve lijst'!$D$10:$D$3009,C663,'Nominatieve lijst'!$G$10:$G$3009))","v":""},{"$f":"IF(ISBLANK(Vrijwilligersregister!C663)=TRUE,\"\",SUMIF('Nominatieve lijst'!$D$10:$D$3009,C663,'Nominatieve lijst'!$H$10:$H$3009))","v":""},{"$f":"IF(ISBLANK(Vrijwilligersregister!C663)=TRUE,\"\",SUMIF('Nominatieve lijst'!$D$10:$D$3009,C663,'Nominatieve lijst'!$J$10:$J$3009))","v":""},{"$f":"IF(ISBLANK(Vrijwilligersregister!C663)=TRUE,\"\",D663+F663)","v":""},{"$f":"Vrijwilligersregister!L663","v":0}]
[null,656,{"$f":"IF(ISBLANK(Vrijwilligersregister!C664)=TRUE,\"\",Vrijwilligersregister!C664)","v":""},{"$f":"IF(ISBLANK(Vrijwilligersregister!C664)=TRUE,\"\",SUMIF('Nominatieve lijst'!$D$10:$D$3009,C664,'Nominatieve lijst'!$G$10:$G$3009))","v":""},{"$f":"IF(ISBLANK(Vrijwilligersregister!C664)=TRUE,\"\",SUMIF('Nominatieve lijst'!$D$10:$D$3009,C664,'Nominatieve lijst'!$H$10:$H$3009))","v":""},{"$f":"IF(ISBLANK(Vrijwilligersregister!C664)=TRUE,\"\",SUMIF('Nominatieve lijst'!$D$10:$D$3009,C664,'Nominatieve lijst'!$J$10:$J$3009))","v":""},{"$f":"IF(ISBLANK(Vrijwilligersregister!C664)=TRUE,\"\",D664+F664)","v":""},{"$f":"Vrijwilligersregister!L664","v":0}]
[null,657,{"$f":"IF(ISBLANK(Vrijwilligersregister!C665)=TRUE,\"\",Vrijwilligersregister!C665)","v":""},{"$f":"IF(ISBLANK(Vrijwilligersregister!C665)=TRUE,\"\",SUMIF('Nominatieve lijst'!$D$10:$D$3009,C665,'Nominatieve lijst'!$G$10:$G$3009))","v":""},{"$f":"IF(ISBLANK(Vrijwilligersregister!C665)=TRUE,\"\",SUMIF('Nominatieve lijst'!$D$10:$D$3009,C665,'Nominatieve lijst'!$H$10:$H$3009))","v":""},{"$f":"IF(ISBLANK(Vrijwilligersregister!C665)=TRUE,\"\",SUMIF('Nominatieve lijst'!$D$10:$D$3009,C665,'Nominatieve lijst'!$J$10:$J$3009))","v":""},{"$f":"IF(ISBLANK(Vrijwilligersregister!C665)=TRUE,\"\",D665+F665)","v":""},{"$f":"Vrijwilligersregister!L665","v":0}]
[null,658,{"$f":"IF(ISBLANK(Vrijwilligersregister!C666)=TRUE,\"\",Vrijwilligersregister!C666)","v":""},{"$f":"IF(ISBLANK(Vrijwilligersregister!C666)=TRUE,\"\",SUMIF('Nominatieve lijst'!$D$10:$D$3009,C666,'Nominatieve lijst'!$G$10:$G$3009))","v":""},{"$f":"IF(ISBLANK(Vrijwilligersregister!C666)=TRUE,\"\",SUMIF('Nominatieve lijst'!$D$10:$D$3009,C666,'Nominatieve lijst'!$H$10:$H$3009))","v":""},{"$f":"IF(ISBLANK(Vrijwilligersregister!C666)=TRUE,\"\",SUMIF('Nominatieve lijst'!$D$10:$D$3009,C666,'Nominatieve lijst'!$J$10:$J$3009))","v":""},{"$f":"IF(ISBLANK(Vrijwilligersregister!C666)=TRUE,\"\",D666+F666)","v":""},{"$f":"Vrijwilligersregister!L666","v":0}]
[null,659,{"$f":"IF(ISBLANK(Vrijwilligersregister!C667)=TRUE,\"\",Vrijwilligersregister!C667)","v":""},{"$f":"IF(ISBLANK(Vrijwilligersregister!C667)=TRUE,\"\",SUMIF('Nominatieve lijst'!$D$10:$D$3009,C667,'Nominatieve lijst'!$G$10:$G$3009))","v":""},{"$f":"IF(ISBLANK(Vrijwilligersregister!C667)=TRUE,\"\",SUMIF('Nominatieve lijst'!$D$10:$D$3009,C667,'Nominatieve lijst'!$H$10:$H$3009))","v":""},{"$f":"IF(ISBLANK(Vrijwilligersregister!C667)=TRUE,\"\",SUMIF('Nominatieve lijst'!$D$10:$D$3009,C667,'Nominatieve lijst'!$J$10:$J$3009))","v":""},{"$f":"IF(ISBLANK(Vrijwilligersregister!C667)=TRUE,\"\",D667+F667)","v":""},{"$f":"Vrijwilligersregister!L667","v":0}]
[null,660,{"$f":"IF(ISBLANK(Vrijwilligersregister!C668)=TRUE,\"\",Vrijwilligersregister!C668)","v":""},{"$f":"IF(ISBLANK(Vrijwilligersregister!C668)=TRUE,\"\",SUMIF('Nominatieve lijst'!$D$10:$D$3009,C668,'Nominatieve lijst'!$G$10:$G$3009))","v":""},{"$f":"IF(ISBLANK(Vrijwilligersregister!C668)=TRUE,\"\",SUMIF('Nominatieve lijst'!$D$10:$D$3009,C668,'Nominatieve lijst'!$H$10:$H$3009))","v":""},{"$f":"IF(ISBLANK(Vrijwilligersregister!C668)=TRUE,\"\",SUMIF('Nominatieve lijst'!$D$10:$D$3009,C668,'Nominatieve lijst'!$J$10:$J$3009))","v":""},{"$f":"IF(ISBLANK(Vrijwilligersregister!C668)=TRUE,\"\",D668+F668)","v":""},{"$f":"Vrijwilligersregister!L668","v":0}]
[null,661,{"$f":"IF(ISBLANK(Vrijwilligersregister!C669)=TRUE,\"\",Vrijwilligersregister!C669)","v":""},{"$f":"IF(ISBLANK(Vrijwilligersregister!C669)=TRUE,\"\",SUMIF('Nominatieve lijst'!$D$10:$D$3009,C669,'Nominatieve lijst'!$G$10:$G$3009))","v":""},{"$f":"IF(ISBLANK(Vrijwilligersregister!C669)=TRUE,\"\",SUMIF('Nominatieve lijst'!$D$10:$D$3009,C669,'Nominatieve lijst'!$H$10:$H$3009))","v":""},{"$f":"IF(ISBLANK(Vrijwilligersregister!C669)=TRUE,\"\",SUMIF('Nominatieve lijst'!$D$10:$D$3009,C669,'Nominatieve lijst'!$J$10:$J$3009))","v":""},{"$f":"IF(ISBLANK(Vrijwilligersregister!C669)=TRUE,\"\",D669+F669)","v":""},{"$f":"Vrijwilligersregister!L669","v":0}]
[null,662,{"$f":"IF(ISBLANK(Vrijwilligersregister!C670)=TRUE,\"\",Vrijwilligersregister!C670)","v":""},{"$f":"IF(ISBLANK(Vrijwilligersregister!C670)=TRUE,\"\",SUMIF('Nominatieve lijst'!$D$10:$D$3009,C670,'Nominatieve lijst'!$G$10:$G$3009))","v":""},{"$f":"IF(ISBLANK(Vrijwilligersregister!C670)=TRUE,\"\",SUMIF('Nominatieve lijst'!$D$10:$D$3009,C670,'Nominatieve lijst'!$H$10:$H$3009))","v":""},{"$f":"IF(ISBLANK(Vrijwilligersregister!C670)=TRUE,\"\",SUMIF('Nominatieve lijst'!$D$10:$D$3009,C670,'Nominatieve lijst'!$J$10:$J$3009))","v":""},{"$f":"IF(ISBLANK(Vrijwilligersregister!C670)=TRUE,\"\",D670+F670)","v":""},{"$f":"Vrijwilligersregister!L670","v":0}]
[null,663,{"$f":"IF(ISBLANK(Vrijwilligersregister!C671)=TRUE,\"\",Vrijwilligersregister!C671)","v":""},{"$f":"IF(ISBLANK(Vrijwilligersregister!C671)=TRUE,\"\",SUMIF('Nominatieve lijst'!$D$10:$D$3009,C671,'Nominatieve lijst'!$G$10:$G$3009))","v":""},{"$f":"IF(ISBLANK(Vrijwilligersregister!C671)=TRUE,\"\",SUMIF('Nominatieve lijst'!$D$10:$D$3009,C671,'Nominatieve lijst'!$H$10:$H$3009))","v":""},{"$f":"IF(ISBLANK(Vrijwilligersregister!C671)=TRUE,\"\",SUMIF('Nominatieve lijst'!$D$10:$D$3009,C671,'Nominatieve lijst'!$J$10:$J$3009))","v":""},{"$f":"IF(ISBLANK(Vrijwilligersregister!C671)=TRUE,\"\",D671+F671)","v":""},{"$f":"Vrijwilligersregister!L671","v":0}]
[null,664,{"$f":"IF(ISBLANK(Vrijwilligersregister!C672)=TRUE,\"\",Vrijwilligersregister!C672)","v":""},{"$f":"IF(ISBLANK(Vrijwilligersregister!C672)=TRUE,\"\",SUMIF('Nominatieve lijst'!$D$10:$D$3009,C672,'Nominatieve lijst'!$G$10:$G$3009))","v":""},{"$f":"IF(ISBLANK(Vrijwilligersregister!C672)=TRUE,\"\",SUMIF('Nominatieve lijst'!$D$10:$D$3009,C672,'Nominatieve lijst'!$H$10:$H$3009))","v":""},{"$f":"IF(ISBLANK(Vrijwilligersregister!C672)=TRUE,\"\",SUMIF('Nominatieve lijst'!$D$10:$D$3009,C672,'Nominatieve lijst'!$J$10:$J$3009))","v":""},{"$f":"IF(ISBLANK(Vrijwilligersregister!C672)=TRUE,\"\",D672+F672)","v":""},{"$f":"Vrijwilligersregister!L672","v":0}]
[null,665,{"$f":"IF(ISBLANK(Vrijwilligersregister!C673)=TRUE,\"\",Vrijwilligersregister!C673)","v":""},{"$f":"IF(ISBLANK(Vrijwilligersregister!C673)=TRUE,\"\",SUMIF('Nominatieve lijst'!$D$10:$D$3009,C673,'Nominatieve lijst'!$G$10:$G$3009))","v":""},{"$f":"IF(ISBLANK(Vrijwilligersregister!C673)=TRUE,\"\",SUMIF('Nominatieve lijst'!$D$10:$D$3009,C673,'Nominatieve lijst'!$H$10:$H$3009))","v":""},{"$f":"IF(ISBLANK(Vrijwilligersregister!C673)=TRUE,\"\",SUMIF('Nominatieve lijst'!$D$10:$D$3009,C673,'Nominatieve lijst'!$J$10:$J$3009))","v":""},{"$f":"IF(ISBLANK(Vrijwilligersregister!C673)=TRUE,\"\",D673+F673)","v":""},{"$f":"Vrijwilligersregister!L673","v":0}]
[null,666,{"$f":"IF(ISBLANK(Vrijwilligersregister!C674)=TRUE,\"\",Vrijwilligersregister!C674)","v":""},{"$f":"IF(ISBLANK(Vrijwilligersregister!C674)=TRUE,\"\",SUMIF('Nominatieve lijst'!$D$10:$D$3009,C674,'Nominatieve lijst'!$G$10:$G$3009))","v":""},{"$f":"IF(ISBLANK(Vrijwilligersregister!C674)=TRUE,\"\",SUMIF('Nominatieve lijst'!$D$10:$D$3009,C674,'Nominatieve lijst'!$H$10:$H$3009))","v":""},{"$f":"IF(ISBLANK(Vrijwilligersregister!C674)=TRUE,\"\",SUMIF('Nominatieve lijst'!$D$10:$D$3009,C674,'Nominatieve lijst'!$J$10:$J$3009))","v":""},{"$f":"IF(ISBLANK(Vrijwilligersregister!C674)=TRUE,\"\",D674+F674)","v":""},{"$f":"Vrijwilligersregister!L674","v":0}]
[null,667,{"$f":"IF(ISBLANK(Vrijwilligersregister!C675)=TRUE,\"\",Vrijwilligersregister!C675)","v":""},{"$f":"IF(ISBLANK(Vrijwilligersregister!C675)=TRUE,\"\",SUMIF('Nominatieve lijst'!$D$10:$D$3009,C675,'Nominatieve lijst'!$G$10:$G$3009))","v":""},{"$f":"IF(ISBLANK(Vrijwilligersregister!C675)=TRUE,\"\",SUMIF('Nominatieve lijst'!$D$10:$D$3009,C675,'Nominatieve lijst'!$H$10:$H$3009))","v":""},{"$f":"IF(ISBLANK(Vrijwilligersregister!C675)=TRUE,\"\",SUMIF('Nominatieve lijst'!$D$10:$D$3009,C675,'Nominatieve lijst'!$J$10:$J$3009))","v":""},{"$f":"IF(ISBLANK(Vrijwilligersregister!C675)=TRUE,\"\",D675+F675)","v":""},{"$f":"Vrijwilligersregister!L675","v":0}]
[null,668,{"$f":"IF(ISBLANK(Vrijwilligersregister!C676)=TRUE,\"\",Vrijwilligersregister!C676)","v":""},{"$f":"IF(ISBLANK(Vrijwilligersregister!C676)=TRUE,\"\",SUMIF('Nominatieve lijst'!$D$10:$D$3009,C676,'Nominatieve lijst'!$G$10:$G$3009))","v":""},{"$f":"IF(ISBLANK(Vrijwilligersregister!C676)=TRUE,\"\",SUMIF('Nominatieve lijst'!$D$10:$D$3009,C676,'Nominatieve lijst'!$H$10:$H$3009))","v":""},{"$f":"IF(ISBLANK(Vrijwilligersregister!C676)=TRUE,\"\",SUMIF('Nominatieve lijst'!$D$10:$D$3009,C676,'Nominatieve lijst'!$J$10:$J$3009))","v":""},{"$f":"IF(ISBLANK(Vrijwilligersregister!C676)=TRUE,\"\",D676+F676)","v":""},{"$f":"Vrijwilligersregister!L676","v":0}]
[null,669,{"$f":"IF(ISBLANK(Vrijwilligersregister!C677)=TRUE,\"\",Vrijwilligersregister!C677)","v":""},{"$f":"IF(ISBLANK(Vrijwilligersregister!C677)=TRUE,\"\",SUMIF('Nominatieve lijst'!$D$10:$D$3009,C677,'Nominatieve lijst'!$G$10:$G$3009))","v":""},{"$f":"IF(ISBLANK(Vrijwilligersregister!C677)=TRUE,\"\",SUMIF('Nominatieve lijst'!$D$10:$D$3009,C677,'Nominatieve lijst'!$H$10:$H$3009))","v":""},{"$f":"IF(ISBLANK(Vrijwilligersregister!C677)=TRUE,\"\",SUMIF('Nominatieve lijst'!$D$10:$D$3009,C677,'Nominatieve lijst'!$J$10:$J$3009))","v":""},{"$f":"IF(ISBLANK(Vrijwilligersregister!C677)=TRUE,\"\",D677+F677)","v":""},{"$f":"Vrijwilligersregister!L677","v":0}]
[null,670,{"$f":"IF(ISBLANK(Vrijwilligersregister!C678)=TRUE,\"\",Vrijwilligersregister!C678)","v":""},{"$f":"IF(ISBLANK(Vrijwilligersregister!C678)=TRUE,\"\",SUMIF('Nominatieve lijst'!$D$10:$D$3009,C678,'Nominatieve lijst'!$G$10:$G$3009))","v":""},{"$f":"IF(ISBLANK(Vrijwilligersregister!C678)=TRUE,\"\",SUMIF('Nominatieve lijst'!$D$10:$D$3009,C678,'Nominatieve lijst'!$H$10:$H$3009))","v":""},{"$f":"IF(ISBLANK(Vrijwilligersregister!C678)=TRUE,\"\",SUMIF('Nominatieve lijst'!$D$10:$D$3009,C678,'Nominatieve lijst'!$J$10:$J$3009))","v":""},{"$f":"IF(ISBLANK(Vrijwilligersregister!C678)=TRUE,\"\",D678+F678)","v":""},{"$f":"Vrijwilligersregister!L678","v":0}]
[null,671,{"$f":"IF(ISBLANK(Vrijwilligersregister!C679)=TRUE,\"\",Vrijwilligersregister!C679)","v":""},{"$f":"IF(ISBLANK(Vrijwilligersregister!C679)=TRUE,\"\",SUMIF('Nominatieve lijst'!$D$10:$D$3009,C679,'Nominatieve lijst'!$G$10:$G$3009))","v":""},{"$f":"IF(ISBLANK(Vrijwilligersregister!C679)=TRUE,\"\",SUMIF('Nominatieve lijst'!$D$10:$D$3009,C679,'Nominatieve lijst'!$H$10:$H$3009))","v":""},{"$f":"IF(ISBLANK(Vrijwilligersregister!C679)=TRUE,\"\",SUMIF('Nominatieve lijst'!$D$10:$D$3009,C679,'Nominatieve lijst'!$J$10:$J$3009))","v":""},{"$f":"IF(ISBLANK(Vrijwilligersregister!C679)=TRUE,\"\",D679+F679)","v":""},{"$f":"Vrijwilligersregister!L679","v":0}]
[null,672,{"$f":"IF(ISBLANK(Vrijwilligersregister!C680)=TRUE,\"\",Vrijwilligersregister!C680)","v":""},{"$f":"IF(ISBLANK(Vrijwilligersregister!C680)=TRUE,\"\",SUMIF('Nominatieve lijst'!$D$10:$D$3009,C680,'Nominatieve lijst'!$G$10:$G$3009))","v":""},{"$f":"IF(ISBLANK(Vrijwilligersregister!C680)=TRUE,\"\",SUMIF('Nominatieve lijst'!$D$10:$D$3009,C680,'Nominatieve lijst'!$H$10:$H$3009))","v":""},{"$f":"IF(ISBLANK(Vrijwilligersregister!C680)=TRUE,\"\",SUMIF('Nominatieve lijst'!$D$10:$D$3009,C680,'Nominatieve lijst'!$J$10:$J$3009))","v":""},{"$f":"IF(ISBLANK(Vrijwilligersregister!C680)=TRUE,\"\",D680+F680)","v":""},{"$f":"Vrijwilligersregister!L680","v":0}]
[null,673,{"$f":"IF(ISBLANK(Vrijwilligersregister!C681)=TRUE,\"\",Vrijwilligersregister!C681)","v":""},{"$f":"IF(ISBLANK(Vrijwilligersregister!C681)=TRUE,\"\",SUMIF('Nominatieve lijst'!$D$10:$D$3009,C681,'Nominatieve lijst'!$G$10:$G$3009))","v":""},{"$f":"IF(ISBLANK(Vrijwilligersregister!C681)=TRUE,\"\",SUMIF('Nominatieve lijst'!$D$10:$D$3009,C681,'Nominatieve lijst'!$H$10:$H$3009))","v":""},{"$f":"IF(ISBLANK(Vrijwilligersregister!C681)=TRUE,\"\",SUMIF('Nominatieve lijst'!$D$10:$D$3009,C681,'Nominatieve lijst'!$J$10:$J$3009))","v":""},{"$f":"IF(ISBLANK(Vrijwilligersregister!C681)=TRUE,\"\",D681+F681)","v":""},{"$f":"Vrijwilligersregister!L681","v":0}]
[null,674,{"$f":"IF(ISBLANK(Vrijwilligersregister!C682)=TRUE,\"\",Vrijwilligersregister!C682)","v":""},{"$f":"IF(ISBLANK(Vrijwilligersregister!C682)=TRUE,\"\",SUMIF('Nominatieve lijst'!$D$10:$D$3009,C682,'Nominatieve lijst'!$G$10:$G$3009))","v":""},{"$f":"IF(ISBLANK(Vrijwilligersregister!C682)=TRUE,\"\",SUMIF('Nominatieve lijst'!$D$10:$D$3009,C682,'Nominatieve lijst'!$H$10:$H$3009))","v":""},{"$f":"IF(ISBLANK(Vrijwilligersregister!C682)=TRUE,\"\",SUMIF('Nominatieve lijst'!$D$10:$D$3009,C682,'Nominatieve lijst'!$J$10:$J$3009))","v":""},{"$f":"IF(ISBLANK(Vrijwilligersregister!C682)=TRUE,\"\",D682+F682)","v":""},{"$f":"Vrijwilligersregister!L682","v":0}]
[null,675,{"$f":"IF(ISBLANK(Vrijwilligersregister!C683)=TRUE,\"\",Vrijwilligersregister!C683)","v":""},{"$f":"IF(ISBLANK(Vrijwilligersregister!C683)=TRUE,\"\",SUMIF('Nominatieve lijst'!$D$10:$D$3009,C683,'Nominatieve lijst'!$G$10:$G$3009))","v":""},{"$f":"IF(ISBLANK(Vrijwilligersregister!C683)=TRUE,\"\",SUMIF('Nominatieve lijst'!$D$10:$D$3009,C683,'Nominatieve lijst'!$H$10:$H$3009))","v":""},{"$f":"IF(ISBLANK(Vrijwilligersregister!C683)=TRUE,\"\",SUMIF('Nominatieve lijst'!$D$10:$D$3009,C683,'Nominatieve lijst'!$J$10:$J$3009))","v":""},{"$f":"IF(ISBLANK(Vrijwilligersregister!C683)=TRUE,\"\",D683+F683)","v":""},{"$f":"Vrijwilligersregister!L683","v":0}]
[null,676,{"$f":"IF(ISBLANK(Vrijwilligersregister!C684)=TRUE,\"\",Vrijwilligersregister!C684)","v":""},{"$f":"IF(ISBLANK(Vrijwilligersregister!C684)=TRUE,\"\",SUMIF('Nominatieve lijst'!$D$10:$D$3009,C684,'Nominatieve lijst'!$G$10:$G$3009))","v":""},{"$f":"IF(ISBLANK(Vrijwilligersregister!C684)=TRUE,\"\",SUMIF('Nominatieve lijst'!$D$10:$D$3009,C684,'Nominatieve lijst'!$H$10:$H$3009))","v":""},{"$f":"IF(ISBLANK(Vrijwilligersregister!C684)=TRUE,\"\",SUMIF('Nominatieve lijst'!$D$10:$D$3009,C684,'Nominatieve lijst'!$J$10:$J$3009))","v":""},{"$f":"IF(ISBLANK(Vrijwilligersregister!C684)=TRUE,\"\",D684+F684)","v":""},{"$f":"Vrijwilligersregister!L684","v":0}]
[null,677,{"$f":"IF(ISBLANK(Vrijwilligersregister!C685)=TRUE,\"\",Vrijwilligersregister!C685)","v":""},{"$f":"IF(ISBLANK(Vrijwilligersregister!C685)=TRUE,\"\",SUMIF('Nominatieve lijst'!$D$10:$D$3009,C685,'Nominatieve lijst'!$G$10:$G$3009))","v":""},{"$f":"IF(ISBLANK(Vrijwilligersregister!C685)=TRUE,\"\",SUMIF('Nominatieve lijst'!$D$10:$D$3009,C685,'Nominatieve lijst'!$H$10:$H$3009))","v":""},{"$f":"IF(ISBLANK(Vrijwilligersregister!C685)=TRUE,\"\",SUMIF('Nominatieve lijst'!$D$10:$D$3009,C685,'Nominatieve lijst'!$J$10:$J$3009))","v":""},{"$f":"IF(ISBLANK(Vrijwilligersregister!C685)=TRUE,\"\",D685+F685)","v":""},{"$f":"Vrijwilligersregister!L685","v":0}]
[null,678,{"$f":"IF(ISBLANK(Vrijwilligersregister!C686)=TRUE,\"\",Vrijwilligersregister!C686)","v":""},{"$f":"IF(ISBLANK(Vrijwilligersregister!C686)=TRUE,\"\",SUMIF('Nominatieve lijst'!$D$10:$D$3009,C686,'Nominatieve lijst'!$G$10:$G$3009))","v":""},{"$f":"IF(ISBLANK(Vrijwilligersregister!C686)=TRUE,\"\",SUMIF('Nominatieve lijst'!$D$10:$D$3009,C686,'Nominatieve lijst'!$H$10:$H$3009))","v":""},{"$f":"IF(ISBLANK(Vrijwilligersregister!C686)=TRUE,\"\",SUMIF('Nominatieve lijst'!$D$10:$D$3009,C686,'Nominatieve lijst'!$J$10:$J$3009))","v":""},{"$f":"IF(ISBLANK(Vrijwilligersregister!C686)=TRUE,\"\",D686+F686)","v":""},{"$f":"Vrijwilligersregister!L686","v":0}]
[null,679,{"$f":"IF(ISBLANK(Vrijwilligersregister!C687)=TRUE,\"\",Vrijwilligersregister!C687)","v":""},{"$f":"IF(ISBLANK(Vrijwilligersregister!C687)=TRUE,\"\",SUMIF('Nominatieve lijst'!$D$10:$D$3009,C687,'Nominatieve lijst'!$G$10:$G$3009))","v":""},{"$f":"IF(ISBLANK(Vrijwilligersregister!C687)=TRUE,\"\",SUMIF('Nominatieve lijst'!$D$10:$D$3009,C687,'Nominatieve lijst'!$H$10:$H$3009))","v":""},{"$f":"IF(ISBLANK(Vrijwilligersregister!C687)=TRUE,\"\",SUMIF('Nominatieve lijst'!$D$10:$D$3009,C687,'Nominatieve lijst'!$J$10:$J$3009))","v":""},{"$f":"IF(ISBLANK(Vrijwilligersregister!C687)=TRUE,\"\",D687+F687)","v":""},{"$f":"Vrijwilligersregister!L687","v":0}]
[null,680,{"$f":"IF(ISBLANK(Vrijwilligersregister!C688)=TRUE,\"\",Vrijwilligersregister!C688)","v":""},{"$f":"IF(ISBLANK(Vrijwilligersregister!C688)=TRUE,\"\",SUMIF('Nominatieve lijst'!$D$10:$D$3009,C688,'Nominatieve lijst'!$G$10:$G$3009))","v":""},{"$f":"IF(ISBLANK(Vrijwilligersregister!C688)=TRUE,\"\",SUMIF('Nominatieve lijst'!$D$10:$D$3009,C688,'Nominatieve lijst'!$H$10:$H$3009))","v":""},{"$f":"IF(ISBLANK(Vrijwilligersregister!C688)=TRUE,\"\",SUMIF('Nominatieve lijst'!$D$10:$D$3009,C688,'Nominatieve lijst'!$J$10:$J$3009))","v":""},{"$f":"IF(ISBLANK(Vrijwilligersregister!C688)=TRUE,\"\",D688+F688)","v":""},{"$f":"Vrijwilligersregister!L688","v":0}]
[null,681,{"$f":"IF(ISBLANK(Vrijwilligersregister!C689)=TRUE,\"\",Vrijwilligersregister!C689)","v":""},{"$f":"IF(ISBLANK(Vrijwilligersregister!C689)=TRUE,\"\",SUMIF('Nominatieve lijst'!$D$10:$D$3009,C689,'Nominatieve lijst'!$G$10:$G$3009))","v":""},{"$f":"IF(ISBLANK(Vrijwilligersregister!C689)=TRUE,\"\",SUMIF('Nominatieve lijst'!$D$10:$D$3009,C689,'Nominatieve lijst'!$H$10:$H$3009))","v":""},{"$f":"IF(ISBLANK(Vrijwilligersregister!C689)=TRUE,\"\",SUMIF('Nominatieve lijst'!$D$10:$D$3009,C689,'Nominatieve lijst'!$J$10:$J$3009))","v":""},{"$f":"IF(ISBLANK(Vrijwilligersregister!C689)=TRUE,\"\",D689+F689)","v":""},{"$f":"Vrijwilligersregister!L689","v":0}]
[null,682,{"$f":"IF(ISBLANK(Vrijwilligersregister!C690)=TRUE,\"\",Vrijwilligersregister!C690)","v":""},{"$f":"IF(ISBLANK(Vrijwilligersregister!C690)=TRUE,\"\",SUMIF('Nominatieve lijst'!$D$10:$D$3009,C690,'Nominatieve lijst'!$G$10:$G$3009))","v":""},{"$f":"IF(ISBLANK(Vrijwilligersregister!C690)=TRUE,\"\",SUMIF('Nominatieve lijst'!$D$10:$D$3009,C690,'Nominatieve lijst'!$H$10:$H$3009))","v":""},{"$f":"IF(ISBLANK(Vrijwilligersregister!C690)=TRUE,\"\",SUMIF('Nominatieve lijst'!$D$10:$D$3009,C690,'Nominatieve lijst'!$J$10:$J$3009))","v":""},{"$f":"IF(ISBLANK(Vrijwilligersregister!C690)=TRUE,\"\",D690+F690)","v":""},{"$f":"Vrijwilligersregister!L690","v":0}]
[null,683,{"$f":"IF(ISBLANK(Vrijwilligersregister!C691)=TRUE,\"\",Vrijwilligersregister!C691)","v":""},{"$f":"IF(ISBLANK(Vrijwilligersregister!C691)=TRUE,\"\",SUMIF('Nominatieve lijst'!$D$10:$D$3009,C691,'Nominatieve lijst'!$G$10:$G$3009))","v":""},{"$f":"IF(ISBLANK(Vrijwilligersregister!C691)=TRUE,\"\",SUMIF('Nominatieve lijst'!$D$10:$D$3009,C691,'Nominatieve lijst'!$H$10:$H$3009))","v":""},{"$f":"IF(ISBLANK(Vrijwilligersregister!C691)=TRUE,\"\",SUMIF('Nominatieve lijst'!$D$10:$D$3009,C691,'Nominatieve lijst'!$J$10:$J$3009))","v":""},{"$f":"IF(ISBLANK(Vrijwilligersregister!C691)=TRUE,\"\",D691+F691)","v":""},{"$f":"Vrijwilligersregister!L691","v":0}]
[null,684,{"$f":"IF(ISBLANK(Vrijwilligersregister!C692)=TRUE,\"\",Vrijwilligersregister!C692)","v":""},{"$f":"IF(ISBLANK(Vrijwilligersregister!C692)=TRUE,\"\",SUMIF('Nominatieve lijst'!$D$10:$D$3009,C692,'Nominatieve lijst'!$G$10:$G$3009))","v":""},{"$f":"IF(ISBLANK(Vrijwilligersregister!C692)=TRUE,\"\",SUMIF('Nominatieve lijst'!$D$10:$D$3009,C692,'Nominatieve lijst'!$H$10:$H$3009))","v":""},{"$f":"IF(ISBLANK(Vrijwilligersregister!C692)=TRUE,\"\",SUMIF('Nominatieve lijst'!$D$10:$D$3009,C692,'Nominatieve lijst'!$J$10:$J$3009))","v":""},{"$f":"IF(ISBLANK(Vrijwilligersregister!C692)=TRUE,\"\",D692+F692)","v":""},{"$f":"Vrijwilligersregister!L692","v":0}]
[null,685,{"$f":"IF(ISBLANK(Vrijwilligersregister!C693)=TRUE,\"\",Vrijwilligersregister!C693)","v":""},{"$f":"IF(ISBLANK(Vrijwilligersregister!C693)=TRUE,\"\",SUMIF('Nominatieve lijst'!$D$10:$D$3009,C693,'Nominatieve lijst'!$G$10:$G$3009))","v":""},{"$f":"IF(ISBLANK(Vrijwilligersregister!C693)=TRUE,\"\",SUMIF('Nominatieve lijst'!$D$10:$D$3009,C693,'Nominatieve lijst'!$H$10:$H$3009))","v":""},{"$f":"IF(ISBLANK(Vrijwilligersregister!C693)=TRUE,\"\",SUMIF('Nominatieve lijst'!$D$10:$D$3009,C693,'Nominatieve lijst'!$J$10:$J$3009))","v":""},{"$f":"IF(ISBLANK(Vrijwilligersregister!C693)=TRUE,\"\",D693+F693)","v":""},{"$f":"Vrijwilligersregister!L693","v":0}]
[null,686,{"$f":"IF(ISBLANK(Vrijwilligersregister!C694)=TRUE,\"\",Vrijwilligersregister!C694)","v":""},{"$f":"IF(ISBLANK(Vrijwilligersregister!C694)=TRUE,\"\",SUMIF('Nominatieve lijst'!$D$10:$D$3009,C694,'Nominatieve lijst'!$G$10:$G$3009))","v":""},{"$f":"IF(ISBLANK(Vrijwilligersregister!C694)=TRUE,\"\",SUMIF('Nominatieve lijst'!$D$10:$D$3009,C694,'Nominatieve lijst'!$H$10:$H$3009))","v":""},{"$f":"IF(ISBLANK(Vrijwilligersregister!C694)=TRUE,\"\",SUMIF('Nominatieve lijst'!$D$10:$D$3009,C694,'Nominatieve lijst'!$J$10:$J$3009))","v":""},{"$f":"IF(ISBLANK(Vrijwilligersregister!C694)=TRUE,\"\",D694+F694)","v":""},{"$f":"Vrijwilligersregister!L694","v":0}]
[null,687,{"$f":"IF(ISBLANK(Vrijwilligersregister!C695)=TRUE,\"\",Vrijwilligersregister!C695)","v":""},{"$f":"IF(ISBLANK(Vrijwilligersregister!C695)=TRUE,\"\",SUMIF('Nominatieve lijst'!$D$10:$D$3009,C695,'Nominatieve lijst'!$G$10:$G$3009))","v":""},{"$f":"IF(ISBLANK(Vrijwilligersregister!C695)=TRUE,\"\",SUMIF('Nominatieve lijst'!$D$10:$D$3009,C695,'Nominatieve lijst'!$H$10:$H$3009))","v":""},{"$f":"IF(ISBLANK(Vrijwilligersregister!C695)=TRUE,\"\",SUMIF('Nominatieve lijst'!$D$10:$D$3009,C695,'Nominatieve lijst'!$J$10:$J$3009))","v":""},{"$f":"IF(ISBLANK(Vrijwilligersregister!C695)=TRUE,\"\",D695+F695)","v":""},{"$f":"Vrijwilligersregister!L695","v":0}]
[null,688,{"$f":"IF(ISBLANK(Vrijwilligersregister!C696)=TRUE,\"\",Vrijwilligersregister!C696)","v":""},{"$f":"IF(ISBLANK(Vrijwilligersregister!C696)=TRUE,\"\",SUMIF('Nominatieve lijst'!$D$10:$D$3009,C696,'Nominatieve lijst'!$G$10:$G$3009))","v":""},{"$f":"IF(ISBLANK(Vrijwilligersregister!C696)=TRUE,\"\",SUMIF('Nominatieve lijst'!$D$10:$D$3009,C696,'Nominatieve lijst'!$H$10:$H$3009))","v":""},{"$f":"IF(ISBLANK(Vrijwilligersregister!C696)=TRUE,\"\",SUMIF('Nominatieve lijst'!$D$10:$D$3009,C696,'Nominatieve lijst'!$J$10:$J$3009))","v":""},{"$f":"IF(ISBLANK(Vrijwilligersregister!C696)=TRUE,\"\",D696+F696)","v":""},{"$f":"Vrijwilligersregister!L696","v":0}]
[null,689,{"$f":"IF(ISBLANK(Vrijwilligersregister!C697)=TRUE,\"\",Vrijwilligersregister!C697)","v":""},{"$f":"IF(ISBLANK(Vrijwilligersregister!C697)=TRUE,\"\",SUMIF('Nominatieve lijst'!$D$10:$D$3009,C697,'Nominatieve lijst'!$G$10:$G$3009))","v":""},{"$f":"IF(ISBLANK(Vrijwilligersregister!C697)=TRUE,\"\",SUMIF('Nominatieve lijst'!$D$10:$D$3009,C697,'Nominatieve lijst'!$H$10:$H$3009))","v":""},{"$f":"IF(ISBLANK(Vrijwilligersregister!C697)=TRUE,\"\",SUMIF('Nominatieve lijst'!$D$10:$D$3009,C697,'Nominatieve lijst'!$J$10:$J$3009))","v":""},{"$f":"IF(ISBLANK(Vrijwilligersregister!C697)=TRUE,\"\",D697+F697)","v":""},{"$f":"Vrijwilligersregister!L697","v":0}]
[null,690,{"$f":"IF(ISBLANK(Vrijwilligersregister!C698)=TRUE,\"\",Vrijwilligersregister!C698)","v":""},{"$f":"IF(ISBLANK(Vrijwilligersregister!C698)=TRUE,\"\",SUMIF('Nominatieve lijst'!$D$10:$D$3009,C698,'Nominatieve lijst'!$G$10:$G$3009))","v":""},{"$f":"IF(ISBLANK(Vrijwilligersregister!C698)=TRUE,\"\",SUMIF('Nominatieve lijst'!$D$10:$D$3009,C698,'Nominatieve lijst'!$H$10:$H$3009))","v":""},{"$f":"IF(ISBLANK(Vrijwilligersregister!C698)=TRUE,\"\",SUMIF('Nominatieve lijst'!$D$10:$D$3009,C698,'Nominatieve lijst'!$J$10:$J$3009))","v":""},{"$f":"IF(ISBLANK(Vrijwilligersregister!C698)=TRUE,\"\",D698+F698)","v":""},{"$f":"Vrijwilligersregister!L698","v":0}]
[null,691,{"$f":"IF(ISBLANK(Vrijwilligersregister!C699)=TRUE,\"\",Vrijwilligersregister!C699)","v":""},{"$f":"IF(ISBLANK(Vrijwilligersregister!C699)=TRUE,\"\",SUMIF('Nominatieve lijst'!$D$10:$D$3009,C699,'Nominatieve lijst'!$G$10:$G$3009))","v":""},{"$f":"IF(ISBLANK(Vrijwilligersregister!C699)=TRUE,\"\",SUMIF('Nominatieve lijst'!$D$10:$D$3009,C699,'Nominatieve lijst'!$H$10:$H$3009))","v":""},{"$f":"IF(ISBLANK(Vrijwilligersregister!C699)=TRUE,\"\",SUMIF('Nominatieve lijst'!$D$10:$D$3009,C699,'Nominatieve lijst'!$J$10:$J$3009))","v":""},{"$f":"IF(ISBLANK(Vrijwilligersregister!C699)=TRUE,\"\",D699+F699)","v":""},{"$f":"Vrijwilligersregister!L699","v":0}]
[null,692,{"$f":"IF(ISBLANK(Vrijwilligersregister!C700)=TRUE,\"\",Vrijwilligersregister!C700)","v":""},{"$f":"IF(ISBLANK(Vrijwilligersregister!C700)=TRUE,\"\",SUMIF('Nominatieve lijst'!$D$10:$D$3009,C700,'Nominatieve lijst'!$G$10:$G$3009))","v":""},{"$f":"IF(ISBLANK(Vrijwilligersregister!C700)=TRUE,\"\",SUMIF('Nominatieve lijst'!$D$10:$D$3009,C700,'Nominatieve lijst'!$H$10:$H$3009))","v":""},{"$f":"IF(ISBLANK(Vrijwilligersregister!C700)=TRUE,\"\",SUMIF('Nominatieve lijst'!$D$10:$D$3009,C700,'Nominatieve lijst'!$J$10:$J$3009))","v":""},{"$f":"IF(ISBLANK(Vrijwilligersregister!C700)=TRUE,\"\",D700+F700)","v":""},{"$f":"Vrijwilligersregister!L700","v":0}]
[null,693,{"$f":"IF(ISBLANK(Vrijwilligersregister!C701)=TRUE,\"\",Vrijwilligersregister!C701)","v":""},{"$f":"IF(ISBLANK(Vrijwilligersregister!C701)=TRUE,\"\",SUMIF('Nominatieve lijst'!$D$10:$D$3009,C701,'Nominatieve lijst'!$G$10:$G$3009))","v":""},{"$f":"IF(ISBLANK(Vrijwilligersregister!C701)=TRUE,\"\",SUMIF('Nominatieve lijst'!$D$10:$D$3009,C701,'Nominatieve lijst'!$H$10:$H$3009))","v":""},{"$f":"IF(ISBLANK(Vrijwilligersregister!C701)=TRUE,\"\",SUMIF('Nominatieve lijst'!$D$10:$D$3009,C701,'Nominatieve lijst'!$J$10:$J$3009))","v":""},{"$f":"IF(ISBLANK(Vrijwilligersregister!C701)=TRUE,\"\",D701+F701)","v":""},{"$f":"Vrijwilligersregister!L701","v":0}]
[null,694,{"$f":"IF(ISBLANK(Vrijwilligersregister!C702)=TRUE,\"\",Vrijwilligersregister!C702)","v":""},{"$f":"IF(ISBLANK(Vrijwilligersregister!C702)=TRUE,\"\",SUMIF('Nominatieve lijst'!$D$10:$D$3009,C702,'Nominatieve lijst'!$G$10:$G$3009))","v":""},{"$f":"IF(ISBLANK(Vrijwilligersregister!C702)=TRUE,\"\",SUMIF('Nominatieve lijst'!$D$10:$D$3009,C702,'Nominatieve lijst'!$H$10:$H$3009))","v":""},{"$f":"IF(ISBLANK(Vrijwilligersregister!C702)=TRUE,\"\",SUMIF('Nominatieve lijst'!$D$10:$D$3009,C702,'Nominatieve lijst'!$J$10:$J$3009))","v":""},{"$f":"IF(ISBLANK(Vrijwilligersregister!C702)=TRUE,\"\",D702+F702)","v":""},{"$f":"Vrijwilligersregister!L702","v":0}]
[null,695,{"$f":"IF(ISBLANK(Vrijwilligersregister!C703)=TRUE,\"\",Vrijwilligersregister!C703)","v":""},{"$f":"IF(ISBLANK(Vrijwilligersregister!C703)=TRUE,\"\",SUMIF('Nominatieve lijst'!$D$10:$D$3009,C703,'Nominatieve lijst'!$G$10:$G$3009))","v":""},{"$f":"IF(ISBLANK(Vrijwilligersregister!C703)=TRUE,\"\",SUMIF('Nominatieve lijst'!$D$10:$D$3009,C703,'Nominatieve lijst'!$H$10:$H$3009))","v":""},{"$f":"IF(ISBLANK(Vrijwilligersregister!C703)=TRUE,\"\",SUMIF('Nominatieve lijst'!$D$10:$D$3009,C703,'Nominatieve lijst'!$J$10:$J$3009))","v":""},{"$f":"IF(ISBLANK(Vrijwilligersregister!C703)=TRUE,\"\",D703+F703)","v":""},{"$f":"Vrijwilligersregister!L703","v":0}]
[null,696,{"$f":"IF(ISBLANK(Vrijwilligersregister!C704)=TRUE,\"\",Vrijwilligersregister!C704)","v":""},{"$f":"IF(ISBLANK(Vrijwilligersregister!C704)=TRUE,\"\",SUMIF('Nominatieve lijst'!$D$10:$D$3009,C704,'Nominatieve lijst'!$G$10:$G$3009))","v":""},{"$f":"IF(ISBLANK(Vrijwilligersregister!C704)=TRUE,\"\",SUMIF('Nominatieve lijst'!$D$10:$D$3009,C704,'Nominatieve lijst'!$H$10:$H$3009))","v":""},{"$f":"IF(ISBLANK(Vrijwilligersregister!C704)=TRUE,\"\",SUMIF('Nominatieve lijst'!$D$10:$D$3009,C704,'Nominatieve lijst'!$J$10:$J$3009))","v":""},{"$f":"IF(ISBLANK(Vrijwilligersregister!C704)=TRUE,\"\",D704+F704)","v":""},{"$f":"Vrijwilligersregister!L704","v":0}]
[null,697,{"$f":"IF(ISBLANK(Vrijwilligersregister!C705)=TRUE,\"\",Vrijwilligersregister!C705)","v":""},{"$f":"IF(ISBLANK(Vrijwilligersregister!C705)=TRUE,\"\",SUMIF('Nominatieve lijst'!$D$10:$D$3009,C705,'Nominatieve lijst'!$G$10:$G$3009))","v":""},{"$f":"IF(ISBLANK(Vrijwilligersregister!C705)=TRUE,\"\",SUMIF('Nominatieve lijst'!$D$10:$D$3009,C705,'Nominatieve lijst'!$H$10:$H$3009))","v":""},{"$f":"IF(ISBLANK(Vrijwilligersregister!C705)=TRUE,\"\",SUMIF('Nominatieve lijst'!$D$10:$D$3009,C705,'Nominatieve lijst'!$J$10:$J$3009))","v":""},{"$f":"IF(ISBLANK(Vrijwilligersregister!C705)=TRUE,\"\",D705+F705)","v":""},{"$f":"Vrijwilligersregister!L705","v":0}]
[null,698,{"$f":"IF(ISBLANK(Vrijwilligersregister!C706)=TRUE,\"\",Vrijwilligersregister!C706)","v":""},{"$f":"IF(ISBLANK(Vrijwilligersregister!C706)=TRUE,\"\",SUMIF('Nominatieve lijst'!$D$10:$D$3009,C706,'Nominatieve lijst'!$G$10:$G$3009))","v":""},{"$f":"IF(ISBLANK(Vrijwilligersregister!C706)=TRUE,\"\",SUMIF('Nominatieve lijst'!$D$10:$D$3009,C706,'Nominatieve lijst'!$H$10:$H$3009))","v":""},{"$f":"IF(ISBLANK(Vrijwilligersregister!C706)=TRUE,\"\",SUMIF('Nominatieve lijst'!$D$10:$D$3009,C706,'Nominatieve lijst'!$J$10:$J$3009))","v":""},{"$f":"IF(ISBLANK(Vrijwilligersregister!C706)=TRUE,\"\",D706+F706)","v":""},{"$f":"Vrijwilligersregister!L706","v":0}]
[null,699,{"$f":"IF(ISBLANK(Vrijwilligersregister!C707)=TRUE,\"\",Vrijwilligersregister!C707)","v":""},{"$f":"IF(ISBLANK(Vrijwilligersregister!C707)=TRUE,\"\",SUMIF('Nominatieve lijst'!$D$10:$D$3009,C707,'Nominatieve lijst'!$G$10:$G$3009))","v":""},{"$f":"IF(ISBLANK(Vrijwilligersregister!C707)=TRUE,\"\",SUMIF('Nominatieve lijst'!$D$10:$D$3009,C707,'Nominatieve lijst'!$H$10:$H$3009))","v":""},{"$f":"IF(ISBLANK(Vrijwilligersregister!C707)=TRUE,\"\",SUMIF('Nominatieve lijst'!$D$10:$D$3009,C707,'Nominatieve lijst'!$J$10:$J$3009))","v":""},{"$f":"IF(ISBLANK(Vrijwilligersregister!C707)=TRUE,\"\",D707+F707)","v":""},{"$f":"Vrijwilligersregister!L707","v":0}]
[null,700,{"$f":"IF(ISBLANK(Vrijwilligersregister!C708)=TRUE,\"\",Vrijwilligersregister!C708)","v":""},{"$f":"IF(ISBLANK(Vrijwilligersregister!C708)=TRUE,\"\",SUMIF('Nominatieve lijst'!$D$10:$D$3009,C708,'Nominatieve lijst'!$G$10:$G$3009))","v":""},{"$f":"IF(ISBLANK(Vrijwilligersregister!C708)=TRUE,\"\",SUMIF('Nominatieve lijst'!$D$10:$D$3009,C708,'Nominatieve lijst'!$H$10:$H$3009))","v":""},{"$f":"IF(ISBLANK(Vrijwilligersregister!C708)=TRUE,\"\",SUMIF('Nominatieve lijst'!$D$10:$D$3009,C708,'Nominatieve lijst'!$J$10:$J$3009))","v":""},{"$f":"IF(ISBLANK(Vrijwilligersregister!C708)=TRUE,\"\",D708+F708)","v":""},{"$f":"Vrijwilligersregister!L708","v":0}]
[null,701,{"$f":"IF(ISBLANK(Vrijwilligersregister!C709)=TRUE,\"\",Vrijwilligersregister!C709)","v":""},{"$f":"IF(ISBLANK(Vrijwilligersregister!C709)=TRUE,\"\",SUMIF('Nominatieve lijst'!$D$10:$D$3009,C709,'Nominatieve lijst'!$G$10:$G$3009))","v":""},{"$f":"IF(ISBLANK(Vrijwilligersregister!C709)=TRUE,\"\",SUMIF('Nominatieve lijst'!$D$10:$D$3009,C709,'Nominatieve lijst'!$H$10:$H$3009))","v":""},{"$f":"IF(ISBLANK(Vrijwilligersregister!C709)=TRUE,\"\",SUMIF('Nominatieve lijst'!$D$10:$D$3009,C709,'Nominatieve lijst'!$J$10:$J$3009))","v":""},{"$f":"IF(ISBLANK(Vrijwilligersregister!C709)=TRUE,\"\",D709+F709)","v":""},{"$f":"Vrijwilligersregister!L709","v":0}]
[null,702,{"$f":"IF(ISBLANK(Vrijwilligersregister!C710)=TRUE,\"\",Vrijwilligersregister!C710)","v":""},{"$f":"IF(ISBLANK(Vrijwilligersregister!C710)=TRUE,\"\",SUMIF('Nominatieve lijst'!$D$10:$D$3009,C710,'Nominatieve lijst'!$G$10:$G$3009))","v":""},{"$f":"IF(ISBLANK(Vrijwilligersregister!C710)=TRUE,\"\",SUMIF('Nominatieve lijst'!$D$10:$D$3009,C710,'Nominatieve lijst'!$H$10:$H$3009))","v":""},{"$f":"IF(ISBLANK(Vrijwilligersregister!C710)=TRUE,\"\",SUMIF('Nominatieve lijst'!$D$10:$D$3009,C710,'Nominatieve lijst'!$J$10:$J$3009))","v":""},{"$f":"IF(ISBLANK(Vrijwilligersregister!C710)=TRUE,\"\",D710+F710)","v":""},{"$f":"Vrijwilligersregister!L710","v":0}]
[null,703,{"$f":"IF(ISBLANK(Vrijwilligersregister!C711)=TRUE,\"\",Vrijwilligersregister!C711)","v":""},{"$f":"IF(ISBLANK(Vrijwilligersregister!C711)=TRUE,\"\",SUMIF('Nominatieve lijst'!$D$10:$D$3009,C711,'Nominatieve lijst'!$G$10:$G$3009))","v":""},{"$f":"IF(ISBLANK(Vrijwilligersregister!C711)=TRUE,\"\",SUMIF('Nominatieve lijst'!$D$10:$D$3009,C711,'Nominatieve lijst'!$H$10:$H$3009))","v":""},{"$f":"IF(ISBLANK(Vrijwilligersregister!C711)=TRUE,\"\",SUMIF('Nominatieve lijst'!$D$10:$D$3009,C711,'Nominatieve lijst'!$J$10:$J$3009))","v":""},{"$f":"IF(ISBLANK(Vrijwilligersregister!C711)=TRUE,\"\",D711+F711)","v":""},{"$f":"Vrijwilligersregister!L711","v":0}]
[null,704,{"$f":"IF(ISBLANK(Vrijwilligersregister!C712)=TRUE,\"\",Vrijwilligersregister!C712)","v":""},{"$f":"IF(ISBLANK(Vrijwilligersregister!C712)=TRUE,\"\",SUMIF('Nominatieve lijst'!$D$10:$D$3009,C712,'Nominatieve lijst'!$G$10:$G$3009))","v":""},{"$f":"IF(ISBLANK(Vrijwilligersregister!C712)=TRUE,\"\",SUMIF('Nominatieve lijst'!$D$10:$D$3009,C712,'Nominatieve lijst'!$H$10:$H$3009))","v":""},{"$f":"IF(ISBLANK(Vrijwilligersregister!C712)=TRUE,\"\",SUMIF('Nominatieve lijst'!$D$10:$D$3009,C712,'Nominatieve lijst'!$J$10:$J$3009))","v":""},{"$f":"IF(ISBLANK(Vrijwilligersregister!C712)=TRUE,\"\",D712+F712)","v":""},{"$f":"Vrijwilligersregister!L712","v":0}]
[null,705,{"$f":"IF(ISBLANK(Vrijwilligersregister!C713)=TRUE,\"\",Vrijwilligersregister!C713)","v":""},{"$f":"IF(ISBLANK(Vrijwilligersregister!C713)=TRUE,\"\",SUMIF('Nominatieve lijst'!$D$10:$D$3009,C713,'Nominatieve lijst'!$G$10:$G$3009))","v":""},{"$f":"IF(ISBLANK(Vrijwilligersregister!C713)=TRUE,\"\",SUMIF('Nominatieve lijst'!$D$10:$D$3009,C713,'Nominatieve lijst'!$H$10:$H$3009))","v":""},{"$f":"IF(ISBLANK(Vrijwilligersregister!C713)=TRUE,\"\",SUMIF('Nominatieve lijst'!$D$10:$D$3009,C713,'Nominatieve lijst'!$J$10:$J$3009))","v":""},{"$f":"IF(ISBLANK(Vrijwilligersregister!C713)=TRUE,\"\",D713+F713)","v":""},{"$f":"Vrijwilligersregister!L713","v":0}]
[null,706,{"$f":"IF(ISBLANK(Vrijwilligersregister!C714)=TRUE,\"\",Vrijwilligersregister!C714)","v":""},{"$f":"IF(ISBLANK(Vrijwilligersregister!C714)=TRUE,\"\",SUMIF('Nominatieve lijst'!$D$10:$D$3009,C714,'Nominatieve lijst'!$G$10:$G$3009))","v":""},{"$f":"IF(ISBLANK(Vrijwilligersregister!C714)=TRUE,\"\",SUMIF('Nominatieve lijst'!$D$10:$D$3009,C714,'Nominatieve lijst'!$H$10:$H$3009))","v":""},{"$f":"IF(ISBLANK(Vrijwilligersregister!C714)=TRUE,\"\",SUMIF('Nominatieve lijst'!$D$10:$D$3009,C714,'Nominatieve lijst'!$J$10:$J$3009))","v":""},{"$f":"IF(ISBLANK(Vrijwilligersregister!C714)=TRUE,\"\",D714+F714)","v":""},{"$f":"Vrijwilligersregister!L714","v":0}]
[null,707,{"$f":"IF(ISBLANK(Vrijwilligersregister!C715)=TRUE,\"\",Vrijwilligersregister!C715)","v":""},{"$f":"IF(ISBLANK(Vrijwilligersregister!C715)=TRUE,\"\",SUMIF('Nominatieve lijst'!$D$10:$D$3009,C715,'Nominatieve lijst'!$G$10:$G$3009))","v":""},{"$f":"IF(ISBLANK(Vrijwilligersregister!C715)=TRUE,\"\",SUMIF('Nominatieve lijst'!$D$10:$D$3009,C715,'Nominatieve lijst'!$H$10:$H$3009))","v":""},{"$f":"IF(ISBLANK(Vrijwilligersregister!C715)=TRUE,\"\",SUMIF('Nominatieve lijst'!$D$10:$D$3009,C715,'Nominatieve lijst'!$J$10:$J$3009))","v":""},{"$f":"IF(ISBLANK(Vrijwilligersregister!C715)=TRUE,\"\",D715+F715)","v":""},{"$f":"Vrijwilligersregister!L715","v":0}]
[null,708,{"$f":"IF(ISBLANK(Vrijwilligersregister!C716)=TRUE,\"\",Vrijwilligersregister!C716)","v":""},{"$f":"IF(ISBLANK(Vrijwilligersregister!C716)=TRUE,\"\",SUMIF('Nominatieve lijst'!$D$10:$D$3009,C716,'Nominatieve lijst'!$G$10:$G$3009))","v":""},{"$f":"IF(ISBLANK(Vrijwilligersregister!C716)=TRUE,\"\",SUMIF('Nominatieve lijst'!$D$10:$D$3009,C716,'Nominatieve lijst'!$H$10:$H$3009))","v":""},{"$f":"IF(ISBLANK(Vrijwilligersregister!C716)=TRUE,\"\",SUMIF('Nominatieve lijst'!$D$10:$D$3009,C716,'Nominatieve lijst'!$J$10:$J$3009))","v":""},{"$f":"IF(ISBLANK(Vrijwilligersregister!C716)=TRUE,\"\",D716+F716)","v":""},{"$f":"Vrijwilligersregister!L716","v":0}]
[null,709,{"$f":"IF(ISBLANK(Vrijwilligersregister!C717)=TRUE,\"\",Vrijwilligersregister!C717)","v":""},{"$f":"IF(ISBLANK(Vrijwilligersregister!C717)=TRUE,\"\",SUMIF('Nominatieve lijst'!$D$10:$D$3009,C717,'Nominatieve lijst'!$G$10:$G$3009))","v":""},{"$f":"IF(ISBLANK(Vrijwilligersregister!C717)=TRUE,\"\",SUMIF('Nominatieve lijst'!$D$10:$D$3009,C717,'Nominatieve lijst'!$H$10:$H$3009))","v":""},{"$f":"IF(ISBLANK(Vrijwilligersregister!C717)=TRUE,\"\",SUMIF('Nominatieve lijst'!$D$10:$D$3009,C717,'Nominatieve lijst'!$J$10:$J$3009))","v":""},{"$f":"IF(ISBLANK(Vrijwilligersregister!C717)=TRUE,\"\",D717+F717)","v":""},{"$f":"Vrijwilligersregister!L717","v":0}]
[null,710,{"$f":"IF(ISBLANK(Vrijwilligersregister!C718)=TRUE,\"\",Vrijwilligersregister!C718)","v":""},{"$f":"IF(ISBLANK(Vrijwilligersregister!C718)=TRUE,\"\",SUMIF('Nominatieve lijst'!$D$10:$D$3009,C718,'Nominatieve lijst'!$G$10:$G$3009))","v":""},{"$f":"IF(ISBLANK(Vrijwilligersregister!C718)=TRUE,\"\",SUMIF('Nominatieve lijst'!$D$10:$D$3009,C718,'Nominatieve lijst'!$H$10:$H$3009))","v":""},{"$f":"IF(ISBLANK(Vrijwilligersregister!C718)=TRUE,\"\",SUMIF('Nominatieve lijst'!$D$10:$D$3009,C718,'Nominatieve lijst'!$J$10:$J$3009))","v":""},{"$f":"IF(ISBLANK(Vrijwilligersregister!C718)=TRUE,\"\",D718+F718)","v":""},{"$f":"Vrijwilligersregister!L718","v":0}]
[null,711,{"$f":"IF(ISBLANK(Vrijwilligersregister!C719)=TRUE,\"\",Vrijwilligersregister!C719)","v":""},{"$f":"IF(ISBLANK(Vrijwilligersregister!C719)=TRUE,\"\",SUMIF('Nominatieve lijst'!$D$10:$D$3009,C719,'Nominatieve lijst'!$G$10:$G$3009))","v":""},{"$f":"IF(ISBLANK(Vrijwilligersregister!C719)=TRUE,\"\",SUMIF('Nominatieve lijst'!$D$10:$D$3009,C719,'Nominatieve lijst'!$H$10:$H$3009))","v":""},{"$f":"IF(ISBLANK(Vrijwilligersregister!C719)=TRUE,\"\",SUMIF('Nominatieve lijst'!$D$10:$D$3009,C719,'Nominatieve lijst'!$J$10:$J$3009))","v":""},{"$f":"IF(ISBLANK(Vrijwilligersregister!C719)=TRUE,\"\",D719+F719)","v":""},{"$f":"Vrijwilligersregister!L719","v":0}]
[null,712,{"$f":"IF(ISBLANK(Vrijwilligersregister!C720)=TRUE,\"\",Vrijwilligersregister!C720)","v":""},{"$f":"IF(ISBLANK(Vrijwilligersregister!C720)=TRUE,\"\",SUMIF('Nominatieve lijst'!$D$10:$D$3009,C720,'Nominatieve lijst'!$G$10:$G$3009))","v":""},{"$f":"IF(ISBLANK(Vrijwilligersregister!C720)=TRUE,\"\",SUMIF('Nominatieve lijst'!$D$10:$D$3009,C720,'Nominatieve lijst'!$H$10:$H$3009))","v":""},{"$f":"IF(ISBLANK(Vrijwilligersregister!C720)=TRUE,\"\",SUMIF('Nominatieve lijst'!$D$10:$D$3009,C720,'Nominatieve lijst'!$J$10:$J$3009))","v":""},{"$f":"IF(ISBLANK(Vrijwilligersregister!C720)=TRUE,\"\",D720+F720)","v":""},{"$f":"Vrijwilligersregister!L720","v":0}]
[null,713,{"$f":"IF(ISBLANK(Vrijwilligersregister!C721)=TRUE,\"\",Vrijwilligersregister!C721)","v":""},{"$f":"IF(ISBLANK(Vrijwilligersregister!C721)=TRUE,\"\",SUMIF('Nominatieve lijst'!$D$10:$D$3009,C721,'Nominatieve lijst'!$G$10:$G$3009))","v":""},{"$f":"IF(ISBLANK(Vrijwilligersregister!C721)=TRUE,\"\",SUMIF('Nominatieve lijst'!$D$10:$D$3009,C721,'Nominatieve lijst'!$H$10:$H$3009))","v":""},{"$f":"IF(ISBLANK(Vrijwilligersregister!C721)=TRUE,\"\",SUMIF('Nominatieve lijst'!$D$10:$D$3009,C721,'Nominatieve lijst'!$J$10:$J$3009))","v":""},{"$f":"IF(ISBLANK(Vrijwilligersregister!C721)=TRUE,\"\",D721+F721)","v":""},{"$f":"Vrijwilligersregister!L721","v":0}]
[null,714,{"$f":"IF(ISBLANK(Vrijwilligersregister!C722)=TRUE,\"\",Vrijwilligersregister!C722)","v":""},{"$f":"IF(ISBLANK(Vrijwilligersregister!C722)=TRUE,\"\",SUMIF('Nominatieve lijst'!$D$10:$D$3009,C722,'Nominatieve lijst'!$G$10:$G$3009))","v":""},{"$f":"IF(ISBLANK(Vrijwilligersregister!C722)=TRUE,\"\",SUMIF('Nominatieve lijst'!$D$10:$D$3009,C722,'Nominatieve lijst'!$H$10:$H$3009))","v":""},{"$f":"IF(ISBLANK(Vrijwilligersregister!C722)=TRUE,\"\",SUMIF('Nominatieve lijst'!$D$10:$D$3009,C722,'Nominatieve lijst'!$J$10:$J$3009))","v":""},{"$f":"IF(ISBLANK(Vrijwilligersregister!C722)=TRUE,\"\",D722+F722)","v":""},{"$f":"Vrijwilligersregister!L722","v":0}]
[null,715,{"$f":"IF(ISBLANK(Vrijwilligersregister!C723)=TRUE,\"\",Vrijwilligersregister!C723)","v":""},{"$f":"IF(ISBLANK(Vrijwilligersregister!C723)=TRUE,\"\",SUMIF('Nominatieve lijst'!$D$10:$D$3009,C723,'Nominatieve lijst'!$G$10:$G$3009))","v":""},{"$f":"IF(ISBLANK(Vrijwilligersregister!C723)=TRUE,\"\",SUMIF('Nominatieve lijst'!$D$10:$D$3009,C723,'Nominatieve lijst'!$H$10:$H$3009))","v":""},{"$f":"IF(ISBLANK(Vrijwilligersregister!C723)=TRUE,\"\",SUMIF('Nominatieve lijst'!$D$10:$D$3009,C723,'Nominatieve lijst'!$J$10:$J$3009))","v":""},{"$f":"IF(ISBLANK(Vrijwilligersregister!C723)=TRUE,\"\",D723+F723)","v":""},{"$f":"Vrijwilligersregister!L723","v":0}]
[null,716,{"$f":"IF(ISBLANK(Vrijwilligersregister!C724)=TRUE,\"\",Vrijwilligersregister!C724)","v":""},{"$f":"IF(ISBLANK(Vrijwilligersregister!C724)=TRUE,\"\",SUMIF('Nominatieve lijst'!$D$10:$D$3009,C724,'Nominatieve lijst'!$G$10:$G$3009))","v":""},{"$f":"IF(ISBLANK(Vrijwilligersregister!C724)=TRUE,\"\",SUMIF('Nominatieve lijst'!$D$10:$D$3009,C724,'Nominatieve lijst'!$H$10:$H$3009))","v":""},{"$f":"IF(ISBLANK(Vrijwilligersregister!C724)=TRUE,\"\",SUMIF('Nominatieve lijst'!$D$10:$D$3009,C724,'Nominatieve lijst'!$J$10:$J$3009))","v":""},{"$f":"IF(ISBLANK(Vrijwilligersregister!C724)=TRUE,\"\",D724+F724)","v":""},{"$f":"Vrijwilligersregister!L724","v":0}]
[null,717,{"$f":"IF(ISBLANK(Vrijwilligersregister!C725)=TRUE,\"\",Vrijwilligersregister!C725)","v":""},{"$f":"IF(ISBLANK(Vrijwilligersregister!C725)=TRUE,\"\",SUMIF('Nominatieve lijst'!$D$10:$D$3009,C725,'Nominatieve lijst'!$G$10:$G$3009))","v":""},{"$f":"IF(ISBLANK(Vrijwilligersregister!C725)=TRUE,\"\",SUMIF('Nominatieve lijst'!$D$10:$D$3009,C725,'Nominatieve lijst'!$H$10:$H$3009))","v":""},{"$f":"IF(ISBLANK(Vrijwilligersregister!C725)=TRUE,\"\",SUMIF('Nominatieve lijst'!$D$10:$D$3009,C725,'Nominatieve lijst'!$J$10:$J$3009))","v":""},{"$f":"IF(ISBLANK(Vrijwilligersregister!C725)=TRUE,\"\",D725+F725)","v":""},{"$f":"Vrijwilligersregister!L725","v":0}]
[null,718,{"$f":"IF(ISBLANK(Vrijwilligersregister!C726)=TRUE,\"\",Vrijwilligersregister!C726)","v":""},{"$f":"IF(ISBLANK(Vrijwilligersregister!C726)=TRUE,\"\",SUMIF('Nominatieve lijst'!$D$10:$D$3009,C726,'Nominatieve lijst'!$G$10:$G$3009))","v":""},{"$f":"IF(ISBLANK(Vrijwilligersregister!C726)=TRUE,\"\",SUMIF('Nominatieve lijst'!$D$10:$D$3009,C726,'Nominatieve lijst'!$H$10:$H$3009))","v":""},{"$f":"IF(ISBLANK(Vrijwilligersregister!C726)=TRUE,\"\",SUMIF('Nominatieve lijst'!$D$10:$D$3009,C726,'Nominatieve lijst'!$J$10:$J$3009))","v":""},{"$f":"IF(ISBLANK(Vrijwilligersregister!C726)=TRUE,\"\",D726+F726)","v":""},{"$f":"Vrijwilligersregister!L726","v":0}]
[null,719,{"$f":"IF(ISBLANK(Vrijwilligersregister!C727)=TRUE,\"\",Vrijwilligersregister!C727)","v":""},{"$f":"IF(ISBLANK(Vrijwilligersregister!C727)=TRUE,\"\",SUMIF('Nominatieve lijst'!$D$10:$D$3009,C727,'Nominatieve lijst'!$G$10:$G$3009))","v":""},{"$f":"IF(ISBLANK(Vrijwilligersregister!C727)=TRUE,\"\",SUMIF('Nominatieve lijst'!$D$10:$D$3009,C727,'Nominatieve lijst'!$H$10:$H$3009))","v":""},{"$f":"IF(ISBLANK(Vrijwilligersregister!C727)=TRUE,\"\",SUMIF('Nominatieve lijst'!$D$10:$D$3009,C727,'Nominatieve lijst'!$J$10:$J$3009))","v":""},{"$f":"IF(ISBLANK(Vrijwilligersregister!C727)=TRUE,\"\",D727+F727)","v":""},{"$f":"Vrijwilligersregister!L727","v":0}]
[null,720,{"$f":"IF(ISBLANK(Vrijwilligersregister!C728)=TRUE,\"\",Vrijwilligersregister!C728)","v":""},{"$f":"IF(ISBLANK(Vrijwilligersregister!C728)=TRUE,\"\",SUMIF('Nominatieve lijst'!$D$10:$D$3009,C728,'Nominatieve lijst'!$G$10:$G$3009))","v":""},{"$f":"IF(ISBLANK(Vrijwilligersregister!C728)=TRUE,\"\",SUMIF('Nominatieve lijst'!$D$10:$D$3009,C728,'Nominatieve lijst'!$H$10:$H$3009))","v":""},{"$f":"IF(ISBLANK(Vrijwilligersregister!C728)=TRUE,\"\",SUMIF('Nominatieve lijst'!$D$10:$D$3009,C728,'Nominatieve lijst'!$J$10:$J$3009))","v":""},{"$f":"IF(ISBLANK(Vrijwilligersregister!C728)=TRUE,\"\",D728+F728)","v":""},{"$f":"Vrijwilligersregister!L728","v":0}]
[null,721,{"$f":"IF(ISBLANK(Vrijwilligersregister!C729)=TRUE,\"\",Vrijwilligersregister!C729)","v":""},{"$f":"IF(ISBLANK(Vrijwilligersregister!C729)=TRUE,\"\",SUMIF('Nominatieve lijst'!$D$10:$D$3009,C729,'Nominatieve lijst'!$G$10:$G$3009))","v":""},{"$f":"IF(ISBLANK(Vrijwilligersregister!C729)=TRUE,\"\",SUMIF('Nominatieve lijst'!$D$10:$D$3009,C729,'Nominatieve lijst'!$H$10:$H$3009))","v":""},{"$f":"IF(ISBLANK(Vrijwilligersregister!C729)=TRUE,\"\",SUMIF('Nominatieve lijst'!$D$10:$D$3009,C729,'Nominatieve lijst'!$J$10:$J$3009))","v":""},{"$f":"IF(ISBLANK(Vrijwilligersregister!C729)=TRUE,\"\",D729+F729)","v":""},{"$f":"Vrijwilligersregister!L729","v":0}]
[null,722,{"$f":"IF(ISBLANK(Vrijwilligersregister!C730)=TRUE,\"\",Vrijwilligersregister!C730)","v":""},{"$f":"IF(ISBLANK(Vrijwilligersregister!C730)=TRUE,\"\",SUMIF('Nominatieve lijst'!$D$10:$D$3009,C730,'Nominatieve lijst'!$G$10:$G$3009))","v":""},{"$f":"IF(ISBLANK(Vrijwilligersregister!C730)=TRUE,\"\",SUMIF('Nominatieve lijst'!$D$10:$D$3009,C730,'Nominatieve lijst'!$H$10:$H$3009))","v":""},{"$f":"IF(ISBLANK(Vrijwilligersregister!C730)=TRUE,\"\",SUMIF('Nominatieve lijst'!$D$10:$D$3009,C730,'Nominatieve lijst'!$J$10:$J$3009))","v":""},{"$f":"IF(ISBLANK(Vrijwilligersregister!C730)=TRUE,\"\",D730+F730)","v":""},{"$f":"Vrijwilligersregister!L730","v":0}]
[null,723,{"$f":"IF(ISBLANK(Vrijwilligersregister!C731)=TRUE,\"\",Vrijwilligersregister!C731)","v":""},{"$f":"IF(ISBLANK(Vrijwilligersregister!C731)=TRUE,\"\",SUMIF('Nominatieve lijst'!$D$10:$D$3009,C731,'Nominatieve lijst'!$G$10:$G$3009))","v":""},{"$f":"IF(ISBLANK(Vrijwilligersregister!C731)=TRUE,\"\",SUMIF('Nominatieve lijst'!$D$10:$D$3009,C731,'Nominatieve lijst'!$H$10:$H$3009))","v":""},{"$f":"IF(ISBLANK(Vrijwilligersregister!C731)=TRUE,\"\",SUMIF('Nominatieve lijst'!$D$10:$D$3009,C731,'Nominatieve lijst'!$J$10:$J$3009))","v":""},{"$f":"IF(ISBLANK(Vrijwilligersregister!C731)=TRUE,\"\",D731+F731)","v":""},{"$f":"Vrijwilligersregister!L731","v":0}]
[null,724,{"$f":"IF(ISBLANK(Vrijwilligersregister!C732)=TRUE,\"\",Vrijwilligersregister!C732)","v":""},{"$f":"IF(ISBLANK(Vrijwilligersregister!C732)=TRUE,\"\",SUMIF('Nominatieve lijst'!$D$10:$D$3009,C732,'Nominatieve lijst'!$G$10:$G$3009))","v":""},{"$f":"IF(ISBLANK(Vrijwilligersregister!C732)=TRUE,\"\",SUMIF('Nominatieve lijst'!$D$10:$D$3009,C732,'Nominatieve lijst'!$H$10:$H$3009))","v":""},{"$f":"IF(ISBLANK(Vrijwilligersregister!C732)=TRUE,\"\",SUMIF('Nominatieve lijst'!$D$10:$D$3009,C732,'Nominatieve lijst'!$J$10:$J$3009))","v":""},{"$f":"IF(ISBLANK(Vrijwilligersregister!C732)=TRUE,\"\",D732+F732)","v":""},{"$f":"Vrijwilligersregister!L732","v":0}]
[null,725,{"$f":"IF(ISBLANK(Vrijwilligersregister!C733)=TRUE,\"\",Vrijwilligersregister!C733)","v":""},{"$f":"IF(ISBLANK(Vrijwilligersregister!C733)=TRUE,\"\",SUMIF('Nominatieve lijst'!$D$10:$D$3009,C733,'Nominatieve lijst'!$G$10:$G$3009))","v":""},{"$f":"IF(ISBLANK(Vrijwilligersregister!C733)=TRUE,\"\",SUMIF('Nominatieve lijst'!$D$10:$D$3009,C733,'Nominatieve lijst'!$H$10:$H$3009))","v":""},{"$f":"IF(ISBLANK(Vrijwilligersregister!C733)=TRUE,\"\",SUMIF('Nominatieve lijst'!$D$10:$D$3009,C733,'Nominatieve lijst'!$J$10:$J$3009))","v":""},{"$f":"IF(ISBLANK(Vrijwilligersregister!C733)=TRUE,\"\",D733+F733)","v":""},{"$f":"Vrijwilligersregister!L733","v":0}]
[null,726,{"$f":"IF(ISBLANK(Vrijwilligersregister!C734)=TRUE,\"\",Vrijwilligersregister!C734)","v":""},{"$f":"IF(ISBLANK(Vrijwilligersregister!C734)=TRUE,\"\",SUMIF('Nominatieve lijst'!$D$10:$D$3009,C734,'Nominatieve lijst'!$G$10:$G$3009))","v":""},{"$f":"IF(ISBLANK(Vrijwilligersregister!C734)=TRUE,\"\",SUMIF('Nominatieve lijst'!$D$10:$D$3009,C734,'Nominatieve lijst'!$H$10:$H$3009))","v":""},{"$f":"IF(ISBLANK(Vrijwilligersregister!C734)=TRUE,\"\",SUMIF('Nominatieve lijst'!$D$10:$D$3009,C734,'Nominatieve lijst'!$J$10:$J$3009))","v":""},{"$f":"IF(ISBLANK(Vrijwilligersregister!C734)=TRUE,\"\",D734+F734)","v":""},{"$f":"Vrijwilligersregister!L734","v":0}]
[null,727,{"$f":"IF(ISBLANK(Vrijwilligersregister!C735)=TRUE,\"\",Vrijwilligersregister!C735)","v":""},{"$f":"IF(ISBLANK(Vrijwilligersregister!C735)=TRUE,\"\",SUMIF('Nominatieve lijst'!$D$10:$D$3009,C735,'Nominatieve lijst'!$G$10:$G$3009))","v":""},{"$f":"IF(ISBLANK(Vrijwilligersregister!C735)=TRUE,\"\",SUMIF('Nominatieve lijst'!$D$10:$D$3009,C735,'Nominatieve lijst'!$H$10:$H$3009))","v":""},{"$f":"IF(ISBLANK(Vrijwilligersregister!C735)=TRUE,\"\",SUMIF('Nominatieve lijst'!$D$10:$D$3009,C735,'Nominatieve lijst'!$J$10:$J$3009))","v":""},{"$f":"IF(ISBLANK(Vrijwilligersregister!C735)=TRUE,\"\",D735+F735)","v":""},{"$f":"Vrijwilligersregister!L735","v":0}]
[null,728,{"$f":"IF(ISBLANK(Vrijwilligersregister!C736)=TRUE,\"\",Vrijwilligersregister!C736)","v":""},{"$f":"IF(ISBLANK(Vrijwilligersregister!C736)=TRUE,\"\",SUMIF('Nominatieve lijst'!$D$10:$D$3009,C736,'Nominatieve lijst'!$G$10:$G$3009))","v":""},{"$f":"IF(ISBLANK(Vrijwilligersregister!C736)=TRUE,\"\",SUMIF('Nominatieve lijst'!$D$10:$D$3009,C736,'Nominatieve lijst'!$H$10:$H$3009))","v":""},{"$f":"IF(ISBLANK(Vrijwilligersregister!C736)=TRUE,\"\",SUMIF('Nominatieve lijst'!$D$10:$D$3009,C736,'Nominatieve lijst'!$J$10:$J$3009))","v":""},{"$f":"IF(ISBLANK(Vrijwilligersregister!C736)=TRUE,\"\",D736+F736)","v":""},{"$f":"Vrijwilligersregister!L736","v":0}]
[null,729,{"$f":"IF(ISBLANK(Vrijwilligersregister!C737)=TRUE,\"\",Vrijwilligersregister!C737)","v":""},{"$f":"IF(ISBLANK(Vrijwilligersregister!C737)=TRUE,\"\",SUMIF('Nominatieve lijst'!$D$10:$D$3009,C737,'Nominatieve lijst'!$G$10:$G$3009))","v":""},{"$f":"IF(ISBLANK(Vrijwilligersregister!C737)=TRUE,\"\",SUMIF('Nominatieve lijst'!$D$10:$D$3009,C737,'Nominatieve lijst'!$H$10:$H$3009))","v":""},{"$f":"IF(ISBLANK(Vrijwilligersregister!C737)=TRUE,\"\",SUMIF('Nominatieve lijst'!$D$10:$D$3009,C737,'Nominatieve lijst'!$J$10:$J$3009))","v":""},{"$f":"IF(ISBLANK(Vrijwilligersregister!C737)=TRUE,\"\",D737+F737)","v":""},{"$f":"Vrijwilligersregister!L737","v":0}]
[null,730,{"$f":"IF(ISBLANK(Vrijwilligersregister!C738)=TRUE,\"\",Vrijwilligersregister!C738)","v":""},{"$f":"IF(ISBLANK(Vrijwilligersregister!C738)=TRUE,\"\",SUMIF('Nominatieve lijst'!$D$10:$D$3009,C738,'Nominatieve lijst'!$G$10:$G$3009))","v":""},{"$f":"IF(ISBLANK(Vrijwilligersregister!C738)=TRUE,\"\",SUMIF('Nominatieve lijst'!$D$10:$D$3009,C738,'Nominatieve lijst'!$H$10:$H$3009))","v":""},{"$f":"IF(ISBLANK(Vrijwilligersregister!C738)=TRUE,\"\",SUMIF('Nominatieve lijst'!$D$10:$D$3009,C738,'Nominatieve lijst'!$J$10:$J$3009))","v":""},{"$f":"IF(ISBLANK(Vrijwilligersregister!C738)=TRUE,\"\",D738+F738)","v":""},{"$f":"Vrijwilligersregister!L738","v":0}]
[null,731,{"$f":"IF(ISBLANK(Vrijwilligersregister!C739)=TRUE,\"\",Vrijwilligersregister!C739)","v":""},{"$f":"IF(ISBLANK(Vrijwilligersregister!C739)=TRUE,\"\",SUMIF('Nominatieve lijst'!$D$10:$D$3009,C739,'Nominatieve lijst'!$G$10:$G$3009))","v":""},{"$f":"IF(ISBLANK(Vrijwilligersregister!C739)=TRUE,\"\",SUMIF('Nominatieve lijst'!$D$10:$D$3009,C739,'Nominatieve lijst'!$H$10:$H$3009))","v":""},{"$f":"IF(ISBLANK(Vrijwilligersregister!C739)=TRUE,\"\",SUMIF('Nominatieve lijst'!$D$10:$D$3009,C739,'Nominatieve lijst'!$J$10:$J$3009))","v":""},{"$f":"IF(ISBLANK(Vrijwilligersregister!C739)=TRUE,\"\",D739+F739)","v":""},{"$f":"Vrijwilligersregister!L739","v":0}]
[null,732,{"$f":"IF(ISBLANK(Vrijwilligersregister!C740)=TRUE,\"\",Vrijwilligersregister!C740)","v":""},{"$f":"IF(ISBLANK(Vrijwilligersregister!C740)=TRUE,\"\",SUMIF('Nominatieve lijst'!$D$10:$D$3009,C740,'Nominatieve lijst'!$G$10:$G$3009))","v":""},{"$f":"IF(ISBLANK(Vrijwilligersregister!C740)=TRUE,\"\",SUMIF('Nominatieve lijst'!$D$10:$D$3009,C740,'Nominatieve lijst'!$H$10:$H$3009))","v":""},{"$f":"IF(ISBLANK(Vrijwilligersregister!C740)=TRUE,\"\",SUMIF('Nominatieve lijst'!$D$10:$D$3009,C740,'Nominatieve lijst'!$J$10:$J$3009))","v":""},{"$f":"IF(ISBLANK(Vrijwilligersregister!C740)=TRUE,\"\",D740+F740)","v":""},{"$f":"Vrijwilligersregister!L740","v":0}]
[null,733,{"$f":"IF(ISBLANK(Vrijwilligersregister!C741)=TRUE,\"\",Vrijwilligersregister!C741)","v":""},{"$f":"IF(ISBLANK(Vrijwilligersregister!C741)=TRUE,\"\",SUMIF('Nominatieve lijst'!$D$10:$D$3009,C741,'Nominatieve lijst'!$G$10:$G$3009))","v":""},{"$f":"IF(ISBLANK(Vrijwilligersregister!C741)=TRUE,\"\",SUMIF('Nominatieve lijst'!$D$10:$D$3009,C741,'Nominatieve lijst'!$H$10:$H$3009))","v":""},{"$f":"IF(ISBLANK(Vrijwilligersregister!C741)=TRUE,\"\",SUMIF('Nominatieve lijst'!$D$10:$D$3009,C741,'Nominatieve lijst'!$J$10:$J$3009))","v":""},{"$f":"IF(ISBLANK(Vrijwilligersregister!C741)=TRUE,\"\",D741+F741)","v":""},{"$f":"Vrijwilligersregister!L741","v":0}]
[null,734,{"$f":"IF(ISBLANK(Vrijwilligersregister!C742)=TRUE,\"\",Vrijwilligersregister!C742)","v":""},{"$f":"IF(ISBLANK(Vrijwilligersregister!C742)=TRUE,\"\",SUMIF('Nominatieve lijst'!$D$10:$D$3009,C742,'Nominatieve lijst'!$G$10:$G$3009))","v":""},{"$f":"IF(ISBLANK(Vrijwilligersregister!C742)=TRUE,\"\",SUMIF('Nominatieve lijst'!$D$10:$D$3009,C742,'Nominatieve lijst'!$H$10:$H$3009))","v":""},{"$f":"IF(ISBLANK(Vrijwilligersregister!C742)=TRUE,\"\",SUMIF('Nominatieve lijst'!$D$10:$D$3009,C742,'Nominatieve lijst'!$J$10:$J$3009))","v":""},{"$f":"IF(ISBLANK(Vrijwilligersregister!C742)=TRUE,\"\",D742+F742)","v":""},{"$f":"Vrijwilligersregister!L742","v":0}]
[null,735,{"$f":"IF(ISBLANK(Vrijwilligersregister!C743)=TRUE,\"\",Vrijwilligersregister!C743)","v":""},{"$f":"IF(ISBLANK(Vrijwilligersregister!C743)=TRUE,\"\",SUMIF('Nominatieve lijst'!$D$10:$D$3009,C743,'Nominatieve lijst'!$G$10:$G$3009))","v":""},{"$f":"IF(ISBLANK(Vrijwilligersregister!C743)=TRUE,\"\",SUMIF('Nominatieve lijst'!$D$10:$D$3009,C743,'Nominatieve lijst'!$H$10:$H$3009))","v":""},{"$f":"IF(ISBLANK(Vrijwilligersregister!C743)=TRUE,\"\",SUMIF('Nominatieve lijst'!$D$10:$D$3009,C743,'Nominatieve lijst'!$J$10:$J$3009))","v":""},{"$f":"IF(ISBLANK(Vrijwilligersregister!C743)=TRUE,\"\",D743+F743)","v":""},{"$f":"Vrijwilligersregister!L743","v":0}]
[null,736,{"$f":"IF(ISBLANK(Vrijwilligersregister!C744)=TRUE,\"\",Vrijwilligersregister!C744)","v":""},{"$f":"IF(ISBLANK(Vrijwilligersregister!C744)=TRUE,\"\",SUMIF('Nominatieve lijst'!$D$10:$D$3009,C744,'Nominatieve lijst'!$G$10:$G$3009))","v":""},{"$f":"IF(ISBLANK(Vrijwilligersregister!C744)=TRUE,\"\",SUMIF('Nominatieve lijst'!$D$10:$D$3009,C744,'Nominatieve lijst'!$H$10:$H$3009))","v":""},{"$f":"IF(ISBLANK(Vrijwilligersregister!C744)=TRUE,\"\",SUMIF('Nominatieve lijst'!$D$10:$D$3009,C744,'Nominatieve lijst'!$J$10:$J$3009))","v":""},{"$f":"IF(ISBLANK(Vrijwilligersregister!C744)=TRUE,\"\",D744+F744)","v":""},{"$f":"Vrijwilligersregister!L744","v":0}]
[null,737,{"$f":"IF(ISBLANK(Vrijwilligersregister!C745)=TRUE,\"\",Vrijwilligersregister!C745)","v":""},{"$f":"IF(ISBLANK(Vrijwilligersregister!C745)=TRUE,\"\",SUMIF('Nominatieve lijst'!$D$10:$D$3009,C745,'Nominatieve lijst'!$G$10:$G$3009))","v":""},{"$f":"IF(ISBLANK(Vrijwilligersregister!C745)=TRUE,\"\",SUMIF('Nominatieve lijst'!$D$10:$D$3009,C745,'Nominatieve lijst'!$H$10:$H$3009))","v":""},{"$f":"IF(ISBLANK(Vrijwilligersregister!C745)=TRUE,\"\",SUMIF('Nominatieve lijst'!$D$10:$D$3009,C745,'Nominatieve lijst'!$J$10:$J$3009))","v":""},{"$f":"IF(ISBLANK(Vrijwilligersregister!C745)=TRUE,\"\",D745+F745)","v":""},{"$f":"Vrijwilligersregister!L745","v":0}]
[null,738,{"$f":"IF(ISBLANK(Vrijwilligersregister!C746)=TRUE,\"\",Vrijwilligersregister!C746)","v":""},{"$f":"IF(ISBLANK(Vrijwilligersregister!C746)=TRUE,\"\",SUMIF('Nominatieve lijst'!$D$10:$D$3009,C746,'Nominatieve lijst'!$G$10:$G$3009))","v":""},{"$f":"IF(ISBLANK(Vrijwilligersregister!C746)=TRUE,\"\",SUMIF('Nominatieve lijst'!$D$10:$D$3009,C746,'Nominatieve lijst'!$H$10:$H$3009))","v":""},{"$f":"IF(ISBLANK(Vrijwilligersregister!C746)=TRUE,\"\",SUMIF('Nominatieve lijst'!$D$10:$D$3009,C746,'Nominatieve lijst'!$J$10:$J$3009))","v":""},{"$f":"IF(ISBLANK(Vrijwilligersregister!C746)=TRUE,\"\",D746+F746)","v":""},{"$f":"Vrijwilligersregister!L746","v":0}]
[null,739,{"$f":"IF(ISBLANK(Vrijwilligersregister!C747)=TRUE,\"\",Vrijwilligersregister!C747)","v":""},{"$f":"IF(ISBLANK(Vrijwilligersregister!C747)=TRUE,\"\",SUMIF('Nominatieve lijst'!$D$10:$D$3009,C747,'Nominatieve lijst'!$G$10:$G$3009))","v":""},{"$f":"IF(ISBLANK(Vrijwilligersregister!C747)=TRUE,\"\",SUMIF('Nominatieve lijst'!$D$10:$D$3009,C747,'Nominatieve lijst'!$H$10:$H$3009))","v":""},{"$f":"IF(ISBLANK(Vrijwilligersregister!C747)=TRUE,\"\",SUMIF('Nominatieve lijst'!$D$10:$D$3009,C747,'Nominatieve lijst'!$J$10:$J$3009))","v":""},{"$f":"IF(ISBLANK(Vrijwilligersregister!C747)=TRUE,\"\",D747+F747)","v":""},{"$f":"Vrijwilligersregister!L747","v":0}]
[null,740,{"$f":"IF(ISBLANK(Vrijwilligersregister!C748)=TRUE,\"\",Vrijwilligersregister!C748)","v":""},{"$f":"IF(ISBLANK(Vrijwilligersregister!C748)=TRUE,\"\",SUMIF('Nominatieve lijst'!$D$10:$D$3009,C748,'Nominatieve lijst'!$G$10:$G$3009))","v":""},{"$f":"IF(ISBLANK(Vrijwilligersregister!C748)=TRUE,\"\",SUMIF('Nominatieve lijst'!$D$10:$D$3009,C748,'Nominatieve lijst'!$H$10:$H$3009))","v":""},{"$f":"IF(ISBLANK(Vrijwilligersregister!C748)=TRUE,\"\",SUMIF('Nominatieve lijst'!$D$10:$D$3009,C748,'Nominatieve lijst'!$J$10:$J$3009))","v":""},{"$f":"IF(ISBLANK(Vrijwilligersregister!C748)=TRUE,\"\",D748+F748)","v":""},{"$f":"Vrijwilligersregister!L748","v":0}]
[null,741,{"$f":"IF(ISBLANK(Vrijwilligersregister!C749)=TRUE,\"\",Vrijwilligersregister!C749)","v":""},{"$f":"IF(ISBLANK(Vrijwilligersregister!C749)=TRUE,\"\",SUMIF('Nominatieve lijst'!$D$10:$D$3009,C749,'Nominatieve lijst'!$G$10:$G$3009))","v":""},{"$f":"IF(ISBLANK(Vrijwilligersregister!C749)=TRUE,\"\",SUMIF('Nominatieve lijst'!$D$10:$D$3009,C749,'Nominatieve lijst'!$H$10:$H$3009))","v":""},{"$f":"IF(ISBLANK(Vrijwilligersregister!C749)=TRUE,\"\",SUMIF('Nominatieve lijst'!$D$10:$D$3009,C749,'Nominatieve lijst'!$J$10:$J$3009))","v":""},{"$f":"IF(ISBLANK(Vrijwilligersregister!C749)=TRUE,\"\",D749+F749)","v":""},{"$f":"Vrijwilligersregister!L749","v":0}]
[null,742,{"$f":"IF(ISBLANK(Vrijwilligersregister!C750)=TRUE,\"\",Vrijwilligersregister!C750)","v":""},{"$f":"IF(ISBLANK(Vrijwilligersregister!C750)=TRUE,\"\",SUMIF('Nominatieve lijst'!$D$10:$D$3009,C750,'Nominatieve lijst'!$G$10:$G$3009))","v":""},{"$f":"IF(ISBLANK(Vrijwilligersregister!C750)=TRUE,\"\",SUMIF('Nominatieve lijst'!$D$10:$D$3009,C750,'Nominatieve lijst'!$H$10:$H$3009))","v":""},{"$f":"IF(ISBLANK(Vrijwilligersregister!C750)=TRUE,\"\",SUMIF('Nominatieve lijst'!$D$10:$D$3009,C750,'Nominatieve lijst'!$J$10:$J$3009))","v":""},{"$f":"IF(ISBLANK(Vrijwilligersregister!C750)=TRUE,\"\",D750+F750)","v":""},{"$f":"Vrijwilligersregister!L750","v":0}]
[null,743,{"$f":"IF(ISBLANK(Vrijwilligersregister!C751)=TRUE,\"\",Vrijwilligersregister!C751)","v":""},{"$f":"IF(ISBLANK(Vrijwilligersregister!C751)=TRUE,\"\",SUMIF('Nominatieve lijst'!$D$10:$D$3009,C751,'Nominatieve lijst'!$G$10:$G$3009))","v":""},{"$f":"IF(ISBLANK(Vrijwilligersregister!C751)=TRUE,\"\",SUMIF('Nominatieve lijst'!$D$10:$D$3009,C751,'Nominatieve lijst'!$H$10:$H$3009))","v":""},{"$f":"IF(ISBLANK(Vrijwilligersregister!C751)=TRUE,\"\",SUMIF('Nominatieve lijst'!$D$10:$D$3009,C751,'Nominatieve lijst'!$J$10:$J$3009))","v":""},{"$f":"IF(ISBLANK(Vrijwilligersregister!C751)=TRUE,\"\",D751+F751)","v":""},{"$f":"Vrijwilligersregister!L751","v":0}]
[null,744,{"$f":"IF(ISBLANK(Vrijwilligersregister!C752)=TRUE,\"\",Vrijwilligersregister!C752)","v":""},{"$f":"IF(ISBLANK(Vrijwilligersregister!C752)=TRUE,\"\",SUMIF('Nominatieve lijst'!$D$10:$D$3009,C752,'Nominatieve lijst'!$G$10:$G$3009))","v":""},{"$f":"IF(ISBLANK(Vrijwilligersregister!C752)=TRUE,\"\",SUMIF('Nominatieve lijst'!$D$10:$D$3009,C752,'Nominatieve lijst'!$H$10:$H$3009))","v":""},{"$f":"IF(ISBLANK(Vrijwilligersregister!C752)=TRUE,\"\",SUMIF('Nominatieve lijst'!$D$10:$D$3009,C752,'Nominatieve lijst'!$J$10:$J$3009))","v":""},{"$f":"IF(ISBLANK(Vrijwilligersregister!C752)=TRUE,\"\",D752+F752)","v":""},{"$f":"Vrijwilligersregister!L752","v":0}]
[null,745,{"$f":"IF(ISBLANK(Vrijwilligersregister!C753)=TRUE,\"\",Vrijwilligersregister!C753)","v":""},{"$f":"IF(ISBLANK(Vrijwilligersregister!C753)=TRUE,\"\",SUMIF('Nominatieve lijst'!$D$10:$D$3009,C753,'Nominatieve lijst'!$G$10:$G$3009))","v":""},{"$f":"IF(ISBLANK(Vrijwilligersregister!C753)=TRUE,\"\",SUMIF('Nominatieve lijst'!$D$10:$D$3009,C753,'Nominatieve lijst'!$H$10:$H$3009))","v":""},{"$f":"IF(ISBLANK(Vrijwilligersregister!C753)=TRUE,\"\",SUMIF('Nominatieve lijst'!$D$10:$D$3009,C753,'Nominatieve lijst'!$J$10:$J$3009))","v":""},{"$f":"IF(ISBLANK(Vrijwilligersregister!C753)=TRUE,\"\",D753+F753)","v":""},{"$f":"Vrijwilligersregister!L753","v":0}]
[null,746,{"$f":"IF(ISBLANK(Vrijwilligersregister!C754)=TRUE,\"\",Vrijwilligersregister!C754)","v":""},{"$f":"IF(ISBLANK(Vrijwilligersregister!C754)=TRUE,\"\",SUMIF('Nominatieve lijst'!$D$10:$D$3009,C754,'Nominatieve lijst'!$G$10:$G$3009))","v":""},{"$f":"IF(ISBLANK(Vrijwilligersregister!C754)=TRUE,\"\",SUMIF('Nominatieve lijst'!$D$10:$D$3009,C754,'Nominatieve lijst'!$H$10:$H$3009))","v":""},{"$f":"IF(ISBLANK(Vrijwilligersregister!C754)=TRUE,\"\",SUMIF('Nominatieve lijst'!$D$10:$D$3009,C754,'Nominatieve lijst'!$J$10:$J$3009))","v":""},{"$f":"IF(ISBLANK(Vrijwilligersregister!C754)=TRUE,\"\",D754+F754)","v":""},{"$f":"Vrijwilligersregister!L754","v":0}]
[null,747,{"$f":"IF(ISBLANK(Vrijwilligersregister!C755)=TRUE,\"\",Vrijwilligersregister!C755)","v":""},{"$f":"IF(ISBLANK(Vrijwilligersregister!C755)=TRUE,\"\",SUMIF('Nominatieve lijst'!$D$10:$D$3009,C755,'Nominatieve lijst'!$G$10:$G$3009))","v":""},{"$f":"IF(ISBLANK(Vrijwilligersregister!C755)=TRUE,\"\",SUMIF('Nominatieve lijst'!$D$10:$D$3009,C755,'Nominatieve lijst'!$H$10:$H$3009))","v":""},{"$f":"IF(ISBLANK(Vrijwilligersregister!C755)=TRUE,\"\",SUMIF('Nominatieve lijst'!$D$10:$D$3009,C755,'Nominatieve lijst'!$J$10:$J$3009))","v":""},{"$f":"IF(ISBLANK(Vrijwilligersregister!C755)=TRUE,\"\",D755+F755)","v":""},{"$f":"Vrijwilligersregister!L755","v":0}]
[null,748,{"$f":"IF(ISBLANK(Vrijwilligersregister!C756)=TRUE,\"\",Vrijwilligersregister!C756)","v":""},{"$f":"IF(ISBLANK(Vrijwilligersregister!C756)=TRUE,\"\",SUMIF('Nominatieve lijst'!$D$10:$D$3009,C756,'Nominatieve lijst'!$G$10:$G$3009))","v":""},{"$f":"IF(ISBLANK(Vrijwilligersregister!C756)=TRUE,\"\",SUMIF('Nominatieve lijst'!$D$10:$D$3009,C756,'Nominatieve lijst'!$H$10:$H$3009))","v":""},{"$f":"IF(ISBLANK(Vrijwilligersregister!C756)=TRUE,\"\",SUMIF('Nominatieve lijst'!$D$10:$D$3009,C756,'Nominatieve lijst'!$J$10:$J$3009))","v":""},{"$f":"IF(ISBLANK(Vrijwilligersregister!C756)=TRUE,\"\",D756+F756)","v":""},{"$f":"Vrijwilligersregister!L756","v":0}]
[null,749,{"$f":"IF(ISBLANK(Vrijwilligersregister!C757)=TRUE,\"\",Vrijwilligersregister!C757)","v":""},{"$f":"IF(ISBLANK(Vrijwilligersregister!C757)=TRUE,\"\",SUMIF('Nominatieve lijst'!$D$10:$D$3009,C757,'Nominatieve lijst'!$G$10:$G$3009))","v":""},{"$f":"IF(ISBLANK(Vrijwilligersregister!C757)=TRUE,\"\",SUMIF('Nominatieve lijst'!$D$10:$D$3009,C757,'Nominatieve lijst'!$H$10:$H$3009))","v":""},{"$f":"IF(ISBLANK(Vrijwilligersregister!C757)=TRUE,\"\",SUMIF('Nominatieve lijst'!$D$10:$D$3009,C757,'Nominatieve lijst'!$J$10:$J$3009))","v":""},{"$f":"IF(ISBLANK(Vrijwilligersregister!C757)=TRUE,\"\",D757+F757)","v":""},{"$f":"Vrijwilligersregister!L757","v":0}]
[null,750,{"$f":"IF(ISBLANK(Vrijwilligersregister!C758)=TRUE,\"\",Vrijwilligersregister!C758)","v":""},{"$f":"IF(ISBLANK(Vrijwilligersregister!C758)=TRUE,\"\",SUMIF('Nominatieve lijst'!$D$10:$D$3009,C758,'Nominatieve lijst'!$G$10:$G$3009))","v":""},{"$f":"IF(ISBLANK(Vrijwilligersregister!C758)=TRUE,\"\",SUMIF('Nominatieve lijst'!$D$10:$D$3009,C758,'Nominatieve lijst'!$H$10:$H$3009))","v":""},{"$f":"IF(ISBLANK(Vrijwilligersregister!C758)=TRUE,\"\",SUMIF('Nominatieve lijst'!$D$10:$D$3009,C758,'Nominatieve lijst'!$J$10:$J$3009))","v":""},{"$f":"IF(ISBLANK(Vrijwilligersregister!C758)=TRUE,\"\",D758+F758)","v":""},{"$f":"Vrijwilligersregister!L758","v":0}]
[null,751,{"$f":"IF(ISBLANK(Vrijwilligersregister!C759)=TRUE,\"\",Vrijwilligersregister!C759)","v":""},{"$f":"IF(ISBLANK(Vrijwilligersregister!C759)=TRUE,\"\",SUMIF('Nominatieve lijst'!$D$10:$D$3009,C759,'Nominatieve lijst'!$G$10:$G$3009))","v":""},{"$f":"IF(ISBLANK(Vrijwilligersregister!C759)=TRUE,\"\",SUMIF('Nominatieve lijst'!$D$10:$D$3009,C759,'Nominatieve lijst'!$H$10:$H$3009))","v":""},{"$f":"IF(ISBLANK(Vrijwilligersregister!C759)=TRUE,\"\",SUMIF('Nominatieve lijst'!$D$10:$D$3009,C759,'Nominatieve lijst'!$J$10:$J$3009))","v":""},{"$f":"IF(ISBLANK(Vrijwilligersregister!C759)=TRUE,\"\",D759+F759)","v":""},{"$f":"Vrijwilligersregister!L759","v":0}]
[null,752,{"$f":"IF(ISBLANK(Vrijwilligersregister!C760)=TRUE,\"\",Vrijwilligersregister!C760)","v":""},{"$f":"IF(ISBLANK(Vrijwilligersregister!C760)=TRUE,\"\",SUMIF('Nominatieve lijst'!$D$10:$D$3009,C760,'Nominatieve lijst'!$G$10:$G$3009))","v":""},{"$f":"IF(ISBLANK(Vrijwilligersregister!C760)=TRUE,\"\",SUMIF('Nominatieve lijst'!$D$10:$D$3009,C760,'Nominatieve lijst'!$H$10:$H$3009))","v":""},{"$f":"IF(ISBLANK(Vrijwilligersregister!C760)=TRUE,\"\",SUMIF('Nominatieve lijst'!$D$10:$D$3009,C760,'Nominatieve lijst'!$J$10:$J$3009))","v":""},{"$f":"IF(ISBLANK(Vrijwilligersregister!C760)=TRUE,\"\",D760+F760)","v":""},{"$f":"Vrijwilligersregister!L760","v":0}]
[null,753,{"$f":"IF(ISBLANK(Vrijwilligersregister!C761)=TRUE,\"\",Vrijwilligersregister!C761)","v":""},{"$f":"IF(ISBLANK(Vrijwilligersregister!C761)=TRUE,\"\",SUMIF('Nominatieve lijst'!$D$10:$D$3009,C761,'Nominatieve lijst'!$G$10:$G$3009))","v":""},{"$f":"IF(ISBLANK(Vrijwilligersregister!C761)=TRUE,\"\",SUMIF('Nominatieve lijst'!$D$10:$D$3009,C761,'Nominatieve lijst'!$H$10:$H$3009))","v":""},{"$f":"IF(ISBLANK(Vrijwilligersregister!C761)=TRUE,\"\",SUMIF('Nominatieve lijst'!$D$10:$D$3009,C761,'Nominatieve lijst'!$J$10:$J$3009))","v":""},{"$f":"IF(ISBLANK(Vrijwilligersregister!C761)=TRUE,\"\",D761+F761)","v":""},{"$f":"Vrijwilligersregister!L761","v":0}]
[null,754,{"$f":"IF(ISBLANK(Vrijwilligersregister!C762)=TRUE,\"\",Vrijwilligersregister!C762)","v":""},{"$f":"IF(ISBLANK(Vrijwilligersregister!C762)=TRUE,\"\",SUMIF('Nominatieve lijst'!$D$10:$D$3009,C762,'Nominatieve lijst'!$G$10:$G$3009))","v":""},{"$f":"IF(ISBLANK(Vrijwilligersregister!C762)=TRUE,\"\",SUMIF('Nominatieve lijst'!$D$10:$D$3009,C762,'Nominatieve lijst'!$H$10:$H$3009))","v":""},{"$f":"IF(ISBLANK(Vrijwilligersregister!C762)=TRUE,\"\",SUMIF('Nominatieve lijst'!$D$10:$D$3009,C762,'Nominatieve lijst'!$J$10:$J$3009))","v":""},{"$f":"IF(ISBLANK(Vrijwilligersregister!C762)=TRUE,\"\",D762+F762)","v":""},{"$f":"Vrijwilligersregister!L762","v":0}]
[null,755,{"$f":"IF(ISBLANK(Vrijwilligersregister!C763)=TRUE,\"\",Vrijwilligersregister!C763)","v":""},{"$f":"IF(ISBLANK(Vrijwilligersregister!C763)=TRUE,\"\",SUMIF('Nominatieve lijst'!$D$10:$D$3009,C763,'Nominatieve lijst'!$G$10:$G$3009))","v":""},{"$f":"IF(ISBLANK(Vrijwilligersregister!C763)=TRUE,\"\",SUMIF('Nominatieve lijst'!$D$10:$D$3009,C763,'Nominatieve lijst'!$H$10:$H$3009))","v":""},{"$f":"IF(ISBLANK(Vrijwilligersregister!C763)=TRUE,\"\",SUMIF('Nominatieve lijst'!$D$10:$D$3009,C763,'Nominatieve lijst'!$J$10:$J$3009))","v":""},{"$f":"IF(ISBLANK(Vrijwilligersregister!C763)=TRUE,\"\",D763+F763)","v":""},{"$f":"Vrijwilligersregister!L763","v":0}]
[null,756,{"$f":"IF(ISBLANK(Vrijwilligersregister!C764)=TRUE,\"\",Vrijwilligersregister!C764)","v":""},{"$f":"IF(ISBLANK(Vrijwilligersregister!C764)=TRUE,\"\",SUMIF('Nominatieve lijst'!$D$10:$D$3009,C764,'Nominatieve lijst'!$G$10:$G$3009))","v":""},{"$f":"IF(ISBLANK(Vrijwilligersregister!C764)=TRUE,\"\",SUMIF('Nominatieve lijst'!$D$10:$D$3009,C764,'Nominatieve lijst'!$H$10:$H$3009))","v":""},{"$f":"IF(ISBLANK(Vrijwilligersregister!C764)=TRUE,\"\",SUMIF('Nominatieve lijst'!$D$10:$D$3009,C764,'Nominatieve lijst'!$J$10:$J$3009))","v":""},{"$f":"IF(ISBLANK(Vrijwilligersregister!C764)=TRUE,\"\",D764+F764)","v":""},{"$f":"Vrijwilligersregister!L764","v":0}]
[null,757,{"$f":"IF(ISBLANK(Vrijwilligersregister!C765)=TRUE,\"\",Vrijwilligersregister!C765)","v":""},{"$f":"IF(ISBLANK(Vrijwilligersregister!C765)=TRUE,\"\",SUMIF('Nominatieve lijst'!$D$10:$D$3009,C765,'Nominatieve lijst'!$G$10:$G$3009))","v":""},{"$f":"IF(ISBLANK(Vrijwilligersregister!C765)=TRUE,\"\",SUMIF('Nominatieve lijst'!$D$10:$D$3009,C765,'Nominatieve lijst'!$H$10:$H$3009))","v":""},{"$f":"IF(ISBLANK(Vrijwilligersregister!C765)=TRUE,\"\",SUMIF('Nominatieve lijst'!$D$10:$D$3009,C765,'Nominatieve lijst'!$J$10:$J$3009))","v":""},{"$f":"IF(ISBLANK(Vrijwilligersregister!C765)=TRUE,\"\",D765+F765)","v":""},{"$f":"Vrijwilligersregister!L765","v":0}]
[null,758,{"$f":"IF(ISBLANK(Vrijwilligersregister!C766)=TRUE,\"\",Vrijwilligersregister!C766)","v":""},{"$f":"IF(ISBLANK(Vrijwilligersregister!C766)=TRUE,\"\",SUMIF('Nominatieve lijst'!$D$10:$D$3009,C766,'Nominatieve lijst'!$G$10:$G$3009))","v":""},{"$f":"IF(ISBLANK(Vrijwilligersregister!C766)=TRUE,\"\",SUMIF('Nominatieve lijst'!$D$10:$D$3009,C766,'Nominatieve lijst'!$H$10:$H$3009))","v":""},{"$f":"IF(ISBLANK(Vrijwilligersregister!C766)=TRUE,\"\",SUMIF('Nominatieve lijst'!$D$10:$D$3009,C766,'Nominatieve lijst'!$J$10:$J$3009))","v":""},{"$f":"IF(ISBLANK(Vrijwilligersregister!C766)=TRUE,\"\",D766+F766)","v":""},{"$f":"Vrijwilligersregister!L766","v":0}]
[null,759,{"$f":"IF(ISBLANK(Vrijwilligersregister!C767)=TRUE,\"\",Vrijwilligersregister!C767)","v":""},{"$f":"IF(ISBLANK(Vrijwilligersregister!C767)=TRUE,\"\",SUMIF('Nominatieve lijst'!$D$10:$D$3009,C767,'Nominatieve lijst'!$G$10:$G$3009))","v":""},{"$f":"IF(ISBLANK(Vrijwilligersregister!C767)=TRUE,\"\",SUMIF('Nominatieve lijst'!$D$10:$D$3009,C767,'Nominatieve lijst'!$H$10:$H$3009))","v":""},{"$f":"IF(ISBLANK(Vrijwilligersregister!C767)=TRUE,\"\",SUMIF('Nominatieve lijst'!$D$10:$D$3009,C767,'Nominatieve lijst'!$J$10:$J$3009))","v":""},{"$f":"IF(ISBLANK(Vrijwilligersregister!C767)=TRUE,\"\",D767+F767)","v":""},{"$f":"Vrijwilligersregister!L767","v":0}]
[null,760,{"$f":"IF(ISBLANK(Vrijwilligersregister!C768)=TRUE,\"\",Vrijwilligersregister!C768)","v":""},{"$f":"IF(ISBLANK(Vrijwilligersregister!C768)=TRUE,\"\",SUMIF('Nominatieve lijst'!$D$10:$D$3009,C768,'Nominatieve lijst'!$G$10:$G$3009))","v":""},{"$f":"IF(ISBLANK(Vrijwilligersregister!C768)=TRUE,\"\",SUMIF('Nominatieve lijst'!$D$10:$D$3009,C768,'Nominatieve lijst'!$H$10:$H$3009))","v":""},{"$f":"IF(ISBLANK(Vrijwilligersregister!C768)=TRUE,\"\",SUMIF('Nominatieve lijst'!$D$10:$D$3009,C768,'Nominatieve lijst'!$J$10:$J$3009))","v":""},{"$f":"IF(ISBLANK(Vrijwilligersregister!C768)=TRUE,\"\",D768+F768)","v":""},{"$f":"Vrijwilligersregister!L768","v":0}]
[null,761,{"$f":"IF(ISBLANK(Vrijwilligersregister!C769)=TRUE,\"\",Vrijwilligersregister!C769)","v":""},{"$f":"IF(ISBLANK(Vrijwilligersregister!C769)=TRUE,\"\",SUMIF('Nominatieve lijst'!$D$10:$D$3009,C769,'Nominatieve lijst'!$G$10:$G$3009))","v":""},{"$f":"IF(ISBLANK(Vrijwilligersregister!C769)=TRUE,\"\",SUMIF('Nominatieve lijst'!$D$10:$D$3009,C769,'Nominatieve lijst'!$H$10:$H$3009))","v":""},{"$f":"IF(ISBLANK(Vrijwilligersregister!C769)=TRUE,\"\",SUMIF('Nominatieve lijst'!$D$10:$D$3009,C769,'Nominatieve lijst'!$J$10:$J$3009))","v":""},{"$f":"IF(ISBLANK(Vrijwilligersregister!C769)=TRUE,\"\",D769+F769)","v":""},{"$f":"Vrijwilligersregister!L769","v":0}]
[null,762,{"$f":"IF(ISBLANK(Vrijwilligersregister!C770)=TRUE,\"\",Vrijwilligersregister!C770)","v":""},{"$f":"IF(ISBLANK(Vrijwilligersregister!C770)=TRUE,\"\",SUMIF('Nominatieve lijst'!$D$10:$D$3009,C770,'Nominatieve lijst'!$G$10:$G$3009))","v":""},{"$f":"IF(ISBLANK(Vrijwilligersregister!C770)=TRUE,\"\",SUMIF('Nominatieve lijst'!$D$10:$D$3009,C770,'Nominatieve lijst'!$H$10:$H$3009))","v":""},{"$f":"IF(ISBLANK(Vrijwilligersregister!C770)=TRUE,\"\",SUMIF('Nominatieve lijst'!$D$10:$D$3009,C770,'Nominatieve lijst'!$J$10:$J$3009))","v":""},{"$f":"IF(ISBLANK(Vrijwilligersregister!C770)=TRUE,\"\",D770+F770)","v":""},{"$f":"Vrijwilligersregister!L770","v":0}]
[null,763,{"$f":"IF(ISBLANK(Vrijwilligersregister!C771)=TRUE,\"\",Vrijwilligersregister!C771)","v":""},{"$f":"IF(ISBLANK(Vrijwilligersregister!C771)=TRUE,\"\",SUMIF('Nominatieve lijst'!$D$10:$D$3009,C771,'Nominatieve lijst'!$G$10:$G$3009))","v":""},{"$f":"IF(ISBLANK(Vrijwilligersregister!C771)=TRUE,\"\",SUMIF('Nominatieve lijst'!$D$10:$D$3009,C771,'Nominatieve lijst'!$H$10:$H$3009))","v":""},{"$f":"IF(ISBLANK(Vrijwilligersregister!C771)=TRUE,\"\",SUMIF('Nominatieve lijst'!$D$10:$D$3009,C771,'Nominatieve lijst'!$J$10:$J$3009))","v":""},{"$f":"IF(ISBLANK(Vrijwilligersregister!C771)=TRUE,\"\",D771+F771)","v":""},{"$f":"Vrijwilligersregister!L771","v":0}]
[null,764,{"$f":"IF(ISBLANK(Vrijwilligersregister!C772)=TRUE,\"\",Vrijwilligersregister!C772)","v":""},{"$f":"IF(ISBLANK(Vrijwilligersregister!C772)=TRUE,\"\",SUMIF('Nominatieve lijst'!$D$10:$D$3009,C772,'Nominatieve lijst'!$G$10:$G$3009))","v":""},{"$f":"IF(ISBLANK(Vrijwilligersregister!C772)=TRUE,\"\",SUMIF('Nominatieve lijst'!$D$10:$D$3009,C772,'Nominatieve lijst'!$H$10:$H$3009))","v":""},{"$f":"IF(ISBLANK(Vrijwilligersregister!C772)=TRUE,\"\",SUMIF('Nominatieve lijst'!$D$10:$D$3009,C772,'Nominatieve lijst'!$J$10:$J$3009))","v":""},{"$f":"IF(ISBLANK(Vrijwilligersregister!C772)=TRUE,\"\",D772+F772)","v":""},{"$f":"Vrijwilligersregister!L772","v":0}]
[null,765,{"$f":"IF(ISBLANK(Vrijwilligersregister!C773)=TRUE,\"\",Vrijwilligersregister!C773)","v":""},{"$f":"IF(ISBLANK(Vrijwilligersregister!C773)=TRUE,\"\",SUMIF('Nominatieve lijst'!$D$10:$D$3009,C773,'Nominatieve lijst'!$G$10:$G$3009))","v":""},{"$f":"IF(ISBLANK(Vrijwilligersregister!C773)=TRUE,\"\",SUMIF('Nominatieve lijst'!$D$10:$D$3009,C773,'Nominatieve lijst'!$H$10:$H$3009))","v":""},{"$f":"IF(ISBLANK(Vrijwilligersregister!C773)=TRUE,\"\",SUMIF('Nominatieve lijst'!$D$10:$D$3009,C773,'Nominatieve lijst'!$J$10:$J$3009))","v":""},{"$f":"IF(ISBLANK(Vrijwilligersregister!C773)=TRUE,\"\",D773+F773)","v":""},{"$f":"Vrijwilligersregister!L773","v":0}]
[null,766,{"$f":"IF(ISBLANK(Vrijwilligersregister!C774)=TRUE,\"\",Vrijwilligersregister!C774)","v":""},{"$f":"IF(ISBLANK(Vrijwilligersregister!C774)=TRUE,\"\",SUMIF('Nominatieve lijst'!$D$10:$D$3009,C774,'Nominatieve lijst'!$G$10:$G$3009))","v":""},{"$f":"IF(ISBLANK(Vrijwilligersregister!C774)=TRUE,\"\",SUMIF('Nominatieve lijst'!$D$10:$D$3009,C774,'Nominatieve lijst'!$H$10:$H$3009))","v":""},{"$f":"IF(ISBLANK(Vrijwilligersregister!C774)=TRUE,\"\",SUMIF('Nominatieve lijst'!$D$10:$D$3009,C774,'Nominatieve lijst'!$J$10:$J$3009))","v":""},{"$f":"IF(ISBLANK(Vrijwilligersregister!C774)=TRUE,\"\",D774+F774)","v":""},{"$f":"Vrijwilligersregister!L774","v":0}]
[null,767,{"$f":"IF(ISBLANK(Vrijwilligersregister!C775)=TRUE,\"\",Vrijwilligersregister!C775)","v":""},{"$f":"IF(ISBLANK(Vrijwilligersregister!C775)=TRUE,\"\",SUMIF('Nominatieve lijst'!$D$10:$D$3009,C775,'Nominatieve lijst'!$G$10:$G$3009))","v":""},{"$f":"IF(ISBLANK(Vrijwilligersregister!C775)=TRUE,\"\",SUMIF('Nominatieve lijst'!$D$10:$D$3009,C775,'Nominatieve lijst'!$H$10:$H$3009))","v":""},{"$f":"IF(ISBLANK(Vrijwilligersregister!C775)=TRUE,\"\",SUMIF('Nominatieve lijst'!$D$10:$D$3009,C775,'Nominatieve lijst'!$J$10:$J$3009))","v":""},{"$f":"IF(ISBLANK(Vrijwilligersregister!C775)=TRUE,\"\",D775+F775)","v":""},{"$f":"Vrijwilligersregister!L775","v":0}]
[null,768,{"$f":"IF(ISBLANK(Vrijwilligersregister!C776)=TRUE,\"\",Vrijwilligersregister!C776)","v":""},{"$f":"IF(ISBLANK(Vrijwilligersregister!C776)=TRUE,\"\",SUMIF('Nominatieve lijst'!$D$10:$D$3009,C776,'Nominatieve lijst'!$G$10:$G$3009))","v":""},{"$f":"IF(ISBLANK(Vrijwilligersregister!C776)=TRUE,\"\",SUMIF('Nominatieve lijst'!$D$10:$D$3009,C776,'Nominatieve lijst'!$H$10:$H$3009))","v":""},{"$f":"IF(ISBLANK(Vrijwilligersregister!C776)=TRUE,\"\",SUMIF('Nominatieve lijst'!$D$10:$D$3009,C776,'Nominatieve lijst'!$J$10:$J$3009))","v":""},{"$f":"IF(ISBLANK(Vrijwilligersregister!C776)=TRUE,\"\",D776+F776)","v":""},{"$f":"Vrijwilligersregister!L776","v":0}]
[null,769,{"$f":"IF(ISBLANK(Vrijwilligersregister!C777)=TRUE,\"\",Vrijwilligersregister!C777)","v":""},{"$f":"IF(ISBLANK(Vrijwilligersregister!C777)=TRUE,\"\",SUMIF('Nominatieve lijst'!$D$10:$D$3009,C777,'Nominatieve lijst'!$G$10:$G$3009))","v":""},{"$f":"IF(ISBLANK(Vrijwilligersregister!C777)=TRUE,\"\",SUMIF('Nominatieve lijst'!$D$10:$D$3009,C777,'Nominatieve lijst'!$H$10:$H$3009))","v":""},{"$f":"IF(ISBLANK(Vrijwilligersregister!C777)=TRUE,\"\",SUMIF('Nominatieve lijst'!$D$10:$D$3009,C777,'Nominatieve lijst'!$J$10:$J$3009))","v":""},{"$f":"IF(ISBLANK(Vrijwilligersregister!C777)=TRUE,\"\",D777+F777)","v":""},{"$f":"Vrijwilligersregister!L777","v":0}]
[null,770,{"$f":"IF(ISBLANK(Vrijwilligersregister!C778)=TRUE,\"\",Vrijwilligersregister!C778)","v":""},{"$f":"IF(ISBLANK(Vrijwilligersregister!C778)=TRUE,\"\",SUMIF('Nominatieve lijst'!$D$10:$D$3009,C778,'Nominatieve lijst'!$G$10:$G$3009))","v":""},{"$f":"IF(ISBLANK(Vrijwilligersregister!C778)=TRUE,\"\",SUMIF('Nominatieve lijst'!$D$10:$D$3009,C778,'Nominatieve lijst'!$H$10:$H$3009))","v":""},{"$f":"IF(ISBLANK(Vrijwilligersregister!C778)=TRUE,\"\",SUMIF('Nominatieve lijst'!$D$10:$D$3009,C778,'Nominatieve lijst'!$J$10:$J$3009))","v":""},{"$f":"IF(ISBLANK(Vrijwilligersregister!C778)=TRUE,\"\",D778+F778)","v":""},{"$f":"Vrijwilligersregister!L778","v":0}]
[null,771,{"$f":"IF(ISBLANK(Vrijwilligersregister!C779)=TRUE,\"\",Vrijwilligersregister!C779)","v":""},{"$f":"IF(ISBLANK(Vrijwilligersregister!C779)=TRUE,\"\",SUMIF('Nominatieve lijst'!$D$10:$D$3009,C779,'Nominatieve lijst'!$G$10:$G$3009))","v":""},{"$f":"IF(ISBLANK(Vrijwilligersregister!C779)=TRUE,\"\",SUMIF('Nominatieve lijst'!$D$10:$D$3009,C779,'Nominatieve lijst'!$H$10:$H$3009))","v":""},{"$f":"IF(ISBLANK(Vrijwilligersregister!C779)=TRUE,\"\",SUMIF('Nominatieve lijst'!$D$10:$D$3009,C779,'Nominatieve lijst'!$J$10:$J$3009))","v":""},{"$f":"IF(ISBLANK(Vrijwilligersregister!C779)=TRUE,\"\",D779+F779)","v":""},{"$f":"Vrijwilligersregister!L779","v":0}]
[null,772,{"$f":"IF(ISBLANK(Vrijwilligersregister!C780)=TRUE,\"\",Vrijwilligersregister!C780)","v":""},{"$f":"IF(ISBLANK(Vrijwilligersregister!C780)=TRUE,\"\",SUMIF('Nominatieve lijst'!$D$10:$D$3009,C780,'Nominatieve lijst'!$G$10:$G$3009))","v":""},{"$f":"IF(ISBLANK(Vrijwilligersregister!C780)=TRUE,\"\",SUMIF('Nominatieve lijst'!$D$10:$D$3009,C780,'Nominatieve lijst'!$H$10:$H$3009))","v":""},{"$f":"IF(ISBLANK(Vrijwilligersregister!C780)=TRUE,\"\",SUMIF('Nominatieve lijst'!$D$10:$D$3009,C780,'Nominatieve lijst'!$J$10:$J$3009))","v":""},{"$f":"IF(ISBLANK(Vrijwilligersregister!C780)=TRUE,\"\",D780+F780)","v":""},{"$f":"Vrijwilligersregister!L780","v":0}]
[null,773,{"$f":"IF(ISBLANK(Vrijwilligersregister!C781)=TRUE,\"\",Vrijwilligersregister!C781)","v":""},{"$f":"IF(ISBLANK(Vrijwilligersregister!C781)=TRUE,\"\",SUMIF('Nominatieve lijst'!$D$10:$D$3009,C781,'Nominatieve lijst'!$G$10:$G$3009))","v":""},{"$f":"IF(ISBLANK(Vrijwilligersregister!C781)=TRUE,\"\",SUMIF('Nominatieve lijst'!$D$10:$D$3009,C781,'Nominatieve lijst'!$H$10:$H$3009))","v":""},{"$f":"IF(ISBLANK(Vrijwilligersregister!C781)=TRUE,\"\",SUMIF('Nominatieve lijst'!$D$10:$D$3009,C781,'Nominatieve lijst'!$J$10:$J$3009))","v":""},{"$f":"IF(ISBLANK(Vrijwilligersregister!C781)=TRUE,\"\",D781+F781)","v":""},{"$f":"Vrijwilligersregister!L781","v":0}]
[null,774,{"$f":"IF(ISBLANK(Vrijwilligersregister!C782)=TRUE,\"\",Vrijwilligersregister!C782)","v":""},{"$f":"IF(ISBLANK(Vrijwilligersregister!C782)=TRUE,\"\",SUMIF('Nominatieve lijst'!$D$10:$D$3009,C782,'Nominatieve lijst'!$G$10:$G$3009))","v":""},{"$f":"IF(ISBLANK(Vrijwilligersregister!C782)=TRUE,\"\",SUMIF('Nominatieve lijst'!$D$10:$D$3009,C782,'Nominatieve lijst'!$H$10:$H$3009))","v":""},{"$f":"IF(ISBLANK(Vrijwilligersregister!C782)=TRUE,\"\",SUMIF('Nominatieve lijst'!$D$10:$D$3009,C782,'Nominatieve lijst'!$J$10:$J$3009))","v":""},{"$f":"IF(ISBLANK(Vrijwilligersregister!C782)=TRUE,\"\",D782+F782)","v":""},{"$f":"Vrijwilligersregister!L782","v":0}]
[null,775,{"$f":"IF(ISBLANK(Vrijwilligersregister!C783)=TRUE,\"\",Vrijwilligersregister!C783)","v":""},{"$f":"IF(ISBLANK(Vrijwilligersregister!C783)=TRUE,\"\",SUMIF('Nominatieve lijst'!$D$10:$D$3009,C783,'Nominatieve lijst'!$G$10:$G$3009))","v":""},{"$f":"IF(ISBLANK(Vrijwilligersregister!C783)=TRUE,\"\",SUMIF('Nominatieve lijst'!$D$10:$D$3009,C783,'Nominatieve lijst'!$H$10:$H$3009))","v":""},{"$f":"IF(ISBLANK(Vrijwilligersregister!C783)=TRUE,\"\",SUMIF('Nominatieve lijst'!$D$10:$D$3009,C783,'Nominatieve lijst'!$J$10:$J$3009))","v":""},{"$f":"IF(ISBLANK(Vrijwilligersregister!C783)=TRUE,\"\",D783+F783)","v":""},{"$f":"Vrijwilligersregister!L783","v":0}]
[null,776,{"$f":"IF(ISBLANK(Vrijwilligersregister!C784)=TRUE,\"\",Vrijwilligersregister!C784)","v":""},{"$f":"IF(ISBLANK(Vrijwilligersregister!C784)=TRUE,\"\",SUMIF('Nominatieve lijst'!$D$10:$D$3009,C784,'Nominatieve lijst'!$G$10:$G$3009))","v":""},{"$f":"IF(ISBLANK(Vrijwilligersregister!C784)=TRUE,\"\",SUMIF('Nominatieve lijst'!$D$10:$D$3009,C784,'Nominatieve lijst'!$H$10:$H$3009))","v":""},{"$f":"IF(ISBLANK(Vrijwilligersregister!C784)=TRUE,\"\",SUMIF('Nominatieve lijst'!$D$10:$D$3009,C784,'Nominatieve lijst'!$J$10:$J$3009))","v":""},{"$f":"IF(ISBLANK(Vrijwilligersregister!C784)=TRUE,\"\",D784+F784)","v":""},{"$f":"Vrijwilligersregister!L784","v":0}]
[null,777,{"$f":"IF(ISBLANK(Vrijwilligersregister!C785)=TRUE,\"\",Vrijwilligersregister!C785)","v":""},{"$f":"IF(ISBLANK(Vrijwilligersregister!C785)=TRUE,\"\",SUMIF('Nominatieve lijst'!$D$10:$D$3009,C785,'Nominatieve lijst'!$G$10:$G$3009))","v":""},{"$f":"IF(ISBLANK(Vrijwilligersregister!C785)=TRUE,\"\",SUMIF('Nominatieve lijst'!$D$10:$D$3009,C785,'Nominatieve lijst'!$H$10:$H$3009))","v":""},{"$f":"IF(ISBLANK(Vrijwilligersregister!C785)=TRUE,\"\",SUMIF('Nominatieve lijst'!$D$10:$D$3009,C785,'Nominatieve lijst'!$J$10:$J$3009))","v":""},{"$f":"IF(ISBLANK(Vrijwilligersregister!C785)=TRUE,\"\",D785+F785)","v":""},{"$f":"Vrijwilligersregister!L785","v":0}]
[null,778,{"$f":"IF(ISBLANK(Vrijwilligersregister!C786)=TRUE,\"\",Vrijwilligersregister!C786)","v":""},{"$f":"IF(ISBLANK(Vrijwilligersregister!C786)=TRUE,\"\",SUMIF('Nominatieve lijst'!$D$10:$D$3009,C786,'Nominatieve lijst'!$G$10:$G$3009))","v":""},{"$f":"IF(ISBLANK(Vrijwilligersregister!C786)=TRUE,\"\",SUMIF('Nominatieve lijst'!$D$10:$D$3009,C786,'Nominatieve lijst'!$H$10:$H$3009))","v":""},{"$f":"IF(ISBLANK(Vrijwilligersregister!C786)=TRUE,\"\",SUMIF('Nominatieve lijst'!$D$10:$D$3009,C786,'Nominatieve lijst'!$J$10:$J$3009))","v":""},{"$f":"IF(ISBLANK(Vrijwilligersregister!C786)=TRUE,\"\",D786+F786)","v":""},{"$f":"Vrijwilligersregister!L786","v":0}]
[null,779,{"$f":"IF(ISBLANK(Vrijwilligersregister!C787)=TRUE,\"\",Vrijwilligersregister!C787)","v":""},{"$f":"IF(ISBLANK(Vrijwilligersregister!C787)=TRUE,\"\",SUMIF('Nominatieve lijst'!$D$10:$D$3009,C787,'Nominatieve lijst'!$G$10:$G$3009))","v":""},{"$f":"IF(ISBLANK(Vrijwilligersregister!C787)=TRUE,\"\",SUMIF('Nominatieve lijst'!$D$10:$D$3009,C787,'Nominatieve lijst'!$H$10:$H$3009))","v":""},{"$f":"IF(ISBLANK(Vrijwilligersregister!C787)=TRUE,\"\",SUMIF('Nominatieve lijst'!$D$10:$D$3009,C787,'Nominatieve lijst'!$J$10:$J$3009))","v":""},{"$f":"IF(ISBLANK(Vrijwilligersregister!C787)=TRUE,\"\",D787+F787)","v":""},{"$f":"Vrijwilligersregister!L787","v":0}]
[null,780,{"$f":"IF(ISBLANK(Vrijwilligersregister!C788)=TRUE,\"\",Vrijwilligersregister!C788)","v":""},{"$f":"IF(ISBLANK(Vrijwilligersregister!C788)=TRUE,\"\",SUMIF('Nominatieve lijst'!$D$10:$D$3009,C788,'Nominatieve lijst'!$G$10:$G$3009))","v":""},{"$f":"IF(ISBLANK(Vrijwilligersregister!C788)=TRUE,\"\",SUMIF('Nominatieve lijst'!$D$10:$D$3009,C788,'Nominatieve lijst'!$H$10:$H$3009))","v":""},{"$f":"IF(ISBLANK(Vrijwilligersregister!C788)=TRUE,\"\",SUMIF('Nominatieve lijst'!$D$10:$D$3009,C788,'Nominatieve lijst'!$J$10:$J$3009))","v":""},{"$f":"IF(ISBLANK(Vrijwilligersregister!C788)=TRUE,\"\",D788+F788)","v":""},{"$f":"Vrijwilligersregister!L788","v":0}]
[null,781,{"$f":"IF(ISBLANK(Vrijwilligersregister!C789)=TRUE,\"\",Vrijwilligersregister!C789)","v":""},{"$f":"IF(ISBLANK(Vrijwilligersregister!C789)=TRUE,\"\",SUMIF('Nominatieve lijst'!$D$10:$D$3009,C789,'Nominatieve lijst'!$G$10:$G$3009))","v":""},{"$f":"IF(ISBLANK(Vrijwilligersregister!C789)=TRUE,\"\",SUMIF('Nominatieve lijst'!$D$10:$D$3009,C789,'Nominatieve lijst'!$H$10:$H$3009))","v":""},{"$f":"IF(ISBLANK(Vrijwilligersregister!C789)=TRUE,\"\",SUMIF('Nominatieve lijst'!$D$10:$D$3009,C789,'Nominatieve lijst'!$J$10:$J$3009))","v":""},{"$f":"IF(ISBLANK(Vrijwilligersregister!C789)=TRUE,\"\",D789+F789)","v":""},{"$f":"Vrijwilligersregister!L789","v":0}]
[null,782,{"$f":"IF(ISBLANK(Vrijwilligersregister!C790)=TRUE,\"\",Vrijwilligersregister!C790)","v":""},{"$f":"IF(ISBLANK(Vrijwilligersregister!C790)=TRUE,\"\",SUMIF('Nominatieve lijst'!$D$10:$D$3009,C790,'Nominatieve lijst'!$G$10:$G$3009))","v":""},{"$f":"IF(ISBLANK(Vrijwilligersregister!C790)=TRUE,\"\",SUMIF('Nominatieve lijst'!$D$10:$D$3009,C790,'Nominatieve lijst'!$H$10:$H$3009))","v":""},{"$f":"IF(ISBLANK(Vrijwilligersregister!C790)=TRUE,\"\",SUMIF('Nominatieve lijst'!$D$10:$D$3009,C790,'Nominatieve lijst'!$J$10:$J$3009))","v":""},{"$f":"IF(ISBLANK(Vrijwilligersregister!C790)=TRUE,\"\",D790+F790)","v":""},{"$f":"Vrijwilligersregister!L790","v":0}]
[null,783,{"$f":"IF(ISBLANK(Vrijwilligersregister!C791)=TRUE,\"\",Vrijwilligersregister!C791)","v":""},{"$f":"IF(ISBLANK(Vrijwilligersregister!C791)=TRUE,\"\",SUMIF('Nominatieve lijst'!$D$10:$D$3009,C791,'Nominatieve lijst'!$G$10:$G$3009))","v":""},{"$f":"IF(ISBLANK(Vrijwilligersregister!C791)=TRUE,\"\",SUMIF('Nominatieve lijst'!$D$10:$D$3009,C791,'Nominatieve lijst'!$H$10:$H$3009))","v":""},{"$f":"IF(ISBLANK(Vrijwilligersregister!C791)=TRUE,\"\",SUMIF('Nominatieve lijst'!$D$10:$D$3009,C791,'Nominatieve lijst'!$J$10:$J$3009))","v":""},{"$f":"IF(ISBLANK(Vrijwilligersregister!C791)=TRUE,\"\",D791+F791)","v":""},{"$f":"Vrijwilligersregister!L791","v":0}]
[null,784,{"$f":"IF(ISBLANK(Vrijwilligersregister!C792)=TRUE,\"\",Vrijwilligersregister!C792)","v":""},{"$f":"IF(ISBLANK(Vrijwilligersregister!C792)=TRUE,\"\",SUMIF('Nominatieve lijst'!$D$10:$D$3009,C792,'Nominatieve lijst'!$G$10:$G$3009))","v":""},{"$f":"IF(ISBLANK(Vrijwilligersregister!C792)=TRUE,\"\",SUMIF('Nominatieve lijst'!$D$10:$D$3009,C792,'Nominatieve lijst'!$H$10:$H$3009))","v":""},{"$f":"IF(ISBLANK(Vrijwilligersregister!C792)=TRUE,\"\",SUMIF('Nominatieve lijst'!$D$10:$D$3009,C792,'Nominatieve lijst'!$J$10:$J$3009))","v":""},{"$f":"IF(ISBLANK(Vrijwilligersregister!C792)=TRUE,\"\",D792+F792)","v":""},{"$f":"Vrijwilligersregister!L792","v":0}]
[null,785,{"$f":"IF(ISBLANK(Vrijwilligersregister!C793)=TRUE,\"\",Vrijwilligersregister!C793)","v":""},{"$f":"IF(ISBLANK(Vrijwilligersregister!C793)=TRUE,\"\",SUMIF('Nominatieve lijst'!$D$10:$D$3009,C793,'Nominatieve lijst'!$G$10:$G$3009))","v":""},{"$f":"IF(ISBLANK(Vrijwilligersregister!C793)=TRUE,\"\",SUMIF('Nominatieve lijst'!$D$10:$D$3009,C793,'Nominatieve lijst'!$H$10:$H$3009))","v":""},{"$f":"IF(ISBLANK(Vrijwilligersregister!C793)=TRUE,\"\",SUMIF('Nominatieve lijst'!$D$10:$D$3009,C793,'Nominatieve lijst'!$J$10:$J$3009))","v":""},{"$f":"IF(ISBLANK(Vrijwilligersregister!C793)=TRUE,\"\",D793+F793)","v":""},{"$f":"Vrijwilligersregister!L793","v":0}]
[null,786,{"$f":"IF(ISBLANK(Vrijwilligersregister!C794)=TRUE,\"\",Vrijwilligersregister!C794)","v":""},{"$f":"IF(ISBLANK(Vrijwilligersregister!C794)=TRUE,\"\",SUMIF('Nominatieve lijst'!$D$10:$D$3009,C794,'Nominatieve lijst'!$G$10:$G$3009))","v":""},{"$f":"IF(ISBLANK(Vrijwilligersregister!C794)=TRUE,\"\",SUMIF('Nominatieve lijst'!$D$10:$D$3009,C794,'Nominatieve lijst'!$H$10:$H$3009))","v":""},{"$f":"IF(ISBLANK(Vrijwilligersregister!C794)=TRUE,\"\",SUMIF('Nominatieve lijst'!$D$10:$D$3009,C794,'Nominatieve lijst'!$J$10:$J$3009))","v":""},{"$f":"IF(ISBLANK(Vrijwilligersregister!C794)=TRUE,\"\",D794+F794)","v":""},{"$f":"Vrijwilligersregister!L794","v":0}]
[null,787,{"$f":"IF(ISBLANK(Vrijwilligersregister!C795)=TRUE,\"\",Vrijwilligersregister!C795)","v":""},{"$f":"IF(ISBLANK(Vrijwilligersregister!C795)=TRUE,\"\",SUMIF('Nominatieve lijst'!$D$10:$D$3009,C795,'Nominatieve lijst'!$G$10:$G$3009))","v":""},{"$f":"IF(ISBLANK(Vrijwilligersregister!C795)=TRUE,\"\",SUMIF('Nominatieve lijst'!$D$10:$D$3009,C795,'Nominatieve lijst'!$H$10:$H$3009))","v":""},{"$f":"IF(ISBLANK(Vrijwilligersregister!C795)=TRUE,\"\",SUMIF('Nominatieve lijst'!$D$10:$D$3009,C795,'Nominatieve lijst'!$J$10:$J$3009))","v":""},{"$f":"IF(ISBLANK(Vrijwilligersregister!C795)=TRUE,\"\",D795+F795)","v":""},{"$f":"Vrijwilligersregister!L795","v":0}]
[null,788,{"$f":"IF(ISBLANK(Vrijwilligersregister!C796)=TRUE,\"\",Vrijwilligersregister!C796)","v":""},{"$f":"IF(ISBLANK(Vrijwilligersregister!C796)=TRUE,\"\",SUMIF('Nominatieve lijst'!$D$10:$D$3009,C796,'Nominatieve lijst'!$G$10:$G$3009))","v":""},{"$f":"IF(ISBLANK(Vrijwilligersregister!C796)=TRUE,\"\",SUMIF('Nominatieve lijst'!$D$10:$D$3009,C796,'Nominatieve lijst'!$H$10:$H$3009))","v":""},{"$f":"IF(ISBLANK(Vrijwilligersregister!C796)=TRUE,\"\",SUMIF('Nominatieve lijst'!$D$10:$D$3009,C796,'Nominatieve lijst'!$J$10:$J$3009))","v":""},{"$f":"IF(ISBLANK(Vrijwilligersregister!C796)=TRUE,\"\",D796+F796)","v":""},{"$f":"Vrijwilligersregister!L796","v":0}]
[null,789,{"$f":"IF(ISBLANK(Vrijwilligersregister!C797)=TRUE,\"\",Vrijwilligersregister!C797)","v":""},{"$f":"IF(ISBLANK(Vrijwilligersregister!C797)=TRUE,\"\",SUMIF('Nominatieve lijst'!$D$10:$D$3009,C797,'Nominatieve lijst'!$G$10:$G$3009))","v":""},{"$f":"IF(ISBLANK(Vrijwilligersregister!C797)=TRUE,\"\",SUMIF('Nominatieve lijst'!$D$10:$D$3009,C797,'Nominatieve lijst'!$H$10:$H$3009))","v":""},{"$f":"IF(ISBLANK(Vrijwilligersregister!C797)=TRUE,\"\",SUMIF('Nominatieve lijst'!$D$10:$D$3009,C797,'Nominatieve lijst'!$J$10:$J$3009))","v":""},{"$f":"IF(ISBLANK(Vrijwilligersregister!C797)=TRUE,\"\",D797+F797)","v":""},{"$f":"Vrijwilligersregister!L797","v":0}]
[null,790,{"$f":"IF(ISBLANK(Vrijwilligersregister!C798)=TRUE,\"\",Vrijwilligersregister!C798)","v":""},{"$f":"IF(ISBLANK(Vrijwilligersregister!C798)=TRUE,\"\",SUMIF('Nominatieve lijst'!$D$10:$D$3009,C798,'Nominatieve lijst'!$G$10:$G$3009))","v":""},{"$f":"IF(ISBLANK(Vrijwilligersregister!C798)=TRUE,\"\",SUMIF('Nominatieve lijst'!$D$10:$D$3009,C798,'Nominatieve lijst'!$H$10:$H$3009))","v":""},{"$f":"IF(ISBLANK(Vrijwilligersregister!C798)=TRUE,\"\",SUMIF('Nominatieve lijst'!$D$10:$D$3009,C798,'Nominatieve lijst'!$J$10:$J$3009))","v":""},{"$f":"IF(ISBLANK(Vrijwilligersregister!C798)=TRUE,\"\",D798+F798)","v":""},{"$f":"Vrijwilligersregister!L798","v":0}]
[null,791,{"$f":"IF(ISBLANK(Vrijwilligersregister!C799)=TRUE,\"\",Vrijwilligersregister!C799)","v":""},{"$f":"IF(ISBLANK(Vrijwilligersregister!C799)=TRUE,\"\",SUMIF('Nominatieve lijst'!$D$10:$D$3009,C799,'Nominatieve lijst'!$G$10:$G$3009))","v":""},{"$f":"IF(ISBLANK(Vrijwilligersregister!C799)=TRUE,\"\",SUMIF('Nominatieve lijst'!$D$10:$D$3009,C799,'Nominatieve lijst'!$H$10:$H$3009))","v":""},{"$f":"IF(ISBLANK(Vrijwilligersregister!C799)=TRUE,\"\",SUMIF('Nominatieve lijst'!$D$10:$D$3009,C799,'Nominatieve lijst'!$J$10:$J$3009))","v":""},{"$f":"IF(ISBLANK(Vrijwilligersregister!C799)=TRUE,\"\",D799+F799)","v":""},{"$f":"Vrijwilligersregister!L799","v":0}]
[null,792,{"$f":"IF(ISBLANK(Vrijwilligersregister!C800)=TRUE,\"\",Vrijwilligersregister!C800)","v":""},{"$f":"IF(ISBLANK(Vrijwilligersregister!C800)=TRUE,\"\",SUMIF('Nominatieve lijst'!$D$10:$D$3009,C800,'Nominatieve lijst'!$G$10:$G$3009))","v":""},{"$f":"IF(ISBLANK(Vrijwilligersregister!C800)=TRUE,\"\",SUMIF('Nominatieve lijst'!$D$10:$D$3009,C800,'Nominatieve lijst'!$H$10:$H$3009))","v":""},{"$f":"IF(ISBLANK(Vrijwilligersregister!C800)=TRUE,\"\",SUMIF('Nominatieve lijst'!$D$10:$D$3009,C800,'Nominatieve lijst'!$J$10:$J$3009))","v":""},{"$f":"IF(ISBLANK(Vrijwilligersregister!C800)=TRUE,\"\",D800+F800)","v":""},{"$f":"Vrijwilligersregister!L800","v":0}]
[null,793,{"$f":"IF(ISBLANK(Vrijwilligersregister!C801)=TRUE,\"\",Vrijwilligersregister!C801)","v":""},{"$f":"IF(ISBLANK(Vrijwilligersregister!C801)=TRUE,\"\",SUMIF('Nominatieve lijst'!$D$10:$D$3009,C801,'Nominatieve lijst'!$G$10:$G$3009))","v":""},{"$f":"IF(ISBLANK(Vrijwilligersregister!C801)=TRUE,\"\",SUMIF('Nominatieve lijst'!$D$10:$D$3009,C801,'Nominatieve lijst'!$H$10:$H$3009))","v":""},{"$f":"IF(ISBLANK(Vrijwilligersregister!C801)=TRUE,\"\",SUMIF('Nominatieve lijst'!$D$10:$D$3009,C801,'Nominatieve lijst'!$J$10:$J$3009))","v":""},{"$f":"IF(ISBLANK(Vrijwilligersregister!C801)=TRUE,\"\",D801+F801)","v":""},{"$f":"Vrijwilligersregister!L801","v":0}]
[null,794,{"$f":"IF(ISBLANK(Vrijwilligersregister!C802)=TRUE,\"\",Vrijwilligersregister!C802)","v":""},{"$f":"IF(ISBLANK(Vrijwilligersregister!C802)=TRUE,\"\",SUMIF('Nominatieve lijst'!$D$10:$D$3009,C802,'Nominatieve lijst'!$G$10:$G$3009))","v":""},{"$f":"IF(ISBLANK(Vrijwilligersregister!C802)=TRUE,\"\",SUMIF('Nominatieve lijst'!$D$10:$D$3009,C802,'Nominatieve lijst'!$H$10:$H$3009))","v":""},{"$f":"IF(ISBLANK(Vrijwilligersregister!C802)=TRUE,\"\",SUMIF('Nominatieve lijst'!$D$10:$D$3009,C802,'Nominatieve lijst'!$J$10:$J$3009))","v":""},{"$f":"IF(ISBLANK(Vrijwilligersregister!C802)=TRUE,\"\",D802+F802)","v":""},{"$f":"Vrijwilligersregister!L802","v":0}]
[null,795,{"$f":"IF(ISBLANK(Vrijwilligersregister!C803)=TRUE,\"\",Vrijwilligersregister!C803)","v":""},{"$f":"IF(ISBLANK(Vrijwilligersregister!C803)=TRUE,\"\",SUMIF('Nominatieve lijst'!$D$10:$D$3009,C803,'Nominatieve lijst'!$G$10:$G$3009))","v":""},{"$f":"IF(ISBLANK(Vrijwilligersregister!C803)=TRUE,\"\",SUMIF('Nominatieve lijst'!$D$10:$D$3009,C803,'Nominatieve lijst'!$H$10:$H$3009))","v":""},{"$f":"IF(ISBLANK(Vrijwilligersregister!C803)=TRUE,\"\",SUMIF('Nominatieve lijst'!$D$10:$D$3009,C803,'Nominatieve lijst'!$J$10:$J$3009))","v":""},{"$f":"IF(ISBLANK(Vrijwilligersregister!C803)=TRUE,\"\",D803+F803)","v":""},{"$f":"Vrijwilligersregister!L803","v":0}]
[null,796,{"$f":"IF(ISBLANK(Vrijwilligersregister!C804)=TRUE,\"\",Vrijwilligersregister!C804)","v":""},{"$f":"IF(ISBLANK(Vrijwilligersregister!C804)=TRUE,\"\",SUMIF('Nominatieve lijst'!$D$10:$D$3009,C804,'Nominatieve lijst'!$G$10:$G$3009))","v":""},{"$f":"IF(ISBLANK(Vrijwilligersregister!C804)=TRUE,\"\",SUMIF('Nominatieve lijst'!$D$10:$D$3009,C804,'Nominatieve lijst'!$H$10:$H$3009))","v":""},{"$f":"IF(ISBLANK(Vrijwilligersregister!C804)=TRUE,\"\",SUMIF('Nominatieve lijst'!$D$10:$D$3009,C804,'Nominatieve lijst'!$J$10:$J$3009))","v":""},{"$f":"IF(ISBLANK(Vrijwilligersregister!C804)=TRUE,\"\",D804+F804)","v":""},{"$f":"Vrijwilligersregister!L804","v":0}]
[null,797,{"$f":"IF(ISBLANK(Vrijwilligersregister!C805)=TRUE,\"\",Vrijwilligersregister!C805)","v":""},{"$f":"IF(ISBLANK(Vrijwilligersregister!C805)=TRUE,\"\",SUMIF('Nominatieve lijst'!$D$10:$D$3009,C805,'Nominatieve lijst'!$G$10:$G$3009))","v":""},{"$f":"IF(ISBLANK(Vrijwilligersregister!C805)=TRUE,\"\",SUMIF('Nominatieve lijst'!$D$10:$D$3009,C805,'Nominatieve lijst'!$H$10:$H$3009))","v":""},{"$f":"IF(ISBLANK(Vrijwilligersregister!C805)=TRUE,\"\",SUMIF('Nominatieve lijst'!$D$10:$D$3009,C805,'Nominatieve lijst'!$J$10:$J$3009))","v":""},{"$f":"IF(ISBLANK(Vrijwilligersregister!C805)=TRUE,\"\",D805+F805)","v":""},{"$f":"Vrijwilligersregister!L805","v":0}]
[null,798,{"$f":"IF(ISBLANK(Vrijwilligersregister!C806)=TRUE,\"\",Vrijwilligersregister!C806)","v":""},{"$f":"IF(ISBLANK(Vrijwilligersregister!C806)=TRUE,\"\",SUMIF('Nominatieve lijst'!$D$10:$D$3009,C806,'Nominatieve lijst'!$G$10:$G$3009))","v":""},{"$f":"IF(ISBLANK(Vrijwilligersregister!C806)=TRUE,\"\",SUMIF('Nominatieve lijst'!$D$10:$D$3009,C806,'Nominatieve lijst'!$H$10:$H$3009))","v":""},{"$f":"IF(ISBLANK(Vrijwilligersregister!C806)=TRUE,\"\",SUMIF('Nominatieve lijst'!$D$10:$D$3009,C806,'Nominatieve lijst'!$J$10:$J$3009))","v":""},{"$f":"IF(ISBLANK(Vrijwilligersregister!C806)=TRUE,\"\",D806+F806)","v":""},{"$f":"Vrijwilligersregister!L806","v":0}]
[null,799,{"$f":"IF(ISBLANK(Vrijwilligersregister!C807)=TRUE,\"\",Vrijwilligersregister!C807)","v":""},{"$f":"IF(ISBLANK(Vrijwilligersregister!C807)=TRUE,\"\",SUMIF('Nominatieve lijst'!$D$10:$D$3009,C807,'Nominatieve lijst'!$G$10:$G$3009))","v":""},{"$f":"IF(ISBLANK(Vrijwilligersregister!C807)=TRUE,\"\",SUMIF('Nominatieve lijst'!$D$10:$D$3009,C807,'Nominatieve lijst'!$H$10:$H$3009))","v":""},{"$f":"IF(ISBLANK(Vrijwilligersregister!C807)=TRUE,\"\",SUMIF('Nominatieve lijst'!$D$10:$D$3009,C807,'Nominatieve lijst'!$J$10:$J$3009))","v":""},{"$f":"IF(ISBLANK(Vrijwilligersregister!C807)=TRUE,\"\",D807+F807)","v":""},{"$f":"Vrijwilligersregister!L807","v":0}]
[null,800,{"$f":"IF(ISBLANK(Vrijwilligersregister!C808)=TRUE,\"\",Vrijwilligersregister!C808)","v":""},{"$f":"IF(ISBLANK(Vrijwilligersregister!C808)=TRUE,\"\",SUMIF('Nominatieve lijst'!$D$10:$D$3009,C808,'Nominatieve lijst'!$G$10:$G$3009))","v":""},{"$f":"IF(ISBLANK(Vrijwilligersregister!C808)=TRUE,\"\",SUMIF('Nominatieve lijst'!$D$10:$D$3009,C808,'Nominatieve lijst'!$H$10:$H$3009))","v":""},{"$f":"IF(ISBLANK(Vrijwilligersregister!C808)=TRUE,\"\",SUMIF('Nominatieve lijst'!$D$10:$D$3009,C808,'Nominatieve lijst'!$J$10:$J$3009))","v":""},{"$f":"IF(ISBLANK(Vrijwilligersregister!C808)=TRUE,\"\",D808+F808)","v":""},{"$f":"Vrijwilligersregister!L808","v":0}]
[null,801,{"$f":"IF(ISBLANK(Vrijwilligersregister!C809)=TRUE,\"\",Vrijwilligersregister!C809)","v":""},{"$f":"IF(ISBLANK(Vrijwilligersregister!C809)=TRUE,\"\",SUMIF('Nominatieve lijst'!$D$10:$D$3009,C809,'Nominatieve lijst'!$G$10:$G$3009))","v":""},{"$f":"IF(ISBLANK(Vrijwilligersregister!C809)=TRUE,\"\",SUMIF('Nominatieve lijst'!$D$10:$D$3009,C809,'Nominatieve lijst'!$H$10:$H$3009))","v":""},{"$f":"IF(ISBLANK(Vrijwilligersregister!C809)=TRUE,\"\",SUMIF('Nominatieve lijst'!$D$10:$D$3009,C809,'Nominatieve lijst'!$J$10:$J$3009))","v":""},{"$f":"IF(ISBLANK(Vrijwilligersregister!C809)=TRUE,\"\",D809+F809)","v":""},{"$f":"Vrijwilligersregister!L809","v":0}]
[null,802,{"$f":"IF(ISBLANK(Vrijwilligersregister!C810)=TRUE,\"\",Vrijwilligersregister!C810)","v":""},{"$f":"IF(ISBLANK(Vrijwilligersregister!C810)=TRUE,\"\",SUMIF('Nominatieve lijst'!$D$10:$D$3009,C810,'Nominatieve lijst'!$G$10:$G$3009))","v":""},{"$f":"IF(ISBLANK(Vrijwilligersregister!C810)=TRUE,\"\",SUMIF('Nominatieve lijst'!$D$10:$D$3009,C810,'Nominatieve lijst'!$H$10:$H$3009))","v":""},{"$f":"IF(ISBLANK(Vrijwilligersregister!C810)=TRUE,\"\",SUMIF('Nominatieve lijst'!$D$10:$D$3009,C810,'Nominatieve lijst'!$J$10:$J$3009))","v":""},{"$f":"IF(ISBLANK(Vrijwilligersregister!C810)=TRUE,\"\",D810+F810)","v":""},{"$f":"Vrijwilligersregister!L810","v":0}]
[null,803,{"$f":"IF(ISBLANK(Vrijwilligersregister!C811)=TRUE,\"\",Vrijwilligersregister!C811)","v":""},{"$f":"IF(ISBLANK(Vrijwilligersregister!C811)=TRUE,\"\",SUMIF('Nominatieve lijst'!$D$10:$D$3009,C811,'Nominatieve lijst'!$G$10:$G$3009))","v":""},{"$f":"IF(ISBLANK(Vrijwilligersregister!C811)=TRUE,\"\",SUMIF('Nominatieve lijst'!$D$10:$D$3009,C811,'Nominatieve lijst'!$H$10:$H$3009))","v":""},{"$f":"IF(ISBLANK(Vrijwilligersregister!C811)=TRUE,\"\",SUMIF('Nominatieve lijst'!$D$10:$D$3009,C811,'Nominatieve lijst'!$J$10:$J$3009))","v":""},{"$f":"IF(ISBLANK(Vrijwilligersregister!C811)=TRUE,\"\",D811+F811)","v":""},{"$f":"Vrijwilligersregister!L811","v":0}]
[null,804,{"$f":"IF(ISBLANK(Vrijwilligersregister!C812)=TRUE,\"\",Vrijwilligersregister!C812)","v":""},{"$f":"IF(ISBLANK(Vrijwilligersregister!C812)=TRUE,\"\",SUMIF('Nominatieve lijst'!$D$10:$D$3009,C812,'Nominatieve lijst'!$G$10:$G$3009))","v":""},{"$f":"IF(ISBLANK(Vrijwilligersregister!C812)=TRUE,\"\",SUMIF('Nominatieve lijst'!$D$10:$D$3009,C812,'Nominatieve lijst'!$H$10:$H$3009))","v":""},{"$f":"IF(ISBLANK(Vrijwilligersregister!C812)=TRUE,\"\",SUMIF('Nominatieve lijst'!$D$10:$D$3009,C812,'Nominatieve lijst'!$J$10:$J$3009))","v":""},{"$f":"IF(ISBLANK(Vrijwilligersregister!C812)=TRUE,\"\",D812+F812)","v":""},{"$f":"Vrijwilligersregister!L812","v":0}]
[null,805,{"$f":"IF(ISBLANK(Vrijwilligersregister!C813)=TRUE,\"\",Vrijwilligersregister!C813)","v":""},{"$f":"IF(ISBLANK(Vrijwilligersregister!C813)=TRUE,\"\",SUMIF('Nominatieve lijst'!$D$10:$D$3009,C813,'Nominatieve lijst'!$G$10:$G$3009))","v":""},{"$f":"IF(ISBLANK(Vrijwilligersregister!C813)=TRUE,\"\",SUMIF('Nominatieve lijst'!$D$10:$D$3009,C813,'Nominatieve lijst'!$H$10:$H$3009))","v":""},{"$f":"IF(ISBLANK(Vrijwilligersregister!C813)=TRUE,\"\",SUMIF('Nominatieve lijst'!$D$10:$D$3009,C813,'Nominatieve lijst'!$J$10:$J$3009))","v":""},{"$f":"IF(ISBLANK(Vrijwilligersregister!C813)=TRUE,\"\",D813+F813)","v":""},{"$f":"Vrijwilligersregister!L813","v":0}]
[null,806,{"$f":"IF(ISBLANK(Vrijwilligersregister!C814)=TRUE,\"\",Vrijwilligersregister!C814)","v":""},{"$f":"IF(ISBLANK(Vrijwilligersregister!C814)=TRUE,\"\",SUMIF('Nominatieve lijst'!$D$10:$D$3009,C814,'Nominatieve lijst'!$G$10:$G$3009))","v":""},{"$f":"IF(ISBLANK(Vrijwilligersregister!C814)=TRUE,\"\",SUMIF('Nominatieve lijst'!$D$10:$D$3009,C814,'Nominatieve lijst'!$H$10:$H$3009))","v":""},{"$f":"IF(ISBLANK(Vrijwilligersregister!C814)=TRUE,\"\",SUMIF('Nominatieve lijst'!$D$10:$D$3009,C814,'Nominatieve lijst'!$J$10:$J$3009))","v":""},{"$f":"IF(ISBLANK(Vrijwilligersregister!C814)=TRUE,\"\",D814+F814)","v":""},{"$f":"Vrijwilligersregister!L814","v":0}]
[null,807,{"$f":"IF(ISBLANK(Vrijwilligersregister!C815)=TRUE,\"\",Vrijwilligersregister!C815)","v":""},{"$f":"IF(ISBLANK(Vrijwilligersregister!C815)=TRUE,\"\",SUMIF('Nominatieve lijst'!$D$10:$D$3009,C815,'Nominatieve lijst'!$G$10:$G$3009))","v":""},{"$f":"IF(ISBLANK(Vrijwilligersregister!C815)=TRUE,\"\",SUMIF('Nominatieve lijst'!$D$10:$D$3009,C815,'Nominatieve lijst'!$H$10:$H$3009))","v":""},{"$f":"IF(ISBLANK(Vrijwilligersregister!C815)=TRUE,\"\",SUMIF('Nominatieve lijst'!$D$10:$D$3009,C815,'Nominatieve lijst'!$J$10:$J$3009))","v":""},{"$f":"IF(ISBLANK(Vrijwilligersregister!C815)=TRUE,\"\",D815+F815)","v":""},{"$f":"Vrijwilligersregister!L815","v":0}]
[null,808,{"$f":"IF(ISBLANK(Vrijwilligersregister!C816)=TRUE,\"\",Vrijwilligersregister!C816)","v":""},{"$f":"IF(ISBLANK(Vrijwilligersregister!C816)=TRUE,\"\",SUMIF('Nominatieve lijst'!$D$10:$D$3009,C816,'Nominatieve lijst'!$G$10:$G$3009))","v":""},{"$f":"IF(ISBLANK(Vrijwilligersregister!C816)=TRUE,\"\",SUMIF('Nominatieve lijst'!$D$10:$D$3009,C816,'Nominatieve lijst'!$H$10:$H$3009))","v":""},{"$f":"IF(ISBLANK(Vrijwilligersregister!C816)=TRUE,\"\",SUMIF('Nominatieve lijst'!$D$10:$D$3009,C816,'Nominatieve lijst'!$J$10:$J$3009))","v":""},{"$f":"IF(ISBLANK(Vrijwilligersregister!C816)=TRUE,\"\",D816+F816)","v":""},{"$f":"Vrijwilligersregister!L816","v":0}]
[null,809,{"$f":"IF(ISBLANK(Vrijwilligersregister!C817)=TRUE,\"\",Vrijwilligersregister!C817)","v":""},{"$f":"IF(ISBLANK(Vrijwilligersregister!C817)=TRUE,\"\",SUMIF('Nominatieve lijst'!$D$10:$D$3009,C817,'Nominatieve lijst'!$G$10:$G$3009))","v":""},{"$f":"IF(ISBLANK(Vrijwilligersregister!C817)=TRUE,\"\",SUMIF('Nominatieve lijst'!$D$10:$D$3009,C817,'Nominatieve lijst'!$H$10:$H$3009))","v":""},{"$f":"IF(ISBLANK(Vrijwilligersregister!C817)=TRUE,\"\",SUMIF('Nominatieve lijst'!$D$10:$D$3009,C817,'Nominatieve lijst'!$J$10:$J$3009))","v":""},{"$f":"IF(ISBLANK(Vrijwilligersregister!C817)=TRUE,\"\",D817+F817)","v":""},{"$f":"Vrijwilligersregister!L817","v":0}]
[null,810,{"$f":"IF(ISBLANK(Vrijwilligersregister!C818)=TRUE,\"\",Vrijwilligersregister!C818)","v":""},{"$f":"IF(ISBLANK(Vrijwilligersregister!C818)=TRUE,\"\",SUMIF('Nominatieve lijst'!$D$10:$D$3009,C818,'Nominatieve lijst'!$G$10:$G$3009))","v":""},{"$f":"IF(ISBLANK(Vrijwilligersregister!C818)=TRUE,\"\",SUMIF('Nominatieve lijst'!$D$10:$D$3009,C818,'Nominatieve lijst'!$H$10:$H$3009))","v":""},{"$f":"IF(ISBLANK(Vrijwilligersregister!C818)=TRUE,\"\",SUMIF('Nominatieve lijst'!$D$10:$D$3009,C818,'Nominatieve lijst'!$J$10:$J$3009))","v":""},{"$f":"IF(ISBLANK(Vrijwilligersregister!C818)=TRUE,\"\",D818+F818)","v":""},{"$f":"Vrijwilligersregister!L818","v":0}]
[null,811,{"$f":"IF(ISBLANK(Vrijwilligersregister!C819)=TRUE,\"\",Vrijwilligersregister!C819)","v":""},{"$f":"IF(ISBLANK(Vrijwilligersregister!C819)=TRUE,\"\",SUMIF('Nominatieve lijst'!$D$10:$D$3009,C819,'Nominatieve lijst'!$G$10:$G$3009))","v":""},{"$f":"IF(ISBLANK(Vrijwilligersregister!C819)=TRUE,\"\",SUMIF('Nominatieve lijst'!$D$10:$D$3009,C819,'Nominatieve lijst'!$H$10:$H$3009))","v":""},{"$f":"IF(ISBLANK(Vrijwilligersregister!C819)=TRUE,\"\",SUMIF('Nominatieve lijst'!$D$10:$D$3009,C819,'Nominatieve lijst'!$J$10:$J$3009))","v":""},{"$f":"IF(ISBLANK(Vrijwilligersregister!C819)=TRUE,\"\",D819+F819)","v":""},{"$f":"Vrijwilligersregister!L819","v":0}]
[null,812,{"$f":"IF(ISBLANK(Vrijwilligersregister!C820)=TRUE,\"\",Vrijwilligersregister!C820)","v":""},{"$f":"IF(ISBLANK(Vrijwilligersregister!C820)=TRUE,\"\",SUMIF('Nominatieve lijst'!$D$10:$D$3009,C820,'Nominatieve lijst'!$G$10:$G$3009))","v":""},{"$f":"IF(ISBLANK(Vrijwilligersregister!C820)=TRUE,\"\",SUMIF('Nominatieve lijst'!$D$10:$D$3009,C820,'Nominatieve lijst'!$H$10:$H$3009))","v":""},{"$f":"IF(ISBLANK(Vrijwilligersregister!C820)=TRUE,\"\",SUMIF('Nominatieve lijst'!$D$10:$D$3009,C820,'Nominatieve lijst'!$J$10:$J$3009))","v":""},{"$f":"IF(ISBLANK(Vrijwilligersregister!C820)=TRUE,\"\",D820+F820)","v":""},{"$f":"Vrijwilligersregister!L820","v":0}]
[null,813,{"$f":"IF(ISBLANK(Vrijwilligersregister!C821)=TRUE,\"\",Vrijwilligersregister!C821)","v":""},{"$f":"IF(ISBLANK(Vrijwilligersregister!C821)=TRUE,\"\",SUMIF('Nominatieve lijst'!$D$10:$D$3009,C821,'Nominatieve lijst'!$G$10:$G$3009))","v":""},{"$f":"IF(ISBLANK(Vrijwilligersregister!C821)=TRUE,\"\",SUMIF('Nominatieve lijst'!$D$10:$D$3009,C821,'Nominatieve lijst'!$H$10:$H$3009))","v":""},{"$f":"IF(ISBLANK(Vrijwilligersregister!C821)=TRUE,\"\",SUMIF('Nominatieve lijst'!$D$10:$D$3009,C821,'Nominatieve lijst'!$J$10:$J$3009))","v":""},{"$f":"IF(ISBLANK(Vrijwilligersregister!C821)=TRUE,\"\",D821+F821)","v":""},{"$f":"Vrijwilligersregister!L821","v":0}]
[null,814,{"$f":"IF(ISBLANK(Vrijwilligersregister!C822)=TRUE,\"\",Vrijwilligersregister!C822)","v":""},{"$f":"IF(ISBLANK(Vrijwilligersregister!C822)=TRUE,\"\",SUMIF('Nominatieve lijst'!$D$10:$D$3009,C822,'Nominatieve lijst'!$G$10:$G$3009))","v":""},{"$f":"IF(ISBLANK(Vrijwilligersregister!C822)=TRUE,\"\",SUMIF('Nominatieve lijst'!$D$10:$D$3009,C822,'Nominatieve lijst'!$H$10:$H$3009))","v":""},{"$f":"IF(ISBLANK(Vrijwilligersregister!C822)=TRUE,\"\",SUMIF('Nominatieve lijst'!$D$10:$D$3009,C822,'Nominatieve lijst'!$J$10:$J$3009))","v":""},{"$f":"IF(ISBLANK(Vrijwilligersregister!C822)=TRUE,\"\",D822+F822)","v":""},{"$f":"Vrijwilligersregister!L822","v":0}]
[null,815,{"$f":"IF(ISBLANK(Vrijwilligersregister!C823)=TRUE,\"\",Vrijwilligersregister!C823)","v":""},{"$f":"IF(ISBLANK(Vrijwilligersregister!C823)=TRUE,\"\",SUMIF('Nominatieve lijst'!$D$10:$D$3009,C823,'Nominatieve lijst'!$G$10:$G$3009))","v":""},{"$f":"IF(ISBLANK(Vrijwilligersregister!C823)=TRUE,\"\",SUMIF('Nominatieve lijst'!$D$10:$D$3009,C823,'Nominatieve lijst'!$H$10:$H$3009))","v":""},{"$f":"IF(ISBLANK(Vrijwilligersregister!C823)=TRUE,\"\",SUMIF('Nominatieve lijst'!$D$10:$D$3009,C823,'Nominatieve lijst'!$J$10:$J$3009))","v":""},{"$f":"IF(ISBLANK(Vrijwilligersregister!C823)=TRUE,\"\",D823+F823)","v":""},{"$f":"Vrijwilligersregister!L823","v":0}]
[null,816,{"$f":"IF(ISBLANK(Vrijwilligersregister!C824)=TRUE,\"\",Vrijwilligersregister!C824)","v":""},{"$f":"IF(ISBLANK(Vrijwilligersregister!C824)=TRUE,\"\",SUMIF('Nominatieve lijst'!$D$10:$D$3009,C824,'Nominatieve lijst'!$G$10:$G$3009))","v":""},{"$f":"IF(ISBLANK(Vrijwilligersregister!C824)=TRUE,\"\",SUMIF('Nominatieve lijst'!$D$10:$D$3009,C824,'Nominatieve lijst'!$H$10:$H$3009))","v":""},{"$f":"IF(ISBLANK(Vrijwilligersregister!C824)=TRUE,\"\",SUMIF('Nominatieve lijst'!$D$10:$D$3009,C824,'Nominatieve lijst'!$J$10:$J$3009))","v":""},{"$f":"IF(ISBLANK(Vrijwilligersregister!C824)=TRUE,\"\",D824+F824)","v":""},{"$f":"Vrijwilligersregister!L824","v":0}]
[null,817,{"$f":"IF(ISBLANK(Vrijwilligersregister!C825)=TRUE,\"\",Vrijwilligersregister!C825)","v":""},{"$f":"IF(ISBLANK(Vrijwilligersregister!C825)=TRUE,\"\",SUMIF('Nominatieve lijst'!$D$10:$D$3009,C825,'Nominatieve lijst'!$G$10:$G$3009))","v":""},{"$f":"IF(ISBLANK(Vrijwilligersregister!C825)=TRUE,\"\",SUMIF('Nominatieve lijst'!$D$10:$D$3009,C825,'Nominatieve lijst'!$H$10:$H$3009))","v":""},{"$f":"IF(ISBLANK(Vrijwilligersregister!C825)=TRUE,\"\",SUMIF('Nominatieve lijst'!$D$10:$D$3009,C825,'Nominatieve lijst'!$J$10:$J$3009))","v":""},{"$f":"IF(ISBLANK(Vrijwilligersregister!C825)=TRUE,\"\",D825+F825)","v":""},{"$f":"Vrijwilligersregister!L825","v":0}]
[null,818,{"$f":"IF(ISBLANK(Vrijwilligersregister!C826)=TRUE,\"\",Vrijwilligersregister!C826)","v":""},{"$f":"IF(ISBLANK(Vrijwilligersregister!C826)=TRUE,\"\",SUMIF('Nominatieve lijst'!$D$10:$D$3009,C826,'Nominatieve lijst'!$G$10:$G$3009))","v":""},{"$f":"IF(ISBLANK(Vrijwilligersregister!C826)=TRUE,\"\",SUMIF('Nominatieve lijst'!$D$10:$D$3009,C826,'Nominatieve lijst'!$H$10:$H$3009))","v":""},{"$f":"IF(ISBLANK(Vrijwilligersregister!C826)=TRUE,\"\",SUMIF('Nominatieve lijst'!$D$10:$D$3009,C826,'Nominatieve lijst'!$J$10:$J$3009))","v":""},{"$f":"IF(ISBLANK(Vrijwilligersregister!C826)=TRUE,\"\",D826+F826)","v":""},{"$f":"Vrijwilligersregister!L826","v":0}]
[null,819,{"$f":"IF(ISBLANK(Vrijwilligersregister!C827)=TRUE,\"\",Vrijwilligersregister!C827)","v":""},{"$f":"IF(ISBLANK(Vrijwilligersregister!C827)=TRUE,\"\",SUMIF('Nominatieve lijst'!$D$10:$D$3009,C827,'Nominatieve lijst'!$G$10:$G$3009))","v":""},{"$f":"IF(ISBLANK(Vrijwilligersregister!C827)=TRUE,\"\",SUMIF('Nominatieve lijst'!$D$10:$D$3009,C827,'Nominatieve lijst'!$H$10:$H$3009))","v":""},{"$f":"IF(ISBLANK(Vrijwilligersregister!C827)=TRUE,\"\",SUMIF('Nominatieve lijst'!$D$10:$D$3009,C827,'Nominatieve lijst'!$J$10:$J$3009))","v":""},{"$f":"IF(ISBLANK(Vrijwilligersregister!C827)=TRUE,\"\",D827+F827)","v":""},{"$f":"Vrijwilligersregister!L827","v":0}]
[null,820,{"$f":"IF(ISBLANK(Vrijwilligersregister!C828)=TRUE,\"\",Vrijwilligersregister!C828)","v":""},{"$f":"IF(ISBLANK(Vrijwilligersregister!C828)=TRUE,\"\",SUMIF('Nominatieve lijst'!$D$10:$D$3009,C828,'Nominatieve lijst'!$G$10:$G$3009))","v":""},{"$f":"IF(ISBLANK(Vrijwilligersregister!C828)=TRUE,\"\",SUMIF('Nominatieve lijst'!$D$10:$D$3009,C828,'Nominatieve lijst'!$H$10:$H$3009))","v":""},{"$f":"IF(ISBLANK(Vrijwilligersregister!C828)=TRUE,\"\",SUMIF('Nominatieve lijst'!$D$10:$D$3009,C828,'Nominatieve lijst'!$J$10:$J$3009))","v":""},{"$f":"IF(ISBLANK(Vrijwilligersregister!C828)=TRUE,\"\",D828+F828)","v":""},{"$f":"Vrijwilligersregister!L828","v":0}]
[null,821,{"$f":"IF(ISBLANK(Vrijwilligersregister!C829)=TRUE,\"\",Vrijwilligersregister!C829)","v":""},{"$f":"IF(ISBLANK(Vrijwilligersregister!C829)=TRUE,\"\",SUMIF('Nominatieve lijst'!$D$10:$D$3009,C829,'Nominatieve lijst'!$G$10:$G$3009))","v":""},{"$f":"IF(ISBLANK(Vrijwilligersregister!C829)=TRUE,\"\",SUMIF('Nominatieve lijst'!$D$10:$D$3009,C829,'Nominatieve lijst'!$H$10:$H$3009))","v":""},{"$f":"IF(ISBLANK(Vrijwilligersregister!C829)=TRUE,\"\",SUMIF('Nominatieve lijst'!$D$10:$D$3009,C829,'Nominatieve lijst'!$J$10:$J$3009))","v":""},{"$f":"IF(ISBLANK(Vrijwilligersregister!C829)=TRUE,\"\",D829+F829)","v":""},{"$f":"Vrijwilligersregister!L829","v":0}]
[null,822,{"$f":"IF(ISBLANK(Vrijwilligersregister!C830)=TRUE,\"\",Vrijwilligersregister!C830)","v":""},{"$f":"IF(ISBLANK(Vrijwilligersregister!C830)=TRUE,\"\",SUMIF('Nominatieve lijst'!$D$10:$D$3009,C830,'Nominatieve lijst'!$G$10:$G$3009))","v":""},{"$f":"IF(ISBLANK(Vrijwilligersregister!C830)=TRUE,\"\",SUMIF('Nominatieve lijst'!$D$10:$D$3009,C830,'Nominatieve lijst'!$H$10:$H$3009))","v":""},{"$f":"IF(ISBLANK(Vrijwilligersregister!C830)=TRUE,\"\",SUMIF('Nominatieve lijst'!$D$10:$D$3009,C830,'Nominatieve lijst'!$J$10:$J$3009))","v":""},{"$f":"IF(ISBLANK(Vrijwilligersregister!C830)=TRUE,\"\",D830+F830)","v":""},{"$f":"Vrijwilligersregister!L830","v":0}]
[null,823,{"$f":"IF(ISBLANK(Vrijwilligersregister!C831)=TRUE,\"\",Vrijwilligersregister!C831)","v":""},{"$f":"IF(ISBLANK(Vrijwilligersregister!C831)=TRUE,\"\",SUMIF('Nominatieve lijst'!$D$10:$D$3009,C831,'Nominatieve lijst'!$G$10:$G$3009))","v":""},{"$f":"IF(ISBLANK(Vrijwilligersregister!C831)=TRUE,\"\",SUMIF('Nominatieve lijst'!$D$10:$D$3009,C831,'Nominatieve lijst'!$H$10:$H$3009))","v":""},{"$f":"IF(ISBLANK(Vrijwilligersregister!C831)=TRUE,\"\",SUMIF('Nominatieve lijst'!$D$10:$D$3009,C831,'Nominatieve lijst'!$J$10:$J$3009))","v":""},{"$f":"IF(ISBLANK(Vrijwilligersregister!C831)=TRUE,\"\",D831+F831)","v":""},{"$f":"Vrijwilligersregister!L831","v":0}]
[null,824,{"$f":"IF(ISBLANK(Vrijwilligersregister!C832)=TRUE,\"\",Vrijwilligersregister!C832)","v":""},{"$f":"IF(ISBLANK(Vrijwilligersregister!C832)=TRUE,\"\",SUMIF('Nominatieve lijst'!$D$10:$D$3009,C832,'Nominatieve lijst'!$G$10:$G$3009))","v":""},{"$f":"IF(ISBLANK(Vrijwilligersregister!C832)=TRUE,\"\",SUMIF('Nominatieve lijst'!$D$10:$D$3009,C832,'Nominatieve lijst'!$H$10:$H$3009))","v":""},{"$f":"IF(ISBLANK(Vrijwilligersregister!C832)=TRUE,\"\",SUMIF('Nominatieve lijst'!$D$10:$D$3009,C832,'Nominatieve lijst'!$J$10:$J$3009))","v":""},{"$f":"IF(ISBLANK(Vrijwilligersregister!C832)=TRUE,\"\",D832+F832)","v":""},{"$f":"Vrijwilligersregister!L832","v":0}]
[null,825,{"$f":"IF(ISBLANK(Vrijwilligersregister!C833)=TRUE,\"\",Vrijwilligersregister!C833)","v":""},{"$f":"IF(ISBLANK(Vrijwilligersregister!C833)=TRUE,\"\",SUMIF('Nominatieve lijst'!$D$10:$D$3009,C833,'Nominatieve lijst'!$G$10:$G$3009))","v":""},{"$f":"IF(ISBLANK(Vrijwilligersregister!C833)=TRUE,\"\",SUMIF('Nominatieve lijst'!$D$10:$D$3009,C833,'Nominatieve lijst'!$H$10:$H$3009))","v":""},{"$f":"IF(ISBLANK(Vrijwilligersregister!C833)=TRUE,\"\",SUMIF('Nominatieve lijst'!$D$10:$D$3009,C833,'Nominatieve lijst'!$J$10:$J$3009))","v":""},{"$f":"IF(ISBLANK(Vrijwilligersregister!C833)=TRUE,\"\",D833+F833)","v":""},{"$f":"Vrijwilligersregister!L833","v":0}]
[null,826,{"$f":"IF(ISBLANK(Vrijwilligersregister!C834)=TRUE,\"\",Vrijwilligersregister!C834)","v":""},{"$f":"IF(ISBLANK(Vrijwilligersregister!C834)=TRUE,\"\",SUMIF('Nominatieve lijst'!$D$10:$D$3009,C834,'Nominatieve lijst'!$G$10:$G$3009))","v":""},{"$f":"IF(ISBLANK(Vrijwilligersregister!C834)=TRUE,\"\",SUMIF('Nominatieve lijst'!$D$10:$D$3009,C834,'Nominatieve lijst'!$H$10:$H$3009))","v":""},{"$f":"IF(ISBLANK(Vrijwilligersregister!C834)=TRUE,\"\",SUMIF('Nominatieve lijst'!$D$10:$D$3009,C834,'Nominatieve lijst'!$J$10:$J$3009))","v":""},{"$f":"IF(ISBLANK(Vrijwilligersregister!C834)=TRUE,\"\",D834+F834)","v":""},{"$f":"Vrijwilligersregister!L834","v":0}]
[null,827,{"$f":"IF(ISBLANK(Vrijwilligersregister!C835)=TRUE,\"\",Vrijwilligersregister!C835)","v":""},{"$f":"IF(ISBLANK(Vrijwilligersregister!C835)=TRUE,\"\",SUMIF('Nominatieve lijst'!$D$10:$D$3009,C835,'Nominatieve lijst'!$G$10:$G$3009))","v":""},{"$f":"IF(ISBLANK(Vrijwilligersregister!C835)=TRUE,\"\",SUMIF('Nominatieve lijst'!$D$10:$D$3009,C835,'Nominatieve lijst'!$H$10:$H$3009))","v":""},{"$f":"IF(ISBLANK(Vrijwilligersregister!C835)=TRUE,\"\",SUMIF('Nominatieve lijst'!$D$10:$D$3009,C835,'Nominatieve lijst'!$J$10:$J$3009))","v":""},{"$f":"IF(ISBLANK(Vrijwilligersregister!C835)=TRUE,\"\",D835+F835)","v":""},{"$f":"Vrijwilligersregister!L835","v":0}]
[null,828,{"$f":"IF(ISBLANK(Vrijwilligersregister!C836)=TRUE,\"\",Vrijwilligersregister!C836)","v":""},{"$f":"IF(ISBLANK(Vrijwilligersregister!C836)=TRUE,\"\",SUMIF('Nominatieve lijst'!$D$10:$D$3009,C836,'Nominatieve lijst'!$G$10:$G$3009))","v":""},{"$f":"IF(ISBLANK(Vrijwilligersregister!C836)=TRUE,\"\",SUMIF('Nominatieve lijst'!$D$10:$D$3009,C836,'Nominatieve lijst'!$H$10:$H$3009))","v":""},{"$f":"IF(ISBLANK(Vrijwilligersregister!C836)=TRUE,\"\",SUMIF('Nominatieve lijst'!$D$10:$D$3009,C836,'Nominatieve lijst'!$J$10:$J$3009))","v":""},{"$f":"IF(ISBLANK(Vrijwilligersregister!C836)=TRUE,\"\",D836+F836)","v":""},{"$f":"Vrijwilligersregister!L836","v":0}]
[null,829,{"$f":"IF(ISBLANK(Vrijwilligersregister!C837)=TRUE,\"\",Vrijwilligersregister!C837)","v":""},{"$f":"IF(ISBLANK(Vrijwilligersregister!C837)=TRUE,\"\",SUMIF('Nominatieve lijst'!$D$10:$D$3009,C837,'Nominatieve lijst'!$G$10:$G$3009))","v":""},{"$f":"IF(ISBLANK(Vrijwilligersregister!C837)=TRUE,\"\",SUMIF('Nominatieve lijst'!$D$10:$D$3009,C837,'Nominatieve lijst'!$H$10:$H$3009))","v":""},{"$f":"IF(ISBLANK(Vrijwilligersregister!C837)=TRUE,\"\",SUMIF('Nominatieve lijst'!$D$10:$D$3009,C837,'Nominatieve lijst'!$J$10:$J$3009))","v":""},{"$f":"IF(ISBLANK(Vrijwilligersregister!C837)=TRUE,\"\",D837+F837)","v":""},{"$f":"Vrijwilligersregister!L837","v":0}]
[null,830,{"$f":"IF(ISBLANK(Vrijwilligersregister!C838)=TRUE,\"\",Vrijwilligersregister!C838)","v":""},{"$f":"IF(ISBLANK(Vrijwilligersregister!C838)=TRUE,\"\",SUMIF('Nominatieve lijst'!$D$10:$D$3009,C838,'Nominatieve lijst'!$G$10:$G$3009))","v":""},{"$f":"IF(ISBLANK(Vrijwilligersregister!C838)=TRUE,\"\",SUMIF('Nominatieve lijst'!$D$10:$D$3009,C838,'Nominatieve lijst'!$H$10:$H$3009))","v":""},{"$f":"IF(ISBLANK(Vrijwilligersregister!C838)=TRUE,\"\",SUMIF('Nominatieve lijst'!$D$10:$D$3009,C838,'Nominatieve lijst'!$J$10:$J$3009))","v":""},{"$f":"IF(ISBLANK(Vrijwilligersregister!C838)=TRUE,\"\",D838+F838)","v":""},{"$f":"Vrijwilligersregister!L838","v":0}]
[null,831,{"$f":"IF(ISBLANK(Vrijwilligersregister!C839)=TRUE,\"\",Vrijwilligersregister!C839)","v":""},{"$f":"IF(ISBLANK(Vrijwilligersregister!C839)=TRUE,\"\",SUMIF('Nominatieve lijst'!$D$10:$D$3009,C839,'Nominatieve lijst'!$G$10:$G$3009))","v":""},{"$f":"IF(ISBLANK(Vrijwilligersregister!C839)=TRUE,\"\",SUMIF('Nominatieve lijst'!$D$10:$D$3009,C839,'Nominatieve lijst'!$H$10:$H$3009))","v":""},{"$f":"IF(ISBLANK(Vrijwilligersregister!C839)=TRUE,\"\",SUMIF('Nominatieve lijst'!$D$10:$D$3009,C839,'Nominatieve lijst'!$J$10:$J$3009))","v":""},{"$f":"IF(ISBLANK(Vrijwilligersregister!C839)=TRUE,\"\",D839+F839)","v":""},{"$f":"Vrijwilligersregister!L839","v":0}]
[null,832,{"$f":"IF(ISBLANK(Vrijwilligersregister!C840)=TRUE,\"\",Vrijwilligersregister!C840)","v":""},{"$f":"IF(ISBLANK(Vrijwilligersregister!C840)=TRUE,\"\",SUMIF('Nominatieve lijst'!$D$10:$D$3009,C840,'Nominatieve lijst'!$G$10:$G$3009))","v":""},{"$f":"IF(ISBLANK(Vrijwilligersregister!C840)=TRUE,\"\",SUMIF('Nominatieve lijst'!$D$10:$D$3009,C840,'Nominatieve lijst'!$H$10:$H$3009))","v":""},{"$f":"IF(ISBLANK(Vrijwilligersregister!C840)=TRUE,\"\",SUMIF('Nominatieve lijst'!$D$10:$D$3009,C840,'Nominatieve lijst'!$J$10:$J$3009))","v":""},{"$f":"IF(ISBLANK(Vrijwilligersregister!C840)=TRUE,\"\",D840+F840)","v":""},{"$f":"Vrijwilligersregister!L840","v":0}]
[null,833,{"$f":"IF(ISBLANK(Vrijwilligersregister!C841)=TRUE,\"\",Vrijwilligersregister!C841)","v":""},{"$f":"IF(ISBLANK(Vrijwilligersregister!C841)=TRUE,\"\",SUMIF('Nominatieve lijst'!$D$10:$D$3009,C841,'Nominatieve lijst'!$G$10:$G$3009))","v":""},{"$f":"IF(ISBLANK(Vrijwilligersregister!C841)=TRUE,\"\",SUMIF('Nominatieve lijst'!$D$10:$D$3009,C841,'Nominatieve lijst'!$H$10:$H$3009))","v":""},{"$f":"IF(ISBLANK(Vrijwilligersregister!C841)=TRUE,\"\",SUMIF('Nominatieve lijst'!$D$10:$D$3009,C841,'Nominatieve lijst'!$J$10:$J$3009))","v":""},{"$f":"IF(ISBLANK(Vrijwilligersregister!C841)=TRUE,\"\",D841+F841)","v":""},{"$f":"Vrijwilligersregister!L841","v":0}]
[null,834,{"$f":"IF(ISBLANK(Vrijwilligersregister!C842)=TRUE,\"\",Vrijwilligersregister!C842)","v":""},{"$f":"IF(ISBLANK(Vrijwilligersregister!C842)=TRUE,\"\",SUMIF('Nominatieve lijst'!$D$10:$D$3009,C842,'Nominatieve lijst'!$G$10:$G$3009))","v":""},{"$f":"IF(ISBLANK(Vrijwilligersregister!C842)=TRUE,\"\",SUMIF('Nominatieve lijst'!$D$10:$D$3009,C842,'Nominatieve lijst'!$H$10:$H$3009))","v":""},{"$f":"IF(ISBLANK(Vrijwilligersregister!C842)=TRUE,\"\",SUMIF('Nominatieve lijst'!$D$10:$D$3009,C842,'Nominatieve lijst'!$J$10:$J$3009))","v":""},{"$f":"IF(ISBLANK(Vrijwilligersregister!C842)=TRUE,\"\",D842+F842)","v":""},{"$f":"Vrijwilligersregister!L842","v":0}]
[null,835,{"$f":"IF(ISBLANK(Vrijwilligersregister!C843)=TRUE,\"\",Vrijwilligersregister!C843)","v":""},{"$f":"IF(ISBLANK(Vrijwilligersregister!C843)=TRUE,\"\",SUMIF('Nominatieve lijst'!$D$10:$D$3009,C843,'Nominatieve lijst'!$G$10:$G$3009))","v":""},{"$f":"IF(ISBLANK(Vrijwilligersregister!C843)=TRUE,\"\",SUMIF('Nominatieve lijst'!$D$10:$D$3009,C843,'Nominatieve lijst'!$H$10:$H$3009))","v":""},{"$f":"IF(ISBLANK(Vrijwilligersregister!C843)=TRUE,\"\",SUMIF('Nominatieve lijst'!$D$10:$D$3009,C843,'Nominatieve lijst'!$J$10:$J$3009))","v":""},{"$f":"IF(ISBLANK(Vrijwilligersregister!C843)=TRUE,\"\",D843+F843)","v":""},{"$f":"Vrijwilligersregister!L843","v":0}]
[null,836,{"$f":"IF(ISBLANK(Vrijwilligersregister!C844)=TRUE,\"\",Vrijwilligersregister!C844)","v":""},{"$f":"IF(ISBLANK(Vrijwilligersregister!C844)=TRUE,\"\",SUMIF('Nominatieve lijst'!$D$10:$D$3009,C844,'Nominatieve lijst'!$G$10:$G$3009))","v":""},{"$f":"IF(ISBLANK(Vrijwilligersregister!C844)=TRUE,\"\",SUMIF('Nominatieve lijst'!$D$10:$D$3009,C844,'Nominatieve lijst'!$H$10:$H$3009))","v":""},{"$f":"IF(ISBLANK(Vrijwilligersregister!C844)=TRUE,\"\",SUMIF('Nominatieve lijst'!$D$10:$D$3009,C844,'Nominatieve lijst'!$J$10:$J$3009))","v":""},{"$f":"IF(ISBLANK(Vrijwilligersregister!C844)=TRUE,\"\",D844+F844)","v":""},{"$f":"Vrijwilligersregister!L844","v":0}]
[null,837,{"$f":"IF(ISBLANK(Vrijwilligersregister!C845)=TRUE,\"\",Vrijwilligersregister!C845)","v":""},{"$f":"IF(ISBLANK(Vrijwilligersregister!C845)=TRUE,\"\",SUMIF('Nominatieve lijst'!$D$10:$D$3009,C845,'Nominatieve lijst'!$G$10:$G$3009))","v":""},{"$f":"IF(ISBLANK(Vrijwilligersregister!C845)=TRUE,\"\",SUMIF('Nominatieve lijst'!$D$10:$D$3009,C845,'Nominatieve lijst'!$H$10:$H$3009))","v":""},{"$f":"IF(ISBLANK(Vrijwilligersregister!C845)=TRUE,\"\",SUMIF('Nominatieve lijst'!$D$10:$D$3009,C845,'Nominatieve lijst'!$J$10:$J$3009))","v":""},{"$f":"IF(ISBLANK(Vrijwilligersregister!C845)=TRUE,\"\",D845+F845)","v":""},{"$f":"Vrijwilligersregister!L845","v":0}]
[null,838,{"$f":"IF(ISBLANK(Vrijwilligersregister!C846)=TRUE,\"\",Vrijwilligersregister!C846)","v":""},{"$f":"IF(ISBLANK(Vrijwilligersregister!C846)=TRUE,\"\",SUMIF('Nominatieve lijst'!$D$10:$D$3009,C846,'Nominatieve lijst'!$G$10:$G$3009))","v":""},{"$f":"IF(ISBLANK(Vrijwilligersregister!C846)=TRUE,\"\",SUMIF('Nominatieve lijst'!$D$10:$D$3009,C846,'Nominatieve lijst'!$H$10:$H$3009))","v":""},{"$f":"IF(ISBLANK(Vrijwilligersregister!C846)=TRUE,\"\",SUMIF('Nominatieve lijst'!$D$10:$D$3009,C846,'Nominatieve lijst'!$J$10:$J$3009))","v":""},{"$f":"IF(ISBLANK(Vrijwilligersregister!C846)=TRUE,\"\",D846+F846)","v":""},{"$f":"Vrijwilligersregister!L846","v":0}]
[null,839,{"$f":"IF(ISBLANK(Vrijwilligersregister!C847)=TRUE,\"\",Vrijwilligersregister!C847)","v":""},{"$f":"IF(ISBLANK(Vrijwilligersregister!C847)=TRUE,\"\",SUMIF('Nominatieve lijst'!$D$10:$D$3009,C847,'Nominatieve lijst'!$G$10:$G$3009))","v":""},{"$f":"IF(ISBLANK(Vrijwilligersregister!C847)=TRUE,\"\",SUMIF('Nominatieve lijst'!$D$10:$D$3009,C847,'Nominatieve lijst'!$H$10:$H$3009))","v":""},{"$f":"IF(ISBLANK(Vrijwilligersregister!C847)=TRUE,\"\",SUMIF('Nominatieve lijst'!$D$10:$D$3009,C847,'Nominatieve lijst'!$J$10:$J$3009))","v":""},{"$f":"IF(ISBLANK(Vrijwilligersregister!C847)=TRUE,\"\",D847+F847)","v":""},{"$f":"Vrijwilligersregister!L847","v":0}]
[null,840,{"$f":"IF(ISBLANK(Vrijwilligersregister!C848)=TRUE,\"\",Vrijwilligersregister!C848)","v":""},{"$f":"IF(ISBLANK(Vrijwilligersregister!C848)=TRUE,\"\",SUMIF('Nominatieve lijst'!$D$10:$D$3009,C848,'Nominatieve lijst'!$G$10:$G$3009))","v":""},{"$f":"IF(ISBLANK(Vrijwilligersregister!C848)=TRUE,\"\",SUMIF('Nominatieve lijst'!$D$10:$D$3009,C848,'Nominatieve lijst'!$H$10:$H$3009))","v":""},{"$f":"IF(ISBLANK(Vrijwilligersregister!C848)=TRUE,\"\",SUMIF('Nominatieve lijst'!$D$10:$D$3009,C848,'Nominatieve lijst'!$J$10:$J$3009))","v":""},{"$f":"IF(ISBLANK(Vrijwilligersregister!C848)=TRUE,\"\",D848+F848)","v":""},{"$f":"Vrijwilligersregister!L848","v":0}]
[null,841,{"$f":"IF(ISBLANK(Vrijwilligersregister!C849)=TRUE,\"\",Vrijwilligersregister!C849)","v":""},{"$f":"IF(ISBLANK(Vrijwilligersregister!C849)=TRUE,\"\",SUMIF('Nominatieve lijst'!$D$10:$D$3009,C849,'Nominatieve lijst'!$G$10:$G$3009))","v":""},{"$f":"IF(ISBLANK(Vrijwilligersregister!C849)=TRUE,\"\",SUMIF('Nominatieve lijst'!$D$10:$D$3009,C849,'Nominatieve lijst'!$H$10:$H$3009))","v":""},{"$f":"IF(ISBLANK(Vrijwilligersregister!C849)=TRUE,\"\",SUMIF('Nominatieve lijst'!$D$10:$D$3009,C849,'Nominatieve lijst'!$J$10:$J$3009))","v":""},{"$f":"IF(ISBLANK(Vrijwilligersregister!C849)=TRUE,\"\",D849+F849)","v":""},{"$f":"Vrijwilligersregister!L849","v":0}]
[null,842,{"$f":"IF(ISBLANK(Vrijwilligersregister!C850)=TRUE,\"\",Vrijwilligersregister!C850)","v":""},{"$f":"IF(ISBLANK(Vrijwilligersregister!C850)=TRUE,\"\",SUMIF('Nominatieve lijst'!$D$10:$D$3009,C850,'Nominatieve lijst'!$G$10:$G$3009))","v":""},{"$f":"IF(ISBLANK(Vrijwilligersregister!C850)=TRUE,\"\",SUMIF('Nominatieve lijst'!$D$10:$D$3009,C850,'Nominatieve lijst'!$H$10:$H$3009))","v":""},{"$f":"IF(ISBLANK(Vrijwilligersregister!C850)=TRUE,\"\",SUMIF('Nominatieve lijst'!$D$10:$D$3009,C850,'Nominatieve lijst'!$J$10:$J$3009))","v":""},{"$f":"IF(ISBLANK(Vrijwilligersregister!C850)=TRUE,\"\",D850+F850)","v":""},{"$f":"Vrijwilligersregister!L850","v":0}]
[null,843,{"$f":"IF(ISBLANK(Vrijwilligersregister!C851)=TRUE,\"\",Vrijwilligersregister!C851)","v":""},{"$f":"IF(ISBLANK(Vrijwilligersregister!C851)=TRUE,\"\",SUMIF('Nominatieve lijst'!$D$10:$D$3009,C851,'Nominatieve lijst'!$G$10:$G$3009))","v":""},{"$f":"IF(ISBLANK(Vrijwilligersregister!C851)=TRUE,\"\",SUMIF('Nominatieve lijst'!$D$10:$D$3009,C851,'Nominatieve lijst'!$H$10:$H$3009))","v":""},{"$f":"IF(ISBLANK(Vrijwilligersregister!C851)=TRUE,\"\",SUMIF('Nominatieve lijst'!$D$10:$D$3009,C851,'Nominatieve lijst'!$J$10:$J$3009))","v":""},{"$f":"IF(ISBLANK(Vrijwilligersregister!C851)=TRUE,\"\",D851+F851)","v":""},{"$f":"Vrijwilligersregister!L851","v":0}]
[null,844,{"$f":"IF(ISBLANK(Vrijwilligersregister!C852)=TRUE,\"\",Vrijwilligersregister!C852)","v":""},{"$f":"IF(ISBLANK(Vrijwilligersregister!C852)=TRUE,\"\",SUMIF('Nominatieve lijst'!$D$10:$D$3009,C852,'Nominatieve lijst'!$G$10:$G$3009))","v":""},{"$f":"IF(ISBLANK(Vrijwilligersregister!C852)=TRUE,\"\",SUMIF('Nominatieve lijst'!$D$10:$D$3009,C852,'Nominatieve lijst'!$H$10:$H$3009))","v":""},{"$f":"IF(ISBLANK(Vrijwilligersregister!C852)=TRUE,\"\",SUMIF('Nominatieve lijst'!$D$10:$D$3009,C852,'Nominatieve lijst'!$J$10:$J$3009))","v":""},{"$f":"IF(ISBLANK(Vrijwilligersregister!C852)=TRUE,\"\",D852+F852)","v":""},{"$f":"Vrijwilligersregister!L852","v":0}]
[null,845,{"$f":"IF(ISBLANK(Vrijwilligersregister!C853)=TRUE,\"\",Vrijwilligersregister!C853)","v":""},{"$f":"IF(ISBLANK(Vrijwilligersregister!C853)=TRUE,\"\",SUMIF('Nominatieve lijst'!$D$10:$D$3009,C853,'Nominatieve lijst'!$G$10:$G$3009))","v":""},{"$f":"IF(ISBLANK(Vrijwilligersregister!C853)=TRUE,\"\",SUMIF('Nominatieve lijst'!$D$10:$D$3009,C853,'Nominatieve lijst'!$H$10:$H$3009))","v":""},{"$f":"IF(ISBLANK(Vrijwilligersregister!C853)=TRUE,\"\",SUMIF('Nominatieve lijst'!$D$10:$D$3009,C853,'Nominatieve lijst'!$J$10:$J$3009))","v":""},{"$f":"IF(ISBLANK(Vrijwilligersregister!C853)=TRUE,\"\",D853+F853)","v":""},{"$f":"Vrijwilligersregister!L853","v":0}]
[null,846,{"$f":"IF(ISBLANK(Vrijwilligersregister!C854)=TRUE,\"\",Vrijwilligersregister!C854)","v":""},{"$f":"IF(ISBLANK(Vrijwilligersregister!C854)=TRUE,\"\",SUMIF('Nominatieve lijst'!$D$10:$D$3009,C854,'Nominatieve lijst'!$G$10:$G$3009))","v":""},{"$f":"IF(ISBLANK(Vrijwilligersregister!C854)=TRUE,\"\",SUMIF('Nominatieve lijst'!$D$10:$D$3009,C854,'Nominatieve lijst'!$H$10:$H$3009))","v":""},{"$f":"IF(ISBLANK(Vrijwilligersregister!C854)=TRUE,\"\",SUMIF('Nominatieve lijst'!$D$10:$D$3009,C854,'Nominatieve lijst'!$J$10:$J$3009))","v":""},{"$f":"IF(ISBLANK(Vrijwilligersregister!C854)=TRUE,\"\",D854+F854)","v":""},{"$f":"Vrijwilligersregister!L854","v":0}]
[null,847,{"$f":"IF(ISBLANK(Vrijwilligersregister!C855)=TRUE,\"\",Vrijwilligersregister!C855)","v":""},{"$f":"IF(ISBLANK(Vrijwilligersregister!C855)=TRUE,\"\",SUMIF('Nominatieve lijst'!$D$10:$D$3009,C855,'Nominatieve lijst'!$G$10:$G$3009))","v":""},{"$f":"IF(ISBLANK(Vrijwilligersregister!C855)=TRUE,\"\",SUMIF('Nominatieve lijst'!$D$10:$D$3009,C855,'Nominatieve lijst'!$H$10:$H$3009))","v":""},{"$f":"IF(ISBLANK(Vrijwilligersregister!C855)=TRUE,\"\",SUMIF('Nominatieve lijst'!$D$10:$D$3009,C855,'Nominatieve lijst'!$J$10:$J$3009))","v":""},{"$f":"IF(ISBLANK(Vrijwilligersregister!C855)=TRUE,\"\",D855+F855)","v":""},{"$f":"Vrijwilligersregister!L855","v":0}]
[null,848,{"$f":"IF(ISBLANK(Vrijwilligersregister!C856)=TRUE,\"\",Vrijwilligersregister!C856)","v":""},{"$f":"IF(ISBLANK(Vrijwilligersregister!C856)=TRUE,\"\",SUMIF('Nominatieve lijst'!$D$10:$D$3009,C856,'Nominatieve lijst'!$G$10:$G$3009))","v":""},{"$f":"IF(ISBLANK(Vrijwilligersregister!C856)=TRUE,\"\",SUMIF('Nominatieve lijst'!$D$10:$D$3009,C856,'Nominatieve lijst'!$H$10:$H$3009))","v":""},{"$f":"IF(ISBLANK(Vrijwilligersregister!C856)=TRUE,\"\",SUMIF('Nominatieve lijst'!$D$10:$D$3009,C856,'Nominatieve lijst'!$J$10:$J$3009))","v":""},{"$f":"IF(ISBLANK(Vrijwilligersregister!C856)=TRUE,\"\",D856+F856)","v":""},{"$f":"Vrijwilligersregister!L856","v":0}]
[null,849,{"$f":"IF(ISBLANK(Vrijwilligersregister!C857)=TRUE,\"\",Vrijwilligersregister!C857)","v":""},{"$f":"IF(ISBLANK(Vrijwilligersregister!C857)=TRUE,\"\",SUMIF('Nominatieve lijst'!$D$10:$D$3009,C857,'Nominatieve lijst'!$G$10:$G$3009))","v":""},{"$f":"IF(ISBLANK(Vrijwilligersregister!C857)=TRUE,\"\",SUMIF('Nominatieve lijst'!$D$10:$D$3009,C857,'Nominatieve lijst'!$H$10:$H$3009))","v":""},{"$f":"IF(ISBLANK(Vrijwilligersregister!C857)=TRUE,\"\",SUMIF('Nominatieve lijst'!$D$10:$D$3009,C857,'Nominatieve lijst'!$J$10:$J$3009))","v":""},{"$f":"IF(ISBLANK(Vrijwilligersregister!C857)=TRUE,\"\",D857+F857)","v":""},{"$f":"Vrijwilligersregister!L857","v":0}]
[null,850,{"$f":"IF(ISBLANK(Vrijwilligersregister!C858)=TRUE,\"\",Vrijwilligersregister!C858)","v":""},{"$f":"IF(ISBLANK(Vrijwilligersregister!C858)=TRUE,\"\",SUMIF('Nominatieve lijst'!$D$10:$D$3009,C858,'Nominatieve lijst'!$G$10:$G$3009))","v":""},{"$f":"IF(ISBLANK(Vrijwilligersregister!C858)=TRUE,\"\",SUMIF('Nominatieve lijst'!$D$10:$D$3009,C858,'Nominatieve lijst'!$H$10:$H$3009))","v":""},{"$f":"IF(ISBLANK(Vrijwilligersregister!C858)=TRUE,\"\",SUMIF('Nominatieve lijst'!$D$10:$D$3009,C858,'Nominatieve lijst'!$J$10:$J$3009))","v":""},{"$f":"IF(ISBLANK(Vrijwilligersregister!C858)=TRUE,\"\",D858+F858)","v":""},{"$f":"Vrijwilligersregister!L858","v":0}]
[null,851,{"$f":"IF(ISBLANK(Vrijwilligersregister!C859)=TRUE,\"\",Vrijwilligersregister!C859)","v":""},{"$f":"IF(ISBLANK(Vrijwilligersregister!C859)=TRUE,\"\",SUMIF('Nominatieve lijst'!$D$10:$D$3009,C859,'Nominatieve lijst'!$G$10:$G$3009))","v":""},{"$f":"IF(ISBLANK(Vrijwilligersregister!C859)=TRUE,\"\",SUMIF('Nominatieve lijst'!$D$10:$D$3009,C859,'Nominatieve lijst'!$H$10:$H$3009))","v":""},{"$f":"IF(ISBLANK(Vrijwilligersregister!C859)=TRUE,\"\",SUMIF('Nominatieve lijst'!$D$10:$D$3009,C859,'Nominatieve lijst'!$J$10:$J$3009))","v":""},{"$f":"IF(ISBLANK(Vrijwilligersregister!C859)=TRUE,\"\",D859+F859)","v":""},{"$f":"Vrijwilligersregister!L859","v":0}]
[null,852,{"$f":"IF(ISBLANK(Vrijwilligersregister!C860)=TRUE,\"\",Vrijwilligersregister!C860)","v":""},{"$f":"IF(ISBLANK(Vrijwilligersregister!C860)=TRUE,\"\",SUMIF('Nominatieve lijst'!$D$10:$D$3009,C860,'Nominatieve lijst'!$G$10:$G$3009))","v":""},{"$f":"IF(ISBLANK(Vrijwilligersregister!C860)=TRUE,\"\",SUMIF('Nominatieve lijst'!$D$10:$D$3009,C860,'Nominatieve lijst'!$H$10:$H$3009))","v":""},{"$f":"IF(ISBLANK(Vrijwilligersregister!C860)=TRUE,\"\",SUMIF('Nominatieve lijst'!$D$10:$D$3009,C860,'Nominatieve lijst'!$J$10:$J$3009))","v":""},{"$f":"IF(ISBLANK(Vrijwilligersregister!C860)=TRUE,\"\",D860+F860)","v":""},{"$f":"Vrijwilligersregister!L860","v":0}]
[null,853,{"$f":"IF(ISBLANK(Vrijwilligersregister!C861)=TRUE,\"\",Vrijwilligersregister!C861)","v":""},{"$f":"IF(ISBLANK(Vrijwilligersregister!C861)=TRUE,\"\",SUMIF('Nominatieve lijst'!$D$10:$D$3009,C861,'Nominatieve lijst'!$G$10:$G$3009))","v":""},{"$f":"IF(ISBLANK(Vrijwilligersregister!C861)=TRUE,\"\",SUMIF('Nominatieve lijst'!$D$10:$D$3009,C861,'Nominatieve lijst'!$H$10:$H$3009))","v":""},{"$f":"IF(ISBLANK(Vrijwilligersregister!C861)=TRUE,\"\",SUMIF('Nominatieve lijst'!$D$10:$D$3009,C861,'Nominatieve lijst'!$J$10:$J$3009))","v":""},{"$f":"IF(ISBLANK(Vrijwilligersregister!C861)=TRUE,\"\",D861+F861)","v":""},{"$f":"Vrijwilligersregister!L861","v":0}]
[null,854,{"$f":"IF(ISBLANK(Vrijwilligersregister!C862)=TRUE,\"\",Vrijwilligersregister!C862)","v":""},{"$f":"IF(ISBLANK(Vrijwilligersregister!C862)=TRUE,\"\",SUMIF('Nominatieve lijst'!$D$10:$D$3009,C862,'Nominatieve lijst'!$G$10:$G$3009))","v":""},{"$f":"IF(ISBLANK(Vrijwilligersregister!C862)=TRUE,\"\",SUMIF('Nominatieve lijst'!$D$10:$D$3009,C862,'Nominatieve lijst'!$H$10:$H$3009))","v":""},{"$f":"IF(ISBLANK(Vrijwilligersregister!C862)=TRUE,\"\",SUMIF('Nominatieve lijst'!$D$10:$D$3009,C862,'Nominatieve lijst'!$J$10:$J$3009))","v":""},{"$f":"IF(ISBLANK(Vrijwilligersregister!C862)=TRUE,\"\",D862+F862)","v":""},{"$f":"Vrijwilligersregister!L862","v":0}]
[null,855,{"$f":"IF(ISBLANK(Vrijwilligersregister!C863)=TRUE,\"\",Vrijwilligersregister!C863)","v":""},{"$f":"IF(ISBLANK(Vrijwilligersregister!C863)=TRUE,\"\",SUMIF('Nominatieve lijst'!$D$10:$D$3009,C863,'Nominatieve lijst'!$G$10:$G$3009))","v":""},{"$f":"IF(ISBLANK(Vrijwilligersregister!C863)=TRUE,\"\",SUMIF('Nominatieve lijst'!$D$10:$D$3009,C863,'Nominatieve lijst'!$H$10:$H$3009))","v":""},{"$f":"IF(ISBLANK(Vrijwilligersregister!C863)=TRUE,\"\",SUMIF('Nominatieve lijst'!$D$10:$D$3009,C863,'Nominatieve lijst'!$J$10:$J$3009))","v":""},{"$f":"IF(ISBLANK(Vrijwilligersregister!C863)=TRUE,\"\",D863+F863)","v":""},{"$f":"Vrijwilligersregister!L863","v":0}]
[null,856,{"$f":"IF(ISBLANK(Vrijwilligersregister!C864)=TRUE,\"\",Vrijwilligersregister!C864)","v":""},{"$f":"IF(ISBLANK(Vrijwilligersregister!C864)=TRUE,\"\",SUMIF('Nominatieve lijst'!$D$10:$D$3009,C864,'Nominatieve lijst'!$G$10:$G$3009))","v":""},{"$f":"IF(ISBLANK(Vrijwilligersregister!C864)=TRUE,\"\",SUMIF('Nominatieve lijst'!$D$10:$D$3009,C864,'Nominatieve lijst'!$H$10:$H$3009))","v":""},{"$f":"IF(ISBLANK(Vrijwilligersregister!C864)=TRUE,\"\",SUMIF('Nominatieve lijst'!$D$10:$D$3009,C864,'Nominatieve lijst'!$J$10:$J$3009))","v":""},{"$f":"IF(ISBLANK(Vrijwilligersregister!C864)=TRUE,\"\",D864+F864)","v":""},{"$f":"Vrijwilligersregister!L864","v":0}]
[null,857,{"$f":"IF(ISBLANK(Vrijwilligersregister!C865)=TRUE,\"\",Vrijwilligersregister!C865)","v":""},{"$f":"IF(ISBLANK(Vrijwilligersregister!C865)=TRUE,\"\",SUMIF('Nominatieve lijst'!$D$10:$D$3009,C865,'Nominatieve lijst'!$G$10:$G$3009))","v":""},{"$f":"IF(ISBLANK(Vrijwilligersregister!C865)=TRUE,\"\",SUMIF('Nominatieve lijst'!$D$10:$D$3009,C865,'Nominatieve lijst'!$H$10:$H$3009))","v":""},{"$f":"IF(ISBLANK(Vrijwilligersregister!C865)=TRUE,\"\",SUMIF('Nominatieve lijst'!$D$10:$D$3009,C865,'Nominatieve lijst'!$J$10:$J$3009))","v":""},{"$f":"IF(ISBLANK(Vrijwilligersregister!C865)=TRUE,\"\",D865+F865)","v":""},{"$f":"Vrijwilligersregister!L865","v":0}]
[null,858,{"$f":"IF(ISBLANK(Vrijwilligersregister!C866)=TRUE,\"\",Vrijwilligersregister!C866)","v":""},{"$f":"IF(ISBLANK(Vrijwilligersregister!C866)=TRUE,\"\",SUMIF('Nominatieve lijst'!$D$10:$D$3009,C866,'Nominatieve lijst'!$G$10:$G$3009))","v":""},{"$f":"IF(ISBLANK(Vrijwilligersregister!C866)=TRUE,\"\",SUMIF('Nominatieve lijst'!$D$10:$D$3009,C866,'Nominatieve lijst'!$H$10:$H$3009))","v":""},{"$f":"IF(ISBLANK(Vrijwilligersregister!C866)=TRUE,\"\",SUMIF('Nominatieve lijst'!$D$10:$D$3009,C866,'Nominatieve lijst'!$J$10:$J$3009))","v":""},{"$f":"IF(ISBLANK(Vrijwilligersregister!C866)=TRUE,\"\",D866+F866)","v":""},{"$f":"Vrijwilligersregister!L866","v":0}]
[null,859,{"$f":"IF(ISBLANK(Vrijwilligersregister!C867)=TRUE,\"\",Vrijwilligersregister!C867)","v":""},{"$f":"IF(ISBLANK(Vrijwilligersregister!C867)=TRUE,\"\",SUMIF('Nominatieve lijst'!$D$10:$D$3009,C867,'Nominatieve lijst'!$G$10:$G$3009))","v":""},{"$f":"IF(ISBLANK(Vrijwilligersregister!C867)=TRUE,\"\",SUMIF('Nominatieve lijst'!$D$10:$D$3009,C867,'Nominatieve lijst'!$H$10:$H$3009))","v":""},{"$f":"IF(ISBLANK(Vrijwilligersregister!C867)=TRUE,\"\",SUMIF('Nominatieve lijst'!$D$10:$D$3009,C867,'Nominatieve lijst'!$J$10:$J$3009))","v":""},{"$f":"IF(ISBLANK(Vrijwilligersregister!C867)=TRUE,\"\",D867+F867)","v":""},{"$f":"Vrijwilligersregister!L867","v":0}]
[null,860,{"$f":"IF(ISBLANK(Vrijwilligersregister!C868)=TRUE,\"\",Vrijwilligersregister!C868)","v":""},{"$f":"IF(ISBLANK(Vrijwilligersregister!C868)=TRUE,\"\",SUMIF('Nominatieve lijst'!$D$10:$D$3009,C868,'Nominatieve lijst'!$G$10:$G$3009))","v":""},{"$f":"IF(ISBLANK(Vrijwilligersregister!C868)=TRUE,\"\",SUMIF('Nominatieve lijst'!$D$10:$D$3009,C868,'Nominatieve lijst'!$H$10:$H$3009))","v":""},{"$f":"IF(ISBLANK(Vrijwilligersregister!C868)=TRUE,\"\",SUMIF('Nominatieve lijst'!$D$10:$D$3009,C868,'Nominatieve lijst'!$J$10:$J$3009))","v":""},{"$f":"IF(ISBLANK(Vrijwilligersregister!C868)=TRUE,\"\",D868+F868)","v":""},{"$f":"Vrijwilligersregister!L868","v":0}]
[null,861,{"$f":"IF(ISBLANK(Vrijwilligersregister!C869)=TRUE,\"\",Vrijwilligersregister!C869)","v":""},{"$f":"IF(ISBLANK(Vrijwilligersregister!C869)=TRUE,\"\",SUMIF('Nominatieve lijst'!$D$10:$D$3009,C869,'Nominatieve lijst'!$G$10:$G$3009))","v":""},{"$f":"IF(ISBLANK(Vrijwilligersregister!C869)=TRUE,\"\",SUMIF('Nominatieve lijst'!$D$10:$D$3009,C869,'Nominatieve lijst'!$H$10:$H$3009))","v":""},{"$f":"IF(ISBLANK(Vrijwilligersregister!C869)=TRUE,\"\",SUMIF('Nominatieve lijst'!$D$10:$D$3009,C869,'Nominatieve lijst'!$J$10:$J$3009))","v":""},{"$f":"IF(ISBLANK(Vrijwilligersregister!C869)=TRUE,\"\",D869+F869)","v":""},{"$f":"Vrijwilligersregister!L869","v":0}]
[null,862,{"$f":"IF(ISBLANK(Vrijwilligersregister!C870)=TRUE,\"\",Vrijwilligersregister!C870)","v":""},{"$f":"IF(ISBLANK(Vrijwilligersregister!C870)=TRUE,\"\",SUMIF('Nominatieve lijst'!$D$10:$D$3009,C870,'Nominatieve lijst'!$G$10:$G$3009))","v":""},{"$f":"IF(ISBLANK(Vrijwilligersregister!C870)=TRUE,\"\",SUMIF('Nominatieve lijst'!$D$10:$D$3009,C870,'Nominatieve lijst'!$H$10:$H$3009))","v":""},{"$f":"IF(ISBLANK(Vrijwilligersregister!C870)=TRUE,\"\",SUMIF('Nominatieve lijst'!$D$10:$D$3009,C870,'Nominatieve lijst'!$J$10:$J$3009))","v":""},{"$f":"IF(ISBLANK(Vrijwilligersregister!C870)=TRUE,\"\",D870+F870)","v":""},{"$f":"Vrijwilligersregister!L870","v":0}]
[null,863,{"$f":"IF(ISBLANK(Vrijwilligersregister!C871)=TRUE,\"\",Vrijwilligersregister!C871)","v":""},{"$f":"IF(ISBLANK(Vrijwilligersregister!C871)=TRUE,\"\",SUMIF('Nominatieve lijst'!$D$10:$D$3009,C871,'Nominatieve lijst'!$G$10:$G$3009))","v":""},{"$f":"IF(ISBLANK(Vrijwilligersregister!C871)=TRUE,\"\",SUMIF('Nominatieve lijst'!$D$10:$D$3009,C871,'Nominatieve lijst'!$H$10:$H$3009))","v":""},{"$f":"IF(ISBLANK(Vrijwilligersregister!C871)=TRUE,\"\",SUMIF('Nominatieve lijst'!$D$10:$D$3009,C871,'Nominatieve lijst'!$J$10:$J$3009))","v":""},{"$f":"IF(ISBLANK(Vrijwilligersregister!C871)=TRUE,\"\",D871+F871)","v":""},{"$f":"Vrijwilligersregister!L871","v":0}]
[null,864,{"$f":"IF(ISBLANK(Vrijwilligersregister!C872)=TRUE,\"\",Vrijwilligersregister!C872)","v":""},{"$f":"IF(ISBLANK(Vrijwilligersregister!C872)=TRUE,\"\",SUMIF('Nominatieve lijst'!$D$10:$D$3009,C872,'Nominatieve lijst'!$G$10:$G$3009))","v":""},{"$f":"IF(ISBLANK(Vrijwilligersregister!C872)=TRUE,\"\",SUMIF('Nominatieve lijst'!$D$10:$D$3009,C872,'Nominatieve lijst'!$H$10:$H$3009))","v":""},{"$f":"IF(ISBLANK(Vrijwilligersregister!C872)=TRUE,\"\",SUMIF('Nominatieve lijst'!$D$10:$D$3009,C872,'Nominatieve lijst'!$J$10:$J$3009))","v":""},{"$f":"IF(ISBLANK(Vrijwilligersregister!C872)=TRUE,\"\",D872+F872)","v":""},{"$f":"Vrijwilligersregister!L872","v":0}]
[null,865,{"$f":"IF(ISBLANK(Vrijwilligersregister!C873)=TRUE,\"\",Vrijwilligersregister!C873)","v":""},{"$f":"IF(ISBLANK(Vrijwilligersregister!C873)=TRUE,\"\",SUMIF('Nominatieve lijst'!$D$10:$D$3009,C873,'Nominatieve lijst'!$G$10:$G$3009))","v":""},{"$f":"IF(ISBLANK(Vrijwilligersregister!C873)=TRUE,\"\",SUMIF('Nominatieve lijst'!$D$10:$D$3009,C873,'Nominatieve lijst'!$H$10:$H$3009))","v":""},{"$f":"IF(ISBLANK(Vrijwilligersregister!C873)=TRUE,\"\",SUMIF('Nominatieve lijst'!$D$10:$D$3009,C873,'Nominatieve lijst'!$J$10:$J$3009))","v":""},{"$f":"IF(ISBLANK(Vrijwilligersregister!C873)=TRUE,\"\",D873+F873)","v":""},{"$f":"Vrijwilligersregister!L873","v":0}]
[null,866,{"$f":"IF(ISBLANK(Vrijwilligersregister!C874)=TRUE,\"\",Vrijwilligersregister!C874)","v":""},{"$f":"IF(ISBLANK(Vrijwilligersregister!C874)=TRUE,\"\",SUMIF('Nominatieve lijst'!$D$10:$D$3009,C874,'Nominatieve lijst'!$G$10:$G$3009))","v":""},{"$f":"IF(ISBLANK(Vrijwilligersregister!C874)=TRUE,\"\",SUMIF('Nominatieve lijst'!$D$10:$D$3009,C874,'Nominatieve lijst'!$H$10:$H$3009))","v":""},{"$f":"IF(ISBLANK(Vrijwilligersregister!C874)=TRUE,\"\",SUMIF('Nominatieve lijst'!$D$10:$D$3009,C874,'Nominatieve lijst'!$J$10:$J$3009))","v":""},{"$f":"IF(ISBLANK(Vrijwilligersregister!C874)=TRUE,\"\",D874+F874)","v":""},{"$f":"Vrijwilligersregister!L874","v":0}]
[null,867,{"$f":"IF(ISBLANK(Vrijwilligersregister!C875)=TRUE,\"\",Vrijwilligersregister!C875)","v":""},{"$f":"IF(ISBLANK(Vrijwilligersregister!C875)=TRUE,\"\",SUMIF('Nominatieve lijst'!$D$10:$D$3009,C875,'Nominatieve lijst'!$G$10:$G$3009))","v":""},{"$f":"IF(ISBLANK(Vrijwilligersregister!C875)=TRUE,\"\",SUMIF('Nominatieve lijst'!$D$10:$D$3009,C875,'Nominatieve lijst'!$H$10:$H$3009))","v":""},{"$f":"IF(ISBLANK(Vrijwilligersregister!C875)=TRUE,\"\",SUMIF('Nominatieve lijst'!$D$10:$D$3009,C875,'Nominatieve lijst'!$J$10:$J$3009))","v":""},{"$f":"IF(ISBLANK(Vrijwilligersregister!C875)=TRUE,\"\",D875+F875)","v":""},{"$f":"Vrijwilligersregister!L875","v":0}]
[null,868,{"$f":"IF(ISBLANK(Vrijwilligersregister!C876)=TRUE,\"\",Vrijwilligersregister!C876)","v":""},{"$f":"IF(ISBLANK(Vrijwilligersregister!C876)=TRUE,\"\",SUMIF('Nominatieve lijst'!$D$10:$D$3009,C876,'Nominatieve lijst'!$G$10:$G$3009))","v":""},{"$f":"IF(ISBLANK(Vrijwilligersregister!C876)=TRUE,\"\",SUMIF('Nominatieve lijst'!$D$10:$D$3009,C876,'Nominatieve lijst'!$H$10:$H$3009))","v":""},{"$f":"IF(ISBLANK(Vrijwilligersregister!C876)=TRUE,\"\",SUMIF('Nominatieve lijst'!$D$10:$D$3009,C876,'Nominatieve lijst'!$J$10:$J$3009))","v":""},{"$f":"IF(ISBLANK(Vrijwilligersregister!C876)=TRUE,\"\",D876+F876)","v":""},{"$f":"Vrijwilligersregister!L876","v":0}]
[null,869,{"$f":"IF(ISBLANK(Vrijwilligersregister!C877)=TRUE,\"\",Vrijwilligersregister!C877)","v":""},{"$f":"IF(ISBLANK(Vrijwilligersregister!C877)=TRUE,\"\",SUMIF('Nominatieve lijst'!$D$10:$D$3009,C877,'Nominatieve lijst'!$G$10:$G$3009))","v":""},{"$f":"IF(ISBLANK(Vrijwilligersregister!C877)=TRUE,\"\",SUMIF('Nominatieve lijst'!$D$10:$D$3009,C877,'Nominatieve lijst'!$H$10:$H$3009))","v":""},{"$f":"IF(ISBLANK(Vrijwilligersregister!C877)=TRUE,\"\",SUMIF('Nominatieve lijst'!$D$10:$D$3009,C877,'Nominatieve lijst'!$J$10:$J$3009))","v":""},{"$f":"IF(ISBLANK(Vrijwilligersregister!C877)=TRUE,\"\",D877+F877)","v":""},{"$f":"Vrijwilligersregister!L877","v":0}]
[null,870,{"$f":"IF(ISBLANK(Vrijwilligersregister!C878)=TRUE,\"\",Vrijwilligersregister!C878)","v":""},{"$f":"IF(ISBLANK(Vrijwilligersregister!C878)=TRUE,\"\",SUMIF('Nominatieve lijst'!$D$10:$D$3009,C878,'Nominatieve lijst'!$G$10:$G$3009))","v":""},{"$f":"IF(ISBLANK(Vrijwilligersregister!C878)=TRUE,\"\",SUMIF('Nominatieve lijst'!$D$10:$D$3009,C878,'Nominatieve lijst'!$H$10:$H$3009))","v":""},{"$f":"IF(ISBLANK(Vrijwilligersregister!C878)=TRUE,\"\",SUMIF('Nominatieve lijst'!$D$10:$D$3009,C878,'Nominatieve lijst'!$J$10:$J$3009))","v":""},{"$f":"IF(ISBLANK(Vrijwilligersregister!C878)=TRUE,\"\",D878+F878)","v":""},{"$f":"Vrijwilligersregister!L878","v":0}]
[null,871,{"$f":"IF(ISBLANK(Vrijwilligersregister!C879)=TRUE,\"\",Vrijwilligersregister!C879)","v":""},{"$f":"IF(ISBLANK(Vrijwilligersregister!C879)=TRUE,\"\",SUMIF('Nominatieve lijst'!$D$10:$D$3009,C879,'Nominatieve lijst'!$G$10:$G$3009))","v":""},{"$f":"IF(ISBLANK(Vrijwilligersregister!C879)=TRUE,\"\",SUMIF('Nominatieve lijst'!$D$10:$D$3009,C879,'Nominatieve lijst'!$H$10:$H$3009))","v":""},{"$f":"IF(ISBLANK(Vrijwilligersregister!C879)=TRUE,\"\",SUMIF('Nominatieve lijst'!$D$10:$D$3009,C879,'Nominatieve lijst'!$J$10:$J$3009))","v":""},{"$f":"IF(ISBLANK(Vrijwilligersregister!C879)=TRUE,\"\",D879+F879)","v":""},{"$f":"Vrijwilligersregister!L879","v":0}]
[null,872,{"$f":"IF(ISBLANK(Vrijwilligersregister!C880)=TRUE,\"\",Vrijwilligersregister!C880)","v":""},{"$f":"IF(ISBLANK(Vrijwilligersregister!C880)=TRUE,\"\",SUMIF('Nominatieve lijst'!$D$10:$D$3009,C880,'Nominatieve lijst'!$G$10:$G$3009))","v":""},{"$f":"IF(ISBLANK(Vrijwilligersregister!C880)=TRUE,\"\",SUMIF('Nominatieve lijst'!$D$10:$D$3009,C880,'Nominatieve lijst'!$H$10:$H$3009))","v":""},{"$f":"IF(ISBLANK(Vrijwilligersregister!C880)=TRUE,\"\",SUMIF('Nominatieve lijst'!$D$10:$D$3009,C880,'Nominatieve lijst'!$J$10:$J$3009))","v":""},{"$f":"IF(ISBLANK(Vrijwilligersregister!C880)=TRUE,\"\",D880+F880)","v":""},{"$f":"Vrijwilligersregister!L880","v":0}]
[null,873,{"$f":"IF(ISBLANK(Vrijwilligersregister!C881)=TRUE,\"\",Vrijwilligersregister!C881)","v":""},{"$f":"IF(ISBLANK(Vrijwilligersregister!C881)=TRUE,\"\",SUMIF('Nominatieve lijst'!$D$10:$D$3009,C881,'Nominatieve lijst'!$G$10:$G$3009))","v":""},{"$f":"IF(ISBLANK(Vrijwilligersregister!C881)=TRUE,\"\",SUMIF('Nominatieve lijst'!$D$10:$D$3009,C881,'Nominatieve lijst'!$H$10:$H$3009))","v":""},{"$f":"IF(ISBLANK(Vrijwilligersregister!C881)=TRUE,\"\",SUMIF('Nominatieve lijst'!$D$10:$D$3009,C881,'Nominatieve lijst'!$J$10:$J$3009))","v":""},{"$f":"IF(ISBLANK(Vrijwilligersregister!C881)=TRUE,\"\",D881+F881)","v":""},{"$f":"Vrijwilligersregister!L881","v":0}]
[null,874,{"$f":"IF(ISBLANK(Vrijwilligersregister!C882)=TRUE,\"\",Vrijwilligersregister!C882)","v":""},{"$f":"IF(ISBLANK(Vrijwilligersregister!C882)=TRUE,\"\",SUMIF('Nominatieve lijst'!$D$10:$D$3009,C882,'Nominatieve lijst'!$G$10:$G$3009))","v":""},{"$f":"IF(ISBLANK(Vrijwilligersregister!C882)=TRUE,\"\",SUMIF('Nominatieve lijst'!$D$10:$D$3009,C882,'Nominatieve lijst'!$H$10:$H$3009))","v":""},{"$f":"IF(ISBLANK(Vrijwilligersregister!C882)=TRUE,\"\",SUMIF('Nominatieve lijst'!$D$10:$D$3009,C882,'Nominatieve lijst'!$J$10:$J$3009))","v":""},{"$f":"IF(ISBLANK(Vrijwilligersregister!C882)=TRUE,\"\",D882+F882)","v":""},{"$f":"Vrijwilligersregister!L882","v":0}]
[null,875,{"$f":"IF(ISBLANK(Vrijwilligersregister!C883)=TRUE,\"\",Vrijwilligersregister!C883)","v":""},{"$f":"IF(ISBLANK(Vrijwilligersregister!C883)=TRUE,\"\",SUMIF('Nominatieve lijst'!$D$10:$D$3009,C883,'Nominatieve lijst'!$G$10:$G$3009))","v":""},{"$f":"IF(ISBLANK(Vrijwilligersregister!C883)=TRUE,\"\",SUMIF('Nominatieve lijst'!$D$10:$D$3009,C883,'Nominatieve lijst'!$H$10:$H$3009))","v":""},{"$f":"IF(ISBLANK(Vrijwilligersregister!C883)=TRUE,\"\",SUMIF('Nominatieve lijst'!$D$10:$D$3009,C883,'Nominatieve lijst'!$J$10:$J$3009))","v":""},{"$f":"IF(ISBLANK(Vrijwilligersregister!C883)=TRUE,\"\",D883+F883)","v":""},{"$f":"Vrijwilligersregister!L883","v":0}]
[null,876,{"$f":"IF(ISBLANK(Vrijwilligersregister!C884)=TRUE,\"\",Vrijwilligersregister!C884)","v":""},{"$f":"IF(ISBLANK(Vrijwilligersregister!C884)=TRUE,\"\",SUMIF('Nominatieve lijst'!$D$10:$D$3009,C884,'Nominatieve lijst'!$G$10:$G$3009))","v":""},{"$f":"IF(ISBLANK(Vrijwilligersregister!C884)=TRUE,\"\",SUMIF('Nominatieve lijst'!$D$10:$D$3009,C884,'Nominatieve lijst'!$H$10:$H$3009))","v":""},{"$f":"IF(ISBLANK(Vrijwilligersregister!C884)=TRUE,\"\",SUMIF('Nominatieve lijst'!$D$10:$D$3009,C884,'Nominatieve lijst'!$J$10:$J$3009))","v":""},{"$f":"IF(ISBLANK(Vrijwilligersregister!C884)=TRUE,\"\",D884+F884)","v":""},{"$f":"Vrijwilligersregister!L884","v":0}]
[null,877,{"$f":"IF(ISBLANK(Vrijwilligersregister!C885)=TRUE,\"\",Vrijwilligersregister!C885)","v":""},{"$f":"IF(ISBLANK(Vrijwilligersregister!C885)=TRUE,\"\",SUMIF('Nominatieve lijst'!$D$10:$D$3009,C885,'Nominatieve lijst'!$G$10:$G$3009))","v":""},{"$f":"IF(ISBLANK(Vrijwilligersregister!C885)=TRUE,\"\",SUMIF('Nominatieve lijst'!$D$10:$D$3009,C885,'Nominatieve lijst'!$H$10:$H$3009))","v":""},{"$f":"IF(ISBLANK(Vrijwilligersregister!C885)=TRUE,\"\",SUMIF('Nominatieve lijst'!$D$10:$D$3009,C885,'Nominatieve lijst'!$J$10:$J$3009))","v":""},{"$f":"IF(ISBLANK(Vrijwilligersregister!C885)=TRUE,\"\",D885+F885)","v":""},{"$f":"Vrijwilligersregister!L885","v":0}]
[null,878,{"$f":"IF(ISBLANK(Vrijwilligersregister!C886)=TRUE,\"\",Vrijwilligersregister!C886)","v":""},{"$f":"IF(ISBLANK(Vrijwilligersregister!C886)=TRUE,\"\",SUMIF('Nominatieve lijst'!$D$10:$D$3009,C886,'Nominatieve lijst'!$G$10:$G$3009))","v":""},{"$f":"IF(ISBLANK(Vrijwilligersregister!C886)=TRUE,\"\",SUMIF('Nominatieve lijst'!$D$10:$D$3009,C886,'Nominatieve lijst'!$H$10:$H$3009))","v":""},{"$f":"IF(ISBLANK(Vrijwilligersregister!C886)=TRUE,\"\",SUMIF('Nominatieve lijst'!$D$10:$D$3009,C886,'Nominatieve lijst'!$J$10:$J$3009))","v":""},{"$f":"IF(ISBLANK(Vrijwilligersregister!C886)=TRUE,\"\",D886+F886)","v":""},{"$f":"Vrijwilligersregister!L886","v":0}]
[null,879,{"$f":"IF(ISBLANK(Vrijwilligersregister!C887)=TRUE,\"\",Vrijwilligersregister!C887)","v":""},{"$f":"IF(ISBLANK(Vrijwilligersregister!C887)=TRUE,\"\",SUMIF('Nominatieve lijst'!$D$10:$D$3009,C887,'Nominatieve lijst'!$G$10:$G$3009))","v":""},{"$f":"IF(ISBLANK(Vrijwilligersregister!C887)=TRUE,\"\",SUMIF('Nominatieve lijst'!$D$10:$D$3009,C887,'Nominatieve lijst'!$H$10:$H$3009))","v":""},{"$f":"IF(ISBLANK(Vrijwilligersregister!C887)=TRUE,\"\",SUMIF('Nominatieve lijst'!$D$10:$D$3009,C887,'Nominatieve lijst'!$J$10:$J$3009))","v":""},{"$f":"IF(ISBLANK(Vrijwilligersregister!C887)=TRUE,\"\",D887+F887)","v":""},{"$f":"Vrijwilligersregister!L887","v":0}]
[null,880,{"$f":"IF(ISBLANK(Vrijwilligersregister!C888)=TRUE,\"\",Vrijwilligersregister!C888)","v":""},{"$f":"IF(ISBLANK(Vrijwilligersregister!C888)=TRUE,\"\",SUMIF('Nominatieve lijst'!$D$10:$D$3009,C888,'Nominatieve lijst'!$G$10:$G$3009))","v":""},{"$f":"IF(ISBLANK(Vrijwilligersregister!C888)=TRUE,\"\",SUMIF('Nominatieve lijst'!$D$10:$D$3009,C888,'Nominatieve lijst'!$H$10:$H$3009))","v":""},{"$f":"IF(ISBLANK(Vrijwilligersregister!C888)=TRUE,\"\",SUMIF('Nominatieve lijst'!$D$10:$D$3009,C888,'Nominatieve lijst'!$J$10:$J$3009))","v":""},{"$f":"IF(ISBLANK(Vrijwilligersregister!C888)=TRUE,\"\",D888+F888)","v":""},{"$f":"Vrijwilligersregister!L888","v":0}]
[null,881,{"$f":"IF(ISBLANK(Vrijwilligersregister!C889)=TRUE,\"\",Vrijwilligersregister!C889)","v":""},{"$f":"IF(ISBLANK(Vrijwilligersregister!C889)=TRUE,\"\",SUMIF('Nominatieve lijst'!$D$10:$D$3009,C889,'Nominatieve lijst'!$G$10:$G$3009))","v":""},{"$f":"IF(ISBLANK(Vrijwilligersregister!C889)=TRUE,\"\",SUMIF('Nominatieve lijst'!$D$10:$D$3009,C889,'Nominatieve lijst'!$H$10:$H$3009))","v":""},{"$f":"IF(ISBLANK(Vrijwilligersregister!C889)=TRUE,\"\",SUMIF('Nominatieve lijst'!$D$10:$D$3009,C889,'Nominatieve lijst'!$J$10:$J$3009))","v":""},{"$f":"IF(ISBLANK(Vrijwilligersregister!C889)=TRUE,\"\",D889+F889)","v":""},{"$f":"Vrijwilligersregister!L889","v":0}]
[null,882,{"$f":"IF(ISBLANK(Vrijwilligersregister!C890)=TRUE,\"\",Vrijwilligersregister!C890)","v":""},{"$f":"IF(ISBLANK(Vrijwilligersregister!C890)=TRUE,\"\",SUMIF('Nominatieve lijst'!$D$10:$D$3009,C890,'Nominatieve lijst'!$G$10:$G$3009))","v":""},{"$f":"IF(ISBLANK(Vrijwilligersregister!C890)=TRUE,\"\",SUMIF('Nominatieve lijst'!$D$10:$D$3009,C890,'Nominatieve lijst'!$H$10:$H$3009))","v":""},{"$f":"IF(ISBLANK(Vrijwilligersregister!C890)=TRUE,\"\",SUMIF('Nominatieve lijst'!$D$10:$D$3009,C890,'Nominatieve lijst'!$J$10:$J$3009))","v":""},{"$f":"IF(ISBLANK(Vrijwilligersregister!C890)=TRUE,\"\",D890+F890)","v":""},{"$f":"Vrijwilligersregister!L890","v":0}]
[null,883,{"$f":"IF(ISBLANK(Vrijwilligersregister!C891)=TRUE,\"\",Vrijwilligersregister!C891)","v":""},{"$f":"IF(ISBLANK(Vrijwilligersregister!C891)=TRUE,\"\",SUMIF('Nominatieve lijst'!$D$10:$D$3009,C891,'Nominatieve lijst'!$G$10:$G$3009))","v":""},{"$f":"IF(ISBLANK(Vrijwilligersregister!C891)=TRUE,\"\",SUMIF('Nominatieve lijst'!$D$10:$D$3009,C891,'Nominatieve lijst'!$H$10:$H$3009))","v":""},{"$f":"IF(ISBLANK(Vrijwilligersregister!C891)=TRUE,\"\",SUMIF('Nominatieve lijst'!$D$10:$D$3009,C891,'Nominatieve lijst'!$J$10:$J$3009))","v":""},{"$f":"IF(ISBLANK(Vrijwilligersregister!C891)=TRUE,\"\",D891+F891)","v":""},{"$f":"Vrijwilligersregister!L891","v":0}]
[null,884,{"$f":"IF(ISBLANK(Vrijwilligersregister!C892)=TRUE,\"\",Vrijwilligersregister!C892)","v":""},{"$f":"IF(ISBLANK(Vrijwilligersregister!C892)=TRUE,\"\",SUMIF('Nominatieve lijst'!$D$10:$D$3009,C892,'Nominatieve lijst'!$G$10:$G$3009))","v":""},{"$f":"IF(ISBLANK(Vrijwilligersregister!C892)=TRUE,\"\",SUMIF('Nominatieve lijst'!$D$10:$D$3009,C892,'Nominatieve lijst'!$H$10:$H$3009))","v":""},{"$f":"IF(ISBLANK(Vrijwilligersregister!C892)=TRUE,\"\",SUMIF('Nominatieve lijst'!$D$10:$D$3009,C892,'Nominatieve lijst'!$J$10:$J$3009))","v":""},{"$f":"IF(ISBLANK(Vrijwilligersregister!C892)=TRUE,\"\",D892+F892)","v":""},{"$f":"Vrijwilligersregister!L892","v":0}]
[null,885,{"$f":"IF(ISBLANK(Vrijwilligersregister!C893)=TRUE,\"\",Vrijwilligersregister!C893)","v":""},{"$f":"IF(ISBLANK(Vrijwilligersregister!C893)=TRUE,\"\",SUMIF('Nominatieve lijst'!$D$10:$D$3009,C893,'Nominatieve lijst'!$G$10:$G$3009))","v":""},{"$f":"IF(ISBLANK(Vrijwilligersregister!C893)=TRUE,\"\",SUMIF('Nominatieve lijst'!$D$10:$D$3009,C893,'Nominatieve lijst'!$H$10:$H$3009))","v":""},{"$f":"IF(ISBLANK(Vrijwilligersregister!C893)=TRUE,\"\",SUMIF('Nominatieve lijst'!$D$10:$D$3009,C893,'Nominatieve lijst'!$J$10:$J$3009))","v":""},{"$f":"IF(ISBLANK(Vrijwilligersregister!C893)=TRUE,\"\",D893+F893)","v":""},{"$f":"Vrijwilligersregister!L893","v":0}]
[null,886,{"$f":"IF(ISBLANK(Vrijwilligersregister!C894)=TRUE,\"\",Vrijwilligersregister!C894)","v":""},{"$f":"IF(ISBLANK(Vrijwilligersregister!C894)=TRUE,\"\",SUMIF('Nominatieve lijst'!$D$10:$D$3009,C894,'Nominatieve lijst'!$G$10:$G$3009))","v":""},{"$f":"IF(ISBLANK(Vrijwilligersregister!C894)=TRUE,\"\",SUMIF('Nominatieve lijst'!$D$10:$D$3009,C894,'Nominatieve lijst'!$H$10:$H$3009))","v":""},{"$f":"IF(ISBLANK(Vrijwilligersregister!C894)=TRUE,\"\",SUMIF('Nominatieve lijst'!$D$10:$D$3009,C894,'Nominatieve lijst'!$J$10:$J$3009))","v":""},{"$f":"IF(ISBLANK(Vrijwilligersregister!C894)=TRUE,\"\",D894+F894)","v":""},{"$f":"Vrijwilligersregister!L894","v":0}]
[null,887,{"$f":"IF(ISBLANK(Vrijwilligersregister!C895)=TRUE,\"\",Vrijwilligersregister!C895)","v":""},{"$f":"IF(ISBLANK(Vrijwilligersregister!C895)=TRUE,\"\",SUMIF('Nominatieve lijst'!$D$10:$D$3009,C895,'Nominatieve lijst'!$G$10:$G$3009))","v":""},{"$f":"IF(ISBLANK(Vrijwilligersregister!C895)=TRUE,\"\",SUMIF('Nominatieve lijst'!$D$10:$D$3009,C895,'Nominatieve lijst'!$H$10:$H$3009))","v":""},{"$f":"IF(ISBLANK(Vrijwilligersregister!C895)=TRUE,\"\",SUMIF('Nominatieve lijst'!$D$10:$D$3009,C895,'Nominatieve lijst'!$J$10:$J$3009))","v":""},{"$f":"IF(ISBLANK(Vrijwilligersregister!C895)=TRUE,\"\",D895+F895)","v":""},{"$f":"Vrijwilligersregister!L895","v":0}]
[null,888,{"$f":"IF(ISBLANK(Vrijwilligersregister!C896)=TRUE,\"\",Vrijwilligersregister!C896)","v":""},{"$f":"IF(ISBLANK(Vrijwilligersregister!C896)=TRUE,\"\",SUMIF('Nominatieve lijst'!$D$10:$D$3009,C896,'Nominatieve lijst'!$G$10:$G$3009))","v":""},{"$f":"IF(ISBLANK(Vrijwilligersregister!C896)=TRUE,\"\",SUMIF('Nominatieve lijst'!$D$10:$D$3009,C896,'Nominatieve lijst'!$H$10:$H$3009))","v":""},{"$f":"IF(ISBLANK(Vrijwilligersregister!C896)=TRUE,\"\",SUMIF('Nominatieve lijst'!$D$10:$D$3009,C896,'Nominatieve lijst'!$J$10:$J$3009))","v":""},{"$f":"IF(ISBLANK(Vrijwilligersregister!C896)=TRUE,\"\",D896+F896)","v":""},{"$f":"Vrijwilligersregister!L896","v":0}]
[null,889,{"$f":"IF(ISBLANK(Vrijwilligersregister!C897)=TRUE,\"\",Vrijwilligersregister!C897)","v":""},{"$f":"IF(ISBLANK(Vrijwilligersregister!C897)=TRUE,\"\",SUMIF('Nominatieve lijst'!$D$10:$D$3009,C897,'Nominatieve lijst'!$G$10:$G$3009))","v":""},{"$f":"IF(ISBLANK(Vrijwilligersregister!C897)=TRUE,\"\",SUMIF('Nominatieve lijst'!$D$10:$D$3009,C897,'Nominatieve lijst'!$H$10:$H$3009))","v":""},{"$f":"IF(ISBLANK(Vrijwilligersregister!C897)=TRUE,\"\",SUMIF('Nominatieve lijst'!$D$10:$D$3009,C897,'Nominatieve lijst'!$J$10:$J$3009))","v":""},{"$f":"IF(ISBLANK(Vrijwilligersregister!C897)=TRUE,\"\",D897+F897)","v":""},{"$f":"Vrijwilligersregister!L897","v":0}]
[null,890,{"$f":"IF(ISBLANK(Vrijwilligersregister!C898)=TRUE,\"\",Vrijwilligersregister!C898)","v":""},{"$f":"IF(ISBLANK(Vrijwilligersregister!C898)=TRUE,\"\",SUMIF('Nominatieve lijst'!$D$10:$D$3009,C898,'Nominatieve lijst'!$G$10:$G$3009))","v":""},{"$f":"IF(ISBLANK(Vrijwilligersregister!C898)=TRUE,\"\",SUMIF('Nominatieve lijst'!$D$10:$D$3009,C898,'Nominatieve lijst'!$H$10:$H$3009))","v":""},{"$f":"IF(ISBLANK(Vrijwilligersregister!C898)=TRUE,\"\",SUMIF('Nominatieve lijst'!$D$10:$D$3009,C898,'Nominatieve lijst'!$J$10:$J$3009))","v":""},{"$f":"IF(ISBLANK(Vrijwilligersregister!C898)=TRUE,\"\",D898+F898)","v":""},{"$f":"Vrijwilligersregister!L898","v":0}]
[null,891,{"$f":"IF(ISBLANK(Vrijwilligersregister!C899)=TRUE,\"\",Vrijwilligersregister!C899)","v":""},{"$f":"IF(ISBLANK(Vrijwilligersregister!C899)=TRUE,\"\",SUMIF('Nominatieve lijst'!$D$10:$D$3009,C899,'Nominatieve lijst'!$G$10:$G$3009))","v":""},{"$f":"IF(ISBLANK(Vrijwilligersregister!C899)=TRUE,\"\",SUMIF('Nominatieve lijst'!$D$10:$D$3009,C899,'Nominatieve lijst'!$H$10:$H$3009))","v":""},{"$f":"IF(ISBLANK(Vrijwilligersregister!C899)=TRUE,\"\",SUMIF('Nominatieve lijst'!$D$10:$D$3009,C899,'Nominatieve lijst'!$J$10:$J$3009))","v":""},{"$f":"IF(ISBLANK(Vrijwilligersregister!C899)=TRUE,\"\",D899+F899)","v":""},{"$f":"Vrijwilligersregister!L899","v":0}]
[null,892,{"$f":"IF(ISBLANK(Vrijwilligersregister!C900)=TRUE,\"\",Vrijwilligersregister!C900)","v":""},{"$f":"IF(ISBLANK(Vrijwilligersregister!C900)=TRUE,\"\",SUMIF('Nominatieve lijst'!$D$10:$D$3009,C900,'Nominatieve lijst'!$G$10:$G$3009))","v":""},{"$f":"IF(ISBLANK(Vrijwilligersregister!C900)=TRUE,\"\",SUMIF('Nominatieve lijst'!$D$10:$D$3009,C900,'Nominatieve lijst'!$H$10:$H$3009))","v":""},{"$f":"IF(ISBLANK(Vrijwilligersregister!C900)=TRUE,\"\",SUMIF('Nominatieve lijst'!$D$10:$D$3009,C900,'Nominatieve lijst'!$J$10:$J$3009))","v":""},{"$f":"IF(ISBLANK(Vrijwilligersregister!C900)=TRUE,\"\",D900+F900)","v":""},{"$f":"Vrijwilligersregister!L900","v":0}]
[null,893,{"$f":"IF(ISBLANK(Vrijwilligersregister!C901)=TRUE,\"\",Vrijwilligersregister!C901)","v":""},{"$f":"IF(ISBLANK(Vrijwilligersregister!C901)=TRUE,\"\",SUMIF('Nominatieve lijst'!$D$10:$D$3009,C901,'Nominatieve lijst'!$G$10:$G$3009))","v":""},{"$f":"IF(ISBLANK(Vrijwilligersregister!C901)=TRUE,\"\",SUMIF('Nominatieve lijst'!$D$10:$D$3009,C901,'Nominatieve lijst'!$H$10:$H$3009))","v":""},{"$f":"IF(ISBLANK(Vrijwilligersregister!C901)=TRUE,\"\",SUMIF('Nominatieve lijst'!$D$10:$D$3009,C901,'Nominatieve lijst'!$J$10:$J$3009))","v":""},{"$f":"IF(ISBLANK(Vrijwilligersregister!C901)=TRUE,\"\",D901+F901)","v":""},{"$f":"Vrijwilligersregister!L901","v":0}]
[null,894,{"$f":"IF(ISBLANK(Vrijwilligersregister!C902)=TRUE,\"\",Vrijwilligersregister!C902)","v":""},{"$f":"IF(ISBLANK(Vrijwilligersregister!C902)=TRUE,\"\",SUMIF('Nominatieve lijst'!$D$10:$D$3009,C902,'Nominatieve lijst'!$G$10:$G$3009))","v":""},{"$f":"IF(ISBLANK(Vrijwilligersregister!C902)=TRUE,\"\",SUMIF('Nominatieve lijst'!$D$10:$D$3009,C902,'Nominatieve lijst'!$H$10:$H$3009))","v":""},{"$f":"IF(ISBLANK(Vrijwilligersregister!C902)=TRUE,\"\",SUMIF('Nominatieve lijst'!$D$10:$D$3009,C902,'Nominatieve lijst'!$J$10:$J$3009))","v":""},{"$f":"IF(ISBLANK(Vrijwilligersregister!C902)=TRUE,\"\",D902+F902)","v":""},{"$f":"Vrijwilligersregister!L902","v":0}]
[null,895,{"$f":"IF(ISBLANK(Vrijwilligersregister!C903)=TRUE,\"\",Vrijwilligersregister!C903)","v":""},{"$f":"IF(ISBLANK(Vrijwilligersregister!C903)=TRUE,\"\",SUMIF('Nominatieve lijst'!$D$10:$D$3009,C903,'Nominatieve lijst'!$G$10:$G$3009))","v":""},{"$f":"IF(ISBLANK(Vrijwilligersregister!C903)=TRUE,\"\",SUMIF('Nominatieve lijst'!$D$10:$D$3009,C903,'Nominatieve lijst'!$H$10:$H$3009))","v":""},{"$f":"IF(ISBLANK(Vrijwilligersregister!C903)=TRUE,\"\",SUMIF('Nominatieve lijst'!$D$10:$D$3009,C903,'Nominatieve lijst'!$J$10:$J$3009))","v":""},{"$f":"IF(ISBLANK(Vrijwilligersregister!C903)=TRUE,\"\",D903+F903)","v":""},{"$f":"Vrijwilligersregister!L903","v":0}]
[null,896,{"$f":"IF(ISBLANK(Vrijwilligersregister!C904)=TRUE,\"\",Vrijwilligersregister!C904)","v":""},{"$f":"IF(ISBLANK(Vrijwilligersregister!C904)=TRUE,\"\",SUMIF('Nominatieve lijst'!$D$10:$D$3009,C904,'Nominatieve lijst'!$G$10:$G$3009))","v":""},{"$f":"IF(ISBLANK(Vrijwilligersregister!C904)=TRUE,\"\",SUMIF('Nominatieve lijst'!$D$10:$D$3009,C904,'Nominatieve lijst'!$H$10:$H$3009))","v":""},{"$f":"IF(ISBLANK(Vrijwilligersregister!C904)=TRUE,\"\",SUMIF('Nominatieve lijst'!$D$10:$D$3009,C904,'Nominatieve lijst'!$J$10:$J$3009))","v":""},{"$f":"IF(ISBLANK(Vrijwilligersregister!C904)=TRUE,\"\",D904+F904)","v":""},{"$f":"Vrijwilligersregister!L904","v":0}]
[null,897,{"$f":"IF(ISBLANK(Vrijwilligersregister!C905)=TRUE,\"\",Vrijwilligersregister!C905)","v":""},{"$f":"IF(ISBLANK(Vrijwilligersregister!C905)=TRUE,\"\",SUMIF('Nominatieve lijst'!$D$10:$D$3009,C905,'Nominatieve lijst'!$G$10:$G$3009))","v":""},{"$f":"IF(ISBLANK(Vrijwilligersregister!C905)=TRUE,\"\",SUMIF('Nominatieve lijst'!$D$10:$D$3009,C905,'Nominatieve lijst'!$H$10:$H$3009))","v":""},{"$f":"IF(ISBLANK(Vrijwilligersregister!C905)=TRUE,\"\",SUMIF('Nominatieve lijst'!$D$10:$D$3009,C905,'Nominatieve lijst'!$J$10:$J$3009))","v":""},{"$f":"IF(ISBLANK(Vrijwilligersregister!C905)=TRUE,\"\",D905+F905)","v":""},{"$f":"Vrijwilligersregister!L905","v":0}]
[null,898,{"$f":"IF(ISBLANK(Vrijwilligersregister!C906)=TRUE,\"\",Vrijwilligersregister!C906)","v":""},{"$f":"IF(ISBLANK(Vrijwilligersregister!C906)=TRUE,\"\",SUMIF('Nominatieve lijst'!$D$10:$D$3009,C906,'Nominatieve lijst'!$G$10:$G$3009))","v":""},{"$f":"IF(ISBLANK(Vrijwilligersregister!C906)=TRUE,\"\",SUMIF('Nominatieve lijst'!$D$10:$D$3009,C906,'Nominatieve lijst'!$H$10:$H$3009))","v":""},{"$f":"IF(ISBLANK(Vrijwilligersregister!C906)=TRUE,\"\",SUMIF('Nominatieve lijst'!$D$10:$D$3009,C906,'Nominatieve lijst'!$J$10:$J$3009))","v":""},{"$f":"IF(ISBLANK(Vrijwilligersregister!C906)=TRUE,\"\",D906+F906)","v":""},{"$f":"Vrijwilligersregister!L906","v":0}]
[null,899,{"$f":"IF(ISBLANK(Vrijwilligersregister!C907)=TRUE,\"\",Vrijwilligersregister!C907)","v":""},{"$f":"IF(ISBLANK(Vrijwilligersregister!C907)=TRUE,\"\",SUMIF('Nominatieve lijst'!$D$10:$D$3009,C907,'Nominatieve lijst'!$G$10:$G$3009))","v":""},{"$f":"IF(ISBLANK(Vrijwilligersregister!C907)=TRUE,\"\",SUMIF('Nominatieve lijst'!$D$10:$D$3009,C907,'Nominatieve lijst'!$H$10:$H$3009))","v":""},{"$f":"IF(ISBLANK(Vrijwilligersregister!C907)=TRUE,\"\",SUMIF('Nominatieve lijst'!$D$10:$D$3009,C907,'Nominatieve lijst'!$J$10:$J$3009))","v":""},{"$f":"IF(ISBLANK(Vrijwilligersregister!C907)=TRUE,\"\",D907+F907)","v":""},{"$f":"Vrijwilligersregister!L907","v":0}]
[null,900,{"$f":"IF(ISBLANK(Vrijwilligersregister!C908)=TRUE,\"\",Vrijwilligersregister!C908)","v":""},{"$f":"IF(ISBLANK(Vrijwilligersregister!C908)=TRUE,\"\",SUMIF('Nominatieve lijst'!$D$10:$D$3009,C908,'Nominatieve lijst'!$G$10:$G$3009))","v":""},{"$f":"IF(ISBLANK(Vrijwilligersregister!C908)=TRUE,\"\",SUMIF('Nominatieve lijst'!$D$10:$D$3009,C908,'Nominatieve lijst'!$H$10:$H$3009))","v":""},{"$f":"IF(ISBLANK(Vrijwilligersregister!C908)=TRUE,\"\",SUMIF('Nominatieve lijst'!$D$10:$D$3009,C908,'Nominatieve lijst'!$J$10:$J$3009))","v":""},{"$f":"IF(ISBLANK(Vrijwilligersregister!C908)=TRUE,\"\",D908+F908)","v":""},{"$f":"Vrijwilligersregister!L908","v":0}]
[null,901,{"$f":"IF(ISBLANK(Vrijwilligersregister!C909)=TRUE,\"\",Vrijwilligersregister!C909)","v":""},{"$f":"IF(ISBLANK(Vrijwilligersregister!C909)=TRUE,\"\",SUMIF('Nominatieve lijst'!$D$10:$D$3009,C909,'Nominatieve lijst'!$G$10:$G$3009))","v":""},{"$f":"IF(ISBLANK(Vrijwilligersregister!C909)=TRUE,\"\",SUMIF('Nominatieve lijst'!$D$10:$D$3009,C909,'Nominatieve lijst'!$H$10:$H$3009))","v":""},{"$f":"IF(ISBLANK(Vrijwilligersregister!C909)=TRUE,\"\",SUMIF('Nominatieve lijst'!$D$10:$D$3009,C909,'Nominatieve lijst'!$J$10:$J$3009))","v":""},{"$f":"IF(ISBLANK(Vrijwilligersregister!C909)=TRUE,\"\",D909+F909)","v":""},{"$f":"Vrijwilligersregister!L909","v":0}]
[null,902,{"$f":"IF(ISBLANK(Vrijwilligersregister!C910)=TRUE,\"\",Vrijwilligersregister!C910)","v":""},{"$f":"IF(ISBLANK(Vrijwilligersregister!C910)=TRUE,\"\",SUMIF('Nominatieve lijst'!$D$10:$D$3009,C910,'Nominatieve lijst'!$G$10:$G$3009))","v":""},{"$f":"IF(ISBLANK(Vrijwilligersregister!C910)=TRUE,\"\",SUMIF('Nominatieve lijst'!$D$10:$D$3009,C910,'Nominatieve lijst'!$H$10:$H$3009))","v":""},{"$f":"IF(ISBLANK(Vrijwilligersregister!C910)=TRUE,\"\",SUMIF('Nominatieve lijst'!$D$10:$D$3009,C910,'Nominatieve lijst'!$J$10:$J$3009))","v":""},{"$f":"IF(ISBLANK(Vrijwilligersregister!C910)=TRUE,\"\",D910+F910)","v":""},{"$f":"Vrijwilligersregister!L910","v":0}]
[null,903,{"$f":"IF(ISBLANK(Vrijwilligersregister!C911)=TRUE,\"\",Vrijwilligersregister!C911)","v":""},{"$f":"IF(ISBLANK(Vrijwilligersregister!C911)=TRUE,\"\",SUMIF('Nominatieve lijst'!$D$10:$D$3009,C911,'Nominatieve lijst'!$G$10:$G$3009))","v":""},{"$f":"IF(ISBLANK(Vrijwilligersregister!C911)=TRUE,\"\",SUMIF('Nominatieve lijst'!$D$10:$D$3009,C911,'Nominatieve lijst'!$H$10:$H$3009))","v":""},{"$f":"IF(ISBLANK(Vrijwilligersregister!C911)=TRUE,\"\",SUMIF('Nominatieve lijst'!$D$10:$D$3009,C911,'Nominatieve lijst'!$J$10:$J$3009))","v":""},{"$f":"IF(ISBLANK(Vrijwilligersregister!C911)=TRUE,\"\",D911+F911)","v":""},{"$f":"Vrijwilligersregister!L911","v":0}]
[null,904,{"$f":"IF(ISBLANK(Vrijwilligersregister!C912)=TRUE,\"\",Vrijwilligersregister!C912)","v":""},{"$f":"IF(ISBLANK(Vrijwilligersregister!C912)=TRUE,\"\",SUMIF('Nominatieve lijst'!$D$10:$D$3009,C912,'Nominatieve lijst'!$G$10:$G$3009))","v":""},{"$f":"IF(ISBLANK(Vrijwilligersregister!C912)=TRUE,\"\",SUMIF('Nominatieve lijst'!$D$10:$D$3009,C912,'Nominatieve lijst'!$H$10:$H$3009))","v":""},{"$f":"IF(ISBLANK(Vrijwilligersregister!C912)=TRUE,\"\",SUMIF('Nominatieve lijst'!$D$10:$D$3009,C912,'Nominatieve lijst'!$J$10:$J$3009))","v":""},{"$f":"IF(ISBLANK(Vrijwilligersregister!C912)=TRUE,\"\",D912+F912)","v":""},{"$f":"Vrijwilligersregister!L912","v":0}]
[null,905,{"$f":"IF(ISBLANK(Vrijwilligersregister!C913)=TRUE,\"\",Vrijwilligersregister!C913)","v":""},{"$f":"IF(ISBLANK(Vrijwilligersregister!C913)=TRUE,\"\",SUMIF('Nominatieve lijst'!$D$10:$D$3009,C913,'Nominatieve lijst'!$G$10:$G$3009))","v":""},{"$f":"IF(ISBLANK(Vrijwilligersregister!C913)=TRUE,\"\",SUMIF('Nominatieve lijst'!$D$10:$D$3009,C913,'Nominatieve lijst'!$H$10:$H$3009))","v":""},{"$f":"IF(ISBLANK(Vrijwilligersregister!C913)=TRUE,\"\",SUMIF('Nominatieve lijst'!$D$10:$D$3009,C913,'Nominatieve lijst'!$J$10:$J$3009))","v":""},{"$f":"IF(ISBLANK(Vrijwilligersregister!C913)=TRUE,\"\",D913+F913)","v":""},{"$f":"Vrijwilligersregister!L913","v":0}]
[null,906,{"$f":"IF(ISBLANK(Vrijwilligersregister!C914)=TRUE,\"\",Vrijwilligersregister!C914)","v":""},{"$f":"IF(ISBLANK(Vrijwilligersregister!C914)=TRUE,\"\",SUMIF('Nominatieve lijst'!$D$10:$D$3009,C914,'Nominatieve lijst'!$G$10:$G$3009))","v":""},{"$f":"IF(ISBLANK(Vrijwilligersregister!C914)=TRUE,\"\",SUMIF('Nominatieve lijst'!$D$10:$D$3009,C914,'Nominatieve lijst'!$H$10:$H$3009))","v":""},{"$f":"IF(ISBLANK(Vrijwilligersregister!C914)=TRUE,\"\",SUMIF('Nominatieve lijst'!$D$10:$D$3009,C914,'Nominatieve lijst'!$J$10:$J$3009))","v":""},{"$f":"IF(ISBLANK(Vrijwilligersregister!C914)=TRUE,\"\",D914+F914)","v":""},{"$f":"Vrijwilligersregister!L914","v":0}]
[null,907,{"$f":"IF(ISBLANK(Vrijwilligersregister!C915)=TRUE,\"\",Vrijwilligersregister!C915)","v":""},{"$f":"IF(ISBLANK(Vrijwilligersregister!C915)=TRUE,\"\",SUMIF('Nominatieve lijst'!$D$10:$D$3009,C915,'Nominatieve lijst'!$G$10:$G$3009))","v":""},{"$f":"IF(ISBLANK(Vrijwilligersregister!C915)=TRUE,\"\",SUMIF('Nominatieve lijst'!$D$10:$D$3009,C915,'Nominatieve lijst'!$H$10:$H$3009))","v":""},{"$f":"IF(ISBLANK(Vrijwilligersregister!C915)=TRUE,\"\",SUMIF('Nominatieve lijst'!$D$10:$D$3009,C915,'Nominatieve lijst'!$J$10:$J$3009))","v":""},{"$f":"IF(ISBLANK(Vrijwilligersregister!C915)=TRUE,\"\",D915+F915)","v":""},{"$f":"Vrijwilligersregister!L915","v":0}]
[null,908,{"$f":"IF(ISBLANK(Vrijwilligersregister!C916)=TRUE,\"\",Vrijwilligersregister!C916)","v":""},{"$f":"IF(ISBLANK(Vrijwilligersregister!C916)=TRUE,\"\",SUMIF('Nominatieve lijst'!$D$10:$D$3009,C916,'Nominatieve lijst'!$G$10:$G$3009))","v":""},{"$f":"IF(ISBLANK(Vrijwilligersregister!C916)=TRUE,\"\",SUMIF('Nominatieve lijst'!$D$10:$D$3009,C916,'Nominatieve lijst'!$H$10:$H$3009))","v":""},{"$f":"IF(ISBLANK(Vrijwilligersregister!C916)=TRUE,\"\",SUMIF('Nominatieve lijst'!$D$10:$D$3009,C916,'Nominatieve lijst'!$J$10:$J$3009))","v":""},{"$f":"IF(ISBLANK(Vrijwilligersregister!C916)=TRUE,\"\",D916+F916)","v":""},{"$f":"Vrijwilligersregister!L916","v":0}]
[null,909,{"$f":"IF(ISBLANK(Vrijwilligersregister!C917)=TRUE,\"\",Vrijwilligersregister!C917)","v":""},{"$f":"IF(ISBLANK(Vrijwilligersregister!C917)=TRUE,\"\",SUMIF('Nominatieve lijst'!$D$10:$D$3009,C917,'Nominatieve lijst'!$G$10:$G$3009))","v":""},{"$f":"IF(ISBLANK(Vrijwilligersregister!C917)=TRUE,\"\",SUMIF('Nominatieve lijst'!$D$10:$D$3009,C917,'Nominatieve lijst'!$H$10:$H$3009))","v":""},{"$f":"IF(ISBLANK(Vrijwilligersregister!C917)=TRUE,\"\",SUMIF('Nominatieve lijst'!$D$10:$D$3009,C917,'Nominatieve lijst'!$J$10:$J$3009))","v":""},{"$f":"IF(ISBLANK(Vrijwilligersregister!C917)=TRUE,\"\",D917+F917)","v":""},{"$f":"Vrijwilligersregister!L917","v":0}]
[null,910,{"$f":"IF(ISBLANK(Vrijwilligersregister!C918)=TRUE,\"\",Vrijwilligersregister!C918)","v":""},{"$f":"IF(ISBLANK(Vrijwilligersregister!C918)=TRUE,\"\",SUMIF('Nominatieve lijst'!$D$10:$D$3009,C918,'Nominatieve lijst'!$G$10:$G$3009))","v":""},{"$f":"IF(ISBLANK(Vrijwilligersregister!C918)=TRUE,\"\",SUMIF('Nominatieve lijst'!$D$10:$D$3009,C918,'Nominatieve lijst'!$H$10:$H$3009))","v":""},{"$f":"IF(ISBLANK(Vrijwilligersregister!C918)=TRUE,\"\",SUMIF('Nominatieve lijst'!$D$10:$D$3009,C918,'Nominatieve lijst'!$J$10:$J$3009))","v":""},{"$f":"IF(ISBLANK(Vrijwilligersregister!C918)=TRUE,\"\",D918+F918)","v":""},{"$f":"Vrijwilligersregister!L918","v":0}]
[null,911,{"$f":"IF(ISBLANK(Vrijwilligersregister!C919)=TRUE,\"\",Vrijwilligersregister!C919)","v":""},{"$f":"IF(ISBLANK(Vrijwilligersregister!C919)=TRUE,\"\",SUMIF('Nominatieve lijst'!$D$10:$D$3009,C919,'Nominatieve lijst'!$G$10:$G$3009))","v":""},{"$f":"IF(ISBLANK(Vrijwilligersregister!C919)=TRUE,\"\",SUMIF('Nominatieve lijst'!$D$10:$D$3009,C919,'Nominatieve lijst'!$H$10:$H$3009))","v":""},{"$f":"IF(ISBLANK(Vrijwilligersregister!C919)=TRUE,\"\",SUMIF('Nominatieve lijst'!$D$10:$D$3009,C919,'Nominatieve lijst'!$J$10:$J$3009))","v":""},{"$f":"IF(ISBLANK(Vrijwilligersregister!C919)=TRUE,\"\",D919+F919)","v":""},{"$f":"Vrijwilligersregister!L919","v":0}]
[null,912,{"$f":"IF(ISBLANK(Vrijwilligersregister!C920)=TRUE,\"\",Vrijwilligersregister!C920)","v":""},{"$f":"IF(ISBLANK(Vrijwilligersregister!C920)=TRUE,\"\",SUMIF('Nominatieve lijst'!$D$10:$D$3009,C920,'Nominatieve lijst'!$G$10:$G$3009))","v":""},{"$f":"IF(ISBLANK(Vrijwilligersregister!C920)=TRUE,\"\",SUMIF('Nominatieve lijst'!$D$10:$D$3009,C920,'Nominatieve lijst'!$H$10:$H$3009))","v":""},{"$f":"IF(ISBLANK(Vrijwilligersregister!C920)=TRUE,\"\",SUMIF('Nominatieve lijst'!$D$10:$D$3009,C920,'Nominatieve lijst'!$J$10:$J$3009))","v":""},{"$f":"IF(ISBLANK(Vrijwilligersregister!C920)=TRUE,\"\",D920+F920)","v":""},{"$f":"Vrijwilligersregister!L920","v":0}]
[null,913,{"$f":"IF(ISBLANK(Vrijwilligersregister!C921)=TRUE,\"\",Vrijwilligersregister!C921)","v":""},{"$f":"IF(ISBLANK(Vrijwilligersregister!C921)=TRUE,\"\",SUMIF('Nominatieve lijst'!$D$10:$D$3009,C921,'Nominatieve lijst'!$G$10:$G$3009))","v":""},{"$f":"IF(ISBLANK(Vrijwilligersregister!C921)=TRUE,\"\",SUMIF('Nominatieve lijst'!$D$10:$D$3009,C921,'Nominatieve lijst'!$H$10:$H$3009))","v":""},{"$f":"IF(ISBLANK(Vrijwilligersregister!C921)=TRUE,\"\",SUMIF('Nominatieve lijst'!$D$10:$D$3009,C921,'Nominatieve lijst'!$J$10:$J$3009))","v":""},{"$f":"IF(ISBLANK(Vrijwilligersregister!C921)=TRUE,\"\",D921+F921)","v":""},{"$f":"Vrijwilligersregister!L921","v":0}]
[null,914,{"$f":"IF(ISBLANK(Vrijwilligersregister!C922)=TRUE,\"\",Vrijwilligersregister!C922)","v":""},{"$f":"IF(ISBLANK(Vrijwilligersregister!C922)=TRUE,\"\",SUMIF('Nominatieve lijst'!$D$10:$D$3009,C922,'Nominatieve lijst'!$G$10:$G$3009))","v":""},{"$f":"IF(ISBLANK(Vrijwilligersregister!C922)=TRUE,\"\",SUMIF('Nominatieve lijst'!$D$10:$D$3009,C922,'Nominatieve lijst'!$H$10:$H$3009))","v":""},{"$f":"IF(ISBLANK(Vrijwilligersregister!C922)=TRUE,\"\",SUMIF('Nominatieve lijst'!$D$10:$D$3009,C922,'Nominatieve lijst'!$J$10:$J$3009))","v":""},{"$f":"IF(ISBLANK(Vrijwilligersregister!C922)=TRUE,\"\",D922+F922)","v":""},{"$f":"Vrijwilligersregister!L922","v":0}]
[null,915,{"$f":"IF(ISBLANK(Vrijwilligersregister!C923)=TRUE,\"\",Vrijwilligersregister!C923)","v":""},{"$f":"IF(ISBLANK(Vrijwilligersregister!C923)=TRUE,\"\",SUMIF('Nominatieve lijst'!$D$10:$D$3009,C923,'Nominatieve lijst'!$G$10:$G$3009))","v":""},{"$f":"IF(ISBLANK(Vrijwilligersregister!C923)=TRUE,\"\",SUMIF('Nominatieve lijst'!$D$10:$D$3009,C923,'Nominatieve lijst'!$H$10:$H$3009))","v":""},{"$f":"IF(ISBLANK(Vrijwilligersregister!C923)=TRUE,\"\",SUMIF('Nominatieve lijst'!$D$10:$D$3009,C923,'Nominatieve lijst'!$J$10:$J$3009))","v":""},{"$f":"IF(ISBLANK(Vrijwilligersregister!C923)=TRUE,\"\",D923+F923)","v":""},{"$f":"Vrijwilligersregister!L923","v":0}]
[null,916,{"$f":"IF(ISBLANK(Vrijwilligersregister!C924)=TRUE,\"\",Vrijwilligersregister!C924)","v":""},{"$f":"IF(ISBLANK(Vrijwilligersregister!C924)=TRUE,\"\",SUMIF('Nominatieve lijst'!$D$10:$D$3009,C924,'Nominatieve lijst'!$G$10:$G$3009))","v":""},{"$f":"IF(ISBLANK(Vrijwilligersregister!C924)=TRUE,\"\",SUMIF('Nominatieve lijst'!$D$10:$D$3009,C924,'Nominatieve lijst'!$H$10:$H$3009))","v":""},{"$f":"IF(ISBLANK(Vrijwilligersregister!C924)=TRUE,\"\",SUMIF('Nominatieve lijst'!$D$10:$D$3009,C924,'Nominatieve lijst'!$J$10:$J$3009))","v":""},{"$f":"IF(ISBLANK(Vrijwilligersregister!C924)=TRUE,\"\",D924+F924)","v":""},{"$f":"Vrijwilligersregister!L924","v":0}]
[null,917,{"$f":"IF(ISBLANK(Vrijwilligersregister!C925)=TRUE,\"\",Vrijwilligersregister!C925)","v":""},{"$f":"IF(ISBLANK(Vrijwilligersregister!C925)=TRUE,\"\",SUMIF('Nominatieve lijst'!$D$10:$D$3009,C925,'Nominatieve lijst'!$G$10:$G$3009))","v":""},{"$f":"IF(ISBLANK(Vrijwilligersregister!C925)=TRUE,\"\",SUMIF('Nominatieve lijst'!$D$10:$D$3009,C925,'Nominatieve lijst'!$H$10:$H$3009))","v":""},{"$f":"IF(ISBLANK(Vrijwilligersregister!C925)=TRUE,\"\",SUMIF('Nominatieve lijst'!$D$10:$D$3009,C925,'Nominatieve lijst'!$J$10:$J$3009))","v":""},{"$f":"IF(ISBLANK(Vrijwilligersregister!C925)=TRUE,\"\",D925+F925)","v":""},{"$f":"Vrijwilligersregister!L925","v":0}]
[null,918,{"$f":"IF(ISBLANK(Vrijwilligersregister!C926)=TRUE,\"\",Vrijwilligersregister!C926)","v":""},{"$f":"IF(ISBLANK(Vrijwilligersregister!C926)=TRUE,\"\",SUMIF('Nominatieve lijst'!$D$10:$D$3009,C926,'Nominatieve lijst'!$G$10:$G$3009))","v":""},{"$f":"IF(ISBLANK(Vrijwilligersregister!C926)=TRUE,\"\",SUMIF('Nominatieve lijst'!$D$10:$D$3009,C926,'Nominatieve lijst'!$H$10:$H$3009))","v":""},{"$f":"IF(ISBLANK(Vrijwilligersregister!C926)=TRUE,\"\",SUMIF('Nominatieve lijst'!$D$10:$D$3009,C926,'Nominatieve lijst'!$J$10:$J$3009))","v":""},{"$f":"IF(ISBLANK(Vrijwilligersregister!C926)=TRUE,\"\",D926+F926)","v":""},{"$f":"Vrijwilligersregister!L926","v":0}]
[null,919,{"$f":"IF(ISBLANK(Vrijwilligersregister!C927)=TRUE,\"\",Vrijwilligersregister!C927)","v":""},{"$f":"IF(ISBLANK(Vrijwilligersregister!C927)=TRUE,\"\",SUMIF('Nominatieve lijst'!$D$10:$D$3009,C927,'Nominatieve lijst'!$G$10:$G$3009))","v":""},{"$f":"IF(ISBLANK(Vrijwilligersregister!C927)=TRUE,\"\",SUMIF('Nominatieve lijst'!$D$10:$D$3009,C927,'Nominatieve lijst'!$H$10:$H$3009))","v":""},{"$f":"IF(ISBLANK(Vrijwilligersregister!C927)=TRUE,\"\",SUMIF('Nominatieve lijst'!$D$10:$D$3009,C927,'Nominatieve lijst'!$J$10:$J$3009))","v":""},{"$f":"IF(ISBLANK(Vrijwilligersregister!C927)=TRUE,\"\",D927+F927)","v":""},{"$f":"Vrijwilligersregister!L927","v":0}]
[null,920,{"$f":"IF(ISBLANK(Vrijwilligersregister!C928)=TRUE,\"\",Vrijwilligersregister!C928)","v":""},{"$f":"IF(ISBLANK(Vrijwilligersregister!C928)=TRUE,\"\",SUMIF('Nominatieve lijst'!$D$10:$D$3009,C928,'Nominatieve lijst'!$G$10:$G$3009))","v":""},{"$f":"IF(ISBLANK(Vrijwilligersregister!C928)=TRUE,\"\",SUMIF('Nominatieve lijst'!$D$10:$D$3009,C928,'Nominatieve lijst'!$H$10:$H$3009))","v":""},{"$f":"IF(ISBLANK(Vrijwilligersregister!C928)=TRUE,\"\",SUMIF('Nominatieve lijst'!$D$10:$D$3009,C928,'Nominatieve lijst'!$J$10:$J$3009))","v":""},{"$f":"IF(ISBLANK(Vrijwilligersregister!C928)=TRUE,\"\",D928+F928)","v":""},{"$f":"Vrijwilligersregister!L928","v":0}]
[null,921,{"$f":"IF(ISBLANK(Vrijwilligersregister!C929)=TRUE,\"\",Vrijwilligersregister!C929)","v":""},{"$f":"IF(ISBLANK(Vrijwilligersregister!C929)=TRUE,\"\",SUMIF('Nominatieve lijst'!$D$10:$D$3009,C929,'Nominatieve lijst'!$G$10:$G$3009))","v":""},{"$f":"IF(ISBLANK(Vrijwilligersregister!C929)=TRUE,\"\",SUMIF('Nominatieve lijst'!$D$10:$D$3009,C929,'Nominatieve lijst'!$H$10:$H$3009))","v":""},{"$f":"IF(ISBLANK(Vrijwilligersregister!C929)=TRUE,\"\",SUMIF('Nominatieve lijst'!$D$10:$D$3009,C929,'Nominatieve lijst'!$J$10:$J$3009))","v":""},{"$f":"IF(ISBLANK(Vrijwilligersregister!C929)=TRUE,\"\",D929+F929)","v":""},{"$f":"Vrijwilligersregister!L929","v":0}]
[null,922,{"$f":"IF(ISBLANK(Vrijwilligersregister!C930)=TRUE,\"\",Vrijwilligersregister!C930)","v":""},{"$f":"IF(ISBLANK(Vrijwilligersregister!C930)=TRUE,\"\",SUMIF('Nominatieve lijst'!$D$10:$D$3009,C930,'Nominatieve lijst'!$G$10:$G$3009))","v":""},{"$f":"IF(ISBLANK(Vrijwilligersregister!C930)=TRUE,\"\",SUMIF('Nominatieve lijst'!$D$10:$D$3009,C930,'Nominatieve lijst'!$H$10:$H$3009))","v":""},{"$f":"IF(ISBLANK(Vrijwilligersregister!C930)=TRUE,\"\",SUMIF('Nominatieve lijst'!$D$10:$D$3009,C930,'Nominatieve lijst'!$J$10:$J$3009))","v":""},{"$f":"IF(ISBLANK(Vrijwilligersregister!C930)=TRUE,\"\",D930+F930)","v":""},{"$f":"Vrijwilligersregister!L930","v":0}]
[null,923,{"$f":"IF(ISBLANK(Vrijwilligersregister!C931)=TRUE,\"\",Vrijwilligersregister!C931)","v":""},{"$f":"IF(ISBLANK(Vrijwilligersregister!C931)=TRUE,\"\",SUMIF('Nominatieve lijst'!$D$10:$D$3009,C931,'Nominatieve lijst'!$G$10:$G$3009))","v":""},{"$f":"IF(ISBLANK(Vrijwilligersregister!C931)=TRUE,\"\",SUMIF('Nominatieve lijst'!$D$10:$D$3009,C931,'Nominatieve lijst'!$H$10:$H$3009))","v":""},{"$f":"IF(ISBLANK(Vrijwilligersregister!C931)=TRUE,\"\",SUMIF('Nominatieve lijst'!$D$10:$D$3009,C931,'Nominatieve lijst'!$J$10:$J$3009))","v":""},{"$f":"IF(ISBLANK(Vrijwilligersregister!C931)=TRUE,\"\",D931+F931)","v":""},{"$f":"Vrijwilligersregister!L931","v":0}]
[null,924,{"$f":"IF(ISBLANK(Vrijwilligersregister!C932)=TRUE,\"\",Vrijwilligersregister!C932)","v":""},{"$f":"IF(ISBLANK(Vrijwilligersregister!C932)=TRUE,\"\",SUMIF('Nominatieve lijst'!$D$10:$D$3009,C932,'Nominatieve lijst'!$G$10:$G$3009))","v":""},{"$f":"IF(ISBLANK(Vrijwilligersregister!C932)=TRUE,\"\",SUMIF('Nominatieve lijst'!$D$10:$D$3009,C932,'Nominatieve lijst'!$H$10:$H$3009))","v":""},{"$f":"IF(ISBLANK(Vrijwilligersregister!C932)=TRUE,\"\",SUMIF('Nominatieve lijst'!$D$10:$D$3009,C932,'Nominatieve lijst'!$J$10:$J$3009))","v":""},{"$f":"IF(ISBLANK(Vrijwilligersregister!C932)=TRUE,\"\",D932+F932)","v":""},{"$f":"Vrijwilligersregister!L932","v":0}]
[null,925,{"$f":"IF(ISBLANK(Vrijwilligersregister!C933)=TRUE,\"\",Vrijwilligersregister!C933)","v":""},{"$f":"IF(ISBLANK(Vrijwilligersregister!C933)=TRUE,\"\",SUMIF('Nominatieve lijst'!$D$10:$D$3009,C933,'Nominatieve lijst'!$G$10:$G$3009))","v":""},{"$f":"IF(ISBLANK(Vrijwilligersregister!C933)=TRUE,\"\",SUMIF('Nominatieve lijst'!$D$10:$D$3009,C933,'Nominatieve lijst'!$H$10:$H$3009))","v":""},{"$f":"IF(ISBLANK(Vrijwilligersregister!C933)=TRUE,\"\",SUMIF('Nominatieve lijst'!$D$10:$D$3009,C933,'Nominatieve lijst'!$J$10:$J$3009))","v":""},{"$f":"IF(ISBLANK(Vrijwilligersregister!C933)=TRUE,\"\",D933+F933)","v":""},{"$f":"Vrijwilligersregister!L933","v":0}]
[null,926,{"$f":"IF(ISBLANK(Vrijwilligersregister!C934)=TRUE,\"\",Vrijwilligersregister!C934)","v":""},{"$f":"IF(ISBLANK(Vrijwilligersregister!C934)=TRUE,\"\",SUMIF('Nominatieve lijst'!$D$10:$D$3009,C934,'Nominatieve lijst'!$G$10:$G$3009))","v":""},{"$f":"IF(ISBLANK(Vrijwilligersregister!C934)=TRUE,\"\",SUMIF('Nominatieve lijst'!$D$10:$D$3009,C934,'Nominatieve lijst'!$H$10:$H$3009))","v":""},{"$f":"IF(ISBLANK(Vrijwilligersregister!C934)=TRUE,\"\",SUMIF('Nominatieve lijst'!$D$10:$D$3009,C934,'Nominatieve lijst'!$J$10:$J$3009))","v":""},{"$f":"IF(ISBLANK(Vrijwilligersregister!C934)=TRUE,\"\",D934+F934)","v":""},{"$f":"Vrijwilligersregister!L934","v":0}]
[null,927,{"$f":"IF(ISBLANK(Vrijwilligersregister!C935)=TRUE,\"\",Vrijwilligersregister!C935)","v":""},{"$f":"IF(ISBLANK(Vrijwilligersregister!C935)=TRUE,\"\",SUMIF('Nominatieve lijst'!$D$10:$D$3009,C935,'Nominatieve lijst'!$G$10:$G$3009))","v":""},{"$f":"IF(ISBLANK(Vrijwilligersregister!C935)=TRUE,\"\",SUMIF('Nominatieve lijst'!$D$10:$D$3009,C935,'Nominatieve lijst'!$H$10:$H$3009))","v":""},{"$f":"IF(ISBLANK(Vrijwilligersregister!C935)=TRUE,\"\",SUMIF('Nominatieve lijst'!$D$10:$D$3009,C935,'Nominatieve lijst'!$J$10:$J$3009))","v":""},{"$f":"IF(ISBLANK(Vrijwilligersregister!C935)=TRUE,\"\",D935+F935)","v":""},{"$f":"Vrijwilligersregister!L935","v":0}]
[null,928,{"$f":"IF(ISBLANK(Vrijwilligersregister!C936)=TRUE,\"\",Vrijwilligersregister!C936)","v":""},{"$f":"IF(ISBLANK(Vrijwilligersregister!C936)=TRUE,\"\",SUMIF('Nominatieve lijst'!$D$10:$D$3009,C936,'Nominatieve lijst'!$G$10:$G$3009))","v":""},{"$f":"IF(ISBLANK(Vrijwilligersregister!C936)=TRUE,\"\",SUMIF('Nominatieve lijst'!$D$10:$D$3009,C936,'Nominatieve lijst'!$H$10:$H$3009))","v":""},{"$f":"IF(ISBLANK(Vrijwilligersregister!C936)=TRUE,\"\",SUMIF('Nominatieve lijst'!$D$10:$D$3009,C936,'Nominatieve lijst'!$J$10:$J$3009))","v":""},{"$f":"IF(ISBLANK(Vrijwilligersregister!C936)=TRUE,\"\",D936+F936)","v":""},{"$f":"Vrijwilligersregister!L936","v":0}]
[null,929,{"$f":"IF(ISBLANK(Vrijwilligersregister!C937)=TRUE,\"\",Vrijwilligersregister!C937)","v":""},{"$f":"IF(ISBLANK(Vrijwilligersregister!C937)=TRUE,\"\",SUMIF('Nominatieve lijst'!$D$10:$D$3009,C937,'Nominatieve lijst'!$G$10:$G$3009))","v":""},{"$f":"IF(ISBLANK(Vrijwilligersregister!C937)=TRUE,\"\",SUMIF('Nominatieve lijst'!$D$10:$D$3009,C937,'Nominatieve lijst'!$H$10:$H$3009))","v":""},{"$f":"IF(ISBLANK(Vrijwilligersregister!C937)=TRUE,\"\",SUMIF('Nominatieve lijst'!$D$10:$D$3009,C937,'Nominatieve lijst'!$J$10:$J$3009))","v":""},{"$f":"IF(ISBLANK(Vrijwilligersregister!C937)=TRUE,\"\",D937+F937)","v":""},{"$f":"Vrijwilligersregister!L937","v":0}]
[null,930,{"$f":"IF(ISBLANK(Vrijwilligersregister!C938)=TRUE,\"\",Vrijwilligersregister!C938)","v":""},{"$f":"IF(ISBLANK(Vrijwilligersregister!C938)=TRUE,\"\",SUMIF('Nominatieve lijst'!$D$10:$D$3009,C938,'Nominatieve lijst'!$G$10:$G$3009))","v":""},{"$f":"IF(ISBLANK(Vrijwilligersregister!C938)=TRUE,\"\",SUMIF('Nominatieve lijst'!$D$10:$D$3009,C938,'Nominatieve lijst'!$H$10:$H$3009))","v":""},{"$f":"IF(ISBLANK(Vrijwilligersregister!C938)=TRUE,\"\",SUMIF('Nominatieve lijst'!$D$10:$D$3009,C938,'Nominatieve lijst'!$J$10:$J$3009))","v":""},{"$f":"IF(ISBLANK(Vrijwilligersregister!C938)=TRUE,\"\",D938+F938)","v":""},{"$f":"Vrijwilligersregister!L938","v":0}]
[null,931,{"$f":"IF(ISBLANK(Vrijwilligersregister!C939)=TRUE,\"\",Vrijwilligersregister!C939)","v":""},{"$f":"IF(ISBLANK(Vrijwilligersregister!C939)=TRUE,\"\",SUMIF('Nominatieve lijst'!$D$10:$D$3009,C939,'Nominatieve lijst'!$G$10:$G$3009))","v":""},{"$f":"IF(ISBLANK(Vrijwilligersregister!C939)=TRUE,\"\",SUMIF('Nominatieve lijst'!$D$10:$D$3009,C939,'Nominatieve lijst'!$H$10:$H$3009))","v":""},{"$f":"IF(ISBLANK(Vrijwilligersregister!C939)=TRUE,\"\",SUMIF('Nominatieve lijst'!$D$10:$D$3009,C939,'Nominatieve lijst'!$J$10:$J$3009))","v":""},{"$f":"IF(ISBLANK(Vrijwilligersregister!C939)=TRUE,\"\",D939+F939)","v":""},{"$f":"Vrijwilligersregister!L939","v":0}]
[null,932,{"$f":"IF(ISBLANK(Vrijwilligersregister!C940)=TRUE,\"\",Vrijwilligersregister!C940)","v":""},{"$f":"IF(ISBLANK(Vrijwilligersregister!C940)=TRUE,\"\",SUMIF('Nominatieve lijst'!$D$10:$D$3009,C940,'Nominatieve lijst'!$G$10:$G$3009))","v":""},{"$f":"IF(ISBLANK(Vrijwilligersregister!C940)=TRUE,\"\",SUMIF('Nominatieve lijst'!$D$10:$D$3009,C940,'Nominatieve lijst'!$H$10:$H$3009))","v":""},{"$f":"IF(ISBLANK(Vrijwilligersregister!C940)=TRUE,\"\",SUMIF('Nominatieve lijst'!$D$10:$D$3009,C940,'Nominatieve lijst'!$J$10:$J$3009))","v":""},{"$f":"IF(ISBLANK(Vrijwilligersregister!C940)=TRUE,\"\",D940+F940)","v":""},{"$f":"Vrijwilligersregister!L940","v":0}]
[null,933,{"$f":"IF(ISBLANK(Vrijwilligersregister!C941)=TRUE,\"\",Vrijwilligersregister!C941)","v":""},{"$f":"IF(ISBLANK(Vrijwilligersregister!C941)=TRUE,\"\",SUMIF('Nominatieve lijst'!$D$10:$D$3009,C941,'Nominatieve lijst'!$G$10:$G$3009))","v":""},{"$f":"IF(ISBLANK(Vrijwilligersregister!C941)=TRUE,\"\",SUMIF('Nominatieve lijst'!$D$10:$D$3009,C941,'Nominatieve lijst'!$H$10:$H$3009))","v":""},{"$f":"IF(ISBLANK(Vrijwilligersregister!C941)=TRUE,\"\",SUMIF('Nominatieve lijst'!$D$10:$D$3009,C941,'Nominatieve lijst'!$J$10:$J$3009))","v":""},{"$f":"IF(ISBLANK(Vrijwilligersregister!C941)=TRUE,\"\",D941+F941)","v":""},{"$f":"Vrijwilligersregister!L941","v":0}]
[null,934,{"$f":"IF(ISBLANK(Vrijwilligersregister!C942)=TRUE,\"\",Vrijwilligersregister!C942)","v":""},{"$f":"IF(ISBLANK(Vrijwilligersregister!C942)=TRUE,\"\",SUMIF('Nominatieve lijst'!$D$10:$D$3009,C942,'Nominatieve lijst'!$G$10:$G$3009))","v":""},{"$f":"IF(ISBLANK(Vrijwilligersregister!C942)=TRUE,\"\",SUMIF('Nominatieve lijst'!$D$10:$D$3009,C942,'Nominatieve lijst'!$H$10:$H$3009))","v":""},{"$f":"IF(ISBLANK(Vrijwilligersregister!C942)=TRUE,\"\",SUMIF('Nominatieve lijst'!$D$10:$D$3009,C942,'Nominatieve lijst'!$J$10:$J$3009))","v":""},{"$f":"IF(ISBLANK(Vrijwilligersregister!C942)=TRUE,\"\",D942+F942)","v":""},{"$f":"Vrijwilligersregister!L942","v":0}]
[null,935,{"$f":"IF(ISBLANK(Vrijwilligersregister!C943)=TRUE,\"\",Vrijwilligersregister!C943)","v":""},{"$f":"IF(ISBLANK(Vrijwilligersregister!C943)=TRUE,\"\",SUMIF('Nominatieve lijst'!$D$10:$D$3009,C943,'Nominatieve lijst'!$G$10:$G$3009))","v":""},{"$f":"IF(ISBLANK(Vrijwilligersregister!C943)=TRUE,\"\",SUMIF('Nominatieve lijst'!$D$10:$D$3009,C943,'Nominatieve lijst'!$H$10:$H$3009))","v":""},{"$f":"IF(ISBLANK(Vrijwilligersregister!C943)=TRUE,\"\",SUMIF('Nominatieve lijst'!$D$10:$D$3009,C943,'Nominatieve lijst'!$J$10:$J$3009))","v":""},{"$f":"IF(ISBLANK(Vrijwilligersregister!C943)=TRUE,\"\",D943+F943)","v":""},{"$f":"Vrijwilligersregister!L943","v":0}]
[null,936,{"$f":"IF(ISBLANK(Vrijwilligersregister!C944)=TRUE,\"\",Vrijwilligersregister!C944)","v":""},{"$f":"IF(ISBLANK(Vrijwilligersregister!C944)=TRUE,\"\",SUMIF('Nominatieve lijst'!$D$10:$D$3009,C944,'Nominatieve lijst'!$G$10:$G$3009))","v":""},{"$f":"IF(ISBLANK(Vrijwilligersregister!C944)=TRUE,\"\",SUMIF('Nominatieve lijst'!$D$10:$D$3009,C944,'Nominatieve lijst'!$H$10:$H$3009))","v":""},{"$f":"IF(ISBLANK(Vrijwilligersregister!C944)=TRUE,\"\",SUMIF('Nominatieve lijst'!$D$10:$D$3009,C944,'Nominatieve lijst'!$J$10:$J$3009))","v":""},{"$f":"IF(ISBLANK(Vrijwilligersregister!C944)=TRUE,\"\",D944+F944)","v":""},{"$f":"Vrijwilligersregister!L944","v":0}]
[null,937,{"$f":"IF(ISBLANK(Vrijwilligersregister!C945)=TRUE,\"\",Vrijwilligersregister!C945)","v":""},{"$f":"IF(ISBLANK(Vrijwilligersregister!C945)=TRUE,\"\",SUMIF('Nominatieve lijst'!$D$10:$D$3009,C945,'Nominatieve lijst'!$G$10:$G$3009))","v":""},{"$f":"IF(ISBLANK(Vrijwilligersregister!C945)=TRUE,\"\",SUMIF('Nominatieve lijst'!$D$10:$D$3009,C945,'Nominatieve lijst'!$H$10:$H$3009))","v":""},{"$f":"IF(ISBLANK(Vrijwilligersregister!C945)=TRUE,\"\",SUMIF('Nominatieve lijst'!$D$10:$D$3009,C945,'Nominatieve lijst'!$J$10:$J$3009))","v":""},{"$f":"IF(ISBLANK(Vrijwilligersregister!C945)=TRUE,\"\",D945+F945)","v":""},{"$f":"Vrijwilligersregister!L945","v":0}]
[null,938,{"$f":"IF(ISBLANK(Vrijwilligersregister!C946)=TRUE,\"\",Vrijwilligersregister!C946)","v":""},{"$f":"IF(ISBLANK(Vrijwilligersregister!C946)=TRUE,\"\",SUMIF('Nominatieve lijst'!$D$10:$D$3009,C946,'Nominatieve lijst'!$G$10:$G$3009))","v":""},{"$f":"IF(ISBLANK(Vrijwilligersregister!C946)=TRUE,\"\",SUMIF('Nominatieve lijst'!$D$10:$D$3009,C946,'Nominatieve lijst'!$H$10:$H$3009))","v":""},{"$f":"IF(ISBLANK(Vrijwilligersregister!C946)=TRUE,\"\",SUMIF('Nominatieve lijst'!$D$10:$D$3009,C946,'Nominatieve lijst'!$J$10:$J$3009))","v":""},{"$f":"IF(ISBLANK(Vrijwilligersregister!C946)=TRUE,\"\",D946+F946)","v":""},{"$f":"Vrijwilligersregister!L946","v":0}]
[null,939,{"$f":"IF(ISBLANK(Vrijwilligersregister!C947)=TRUE,\"\",Vrijwilligersregister!C947)","v":""},{"$f":"IF(ISBLANK(Vrijwilligersregister!C947)=TRUE,\"\",SUMIF('Nominatieve lijst'!$D$10:$D$3009,C947,'Nominatieve lijst'!$G$10:$G$3009))","v":""},{"$f":"IF(ISBLANK(Vrijwilligersregister!C947)=TRUE,\"\",SUMIF('Nominatieve lijst'!$D$10:$D$3009,C947,'Nominatieve lijst'!$H$10:$H$3009))","v":""},{"$f":"IF(ISBLANK(Vrijwilligersregister!C947)=TRUE,\"\",SUMIF('Nominatieve lijst'!$D$10:$D$3009,C947,'Nominatieve lijst'!$J$10:$J$3009))","v":""},{"$f":"IF(ISBLANK(Vrijwilligersregister!C947)=TRUE,\"\",D947+F947)","v":""},{"$f":"Vrijwilligersregister!L947","v":0}]
[null,940,{"$f":"IF(ISBLANK(Vrijwilligersregister!C948)=TRUE,\"\",Vrijwilligersregister!C948)","v":""},{"$f":"IF(ISBLANK(Vrijwilligersregister!C948)=TRUE,\"\",SUMIF('Nominatieve lijst'!$D$10:$D$3009,C948,'Nominatieve lijst'!$G$10:$G$3009))","v":""},{"$f":"IF(ISBLANK(Vrijwilligersregister!C948)=TRUE,\"\",SUMIF('Nominatieve lijst'!$D$10:$D$3009,C948,'Nominatieve lijst'!$H$10:$H$3009))","v":""},{"$f":"IF(ISBLANK(Vrijwilligersregister!C948)=TRUE,\"\",SUMIF('Nominatieve lijst'!$D$10:$D$3009,C948,'Nominatieve lijst'!$J$10:$J$3009))","v":""},{"$f":"IF(ISBLANK(Vrijwilligersregister!C948)=TRUE,\"\",D948+F948)","v":""},{"$f":"Vrijwilligersregister!L948","v":0}]
[null,941,{"$f":"IF(ISBLANK(Vrijwilligersregister!C949)=TRUE,\"\",Vrijwilligersregister!C949)","v":""},{"$f":"IF(ISBLANK(Vrijwilligersregister!C949)=TRUE,\"\",SUMIF('Nominatieve lijst'!$D$10:$D$3009,C949,'Nominatieve lijst'!$G$10:$G$3009))","v":""},{"$f":"IF(ISBLANK(Vrijwilligersregister!C949)=TRUE,\"\",SUMIF('Nominatieve lijst'!$D$10:$D$3009,C949,'Nominatieve lijst'!$H$10:$H$3009))","v":""},{"$f":"IF(ISBLANK(Vrijwilligersregister!C949)=TRUE,\"\",SUMIF('Nominatieve lijst'!$D$10:$D$3009,C949,'Nominatieve lijst'!$J$10:$J$3009))","v":""},{"$f":"IF(ISBLANK(Vrijwilligersregister!C949)=TRUE,\"\",D949+F949)","v":""},{"$f":"Vrijwilligersregister!L949","v":0}]
[null,942,{"$f":"IF(ISBLANK(Vrijwilligersregister!C950)=TRUE,\"\",Vrijwilligersregister!C950)","v":""},{"$f":"IF(ISBLANK(Vrijwilligersregister!C950)=TRUE,\"\",SUMIF('Nominatieve lijst'!$D$10:$D$3009,C950,'Nominatieve lijst'!$G$10:$G$3009))","v":""},{"$f":"IF(ISBLANK(Vrijwilligersregister!C950)=TRUE,\"\",SUMIF('Nominatieve lijst'!$D$10:$D$3009,C950,'Nominatieve lijst'!$H$10:$H$3009))","v":""},{"$f":"IF(ISBLANK(Vrijwilligersregister!C950)=TRUE,\"\",SUMIF('Nominatieve lijst'!$D$10:$D$3009,C950,'Nominatieve lijst'!$J$10:$J$3009))","v":""},{"$f":"IF(ISBLANK(Vrijwilligersregister!C950)=TRUE,\"\",D950+F950)","v":""},{"$f":"Vrijwilligersregister!L950","v":0}]
[null,943,{"$f":"IF(ISBLANK(Vrijwilligersregister!C951)=TRUE,\"\",Vrijwilligersregister!C951)","v":""},{"$f":"IF(ISBLANK(Vrijwilligersregister!C951)=TRUE,\"\",SUMIF('Nominatieve lijst'!$D$10:$D$3009,C951,'Nominatieve lijst'!$G$10:$G$3009))","v":""},{"$f":"IF(ISBLANK(Vrijwilligersregister!C951)=TRUE,\"\",SUMIF('Nominatieve lijst'!$D$10:$D$3009,C951,'Nominatieve lijst'!$H$10:$H$3009))","v":""},{"$f":"IF(ISBLANK(Vrijwilligersregister!C951)=TRUE,\"\",SUMIF('Nominatieve lijst'!$D$10:$D$3009,C951,'Nominatieve lijst'!$J$10:$J$3009))","v":""},{"$f":"IF(ISBLANK(Vrijwilligersregister!C951)=TRUE,\"\",D951+F951)","v":""},{"$f":"Vrijwilligersregister!L951","v":0}]
[null,944,{"$f":"IF(ISBLANK(Vrijwilligersregister!C952)=TRUE,\"\",Vrijwilligersregister!C952)","v":""},{"$f":"IF(ISBLANK(Vrijwilligersregister!C952)=TRUE,\"\",SUMIF('Nominatieve lijst'!$D$10:$D$3009,C952,'Nominatieve lijst'!$G$10:$G$3009))","v":""},{"$f":"IF(ISBLANK(Vrijwilligersregister!C952)=TRUE,\"\",SUMIF('Nominatieve lijst'!$D$10:$D$3009,C952,'Nominatieve lijst'!$H$10:$H$3009))","v":""},{"$f":"IF(ISBLANK(Vrijwilligersregister!C952)=TRUE,\"\",SUMIF('Nominatieve lijst'!$D$10:$D$3009,C952,'Nominatieve lijst'!$J$10:$J$3009))","v":""},{"$f":"IF(ISBLANK(Vrijwilligersregister!C952)=TRUE,\"\",D952+F952)","v":""},{"$f":"Vrijwilligersregister!L952","v":0}]
[null,945,{"$f":"IF(ISBLANK(Vrijwilligersregister!C953)=TRUE,\"\",Vrijwilligersregister!C953)","v":""},{"$f":"IF(ISBLANK(Vrijwilligersregister!C953)=TRUE,\"\",SUMIF('Nominatieve lijst'!$D$10:$D$3009,C953,'Nominatieve lijst'!$G$10:$G$3009))","v":""},{"$f":"IF(ISBLANK(Vrijwilligersregister!C953)=TRUE,\"\",SUMIF('Nominatieve lijst'!$D$10:$D$3009,C953,'Nominatieve lijst'!$H$10:$H$3009))","v":""},{"$f":"IF(ISBLANK(Vrijwilligersregister!C953)=TRUE,\"\",SUMIF('Nominatieve lijst'!$D$10:$D$3009,C953,'Nominatieve lijst'!$J$10:$J$3009))","v":""},{"$f":"IF(ISBLANK(Vrijwilligersregister!C953)=TRUE,\"\",D953+F953)","v":""},{"$f":"Vrijwilligersregister!L953","v":0}]
[null,946,{"$f":"IF(ISBLANK(Vrijwilligersregister!C954)=TRUE,\"\",Vrijwilligersregister!C954)","v":""},{"$f":"IF(ISBLANK(Vrijwilligersregister!C954)=TRUE,\"\",SUMIF('Nominatieve lijst'!$D$10:$D$3009,C954,'Nominatieve lijst'!$G$10:$G$3009))","v":""},{"$f":"IF(ISBLANK(Vrijwilligersregister!C954)=TRUE,\"\",SUMIF('Nominatieve lijst'!$D$10:$D$3009,C954,'Nominatieve lijst'!$H$10:$H$3009))","v":""},{"$f":"IF(ISBLANK(Vrijwilligersregister!C954)=TRUE,\"\",SUMIF('Nominatieve lijst'!$D$10:$D$3009,C954,'Nominatieve lijst'!$J$10:$J$3009))","v":""},{"$f":"IF(ISBLANK(Vrijwilligersregister!C954)=TRUE,\"\",D954+F954)","v":""},{"$f":"Vrijwilligersregister!L954","v":0}]
[null,947,{"$f":"IF(ISBLANK(Vrijwilligersregister!C955)=TRUE,\"\",Vrijwilligersregister!C955)","v":""},{"$f":"IF(ISBLANK(Vrijwilligersregister!C955)=TRUE,\"\",SUMIF('Nominatieve lijst'!$D$10:$D$3009,C955,'Nominatieve lijst'!$G$10:$G$3009))","v":""},{"$f":"IF(ISBLANK(Vrijwilligersregister!C955)=TRUE,\"\",SUMIF('Nominatieve lijst'!$D$10:$D$3009,C955,'Nominatieve lijst'!$H$10:$H$3009))","v":""},{"$f":"IF(ISBLANK(Vrijwilligersregister!C955)=TRUE,\"\",SUMIF('Nominatieve lijst'!$D$10:$D$3009,C955,'Nominatieve lijst'!$J$10:$J$3009))","v":""},{"$f":"IF(ISBLANK(Vrijwilligersregister!C955)=TRUE,\"\",D955+F955)","v":""},{"$f":"Vrijwilligersregister!L955","v":0}]
[null,948,{"$f":"IF(ISBLANK(Vrijwilligersregister!C956)=TRUE,\"\",Vrijwilligersregister!C956)","v":""},{"$f":"IF(ISBLANK(Vrijwilligersregister!C956)=TRUE,\"\",SUMIF('Nominatieve lijst'!$D$10:$D$3009,C956,'Nominatieve lijst'!$G$10:$G$3009))","v":""},{"$f":"IF(ISBLANK(Vrijwilligersregister!C956)=TRUE,\"\",SUMIF('Nominatieve lijst'!$D$10:$D$3009,C956,'Nominatieve lijst'!$H$10:$H$3009))","v":""},{"$f":"IF(ISBLANK(Vrijwilligersregister!C956)=TRUE,\"\",SUMIF('Nominatieve lijst'!$D$10:$D$3009,C956,'Nominatieve lijst'!$J$10:$J$3009))","v":""},{"$f":"IF(ISBLANK(Vrijwilligersregister!C956)=TRUE,\"\",D956+F956)","v":""},{"$f":"Vrijwilligersregister!L956","v":0}]
[null,949,{"$f":"IF(ISBLANK(Vrijwilligersregister!C957)=TRUE,\"\",Vrijwilligersregister!C957)","v":""},{"$f":"IF(ISBLANK(Vrijwilligersregister!C957)=TRUE,\"\",SUMIF('Nominatieve lijst'!$D$10:$D$3009,C957,'Nominatieve lijst'!$G$10:$G$3009))","v":""},{"$f":"IF(ISBLANK(Vrijwilligersregister!C957)=TRUE,\"\",SUMIF('Nominatieve lijst'!$D$10:$D$3009,C957,'Nominatieve lijst'!$H$10:$H$3009))","v":""},{"$f":"IF(ISBLANK(Vrijwilligersregister!C957)=TRUE,\"\",SUMIF('Nominatieve lijst'!$D$10:$D$3009,C957,'Nominatieve lijst'!$J$10:$J$3009))","v":""},{"$f":"IF(ISBLANK(Vrijwilligersregister!C957)=TRUE,\"\",D957+F957)","v":""},{"$f":"Vrijwilligersregister!L957","v":0}]
[null,950,{"$f":"IF(ISBLANK(Vrijwilligersregister!C958)=TRUE,\"\",Vrijwilligersregister!C958)","v":""},{"$f":"IF(ISBLANK(Vrijwilligersregister!C958)=TRUE,\"\",SUMIF('Nominatieve lijst'!$D$10:$D$3009,C958,'Nominatieve lijst'!$G$10:$G$3009))","v":""},{"$f":"IF(ISBLANK(Vrijwilligersregister!C958)=TRUE,\"\",SUMIF('Nominatieve lijst'!$D$10:$D$3009,C958,'Nominatieve lijst'!$H$10:$H$3009))","v":""},{"$f":"IF(ISBLANK(Vrijwilligersregister!C958)=TRUE,\"\",SUMIF('Nominatieve lijst'!$D$10:$D$3009,C958,'Nominatieve lijst'!$J$10:$J$3009))","v":""},{"$f":"IF(ISBLANK(Vrijwilligersregister!C958)=TRUE,\"\",D958+F958)","v":""},{"$f":"Vrijwilligersregister!L958","v":0}]
[null,951,{"$f":"IF(ISBLANK(Vrijwilligersregister!C959)=TRUE,\"\",Vrijwilligersregister!C959)","v":""},{"$f":"IF(ISBLANK(Vrijwilligersregister!C959)=TRUE,\"\",SUMIF('Nominatieve lijst'!$D$10:$D$3009,C959,'Nominatieve lijst'!$G$10:$G$3009))","v":""},{"$f":"IF(ISBLANK(Vrijwilligersregister!C959)=TRUE,\"\",SUMIF('Nominatieve lijst'!$D$10:$D$3009,C959,'Nominatieve lijst'!$H$10:$H$3009))","v":""},{"$f":"IF(ISBLANK(Vrijwilligersregister!C959)=TRUE,\"\",SUMIF('Nominatieve lijst'!$D$10:$D$3009,C959,'Nominatieve lijst'!$J$10:$J$3009))","v":""},{"$f":"IF(ISBLANK(Vrijwilligersregister!C959)=TRUE,\"\",D959+F959)","v":""},{"$f":"Vrijwilligersregister!L959","v":0}]
[null,952,{"$f":"IF(ISBLANK(Vrijwilligersregister!C960)=TRUE,\"\",Vrijwilligersregister!C960)","v":""},{"$f":"IF(ISBLANK(Vrijwilligersregister!C960)=TRUE,\"\",SUMIF('Nominatieve lijst'!$D$10:$D$3009,C960,'Nominatieve lijst'!$G$10:$G$3009))","v":""},{"$f":"IF(ISBLANK(Vrijwilligersregister!C960)=TRUE,\"\",SUMIF('Nominatieve lijst'!$D$10:$D$3009,C960,'Nominatieve lijst'!$H$10:$H$3009))","v":""},{"$f":"IF(ISBLANK(Vrijwilligersregister!C960)=TRUE,\"\",SUMIF('Nominatieve lijst'!$D$10:$D$3009,C960,'Nominatieve lijst'!$J$10:$J$3009))","v":""},{"$f":"IF(ISBLANK(Vrijwilligersregister!C960)=TRUE,\"\",D960+F960)","v":""},{"$f":"Vrijwilligersregister!L960","v":0}]
[null,953,{"$f":"IF(ISBLANK(Vrijwilligersregister!C961)=TRUE,\"\",Vrijwilligersregister!C961)","v":""},{"$f":"IF(ISBLANK(Vrijwilligersregister!C961)=TRUE,\"\",SUMIF('Nominatieve lijst'!$D$10:$D$3009,C961,'Nominatieve lijst'!$G$10:$G$3009))","v":""},{"$f":"IF(ISBLANK(Vrijwilligersregister!C961)=TRUE,\"\",SUMIF('Nominatieve lijst'!$D$10:$D$3009,C961,'Nominatieve lijst'!$H$10:$H$3009))","v":""},{"$f":"IF(ISBLANK(Vrijwilligersregister!C961)=TRUE,\"\",SUMIF('Nominatieve lijst'!$D$10:$D$3009,C961,'Nominatieve lijst'!$J$10:$J$3009))","v":""},{"$f":"IF(ISBLANK(Vrijwilligersregister!C961)=TRUE,\"\",D961+F961)","v":""},{"$f":"Vrijwilligersregister!L961","v":0}]
[null,954,{"$f":"IF(ISBLANK(Vrijwilligersregister!C962)=TRUE,\"\",Vrijwilligersregister!C962)","v":""},{"$f":"IF(ISBLANK(Vrijwilligersregister!C962)=TRUE,\"\",SUMIF('Nominatieve lijst'!$D$10:$D$3009,C962,'Nominatieve lijst'!$G$10:$G$3009))","v":""},{"$f":"IF(ISBLANK(Vrijwilligersregister!C962)=TRUE,\"\",SUMIF('Nominatieve lijst'!$D$10:$D$3009,C962,'Nominatieve lijst'!$H$10:$H$3009))","v":""},{"$f":"IF(ISBLANK(Vrijwilligersregister!C962)=TRUE,\"\",SUMIF('Nominatieve lijst'!$D$10:$D$3009,C962,'Nominatieve lijst'!$J$10:$J$3009))","v":""},{"$f":"IF(ISBLANK(Vrijwilligersregister!C962)=TRUE,\"\",D962+F962)","v":""},{"$f":"Vrijwilligersregister!L962","v":0}]
[null,955,{"$f":"IF(ISBLANK(Vrijwilligersregister!C963)=TRUE,\"\",Vrijwilligersregister!C963)","v":""},{"$f":"IF(ISBLANK(Vrijwilligersregister!C963)=TRUE,\"\",SUMIF('Nominatieve lijst'!$D$10:$D$3009,C963,'Nominatieve lijst'!$G$10:$G$3009))","v":""},{"$f":"IF(ISBLANK(Vrijwilligersregister!C963)=TRUE,\"\",SUMIF('Nominatieve lijst'!$D$10:$D$3009,C963,'Nominatieve lijst'!$H$10:$H$3009))","v":""},{"$f":"IF(ISBLANK(Vrijwilligersregister!C963)=TRUE,\"\",SUMIF('Nominatieve lijst'!$D$10:$D$3009,C963,'Nominatieve lijst'!$J$10:$J$3009))","v":""},{"$f":"IF(ISBLANK(Vrijwilligersregister!C963)=TRUE,\"\",D963+F963)","v":""},{"$f":"Vrijwilligersregister!L963","v":0}]
[null,956,{"$f":"IF(ISBLANK(Vrijwilligersregister!C964)=TRUE,\"\",Vrijwilligersregister!C964)","v":""},{"$f":"IF(ISBLANK(Vrijwilligersregister!C964)=TRUE,\"\",SUMIF('Nominatieve lijst'!$D$10:$D$3009,C964,'Nominatieve lijst'!$G$10:$G$3009))","v":""},{"$f":"IF(ISBLANK(Vrijwilligersregister!C964)=TRUE,\"\",SUMIF('Nominatieve lijst'!$D$10:$D$3009,C964,'Nominatieve lijst'!$H$10:$H$3009))","v":""},{"$f":"IF(ISBLANK(Vrijwilligersregister!C964)=TRUE,\"\",SUMIF('Nominatieve lijst'!$D$10:$D$3009,C964,'Nominatieve lijst'!$J$10:$J$3009))","v":""},{"$f":"IF(ISBLANK(Vrijwilligersregister!C964)=TRUE,\"\",D964+F964)","v":""},{"$f":"Vrijwilligersregister!L964","v":0}]
[null,957,{"$f":"IF(ISBLANK(Vrijwilligersregister!C965)=TRUE,\"\",Vrijwilligersregister!C965)","v":""},{"$f":"IF(ISBLANK(Vrijwilligersregister!C965)=TRUE,\"\",SUMIF('Nominatieve lijst'!$D$10:$D$3009,C965,'Nominatieve lijst'!$G$10:$G$3009))","v":""},{"$f":"IF(ISBLANK(Vrijwilligersregister!C965)=TRUE,\"\",SUMIF('Nominatieve lijst'!$D$10:$D$3009,C965,'Nominatieve lijst'!$H$10:$H$3009))","v":""},{"$f":"IF(ISBLANK(Vrijwilligersregister!C965)=TRUE,\"\",SUMIF('Nominatieve lijst'!$D$10:$D$3009,C965,'Nominatieve lijst'!$J$10:$J$3009))","v":""},{"$f":"IF(ISBLANK(Vrijwilligersregister!C965)=TRUE,\"\",D965+F965)","v":""},{"$f":"Vrijwilligersregister!L965","v":0}]
[null,958,{"$f":"IF(ISBLANK(Vrijwilligersregister!C966)=TRUE,\"\",Vrijwilligersregister!C966)","v":""},{"$f":"IF(ISBLANK(Vrijwilligersregister!C966)=TRUE,\"\",SUMIF('Nominatieve lijst'!$D$10:$D$3009,C966,'Nominatieve lijst'!$G$10:$G$3009))","v":""},{"$f":"IF(ISBLANK(Vrijwilligersregister!C966)=TRUE,\"\",SUMIF('Nominatieve lijst'!$D$10:$D$3009,C966,'Nominatieve lijst'!$H$10:$H$3009))","v":""},{"$f":"IF(ISBLANK(Vrijwilligersregister!C966)=TRUE,\"\",SUMIF('Nominatieve lijst'!$D$10:$D$3009,C966,'Nominatieve lijst'!$J$10:$J$3009))","v":""},{"$f":"IF(ISBLANK(Vrijwilligersregister!C966)=TRUE,\"\",D966+F966)","v":""},{"$f":"Vrijwilligersregister!L966","v":0}]
[null,959,{"$f":"IF(ISBLANK(Vrijwilligersregister!C967)=TRUE,\"\",Vrijwilligersregister!C967)","v":""},{"$f":"IF(ISBLANK(Vrijwilligersregister!C967)=TRUE,\"\",SUMIF('Nominatieve lijst'!$D$10:$D$3009,C967,'Nominatieve lijst'!$G$10:$G$3009))","v":""},{"$f":"IF(ISBLANK(Vrijwilligersregister!C967)=TRUE,\"\",SUMIF('Nominatieve lijst'!$D$10:$D$3009,C967,'Nominatieve lijst'!$H$10:$H$3009))","v":""},{"$f":"IF(ISBLANK(Vrijwilligersregister!C967)=TRUE,\"\",SUMIF('Nominatieve lijst'!$D$10:$D$3009,C967,'Nominatieve lijst'!$J$10:$J$3009))","v":""},{"$f":"IF(ISBLANK(Vrijwilligersregister!C967)=TRUE,\"\",D967+F967)","v":""},{"$f":"Vrijwilligersregister!L967","v":0}]
[null,960,{"$f":"IF(ISBLANK(Vrijwilligersregister!C968)=TRUE,\"\",Vrijwilligersregister!C968)","v":""},{"$f":"IF(ISBLANK(Vrijwilligersregister!C968)=TRUE,\"\",SUMIF('Nominatieve lijst'!$D$10:$D$3009,C968,'Nominatieve lijst'!$G$10:$G$3009))","v":""},{"$f":"IF(ISBLANK(Vrijwilligersregister!C968)=TRUE,\"\",SUMIF('Nominatieve lijst'!$D$10:$D$3009,C968,'Nominatieve lijst'!$H$10:$H$3009))","v":""},{"$f":"IF(ISBLANK(Vrijwilligersregister!C968)=TRUE,\"\",SUMIF('Nominatieve lijst'!$D$10:$D$3009,C968,'Nominatieve lijst'!$J$10:$J$3009))","v":""},{"$f":"IF(ISBLANK(Vrijwilligersregister!C968)=TRUE,\"\",D968+F968)","v":""},{"$f":"Vrijwilligersregister!L968","v":0}]
[null,961,{"$f":"IF(ISBLANK(Vrijwilligersregister!C969)=TRUE,\"\",Vrijwilligersregister!C969)","v":""},{"$f":"IF(ISBLANK(Vrijwilligersregister!C969)=TRUE,\"\",SUMIF('Nominatieve lijst'!$D$10:$D$3009,C969,'Nominatieve lijst'!$G$10:$G$3009))","v":""},{"$f":"IF(ISBLANK(Vrijwilligersregister!C969)=TRUE,\"\",SUMIF('Nominatieve lijst'!$D$10:$D$3009,C969,'Nominatieve lijst'!$H$10:$H$3009))","v":""},{"$f":"IF(ISBLANK(Vrijwilligersregister!C969)=TRUE,\"\",SUMIF('Nominatieve lijst'!$D$10:$D$3009,C969,'Nominatieve lijst'!$J$10:$J$3009))","v":""},{"$f":"IF(ISBLANK(Vrijwilligersregister!C969)=TRUE,\"\",D969+F969)","v":""},{"$f":"Vrijwilligersregister!L969","v":0}]
[null,962,{"$f":"IF(ISBLANK(Vrijwilligersregister!C970)=TRUE,\"\",Vrijwilligersregister!C970)","v":""},{"$f":"IF(ISBLANK(Vrijwilligersregister!C970)=TRUE,\"\",SUMIF('Nominatieve lijst'!$D$10:$D$3009,C970,'Nominatieve lijst'!$G$10:$G$3009))","v":""},{"$f":"IF(ISBLANK(Vrijwilligersregister!C970)=TRUE,\"\",SUMIF('Nominatieve lijst'!$D$10:$D$3009,C970,'Nominatieve lijst'!$H$10:$H$3009))","v":""},{"$f":"IF(ISBLANK(Vrijwilligersregister!C970)=TRUE,\"\",SUMIF('Nominatieve lijst'!$D$10:$D$3009,C970,'Nominatieve lijst'!$J$10:$J$3009))","v":""},{"$f":"IF(ISBLANK(Vrijwilligersregister!C970)=TRUE,\"\",D970+F970)","v":""},{"$f":"Vrijwilligersregister!L970","v":0}]
[null,963,{"$f":"IF(ISBLANK(Vrijwilligersregister!C971)=TRUE,\"\",Vrijwilligersregister!C971)","v":""},{"$f":"IF(ISBLANK(Vrijwilligersregister!C971)=TRUE,\"\",SUMIF('Nominatieve lijst'!$D$10:$D$3009,C971,'Nominatieve lijst'!$G$10:$G$3009))","v":""},{"$f":"IF(ISBLANK(Vrijwilligersregister!C971)=TRUE,\"\",SUMIF('Nominatieve lijst'!$D$10:$D$3009,C971,'Nominatieve lijst'!$H$10:$H$3009))","v":""},{"$f":"IF(ISBLANK(Vrijwilligersregister!C971)=TRUE,\"\",SUMIF('Nominatieve lijst'!$D$10:$D$3009,C971,'Nominatieve lijst'!$J$10:$J$3009))","v":""},{"$f":"IF(ISBLANK(Vrijwilligersregister!C971)=TRUE,\"\",D971+F971)","v":""},{"$f":"Vrijwilligersregister!L971","v":0}]
[null,964,{"$f":"IF(ISBLANK(Vrijwilligersregister!C972)=TRUE,\"\",Vrijwilligersregister!C972)","v":""},{"$f":"IF(ISBLANK(Vrijwilligersregister!C972)=TRUE,\"\",SUMIF('Nominatieve lijst'!$D$10:$D$3009,C972,'Nominatieve lijst'!$G$10:$G$3009))","v":""},{"$f":"IF(ISBLANK(Vrijwilligersregister!C972)=TRUE,\"\",SUMIF('Nominatieve lijst'!$D$10:$D$3009,C972,'Nominatieve lijst'!$H$10:$H$3009))","v":""},{"$f":"IF(ISBLANK(Vrijwilligersregister!C972)=TRUE,\"\",SUMIF('Nominatieve lijst'!$D$10:$D$3009,C972,'Nominatieve lijst'!$J$10:$J$3009))","v":""},{"$f":"IF(ISBLANK(Vrijwilligersregister!C972)=TRUE,\"\",D972+F972)","v":""},{"$f":"Vrijwilligersregister!L972","v":0}]
[null,965,{"$f":"IF(ISBLANK(Vrijwilligersregister!C973)=TRUE,\"\",Vrijwilligersregister!C973)","v":""},{"$f":"IF(ISBLANK(Vrijwilligersregister!C973)=TRUE,\"\",SUMIF('Nominatieve lijst'!$D$10:$D$3009,C973,'Nominatieve lijst'!$G$10:$G$3009))","v":""},{"$f":"IF(ISBLANK(Vrijwilligersregister!C973)=TRUE,\"\",SUMIF('Nominatieve lijst'!$D$10:$D$3009,C973,'Nominatieve lijst'!$H$10:$H$3009))","v":""},{"$f":"IF(ISBLANK(Vrijwilligersregister!C973)=TRUE,\"\",SUMIF('Nominatieve lijst'!$D$10:$D$3009,C973,'Nominatieve lijst'!$J$10:$J$3009))","v":""},{"$f":"IF(ISBLANK(Vrijwilligersregister!C973)=TRUE,\"\",D973+F973)","v":""},{"$f":"Vrijwilligersregister!L973","v":0}]
[null,966,{"$f":"IF(ISBLANK(Vrijwilligersregister!C974)=TRUE,\"\",Vrijwilligersregister!C974)","v":""},{"$f":"IF(ISBLANK(Vrijwilligersregister!C974)=TRUE,\"\",SUMIF('Nominatieve lijst'!$D$10:$D$3009,C974,'Nominatieve lijst'!$G$10:$G$3009))","v":""},{"$f":"IF(ISBLANK(Vrijwilligersregister!C974)=TRUE,\"\",SUMIF('Nominatieve lijst'!$D$10:$D$3009,C974,'Nominatieve lijst'!$H$10:$H$3009))","v":""},{"$f":"IF(ISBLANK(Vrijwilligersregister!C974)=TRUE,\"\",SUMIF('Nominatieve lijst'!$D$10:$D$3009,C974,'Nominatieve lijst'!$J$10:$J$3009))","v":""},{"$f":"IF(ISBLANK(Vrijwilligersregister!C974)=TRUE,\"\",D974+F974)","v":""},{"$f":"Vrijwilligersregister!L974","v":0}]
[null,967,{"$f":"IF(ISBLANK(Vrijwilligersregister!C975)=TRUE,\"\",Vrijwilligersregister!C975)","v":""},{"$f":"IF(ISBLANK(Vrijwilligersregister!C975)=TRUE,\"\",SUMIF('Nominatieve lijst'!$D$10:$D$3009,C975,'Nominatieve lijst'!$G$10:$G$3009))","v":""},{"$f":"IF(ISBLANK(Vrijwilligersregister!C975)=TRUE,\"\",SUMIF('Nominatieve lijst'!$D$10:$D$3009,C975,'Nominatieve lijst'!$H$10:$H$3009))","v":""},{"$f":"IF(ISBLANK(Vrijwilligersregister!C975)=TRUE,\"\",SUMIF('Nominatieve lijst'!$D$10:$D$3009,C975,'Nominatieve lijst'!$J$10:$J$3009))","v":""},{"$f":"IF(ISBLANK(Vrijwilligersregister!C975)=TRUE,\"\",D975+F975)","v":""},{"$f":"Vrijwilligersregister!L975","v":0}]
[null,968,{"$f":"IF(ISBLANK(Vrijwilligersregister!C976)=TRUE,\"\",Vrijwilligersregister!C976)","v":""},{"$f":"IF(ISBLANK(Vrijwilligersregister!C976)=TRUE,\"\",SUMIF('Nominatieve lijst'!$D$10:$D$3009,C976,'Nominatieve lijst'!$G$10:$G$3009))","v":""},{"$f":"IF(ISBLANK(Vrijwilligersregister!C976)=TRUE,\"\",SUMIF('Nominatieve lijst'!$D$10:$D$3009,C976,'Nominatieve lijst'!$H$10:$H$3009))","v":""},{"$f":"IF(ISBLANK(Vrijwilligersregister!C976)=TRUE,\"\",SUMIF('Nominatieve lijst'!$D$10:$D$3009,C976,'Nominatieve lijst'!$J$10:$J$3009))","v":""},{"$f":"IF(ISBLANK(Vrijwilligersregister!C976)=TRUE,\"\",D976+F976)","v":""},{"$f":"Vrijwilligersregister!L976","v":0}]
[null,969,{"$f":"IF(ISBLANK(Vrijwilligersregister!C977)=TRUE,\"\",Vrijwilligersregister!C977)","v":""},{"$f":"IF(ISBLANK(Vrijwilligersregister!C977)=TRUE,\"\",SUMIF('Nominatieve lijst'!$D$10:$D$3009,C977,'Nominatieve lijst'!$G$10:$G$3009))","v":""},{"$f":"IF(ISBLANK(Vrijwilligersregister!C977)=TRUE,\"\",SUMIF('Nominatieve lijst'!$D$10:$D$3009,C977,'Nominatieve lijst'!$H$10:$H$3009))","v":""},{"$f":"IF(ISBLANK(Vrijwilligersregister!C977)=TRUE,\"\",SUMIF('Nominatieve lijst'!$D$10:$D$3009,C977,'Nominatieve lijst'!$J$10:$J$3009))","v":""},{"$f":"IF(ISBLANK(Vrijwilligersregister!C977)=TRUE,\"\",D977+F977)","v":""},{"$f":"Vrijwilligersregister!L977","v":0}]
[null,970,{"$f":"IF(ISBLANK(Vrijwilligersregister!C978)=TRUE,\"\",Vrijwilligersregister!C978)","v":""},{"$f":"IF(ISBLANK(Vrijwilligersregister!C978)=TRUE,\"\",SUMIF('Nominatieve lijst'!$D$10:$D$3009,C978,'Nominatieve lijst'!$G$10:$G$3009))","v":""},{"$f":"IF(ISBLANK(Vrijwilligersregister!C978)=TRUE,\"\",SUMIF('Nominatieve lijst'!$D$10:$D$3009,C978,'Nominatieve lijst'!$H$10:$H$3009))","v":""},{"$f":"IF(ISBLANK(Vrijwilligersregister!C978)=TRUE,\"\",SUMIF('Nominatieve lijst'!$D$10:$D$3009,C978,'Nominatieve lijst'!$J$10:$J$3009))","v":""},{"$f":"IF(ISBLANK(Vrijwilligersregister!C978)=TRUE,\"\",D978+F978)","v":""},{"$f":"Vrijwilligersregister!L978","v":0}]
[null,971,{"$f":"IF(ISBLANK(Vrijwilligersregister!C979)=TRUE,\"\",Vrijwilligersregister!C979)","v":""},{"$f":"IF(ISBLANK(Vrijwilligersregister!C979)=TRUE,\"\",SUMIF('Nominatieve lijst'!$D$10:$D$3009,C979,'Nominatieve lijst'!$G$10:$G$3009))","v":""},{"$f":"IF(ISBLANK(Vrijwilligersregister!C979)=TRUE,\"\",SUMIF('Nominatieve lijst'!$D$10:$D$3009,C979,'Nominatieve lijst'!$H$10:$H$3009))","v":""},{"$f":"IF(ISBLANK(Vrijwilligersregister!C979)=TRUE,\"\",SUMIF('Nominatieve lijst'!$D$10:$D$3009,C979,'Nominatieve lijst'!$J$10:$J$3009))","v":""},{"$f":"IF(ISBLANK(Vrijwilligersregister!C979)=TRUE,\"\",D979+F979)","v":""},{"$f":"Vrijwilligersregister!L979","v":0}]
[null,972,{"$f":"IF(ISBLANK(Vrijwilligersregister!C980)=TRUE,\"\",Vrijwilligersregister!C980)","v":""},{"$f":"IF(ISBLANK(Vrijwilligersregister!C980)=TRUE,\"\",SUMIF('Nominatieve lijst'!$D$10:$D$3009,C980,'Nominatieve lijst'!$G$10:$G$3009))","v":""},{"$f":"IF(ISBLANK(Vrijwilligersregister!C980)=TRUE,\"\",SUMIF('Nominatieve lijst'!$D$10:$D$3009,C980,'Nominatieve lijst'!$H$10:$H$3009))","v":""},{"$f":"IF(ISBLANK(Vrijwilligersregister!C980)=TRUE,\"\",SUMIF('Nominatieve lijst'!$D$10:$D$3009,C980,'Nominatieve lijst'!$J$10:$J$3009))","v":""},{"$f":"IF(ISBLANK(Vrijwilligersregister!C980)=TRUE,\"\",D980+F980)","v":""},{"$f":"Vrijwilligersregister!L980","v":0}]
[null,973,{"$f":"IF(ISBLANK(Vrijwilligersregister!C981)=TRUE,\"\",Vrijwilligersregister!C981)","v":""},{"$f":"IF(ISBLANK(Vrijwilligersregister!C981)=TRUE,\"\",SUMIF('Nominatieve lijst'!$D$10:$D$3009,C981,'Nominatieve lijst'!$G$10:$G$3009))","v":""},{"$f":"IF(ISBLANK(Vrijwilligersregister!C981)=TRUE,\"\",SUMIF('Nominatieve lijst'!$D$10:$D$3009,C981,'Nominatieve lijst'!$H$10:$H$3009))","v":""},{"$f":"IF(ISBLANK(Vrijwilligersregister!C981)=TRUE,\"\",SUMIF('Nominatieve lijst'!$D$10:$D$3009,C981,'Nominatieve lijst'!$J$10:$J$3009))","v":""},{"$f":"IF(ISBLANK(Vrijwilligersregister!C981)=TRUE,\"\",D981+F981)","v":""},{"$f":"Vrijwilligersregister!L981","v":0}]
[null,974,{"$f":"IF(ISBLANK(Vrijwilligersregister!C982)=TRUE,\"\",Vrijwilligersregister!C982)","v":""},{"$f":"IF(ISBLANK(Vrijwilligersregister!C982)=TRUE,\"\",SUMIF('Nominatieve lijst'!$D$10:$D$3009,C982,'Nominatieve lijst'!$G$10:$G$3009))","v":""},{"$f":"IF(ISBLANK(Vrijwilligersregister!C982)=TRUE,\"\",SUMIF('Nominatieve lijst'!$D$10:$D$3009,C982,'Nominatieve lijst'!$H$10:$H$3009))","v":""},{"$f":"IF(ISBLANK(Vrijwilligersregister!C982)=TRUE,\"\",SUMIF('Nominatieve lijst'!$D$10:$D$3009,C982,'Nominatieve lijst'!$J$10:$J$3009))","v":""},{"$f":"IF(ISBLANK(Vrijwilligersregister!C982)=TRUE,\"\",D982+F982)","v":""},{"$f":"Vrijwilligersregister!L982","v":0}]
[null,975,{"$f":"IF(ISBLANK(Vrijwilligersregister!C983)=TRUE,\"\",Vrijwilligersregister!C983)","v":""},{"$f":"IF(ISBLANK(Vrijwilligersregister!C983)=TRUE,\"\",SUMIF('Nominatieve lijst'!$D$10:$D$3009,C983,'Nominatieve lijst'!$G$10:$G$3009))","v":""},{"$f":"IF(ISBLANK(Vrijwilligersregister!C983)=TRUE,\"\",SUMIF('Nominatieve lijst'!$D$10:$D$3009,C983,'Nominatieve lijst'!$H$10:$H$3009))","v":""},{"$f":"IF(ISBLANK(Vrijwilligersregister!C983)=TRUE,\"\",SUMIF('Nominatieve lijst'!$D$10:$D$3009,C983,'Nominatieve lijst'!$J$10:$J$3009))","v":""},{"$f":"IF(ISBLANK(Vrijwilligersregister!C983)=TRUE,\"\",D983+F983)","v":""},{"$f":"Vrijwilligersregister!L983","v":0}]
[null,976,{"$f":"IF(ISBLANK(Vrijwilligersregister!C984)=TRUE,\"\",Vrijwilligersregister!C984)","v":""},{"$f":"IF(ISBLANK(Vrijwilligersregister!C984)=TRUE,\"\",SUMIF('Nominatieve lijst'!$D$10:$D$3009,C984,'Nominatieve lijst'!$G$10:$G$3009))","v":""},{"$f":"IF(ISBLANK(Vrijwilligersregister!C984)=TRUE,\"\",SUMIF('Nominatieve lijst'!$D$10:$D$3009,C984,'Nominatieve lijst'!$H$10:$H$3009))","v":""},{"$f":"IF(ISBLANK(Vrijwilligersregister!C984)=TRUE,\"\",SUMIF('Nominatieve lijst'!$D$10:$D$3009,C984,'Nominatieve lijst'!$J$10:$J$3009))","v":""},{"$f":"IF(ISBLANK(Vrijwilligersregister!C984)=TRUE,\"\",D984+F984)","v":""},{"$f":"Vrijwilligersregister!L984","v":0}]
[null,977,{"$f":"IF(ISBLANK(Vrijwilligersregister!C985)=TRUE,\"\",Vrijwilligersregister!C985)","v":""},{"$f":"IF(ISBLANK(Vrijwilligersregister!C985)=TRUE,\"\",SUMIF('Nominatieve lijst'!$D$10:$D$3009,C985,'Nominatieve lijst'!$G$10:$G$3009))","v":""},{"$f":"IF(ISBLANK(Vrijwilligersregister!C985)=TRUE,\"\",SUMIF('Nominatieve lijst'!$D$10:$D$3009,C985,'Nominatieve lijst'!$H$10:$H$3009))","v":""},{"$f":"IF(ISBLANK(Vrijwilligersregister!C985)=TRUE,\"\",SUMIF('Nominatieve lijst'!$D$10:$D$3009,C985,'Nominatieve lijst'!$J$10:$J$3009))","v":""},{"$f":"IF(ISBLANK(Vrijwilligersregister!C985)=TRUE,\"\",D985+F985)","v":""},{"$f":"Vrijwilligersregister!L985","v":0}]
[null,978,{"$f":"IF(ISBLANK(Vrijwilligersregister!C986)=TRUE,\"\",Vrijwilligersregister!C986)","v":""},{"$f":"IF(ISBLANK(Vrijwilligersregister!C986)=TRUE,\"\",SUMIF('Nominatieve lijst'!$D$10:$D$3009,C986,'Nominatieve lijst'!$G$10:$G$3009))","v":""},{"$f":"IF(ISBLANK(Vrijwilligersregister!C986)=TRUE,\"\",SUMIF('Nominatieve lijst'!$D$10:$D$3009,C986,'Nominatieve lijst'!$H$10:$H$3009))","v":""},{"$f":"IF(ISBLANK(Vrijwilligersregister!C986)=TRUE,\"\",SUMIF('Nominatieve lijst'!$D$10:$D$3009,C986,'Nominatieve lijst'!$J$10:$J$3009))","v":""},{"$f":"IF(ISBLANK(Vrijwilligersregister!C986)=TRUE,\"\",D986+F986)","v":""},{"$f":"Vrijwilligersregister!L986","v":0}]
[null,979,{"$f":"IF(ISBLANK(Vrijwilligersregister!C987)=TRUE,\"\",Vrijwilligersregister!C987)","v":""},{"$f":"IF(ISBLANK(Vrijwilligersregister!C987)=TRUE,\"\",SUMIF('Nominatieve lijst'!$D$10:$D$3009,C987,'Nominatieve lijst'!$G$10:$G$3009))","v":""},{"$f":"IF(ISBLANK(Vrijwilligersregister!C987)=TRUE,\"\",SUMIF('Nominatieve lijst'!$D$10:$D$3009,C987,'Nominatieve lijst'!$H$10:$H$3009))","v":""},{"$f":"IF(ISBLANK(Vrijwilligersregister!C987)=TRUE,\"\",SUMIF('Nominatieve lijst'!$D$10:$D$3009,C987,'Nominatieve lijst'!$J$10:$J$3009))","v":""},{"$f":"IF(ISBLANK(Vrijwilligersregister!C987)=TRUE,\"\",D987+F987)","v":""},{"$f":"Vrijwilligersregister!L987","v":0}]
[null,980,{"$f":"IF(ISBLANK(Vrijwilligersregister!C988)=TRUE,\"\",Vrijwilligersregister!C988)","v":""},{"$f":"IF(ISBLANK(Vrijwilligersregister!C988)=TRUE,\"\",SUMIF('Nominatieve lijst'!$D$10:$D$3009,C988,'Nominatieve lijst'!$G$10:$G$3009))","v":""},{"$f":"IF(ISBLANK(Vrijwilligersregister!C988)=TRUE,\"\",SUMIF('Nominatieve lijst'!$D$10:$D$3009,C988,'Nominatieve lijst'!$H$10:$H$3009))","v":""},{"$f":"IF(ISBLANK(Vrijwilligersregister!C988)=TRUE,\"\",SUMIF('Nominatieve lijst'!$D$10:$D$3009,C988,'Nominatieve lijst'!$J$10:$J$3009))","v":""},{"$f":"IF(ISBLANK(Vrijwilligersregister!C988)=TRUE,\"\",D988+F988)","v":""},{"$f":"Vrijwilligersregister!L988","v":0}]
[null,981,{"$f":"IF(ISBLANK(Vrijwilligersregister!C989)=TRUE,\"\",Vrijwilligersregister!C989)","v":""},{"$f":"IF(ISBLANK(Vrijwilligersregister!C989)=TRUE,\"\",SUMIF('Nominatieve lijst'!$D$10:$D$3009,C989,'Nominatieve lijst'!$G$10:$G$3009))","v":""},{"$f":"IF(ISBLANK(Vrijwilligersregister!C989)=TRUE,\"\",SUMIF('Nominatieve lijst'!$D$10:$D$3009,C989,'Nominatieve lijst'!$H$10:$H$3009))","v":""},{"$f":"IF(ISBLANK(Vrijwilligersregister!C989)=TRUE,\"\",SUMIF('Nominatieve lijst'!$D$10:$D$3009,C989,'Nominatieve lijst'!$J$10:$J$3009))","v":""},{"$f":"IF(ISBLANK(Vrijwilligersregister!C989)=TRUE,\"\",D989+F989)","v":""},{"$f":"Vrijwilligersregister!L989","v":0}]
[null,982,{"$f":"IF(ISBLANK(Vrijwilligersregister!C990)=TRUE,\"\",Vrijwilligersregister!C990)","v":""},{"$f":"IF(ISBLANK(Vrijwilligersregister!C990)=TRUE,\"\",SUMIF('Nominatieve lijst'!$D$10:$D$3009,C990,'Nominatieve lijst'!$G$10:$G$3009))","v":""},{"$f":"IF(ISBLANK(Vrijwilligersregister!C990)=TRUE,\"\",SUMIF('Nominatieve lijst'!$D$10:$D$3009,C990,'Nominatieve lijst'!$H$10:$H$3009))","v":""},{"$f":"IF(ISBLANK(Vrijwilligersregister!C990)=TRUE,\"\",SUMIF('Nominatieve lijst'!$D$10:$D$3009,C990,'Nominatieve lijst'!$J$10:$J$3009))","v":""},{"$f":"IF(ISBLANK(Vrijwilligersregister!C990)=TRUE,\"\",D990+F990)","v":""},{"$f":"Vrijwilligersregister!L990","v":0}]
[null,983,{"$f":"IF(ISBLANK(Vrijwilligersregister!C991)=TRUE,\"\",Vrijwilligersregister!C991)","v":""},{"$f":"IF(ISBLANK(Vrijwilligersregister!C991)=TRUE,\"\",SUMIF('Nominatieve lijst'!$D$10:$D$3009,C991,'Nominatieve lijst'!$G$10:$G$3009))","v":""},{"$f":"IF(ISBLANK(Vrijwilligersregister!C991)=TRUE,\"\",SUMIF('Nominatieve lijst'!$D$10:$D$3009,C991,'Nominatieve lijst'!$H$10:$H$3009))","v":""},{"$f":"IF(ISBLANK(Vrijwilligersregister!C991)=TRUE,\"\",SUMIF('Nominatieve lijst'!$D$10:$D$3009,C991,'Nominatieve lijst'!$J$10:$J$3009))","v":""},{"$f":"IF(ISBLANK(Vrijwilligersregister!C991)=TRUE,\"\",D991+F991)","v":""},{"$f":"Vrijwilligersregister!L991","v":0}]
[null,984,{"$f":"IF(ISBLANK(Vrijwilligersregister!C992)=TRUE,\"\",Vrijwilligersregister!C992)","v":""},{"$f":"IF(ISBLANK(Vrijwilligersregister!C992)=TRUE,\"\",SUMIF('Nominatieve lijst'!$D$10:$D$3009,C992,'Nominatieve lijst'!$G$10:$G$3009))","v":""},{"$f":"IF(ISBLANK(Vrijwilligersregister!C992)=TRUE,\"\",SUMIF('Nominatieve lijst'!$D$10:$D$3009,C992,'Nominatieve lijst'!$H$10:$H$3009))","v":""},{"$f":"IF(ISBLANK(Vrijwilligersregister!C992)=TRUE,\"\",SUMIF('Nominatieve lijst'!$D$10:$D$3009,C992,'Nominatieve lijst'!$J$10:$J$3009))","v":""},{"$f":"IF(ISBLANK(Vrijwilligersregister!C992)=TRUE,\"\",D992+F992)","v":""},{"$f":"Vrijwilligersregister!L992","v":0}]
[null,985,{"$f":"IF(ISBLANK(Vrijwilligersregister!C993)=TRUE,\"\",Vrijwilligersregister!C993)","v":""},{"$f":"IF(ISBLANK(Vrijwilligersregister!C993)=TRUE,\"\",SUMIF('Nominatieve lijst'!$D$10:$D$3009,C993,'Nominatieve lijst'!$G$10:$G$3009))","v":""},{"$f":"IF(ISBLANK(Vrijwilligersregister!C993)=TRUE,\"\",SUMIF('Nominatieve lijst'!$D$10:$D$3009,C993,'Nominatieve lijst'!$H$10:$H$3009))","v":""},{"$f":"IF(ISBLANK(Vrijwilligersregister!C993)=TRUE,\"\",SUMIF('Nominatieve lijst'!$D$10:$D$3009,C993,'Nominatieve lijst'!$J$10:$J$3009))","v":""},{"$f":"IF(ISBLANK(Vrijwilligersregister!C993)=TRUE,\"\",D993+F993)","v":""},{"$f":"Vrijwilligersregister!L993","v":0}]
[null,986,{"$f":"IF(ISBLANK(Vrijwilligersregister!C994)=TRUE,\"\",Vrijwilligersregister!C994)","v":""},{"$f":"IF(ISBLANK(Vrijwilligersregister!C994)=TRUE,\"\",SUMIF('Nominatieve lijst'!$D$10:$D$3009,C994,'Nominatieve lijst'!$G$10:$G$3009))","v":""},{"$f":"IF(ISBLANK(Vrijwilligersregister!C994)=TRUE,\"\",SUMIF('Nominatieve lijst'!$D$10:$D$3009,C994,'Nominatieve lijst'!$H$10:$H$3009))","v":""},{"$f":"IF(ISBLANK(Vrijwilligersregister!C994)=TRUE,\"\",SUMIF('Nominatieve lijst'!$D$10:$D$3009,C994,'Nominatieve lijst'!$J$10:$J$3009))","v":""},{"$f":"IF(ISBLANK(Vrijwilligersregister!C994)=TRUE,\"\",D994+F994)","v":""},{"$f":"Vrijwilligersregister!L994","v":0}]
[null,987,{"$f":"IF(ISBLANK(Vrijwilligersregister!C995)=TRUE,\"\",Vrijwilligersregister!C995)","v":""},{"$f":"IF(ISBLANK(Vrijwilligersregister!C995)=TRUE,\"\",SUMIF('Nominatieve lijst'!$D$10:$D$3009,C995,'Nominatieve lijst'!$G$10:$G$3009))","v":""},{"$f":"IF(ISBLANK(Vrijwilligersregister!C995)=TRUE,\"\",SUMIF('Nominatieve lijst'!$D$10:$D$3009,C995,'Nominatieve lijst'!$H$10:$H$3009))","v":""},{"$f":"IF(ISBLANK(Vrijwilligersregister!C995)=TRUE,\"\",SUMIF('Nominatieve lijst'!$D$10:$D$3009,C995,'Nominatieve lijst'!$J$10:$J$3009))","v":""},{"$f":"IF(ISBLANK(Vrijwilligersregister!C995)=TRUE,\"\",D995+F995)","v":""},{"$f":"Vrijwilligersregister!L995","v":0}]
[null,988,{"$f":"IF(ISBLANK(Vrijwilligersregister!C996)=TRUE,\"\",Vrijwilligersregister!C996)","v":""},{"$f":"IF(ISBLANK(Vrijwilligersregister!C996)=TRUE,\"\",SUMIF('Nominatieve lijst'!$D$10:$D$3009,C996,'Nominatieve lijst'!$G$10:$G$3009))","v":""},{"$f":"IF(ISBLANK(Vrijwilligersregister!C996)=TRUE,\"\",SUMIF('Nominatieve lijst'!$D$10:$D$3009,C996,'Nominatieve lijst'!$H$10:$H$3009))","v":""},{"$f":"IF(ISBLANK(Vrijwilligersregister!C996)=TRUE,\"\",SUMIF('Nominatieve lijst'!$D$10:$D$3009,C996,'Nominatieve lijst'!$J$10:$J$3009))","v":""},{"$f":"IF(ISBLANK(Vrijwilligersregister!C996)=TRUE,\"\",D996+F996)","v":""},{"$f":"Vrijwilligersregister!L996","v":0}]
[null,989,{"$f":"IF(ISBLANK(Vrijwilligersregister!C997)=TRUE,\"\",Vrijwilligersregister!C997)","v":""},{"$f":"IF(ISBLANK(Vrijwilligersregister!C997)=TRUE,\"\",SUMIF('Nominatieve lijst'!$D$10:$D$3009,C997,'Nominatieve lijst'!$G$10:$G$3009))","v":""},{"$f":"IF(ISBLANK(Vrijwilligersregister!C997)=TRUE,\"\",SUMIF('Nominatieve lijst'!$D$10:$D$3009,C997,'Nominatieve lijst'!$H$10:$H$3009))","v":""},{"$f":"IF(ISBLANK(Vrijwilligersregister!C997)=TRUE,\"\",SUMIF('Nominatieve lijst'!$D$10:$D$3009,C997,'Nominatieve lijst'!$J$10:$J$3009))","v":""},{"$f":"IF(ISBLANK(Vrijwilligersregister!C997)=TRUE,\"\",D997+F997)","v":""},{"$f":"Vrijwilligersregister!L997","v":0}]
[null,990,{"$f":"IF(ISBLANK(Vrijwilligersregister!C998)=TRUE,\"\",Vrijwilligersregister!C998)","v":""},{"$f":"IF(ISBLANK(Vrijwilligersregister!C998)=TRUE,\"\",SUMIF('Nominatieve lijst'!$D$10:$D$3009,C998,'Nominatieve lijst'!$G$10:$G$3009))","v":""},{"$f":"IF(ISBLANK(Vrijwilligersregister!C998)=TRUE,\"\",SUMIF('Nominatieve lijst'!$D$10:$D$3009,C998,'Nominatieve lijst'!$H$10:$H$3009))","v":""},{"$f":"IF(ISBLANK(Vrijwilligersregister!C998)=TRUE,\"\",SUMIF('Nominatieve lijst'!$D$10:$D$3009,C998,'Nominatieve lijst'!$J$10:$J$3009))","v":""},{"$f":"IF(ISBLANK(Vrijwilligersregister!C998)=TRUE,\"\",D998+F998)","v":""},{"$f":"Vrijwilligersregister!L998","v":0}]
[null,991,{"$f":"IF(ISBLANK(Vrijwilligersregister!C999)=TRUE,\"\",Vrijwilligersregister!C999)","v":""},{"$f":"IF(ISBLANK(Vrijwilligersregister!C999)=TRUE,\"\",SUMIF('Nominatieve lijst'!$D$10:$D$3009,C999,'Nominatieve lijst'!$G$10:$G$3009))","v":""},{"$f":"IF(ISBLANK(Vrijwilligersregister!C999)=TRUE,\"\",SUMIF('Nominatieve lijst'!$D$10:$D$3009,C999,'Nominatieve lijst'!$H$10:$H$3009))","v":""},{"$f":"IF(ISBLANK(Vrijwilligersregister!C999)=TRUE,\"\",SUMIF('Nominatieve lijst'!$D$10:$D$3009,C999,'Nominatieve lijst'!$J$10:$J$3009))","v":""},{"$f":"IF(ISBLANK(Vrijwilligersregister!C999)=TRUE,\"\",D999+F999)","v":""},{"$f":"Vrijwilligersregister!L999","v":0}]
[null,992,{"$f":"IF(ISBLANK(Vrijwilligersregister!C1000)=TRUE,\"\",Vrijwilligersregister!C1000)","v":""},{"$f":"IF(ISBLANK(Vrijwilligersregister!C1000)=TRUE,\"\",SUMIF('Nominatieve lijst'!$D$10:$D$3009,C1000,'Nominatieve lijst'!$G$10:$G$3009))","v":""},{"$f":"IF(ISBLANK(Vrijwilligersregister!C1000)=TRUE,\"\",SUMIF('Nominatieve lijst'!$D$10:$D$3009,C1000,'Nominatieve lijst'!$H$10:$H$3009))","v":""},{"$f":"IF(ISBLANK(Vrijwilligersregister!C1000)=TRUE,\"\",SUMIF('Nominatieve lijst'!$D$10:$D$3009,C1000,'Nominatieve lijst'!$J$10:$J$3009))","v":""},{"$f":"IF(ISBLANK(Vrijwilligersregister!C1000)=TRUE,\"\",D1000+F1000)","v":""},{"$f":"Vrijwilligersregister!L1000","v":0}]
[null,993,{"$f":"IF(ISBLANK(Vrijwilligersregister!C1001)=TRUE,\"\",Vrijwilligersregister!C1001)","v":""},{"$f":"IF(ISBLANK(Vrijwilligersregister!C1001)=TRUE,\"\",SUMIF('Nominatieve lijst'!$D$10:$D$3009,C1001,'Nominatieve lijst'!$G$10:$G$3009))","v":""},{"$f":"IF(ISBLANK(Vrijwilligersregister!C1001)=TRUE,\"\",SUMIF('Nominatieve lijst'!$D$10:$D$3009,C1001,'Nominatieve lijst'!$H$10:$H$3009))","v":""},{"$f":"IF(ISBLANK(Vrijwilligersregister!C1001)=TRUE,\"\",SUMIF('Nominatieve lijst'!$D$10:$D$3009,C1001,'Nominatieve lijst'!$J$10:$J$3009))","v":""},{"$f":"IF(ISBLANK(Vrijwilligersregister!C1001)=TRUE,\"\",D1001+F1001)","v":""},{"$f":"Vrijwilligersregister!L1001","v":0}]
[null,994,{"$f":"IF(ISBLANK(Vrijwilligersregister!C1002)=TRUE,\"\",Vrijwilligersregister!C1002)","v":""},{"$f":"IF(ISBLANK(Vrijwilligersregister!C1002)=TRUE,\"\",SUMIF('Nominatieve lijst'!$D$10:$D$3009,C1002,'Nominatieve lijst'!$G$10:$G$3009))","v":""},{"$f":"IF(ISBLANK(Vrijwilligersregister!C1002)=TRUE,\"\",SUMIF('Nominatieve lijst'!$D$10:$D$3009,C1002,'Nominatieve lijst'!$H$10:$H$3009))","v":""},{"$f":"IF(ISBLANK(Vrijwilligersregister!C1002)=TRUE,\"\",SUMIF('Nominatieve lijst'!$D$10:$D$3009,C1002,'Nominatieve lijst'!$J$10:$J$3009))","v":""},{"$f":"IF(ISBLANK(Vrijwilligersregister!C1002)=TRUE,\"\",D1002+F1002)","v":""},{"$f":"Vrijwilligersregister!L1002","v":0}]
[null,995,{"$f":"IF(ISBLANK(Vrijwilligersregister!C1003)=TRUE,\"\",Vrijwilligersregister!C1003)","v":""},{"$f":"IF(ISBLANK(Vrijwilligersregister!C1003)=TRUE,\"\",SUMIF('Nominatieve lijst'!$D$10:$D$3009,C1003,'Nominatieve lijst'!$G$10:$G$3009))","v":""},{"$f":"IF(ISBLANK(Vrijwilligersregister!C1003)=TRUE,\"\",SUMIF('Nominatieve lijst'!$D$10:$D$3009,C1003,'Nominatieve lijst'!$H$10:$H$3009))","v":""},{"$f":"IF(ISBLANK(Vrijwilligersregister!C1003)=TRUE,\"\",SUMIF('Nominatieve lijst'!$D$10:$D$3009,C1003,'Nominatieve lijst'!$J$10:$J$3009))","v":""},{"$f":"IF(ISBLANK(Vrijwilligersregister!C1003)=TRUE,\"\",D1003+F1003)","v":""},{"$f":"Vrijwilligersregister!L1003","v":0}]
[null,996,{"$f":"IF(ISBLANK(Vrijwilligersregister!C1004)=TRUE,\"\",Vrijwilligersregister!C1004)","v":""},{"$f":"IF(ISBLANK(Vrijwilligersregister!C1004)=TRUE,\"\",SUMIF('Nominatieve lijst'!$D$10:$D$3009,C1004,'Nominatieve lijst'!$G$10:$G$3009))","v":""},{"$f":"IF(ISBLANK(Vrijwilligersregister!C1004)=TRUE,\"\",SUMIF('Nominatieve lijst'!$D$10:$D$3009,C1004,'Nominatieve lijst'!$H$10:$H$3009))","v":""},{"$f":"IF(ISBLANK(Vrijwilligersregister!C1004)=TRUE,\"\",SUMIF('Nominatieve lijst'!$D$10:$D$3009,C1004,'Nominatieve lijst'!$J$10:$J$3009))","v":""},{"$f":"IF(ISBLANK(Vrijwilligersregister!C1004)=TRUE,\"\",D1004+F1004)","v":""},{"$f":"Vrijwilligersregister!L1004","v":0}]
[null,997,{"$f":"IF(ISBLANK(Vrijwilligersregister!C1005)=TRUE,\"\",Vrijwilligersregister!C1005)","v":""},{"$f":"IF(ISBLANK(Vrijwilligersregister!C1005)=TRUE,\"\",SUMIF('Nominatieve lijst'!$D$10:$D$3009,C1005,'Nominatieve lijst'!$G$10:$G$3009))","v":""},{"$f":"IF(ISBLANK(Vrijwilligersregister!C1005)=TRUE,\"\",SUMIF('Nominatieve lijst'!$D$10:$D$3009,C1005,'Nominatieve lijst'!$H$10:$H$3009))","v":""},{"$f":"IF(ISBLANK(Vrijwilligersregister!C1005)=TRUE,\"\",SUMIF('Nominatieve lijst'!$D$10:$D$3009,C1005,'Nominatieve lijst'!$J$10:$J$3009))","v":""},{"$f":"IF(ISBLANK(Vrijwilligersregister!C1005)=TRUE,\"\",D1005+F1005)","v":""},{"$f":"Vrijwilligersregister!L1005","v":0}]
[null,998,{"$f":"IF(ISBLANK(Vrijwilligersregister!C1006)=TRUE,\"\",Vrijwilligersregister!C1006)","v":""},{"$f":"IF(ISBLANK(Vrijwilligersregister!C1006)=TRUE,\"\",SUMIF('Nominatieve lijst'!$D$10:$D$3009,C1006,'Nominatieve lijst'!$G$10:$G$3009))","v":""},{"$f":"IF(ISBLANK(Vrijwilligersregister!C1006)=TRUE,\"\",SUMIF('Nominatieve lijst'!$D$10:$D$3009,C1006,'Nominatieve lijst'!$H$10:$H$3009))","v":""},{"$f":"IF(ISBLANK(Vrijwilligersregister!C1006)=TRUE,\"\",SUMIF('Nominatieve lijst'!$D$10:$D$3009,C1006,'Nominatieve lijst'!$J$10:$J$3009))","v":""},{"$f":"IF(ISBLANK(Vrijwilligersregister!C1006)=TRUE,\"\",D1006+F1006)","v":""},{"$f":"Vrijwilligersregister!L1006","v":0}]
[null,999,{"$f":"IF(ISBLANK(Vrijwilligersregister!C1007)=TRUE,\"\",Vrijwilligersregister!C1007)","v":""},{"$f":"IF(ISBLANK(Vrijwilligersregister!C1007)=TRUE,\"\",SUMIF('Nominatieve lijst'!$D$10:$D$3009,C1007,'Nominatieve lijst'!$G$10:$G$3009))","v":""},{"$f":"IF(ISBLANK(Vrijwilligersregister!C1007)=TRUE,\"\",SUMIF('Nominatieve lijst'!$D$10:$D$3009,C1007,'Nominatieve lijst'!$H$10:$H$3009))","v":""},{"$f":"IF(ISBLANK(Vrijwilligersregister!C1007)=TRUE,\"\",SUMIF('Nominatieve lijst'!$D$10:$D$3009,C1007,'Nominatieve lijst'!$J$10:$J$3009))","v":""},{"$f":"IF(ISBLANK(Vrijwilligersregister!C1007)=TRUE,\"\",D1007+F1007)","v":""},{"$f":"Vrijwilligersregister!L1007","v":0}]
[null,1000,{"$f":"IF(ISBLANK(Vrijwilligersregister!C1008)=TRUE,\"\",Vrijwilligersregister!C1008)","v":""},{"$f":"IF(ISBLANK(Vrijwilligersregister!C1008)=TRUE,\"\",SUMIF('Nominatieve lijst'!$D$10:$D$3009,C1008,'Nominatieve lijst'!$G$10:$G$3009))","v":""},{"$f":"IF(ISBLANK(Vrijwilligersregister!C1008)=TRUE,\"\",SUMIF('Nominatieve lijst'!$D$10:$D$3009,C1008,'Nominatieve lijst'!$H$10:$H$3009))","v":""},{"$f":"IF(ISBLANK(Vrijwilligersregister!C1008)=TRUE,\"\",SUMIF('Nominatieve lijst'!$D$10:$D$3009,C1008,'Nominatieve lijst'!$J$10:$J$3009))","v":""},{"$f":"IF(ISBLANK(Vrijwilligersregister!C1008)=TRUE,\"\",D1008+F1008)","v":""},{"$f":"Vrijwilligersregister!L1008","v":0}]